BEGIN:VCALENDAR
VERSION:2.0
PRODID:-//Synergy Healthworks - ECPv6.15.20//NONSGML v1.0//EN
CALSCALE:GREGORIAN
METHOD:PUBLISH
X-WR-CALNAME:Synergy Healthworks
X-ORIGINAL-URL:https://synergyhealthworks.com
X-WR-CALDESC:Events for Synergy Healthworks
REFRESH-INTERVAL;VALUE=DURATION:PT1H
X-Robots-Tag:noindex
X-PUBLISHED-TTL:PT1H
BEGIN:VTIMEZONE
TZID:Australia/Sydney
BEGIN:STANDARD
TZOFFSETFROM:+1100
TZOFFSETTO:+1000
TZNAME:AEST
DTSTART:20280401T160000
END:STANDARD
BEGIN:DAYLIGHT
TZOFFSETFROM:+1000
TZOFFSETTO:+1100
TZNAME:AEDT
DTSTART:20280930T160000
END:DAYLIGHT
BEGIN:STANDARD
TZOFFSETFROM:+1100
TZOFFSETTO:+1000
TZNAME:AEST
DTSTART:20290331T160000
END:STANDARD
BEGIN:DAYLIGHT
TZOFFSETFROM:+1000
TZOFFSETTO:+1100
TZNAME:AEDT
DTSTART:20291006T160000
END:DAYLIGHT
BEGIN:STANDARD
TZOFFSETFROM:+1100
TZOFFSETTO:+1000
TZNAME:AEST
DTSTART:20300406T160000
END:STANDARD
BEGIN:DAYLIGHT
TZOFFSETFROM:+1000
TZOFFSETTO:+1100
TZNAME:AEDT
DTSTART:20301005T160000
END:DAYLIGHT
END:VTIMEZONE
BEGIN:VEVENT
DTSTART;TZID=Australia/Sydney:20291112T070000
DTEND;TZID=Australia/Sydney:20291112T074500
DTSTAMP:20260426T063831
CREATED:20250901T033635Z
LAST-MODIFIED:20250901T033635Z
UID:10125321-1889161200-1889163900@synergyhealthworks.com
SUMMARY:Clinical Reformer
DESCRIPTION:
URL:https://synergyhealthworks.com/event/clinical-reformer-62-2/2029-11-12/
LOCATION:Gundagai\, 114 Sheridan Street\, Gundagai\, NSW\, 2722\, Australia
CATEGORIES:Clinical Reformer
END:VEVENT
BEGIN:VEVENT
DTSTART;TZID=Australia/Sydney:20291112T093000
DTEND;TZID=Australia/Sydney:20291112T101500
DTSTAMP:20260426T063831
CREATED:20250901T033248Z
LAST-MODIFIED:20251212T230425Z
UID:10124481-1889170200-1889172900@synergyhealthworks.com
SUMMARY:Clinical Reformer
DESCRIPTION:
URL:https://synergyhealthworks.com/event/clinical-reformer-61/2029-11-12/
LOCATION:Gundagai\, 114 Sheridan Street\, Gundagai\, NSW\, 2722\, Australia
CATEGORIES:Clinical Reformer
END:VEVENT
BEGIN:VEVENT
DTSTART;TZID=Australia/Sydney:20291114T093000
DTEND;TZID=Australia/Sydney:20291114T101500
DTSTAMP:20260426T063831
CREATED:20241204T014501Z
LAST-MODIFIED:20250618T063327Z
UID:10119558-1889343000-1889345700@synergyhealthworks.com
SUMMARY:Clinical Reformer
DESCRIPTION:
URL:https://synergyhealthworks.com/event/clinical-reformer-47/2029-11-14/
LOCATION:Wagga Wagga | Reformer Studio\, 221 Kincaid Street\, Wagga Wagga\, NSW\, 2650\, Australia
CATEGORIES:Clinical Reformer
END:VEVENT
BEGIN:VEVENT
DTSTART;TZID=Australia/Sydney:20291114T161500
DTEND;TZID=Australia/Sydney:20291114T170000
DTSTAMP:20260426T063831
CREATED:20241204T014718Z
LAST-MODIFIED:20250129T031835Z
UID:10099991-1889367300-1889370000@synergyhealthworks.com
SUMMARY:Clinical Reformer
DESCRIPTION:
URL:https://synergyhealthworks.com/event/clinical-reformer-49/2029-11-14/
LOCATION:Wagga Wagga | Reformer Studio\, 221 Kincaid Street\, Wagga Wagga\, NSW\, 2650\, Australia
CATEGORIES:Clinical Reformer
END:VEVENT
BEGIN:VEVENT
DTSTART;TZID=Australia/Sydney:20291115T110000
DTEND;TZID=Australia/Sydney:20291115T114500
DTSTAMP:20260426T063831
CREATED:20241204T011425Z
LAST-MODIFIED:20251204T222714Z
UID:10128933-1889434800-1889437500@synergyhealthworks.com
SUMMARY:Mums and Bubs Core Class
DESCRIPTION:
URL:https://synergyhealthworks.com/event/mums-and-bubs-core-class-7/2029-11-15/
LOCATION:Wagga Wagga | Mat Studio\, 221 Kincaid Street\, Wagga Wagga\, NSW\, 2650\, Australia
CATEGORIES:Mums and Bubs
END:VEVENT
BEGIN:VEVENT
DTSTART;TZID=Australia/Sydney:20291115T130000
DTEND;TZID=Australia/Sydney:20291115T134500
DTSTAMP:20260426T063831
CREATED:20241204T011507Z
LAST-MODIFIED:20250129T031040Z
UID:10092693-1889442000-1889444700@synergyhealthworks.com
SUMMARY:Parkinson's Group Strength
DESCRIPTION:
URL:https://synergyhealthworks.com/event/parkinsons-group-strength-6/2029-11-15/
LOCATION:Wagga Wagga | Mat Studio\, 221 Kincaid Street\, Wagga Wagga\, NSW\, 2650\, Australia
CATEGORIES:Parkinson's Group Strength
END:VEVENT
BEGIN:VEVENT
DTSTART;TZID=Australia/Sydney:20291115T161500
DTEND;TZID=Australia/Sydney:20291115T170000
DTSTAMP:20260426T063831
CREATED:20241204T015701Z
LAST-MODIFIED:20250129T032111Z
UID:10102501-1889453700-1889456400@synergyhealthworks.com
SUMMARY:Clinical Reformer
DESCRIPTION:
URL:https://synergyhealthworks.com/event/clinical-reformer-55/2029-11-15/
LOCATION:Wagga Wagga | Reformer Studio\, 221 Kincaid Street\, Wagga Wagga\, NSW\, 2650\, Australia
CATEGORIES:Clinical Reformer
END:VEVENT
BEGIN:VEVENT
DTSTART;TZID=Australia/Sydney:20291115T171500
DTEND;TZID=Australia/Sydney:20291115T180000
DTSTAMP:20260426T063831
CREATED:20241204T015723Z
LAST-MODIFIED:20250129T032120Z
UID:10102752-1889457300-1889460000@synergyhealthworks.com
SUMMARY:Clinical Reformer
DESCRIPTION:
URL:https://synergyhealthworks.com/event/clinical-reformer-56/2029-11-15/
LOCATION:Wagga Wagga | Reformer Studio\, 221 Kincaid Street\, Wagga Wagga\, NSW\, 2650\, Australia
CATEGORIES:Clinical Reformer
END:VEVENT
BEGIN:VEVENT
DTSTART;TZID=Australia/Sydney:20291115T181500
DTEND;TZID=Australia/Sydney:20291115T190000
DTSTAMP:20260426T063831
CREATED:20241204T015828Z
LAST-MODIFIED:20250914T095556Z
UID:10103003-1889460900-1889463600@synergyhealthworks.com
SUMMARY:Clinical Reformer
DESCRIPTION:
URL:https://synergyhealthworks.com/event/clinical-reformer-57/2029-11-15/
LOCATION:Wagga Wagga | Reformer Studio\, 221 Kincaid Street\, Wagga Wagga\, NSW\, 2650\, Australia
CATEGORIES:Clinical Reformer
END:VEVENT
BEGIN:VEVENT
DTSTART;TZID=Australia/Sydney:20291116T070000
DTEND;TZID=Australia/Sydney:20291116T074500
DTSTAMP:20260426T063831
CREATED:20241204T020111Z
LAST-MODIFIED:20251123T222717Z
UID:10103505-1889506800-1889509500@synergyhealthworks.com
SUMMARY:Clinical Reformer
DESCRIPTION:
URL:https://synergyhealthworks.com/event/clinical-reformer-59/2029-11-16/
LOCATION:Wagga Wagga | Reformer Studio\, 221 Kincaid Street\, Wagga Wagga\, NSW\, 2650\, Australia
CATEGORIES:Clinical Reformer
END:VEVENT
BEGIN:VEVENT
DTSTART;TZID=Australia/Sydney:20291116T090000
DTEND;TZID=Australia/Sydney:20291116T094500
DTSTAMP:20260426T063831
CREATED:20241204T011816Z
LAST-MODIFIED:20250129T031139Z
UID:10093446-1889514000-1889516700@synergyhealthworks.com
SUMMARY:Matwork Core Class
DESCRIPTION:
URL:https://synergyhealthworks.com/event/matwork-core-class-16/2029-11-16/
LOCATION:Wagga Wagga | Mat Studio\, 221 Kincaid Street\, Wagga Wagga\, NSW\, 2650\, Australia
CATEGORIES:Matwork
END:VEVENT
BEGIN:VEVENT
DTSTART;TZID=Australia/Sydney:20291116T110000
DTEND;TZID=Australia/Sydney:20291116T114500
DTSTAMP:20260426T063831
CREATED:20241204T020337Z
LAST-MODIFIED:20251123T222821Z
UID:10104007-1889521200-1889523900@synergyhealthworks.com
SUMMARY:Mums and Bubs Reformer
DESCRIPTION:
URL:https://synergyhealthworks.com/event/mums-and-bubs-reformer-6/2029-11-16/
LOCATION:Wagga Wagga | Reformer Studio\, 221 Kincaid Street\, Wagga Wagga\, NSW\, 2650\, Australia
CATEGORIES:Mums and Bubs
END:VEVENT
BEGIN:VEVENT
DTSTART;TZID=Australia/Sydney:20291119T070000
DTEND;TZID=Australia/Sydney:20291119T074500
DTSTAMP:20260426T063831
CREATED:20250901T033635Z
LAST-MODIFIED:20250901T033635Z
UID:10125322-1889766000-1889768700@synergyhealthworks.com
SUMMARY:Clinical Reformer
DESCRIPTION:
URL:https://synergyhealthworks.com/event/clinical-reformer-62-2/2029-11-19/
LOCATION:Gundagai\, 114 Sheridan Street\, Gundagai\, NSW\, 2722\, Australia
CATEGORIES:Clinical Reformer
END:VEVENT
BEGIN:VEVENT
DTSTART;TZID=Australia/Sydney:20291119T093000
DTEND;TZID=Australia/Sydney:20291119T101500
DTSTAMP:20260426T063831
CREATED:20250901T033248Z
LAST-MODIFIED:20251212T230425Z
UID:10124482-1889775000-1889777700@synergyhealthworks.com
SUMMARY:Clinical Reformer
DESCRIPTION:
URL:https://synergyhealthworks.com/event/clinical-reformer-61/2029-11-19/
LOCATION:Gundagai\, 114 Sheridan Street\, Gundagai\, NSW\, 2722\, Australia
CATEGORIES:Clinical Reformer
END:VEVENT
BEGIN:VEVENT
DTSTART;TZID=Australia/Sydney:20291121T093000
DTEND;TZID=Australia/Sydney:20291121T101500
DTSTAMP:20260426T063831
CREATED:20241204T014501Z
LAST-MODIFIED:20250618T063327Z
UID:10119559-1889947800-1889950500@synergyhealthworks.com
SUMMARY:Clinical Reformer
DESCRIPTION:
URL:https://synergyhealthworks.com/event/clinical-reformer-47/2029-11-21/
LOCATION:Wagga Wagga | Reformer Studio\, 221 Kincaid Street\, Wagga Wagga\, NSW\, 2650\, Australia
CATEGORIES:Clinical Reformer
END:VEVENT
BEGIN:VEVENT
DTSTART;TZID=Australia/Sydney:20291121T161500
DTEND;TZID=Australia/Sydney:20291121T170000
DTSTAMP:20260426T063831
CREATED:20241204T014718Z
LAST-MODIFIED:20250129T031835Z
UID:10099992-1889972100-1889974800@synergyhealthworks.com
SUMMARY:Clinical Reformer
DESCRIPTION:
URL:https://synergyhealthworks.com/event/clinical-reformer-49/2029-11-21/
LOCATION:Wagga Wagga | Reformer Studio\, 221 Kincaid Street\, Wagga Wagga\, NSW\, 2650\, Australia
CATEGORIES:Clinical Reformer
END:VEVENT
BEGIN:VEVENT
DTSTART;TZID=Australia/Sydney:20291122T110000
DTEND;TZID=Australia/Sydney:20291122T114500
DTSTAMP:20260426T063831
CREATED:20241204T011425Z
LAST-MODIFIED:20251204T222714Z
UID:10128934-1890039600-1890042300@synergyhealthworks.com
SUMMARY:Mums and Bubs Core Class
DESCRIPTION:
URL:https://synergyhealthworks.com/event/mums-and-bubs-core-class-7/2029-11-22/
LOCATION:Wagga Wagga | Mat Studio\, 221 Kincaid Street\, Wagga Wagga\, NSW\, 2650\, Australia
CATEGORIES:Mums and Bubs
END:VEVENT
BEGIN:VEVENT
DTSTART;TZID=Australia/Sydney:20291122T130000
DTEND;TZID=Australia/Sydney:20291122T134500
DTSTAMP:20260426T063831
CREATED:20241204T011507Z
LAST-MODIFIED:20250129T031040Z
UID:10092694-1890046800-1890049500@synergyhealthworks.com
SUMMARY:Parkinson's Group Strength
DESCRIPTION:
URL:https://synergyhealthworks.com/event/parkinsons-group-strength-6/2029-11-22/
LOCATION:Wagga Wagga | Mat Studio\, 221 Kincaid Street\, Wagga Wagga\, NSW\, 2650\, Australia
CATEGORIES:Parkinson's Group Strength
END:VEVENT
BEGIN:VEVENT
DTSTART;TZID=Australia/Sydney:20291122T161500
DTEND;TZID=Australia/Sydney:20291122T170000
DTSTAMP:20260426T063831
CREATED:20241204T015701Z
LAST-MODIFIED:20250129T032111Z
UID:10102502-1890058500-1890061200@synergyhealthworks.com
SUMMARY:Clinical Reformer
DESCRIPTION:
URL:https://synergyhealthworks.com/event/clinical-reformer-55/2029-11-22/
LOCATION:Wagga Wagga | Reformer Studio\, 221 Kincaid Street\, Wagga Wagga\, NSW\, 2650\, Australia
CATEGORIES:Clinical Reformer
END:VEVENT
BEGIN:VEVENT
DTSTART;TZID=Australia/Sydney:20291122T171500
DTEND;TZID=Australia/Sydney:20291122T180000
DTSTAMP:20260426T063831
CREATED:20241204T015723Z
LAST-MODIFIED:20250129T032120Z
UID:10102753-1890062100-1890064800@synergyhealthworks.com
SUMMARY:Clinical Reformer
DESCRIPTION:
URL:https://synergyhealthworks.com/event/clinical-reformer-56/2029-11-22/
LOCATION:Wagga Wagga | Reformer Studio\, 221 Kincaid Street\, Wagga Wagga\, NSW\, 2650\, Australia
CATEGORIES:Clinical Reformer
END:VEVENT
BEGIN:VEVENT
DTSTART;TZID=Australia/Sydney:20291122T181500
DTEND;TZID=Australia/Sydney:20291122T190000
DTSTAMP:20260426T063831
CREATED:20241204T015828Z
LAST-MODIFIED:20250914T095556Z
UID:10103004-1890065700-1890068400@synergyhealthworks.com
SUMMARY:Clinical Reformer
DESCRIPTION:
URL:https://synergyhealthworks.com/event/clinical-reformer-57/2029-11-22/
LOCATION:Wagga Wagga | Reformer Studio\, 221 Kincaid Street\, Wagga Wagga\, NSW\, 2650\, Australia
CATEGORIES:Clinical Reformer
END:VEVENT
BEGIN:VEVENT
DTSTART;TZID=Australia/Sydney:20291123T070000
DTEND;TZID=Australia/Sydney:20291123T074500
DTSTAMP:20260426T063831
CREATED:20241204T020111Z
LAST-MODIFIED:20251123T222717Z
UID:10103506-1890111600-1890114300@synergyhealthworks.com
SUMMARY:Clinical Reformer
DESCRIPTION:
URL:https://synergyhealthworks.com/event/clinical-reformer-59/2029-11-23/
LOCATION:Wagga Wagga | Reformer Studio\, 221 Kincaid Street\, Wagga Wagga\, NSW\, 2650\, Australia
CATEGORIES:Clinical Reformer
END:VEVENT
BEGIN:VEVENT
DTSTART;TZID=Australia/Sydney:20291123T090000
DTEND;TZID=Australia/Sydney:20291123T094500
DTSTAMP:20260426T063831
CREATED:20241204T011816Z
LAST-MODIFIED:20250129T031139Z
UID:10093447-1890118800-1890121500@synergyhealthworks.com
SUMMARY:Matwork Core Class
DESCRIPTION:
URL:https://synergyhealthworks.com/event/matwork-core-class-16/2029-11-23/
LOCATION:Wagga Wagga | Mat Studio\, 221 Kincaid Street\, Wagga Wagga\, NSW\, 2650\, Australia
CATEGORIES:Matwork
END:VEVENT
BEGIN:VEVENT
DTSTART;TZID=Australia/Sydney:20291123T110000
DTEND;TZID=Australia/Sydney:20291123T114500
DTSTAMP:20260426T063831
CREATED:20241204T020337Z
LAST-MODIFIED:20251123T222821Z
UID:10104008-1890126000-1890128700@synergyhealthworks.com
SUMMARY:Mums and Bubs Reformer
DESCRIPTION:
URL:https://synergyhealthworks.com/event/mums-and-bubs-reformer-6/2029-11-23/
LOCATION:Wagga Wagga | Reformer Studio\, 221 Kincaid Street\, Wagga Wagga\, NSW\, 2650\, Australia
CATEGORIES:Mums and Bubs
END:VEVENT
BEGIN:VEVENT
DTSTART;TZID=Australia/Sydney:20291126T070000
DTEND;TZID=Australia/Sydney:20291126T074500
DTSTAMP:20260426T063831
CREATED:20250901T033635Z
LAST-MODIFIED:20250901T033635Z
UID:10125323-1890370800-1890373500@synergyhealthworks.com
SUMMARY:Clinical Reformer
DESCRIPTION:
URL:https://synergyhealthworks.com/event/clinical-reformer-62-2/2029-11-26/
LOCATION:Gundagai\, 114 Sheridan Street\, Gundagai\, NSW\, 2722\, Australia
CATEGORIES:Clinical Reformer
END:VEVENT
BEGIN:VEVENT
DTSTART;TZID=Australia/Sydney:20291126T093000
DTEND;TZID=Australia/Sydney:20291126T101500
DTSTAMP:20260426T063831
CREATED:20250901T033248Z
LAST-MODIFIED:20251212T230425Z
UID:10124483-1890379800-1890382500@synergyhealthworks.com
SUMMARY:Clinical Reformer
DESCRIPTION:
URL:https://synergyhealthworks.com/event/clinical-reformer-61/2029-11-26/
LOCATION:Gundagai\, 114 Sheridan Street\, Gundagai\, NSW\, 2722\, Australia
CATEGORIES:Clinical Reformer
END:VEVENT
BEGIN:VEVENT
DTSTART;TZID=Australia/Sydney:20291128T093000
DTEND;TZID=Australia/Sydney:20291128T101500
DTSTAMP:20260426T063831
CREATED:20241204T014501Z
LAST-MODIFIED:20250618T063327Z
UID:10119560-1890552600-1890555300@synergyhealthworks.com
SUMMARY:Clinical Reformer
DESCRIPTION:
URL:https://synergyhealthworks.com/event/clinical-reformer-47/2029-11-28/
LOCATION:Wagga Wagga | Reformer Studio\, 221 Kincaid Street\, Wagga Wagga\, NSW\, 2650\, Australia
CATEGORIES:Clinical Reformer
END:VEVENT
BEGIN:VEVENT
DTSTART;TZID=Australia/Sydney:20291128T161500
DTEND;TZID=Australia/Sydney:20291128T170000
DTSTAMP:20260426T063831
CREATED:20241204T014718Z
LAST-MODIFIED:20250129T031835Z
UID:10099993-1890576900-1890579600@synergyhealthworks.com
SUMMARY:Clinical Reformer
DESCRIPTION:
URL:https://synergyhealthworks.com/event/clinical-reformer-49/2029-11-28/
LOCATION:Wagga Wagga | Reformer Studio\, 221 Kincaid Street\, Wagga Wagga\, NSW\, 2650\, Australia
CATEGORIES:Clinical Reformer
END:VEVENT
BEGIN:VEVENT
DTSTART;TZID=Australia/Sydney:20291129T110000
DTEND;TZID=Australia/Sydney:20291129T114500
DTSTAMP:20260426T063831
CREATED:20241204T011425Z
LAST-MODIFIED:20251204T222714Z
UID:10128935-1890644400-1890647100@synergyhealthworks.com
SUMMARY:Mums and Bubs Core Class
DESCRIPTION:
URL:https://synergyhealthworks.com/event/mums-and-bubs-core-class-7/2029-11-29/
LOCATION:Wagga Wagga | Mat Studio\, 221 Kincaid Street\, Wagga Wagga\, NSW\, 2650\, Australia
CATEGORIES:Mums and Bubs
END:VEVENT
BEGIN:VEVENT
DTSTART;TZID=Australia/Sydney:20291129T130000
DTEND;TZID=Australia/Sydney:20291129T134500
DTSTAMP:20260426T063831
CREATED:20241204T011507Z
LAST-MODIFIED:20250129T031040Z
UID:10092695-1890651600-1890654300@synergyhealthworks.com
SUMMARY:Parkinson's Group Strength
DESCRIPTION:
URL:https://synergyhealthworks.com/event/parkinsons-group-strength-6/2029-11-29/
LOCATION:Wagga Wagga | Mat Studio\, 221 Kincaid Street\, Wagga Wagga\, NSW\, 2650\, Australia
CATEGORIES:Parkinson's Group Strength
END:VEVENT
END:VCALENDAR