BEGIN:VCALENDAR
VERSION:2.0
PRODID:-//Synergy Healthworks - ECPv6.15.20//NONSGML v1.0//EN
CALSCALE:GREGORIAN
METHOD:PUBLISH
X-WR-CALNAME:Synergy Healthworks
X-ORIGINAL-URL:https://synergyhealthworks.com
X-WR-CALDESC:Events for Synergy Healthworks
REFRESH-INTERVAL;VALUE=DURATION:PT1H
X-Robots-Tag:noindex
X-PUBLISHED-TTL:PT1H
BEGIN:VTIMEZONE
TZID:Australia/Sydney
BEGIN:STANDARD
TZOFFSETFROM:+1100
TZOFFSETTO:+1000
TZNAME:AEST
DTSTART:20280401T160000
END:STANDARD
BEGIN:DAYLIGHT
TZOFFSETFROM:+1000
TZOFFSETTO:+1100
TZNAME:AEDT
DTSTART:20280930T160000
END:DAYLIGHT
BEGIN:STANDARD
TZOFFSETFROM:+1100
TZOFFSETTO:+1000
TZNAME:AEST
DTSTART:20290331T160000
END:STANDARD
BEGIN:DAYLIGHT
TZOFFSETFROM:+1000
TZOFFSETTO:+1100
TZNAME:AEDT
DTSTART:20291006T160000
END:DAYLIGHT
BEGIN:STANDARD
TZOFFSETFROM:+1100
TZOFFSETTO:+1000
TZNAME:AEST
DTSTART:20300406T160000
END:STANDARD
BEGIN:DAYLIGHT
TZOFFSETFROM:+1000
TZOFFSETTO:+1100
TZNAME:AEDT
DTSTART:20301005T160000
END:DAYLIGHT
END:VTIMEZONE
BEGIN:VEVENT
DTSTART;TZID=Australia/Sydney:20291029T070000
DTEND;TZID=Australia/Sydney:20291029T074500
DTSTAMP:20260426T024954
CREATED:20250901T033635Z
LAST-MODIFIED:20250901T033635Z
UID:10125319-1887951600-1887954300@synergyhealthworks.com
SUMMARY:Clinical Reformer
DESCRIPTION:
URL:https://synergyhealthworks.com/event/clinical-reformer-62-2/2029-10-29/
LOCATION:Gundagai\, 114 Sheridan Street\, Gundagai\, NSW\, 2722\, Australia
CATEGORIES:Clinical Reformer
END:VEVENT
BEGIN:VEVENT
DTSTART;TZID=Australia/Sydney:20291029T093000
DTEND;TZID=Australia/Sydney:20291029T101500
DTSTAMP:20260426T024954
CREATED:20250901T033248Z
LAST-MODIFIED:20251212T230425Z
UID:10124479-1887960600-1887963300@synergyhealthworks.com
SUMMARY:Clinical Reformer
DESCRIPTION:
URL:https://synergyhealthworks.com/event/clinical-reformer-61/2029-10-29/
LOCATION:Gundagai\, 114 Sheridan Street\, Gundagai\, NSW\, 2722\, Australia
CATEGORIES:Clinical Reformer
END:VEVENT
BEGIN:VEVENT
DTSTART;TZID=Australia/Sydney:20291031T093000
DTEND;TZID=Australia/Sydney:20291031T101500
DTSTAMP:20260426T024954
CREATED:20241204T014501Z
LAST-MODIFIED:20250618T063327Z
UID:10119556-1888133400-1888136100@synergyhealthworks.com
SUMMARY:Clinical Reformer
DESCRIPTION:
URL:https://synergyhealthworks.com/event/clinical-reformer-47/2029-10-31/
LOCATION:Wagga Wagga | Reformer Studio\, 221 Kincaid Street\, Wagga Wagga\, NSW\, 2650\, Australia
CATEGORIES:Clinical Reformer
END:VEVENT
BEGIN:VEVENT
DTSTART;TZID=Australia/Sydney:20291031T161500
DTEND;TZID=Australia/Sydney:20291031T170000
DTSTAMP:20260426T024954
CREATED:20241204T014718Z
LAST-MODIFIED:20250129T031835Z
UID:10099989-1888157700-1888160400@synergyhealthworks.com
SUMMARY:Clinical Reformer
DESCRIPTION:
URL:https://synergyhealthworks.com/event/clinical-reformer-49/2029-10-31/
LOCATION:Wagga Wagga | Reformer Studio\, 221 Kincaid Street\, Wagga Wagga\, NSW\, 2650\, Australia
CATEGORIES:Clinical Reformer
END:VEVENT
BEGIN:VEVENT
DTSTART;TZID=Australia/Sydney:20291101T110000
DTEND;TZID=Australia/Sydney:20291101T114500
DTSTAMP:20260426T024954
CREATED:20241204T011425Z
LAST-MODIFIED:20251204T222714Z
UID:10128931-1888225200-1888227900@synergyhealthworks.com
SUMMARY:Mums and Bubs Core Class
DESCRIPTION:
URL:https://synergyhealthworks.com/event/mums-and-bubs-core-class-7/2029-11-01/
LOCATION:Wagga Wagga | Mat Studio\, 221 Kincaid Street\, Wagga Wagga\, NSW\, 2650\, Australia
CATEGORIES:Mums and Bubs
END:VEVENT
BEGIN:VEVENT
DTSTART;TZID=Australia/Sydney:20291101T130000
DTEND;TZID=Australia/Sydney:20291101T134500
DTSTAMP:20260426T024954
CREATED:20241204T011507Z
LAST-MODIFIED:20250129T031040Z
UID:10092691-1888232400-1888235100@synergyhealthworks.com
SUMMARY:Parkinson's Group Strength
DESCRIPTION:
URL:https://synergyhealthworks.com/event/parkinsons-group-strength-6/2029-11-01/
LOCATION:Wagga Wagga | Mat Studio\, 221 Kincaid Street\, Wagga Wagga\, NSW\, 2650\, Australia
CATEGORIES:Parkinson's Group Strength
END:VEVENT
BEGIN:VEVENT
DTSTART;TZID=Australia/Sydney:20291101T161500
DTEND;TZID=Australia/Sydney:20291101T170000
DTSTAMP:20260426T024954
CREATED:20241204T015701Z
LAST-MODIFIED:20250129T032111Z
UID:10102499-1888244100-1888246800@synergyhealthworks.com
SUMMARY:Clinical Reformer
DESCRIPTION:
URL:https://synergyhealthworks.com/event/clinical-reformer-55/2029-11-01/
LOCATION:Wagga Wagga | Reformer Studio\, 221 Kincaid Street\, Wagga Wagga\, NSW\, 2650\, Australia
CATEGORIES:Clinical Reformer
END:VEVENT
BEGIN:VEVENT
DTSTART;TZID=Australia/Sydney:20291101T171500
DTEND;TZID=Australia/Sydney:20291101T180000
DTSTAMP:20260426T024954
CREATED:20241204T015723Z
LAST-MODIFIED:20250129T032120Z
UID:10102750-1888247700-1888250400@synergyhealthworks.com
SUMMARY:Clinical Reformer
DESCRIPTION:
URL:https://synergyhealthworks.com/event/clinical-reformer-56/2029-11-01/
LOCATION:Wagga Wagga | Reformer Studio\, 221 Kincaid Street\, Wagga Wagga\, NSW\, 2650\, Australia
CATEGORIES:Clinical Reformer
END:VEVENT
BEGIN:VEVENT
DTSTART;TZID=Australia/Sydney:20291101T181500
DTEND;TZID=Australia/Sydney:20291101T190000
DTSTAMP:20260426T024954
CREATED:20241204T015828Z
LAST-MODIFIED:20250914T095556Z
UID:10103001-1888251300-1888254000@synergyhealthworks.com
SUMMARY:Clinical Reformer
DESCRIPTION:
URL:https://synergyhealthworks.com/event/clinical-reformer-57/2029-11-01/
LOCATION:Wagga Wagga | Reformer Studio\, 221 Kincaid Street\, Wagga Wagga\, NSW\, 2650\, Australia
CATEGORIES:Clinical Reformer
END:VEVENT
BEGIN:VEVENT
DTSTART;TZID=Australia/Sydney:20291102T070000
DTEND;TZID=Australia/Sydney:20291102T074500
DTSTAMP:20260426T024954
CREATED:20241204T020111Z
LAST-MODIFIED:20251123T222717Z
UID:10103503-1888297200-1888299900@synergyhealthworks.com
SUMMARY:Clinical Reformer
DESCRIPTION:
URL:https://synergyhealthworks.com/event/clinical-reformer-59/2029-11-02/
LOCATION:Wagga Wagga | Reformer Studio\, 221 Kincaid Street\, Wagga Wagga\, NSW\, 2650\, Australia
CATEGORIES:Clinical Reformer
END:VEVENT
BEGIN:VEVENT
DTSTART;TZID=Australia/Sydney:20291102T090000
DTEND;TZID=Australia/Sydney:20291102T094500
DTSTAMP:20260426T024954
CREATED:20241204T011816Z
LAST-MODIFIED:20250129T031139Z
UID:10093444-1888304400-1888307100@synergyhealthworks.com
SUMMARY:Matwork Core Class
DESCRIPTION:
URL:https://synergyhealthworks.com/event/matwork-core-class-16/2029-11-02/
LOCATION:Wagga Wagga | Mat Studio\, 221 Kincaid Street\, Wagga Wagga\, NSW\, 2650\, Australia
CATEGORIES:Matwork
END:VEVENT
BEGIN:VEVENT
DTSTART;TZID=Australia/Sydney:20291102T110000
DTEND;TZID=Australia/Sydney:20291102T114500
DTSTAMP:20260426T024954
CREATED:20241204T020337Z
LAST-MODIFIED:20251123T222821Z
UID:10104005-1888311600-1888314300@synergyhealthworks.com
SUMMARY:Mums and Bubs Reformer
DESCRIPTION:
URL:https://synergyhealthworks.com/event/mums-and-bubs-reformer-6/2029-11-02/
LOCATION:Wagga Wagga | Reformer Studio\, 221 Kincaid Street\, Wagga Wagga\, NSW\, 2650\, Australia
CATEGORIES:Mums and Bubs
END:VEVENT
BEGIN:VEVENT
DTSTART;TZID=Australia/Sydney:20291105T070000
DTEND;TZID=Australia/Sydney:20291105T074500
DTSTAMP:20260426T024954
CREATED:20250901T033635Z
LAST-MODIFIED:20250901T033635Z
UID:10125320-1888556400-1888559100@synergyhealthworks.com
SUMMARY:Clinical Reformer
DESCRIPTION:
URL:https://synergyhealthworks.com/event/clinical-reformer-62-2/2029-11-05/
LOCATION:Gundagai\, 114 Sheridan Street\, Gundagai\, NSW\, 2722\, Australia
CATEGORIES:Clinical Reformer
END:VEVENT
BEGIN:VEVENT
DTSTART;TZID=Australia/Sydney:20291105T093000
DTEND;TZID=Australia/Sydney:20291105T101500
DTSTAMP:20260426T024954
CREATED:20250901T033248Z
LAST-MODIFIED:20251212T230425Z
UID:10124480-1888565400-1888568100@synergyhealthworks.com
SUMMARY:Clinical Reformer
DESCRIPTION:
URL:https://synergyhealthworks.com/event/clinical-reformer-61/2029-11-05/
LOCATION:Gundagai\, 114 Sheridan Street\, Gundagai\, NSW\, 2722\, Australia
CATEGORIES:Clinical Reformer
END:VEVENT
BEGIN:VEVENT
DTSTART;TZID=Australia/Sydney:20291107T093000
DTEND;TZID=Australia/Sydney:20291107T101500
DTSTAMP:20260426T024954
CREATED:20241204T014501Z
LAST-MODIFIED:20250618T063327Z
UID:10119557-1888738200-1888740900@synergyhealthworks.com
SUMMARY:Clinical Reformer
DESCRIPTION:
URL:https://synergyhealthworks.com/event/clinical-reformer-47/2029-11-07/
LOCATION:Wagga Wagga | Reformer Studio\, 221 Kincaid Street\, Wagga Wagga\, NSW\, 2650\, Australia
CATEGORIES:Clinical Reformer
END:VEVENT
BEGIN:VEVENT
DTSTART;TZID=Australia/Sydney:20291107T161500
DTEND;TZID=Australia/Sydney:20291107T170000
DTSTAMP:20260426T024954
CREATED:20241204T014718Z
LAST-MODIFIED:20250129T031835Z
UID:10099990-1888762500-1888765200@synergyhealthworks.com
SUMMARY:Clinical Reformer
DESCRIPTION:
URL:https://synergyhealthworks.com/event/clinical-reformer-49/2029-11-07/
LOCATION:Wagga Wagga | Reformer Studio\, 221 Kincaid Street\, Wagga Wagga\, NSW\, 2650\, Australia
CATEGORIES:Clinical Reformer
END:VEVENT
BEGIN:VEVENT
DTSTART;TZID=Australia/Sydney:20291108T110000
DTEND;TZID=Australia/Sydney:20291108T114500
DTSTAMP:20260426T024954
CREATED:20241204T011425Z
LAST-MODIFIED:20251204T222714Z
UID:10128932-1888830000-1888832700@synergyhealthworks.com
SUMMARY:Mums and Bubs Core Class
DESCRIPTION:
URL:https://synergyhealthworks.com/event/mums-and-bubs-core-class-7/2029-11-08/
LOCATION:Wagga Wagga | Mat Studio\, 221 Kincaid Street\, Wagga Wagga\, NSW\, 2650\, Australia
CATEGORIES:Mums and Bubs
END:VEVENT
BEGIN:VEVENT
DTSTART;TZID=Australia/Sydney:20291108T130000
DTEND;TZID=Australia/Sydney:20291108T134500
DTSTAMP:20260426T024954
CREATED:20241204T011507Z
LAST-MODIFIED:20250129T031040Z
UID:10092692-1888837200-1888839900@synergyhealthworks.com
SUMMARY:Parkinson's Group Strength
DESCRIPTION:
URL:https://synergyhealthworks.com/event/parkinsons-group-strength-6/2029-11-08/
LOCATION:Wagga Wagga | Mat Studio\, 221 Kincaid Street\, Wagga Wagga\, NSW\, 2650\, Australia
CATEGORIES:Parkinson's Group Strength
END:VEVENT
BEGIN:VEVENT
DTSTART;TZID=Australia/Sydney:20291108T161500
DTEND;TZID=Australia/Sydney:20291108T170000
DTSTAMP:20260426T024954
CREATED:20241204T015701Z
LAST-MODIFIED:20250129T032111Z
UID:10102500-1888848900-1888851600@synergyhealthworks.com
SUMMARY:Clinical Reformer
DESCRIPTION:
URL:https://synergyhealthworks.com/event/clinical-reformer-55/2029-11-08/
LOCATION:Wagga Wagga | Reformer Studio\, 221 Kincaid Street\, Wagga Wagga\, NSW\, 2650\, Australia
CATEGORIES:Clinical Reformer
END:VEVENT
BEGIN:VEVENT
DTSTART;TZID=Australia/Sydney:20291108T171500
DTEND;TZID=Australia/Sydney:20291108T180000
DTSTAMP:20260426T024954
CREATED:20241204T015723Z
LAST-MODIFIED:20250129T032120Z
UID:10102751-1888852500-1888855200@synergyhealthworks.com
SUMMARY:Clinical Reformer
DESCRIPTION:
URL:https://synergyhealthworks.com/event/clinical-reformer-56/2029-11-08/
LOCATION:Wagga Wagga | Reformer Studio\, 221 Kincaid Street\, Wagga Wagga\, NSW\, 2650\, Australia
CATEGORIES:Clinical Reformer
END:VEVENT
BEGIN:VEVENT
DTSTART;TZID=Australia/Sydney:20291108T181500
DTEND;TZID=Australia/Sydney:20291108T190000
DTSTAMP:20260426T024954
CREATED:20241204T015828Z
LAST-MODIFIED:20250914T095556Z
UID:10103002-1888856100-1888858800@synergyhealthworks.com
SUMMARY:Clinical Reformer
DESCRIPTION:
URL:https://synergyhealthworks.com/event/clinical-reformer-57/2029-11-08/
LOCATION:Wagga Wagga | Reformer Studio\, 221 Kincaid Street\, Wagga Wagga\, NSW\, 2650\, Australia
CATEGORIES:Clinical Reformer
END:VEVENT
BEGIN:VEVENT
DTSTART;TZID=Australia/Sydney:20291109T070000
DTEND;TZID=Australia/Sydney:20291109T074500
DTSTAMP:20260426T024954
CREATED:20241204T020111Z
LAST-MODIFIED:20251123T222717Z
UID:10103504-1888902000-1888904700@synergyhealthworks.com
SUMMARY:Clinical Reformer
DESCRIPTION:
URL:https://synergyhealthworks.com/event/clinical-reformer-59/2029-11-09/
LOCATION:Wagga Wagga | Reformer Studio\, 221 Kincaid Street\, Wagga Wagga\, NSW\, 2650\, Australia
CATEGORIES:Clinical Reformer
END:VEVENT
BEGIN:VEVENT
DTSTART;TZID=Australia/Sydney:20291109T090000
DTEND;TZID=Australia/Sydney:20291109T094500
DTSTAMP:20260426T024954
CREATED:20241204T011816Z
LAST-MODIFIED:20250129T031139Z
UID:10093445-1888909200-1888911900@synergyhealthworks.com
SUMMARY:Matwork Core Class
DESCRIPTION:
URL:https://synergyhealthworks.com/event/matwork-core-class-16/2029-11-09/
LOCATION:Wagga Wagga | Mat Studio\, 221 Kincaid Street\, Wagga Wagga\, NSW\, 2650\, Australia
CATEGORIES:Matwork
END:VEVENT
BEGIN:VEVENT
DTSTART;TZID=Australia/Sydney:20291109T110000
DTEND;TZID=Australia/Sydney:20291109T114500
DTSTAMP:20260426T024954
CREATED:20241204T020337Z
LAST-MODIFIED:20251123T222821Z
UID:10104006-1888916400-1888919100@synergyhealthworks.com
SUMMARY:Mums and Bubs Reformer
DESCRIPTION:
URL:https://synergyhealthworks.com/event/mums-and-bubs-reformer-6/2029-11-09/
LOCATION:Wagga Wagga | Reformer Studio\, 221 Kincaid Street\, Wagga Wagga\, NSW\, 2650\, Australia
CATEGORIES:Mums and Bubs
END:VEVENT
BEGIN:VEVENT
DTSTART;TZID=Australia/Sydney:20291112T070000
DTEND;TZID=Australia/Sydney:20291112T074500
DTSTAMP:20260426T024954
CREATED:20250901T033635Z
LAST-MODIFIED:20250901T033635Z
UID:10125321-1889161200-1889163900@synergyhealthworks.com
SUMMARY:Clinical Reformer
DESCRIPTION:
URL:https://synergyhealthworks.com/event/clinical-reformer-62-2/2029-11-12/
LOCATION:Gundagai\, 114 Sheridan Street\, Gundagai\, NSW\, 2722\, Australia
CATEGORIES:Clinical Reformer
END:VEVENT
BEGIN:VEVENT
DTSTART;TZID=Australia/Sydney:20291112T093000
DTEND;TZID=Australia/Sydney:20291112T101500
DTSTAMP:20260426T024954
CREATED:20250901T033248Z
LAST-MODIFIED:20251212T230425Z
UID:10124481-1889170200-1889172900@synergyhealthworks.com
SUMMARY:Clinical Reformer
DESCRIPTION:
URL:https://synergyhealthworks.com/event/clinical-reformer-61/2029-11-12/
LOCATION:Gundagai\, 114 Sheridan Street\, Gundagai\, NSW\, 2722\, Australia
CATEGORIES:Clinical Reformer
END:VEVENT
BEGIN:VEVENT
DTSTART;TZID=Australia/Sydney:20291114T093000
DTEND;TZID=Australia/Sydney:20291114T101500
DTSTAMP:20260426T024954
CREATED:20241204T014501Z
LAST-MODIFIED:20250618T063327Z
UID:10119558-1889343000-1889345700@synergyhealthworks.com
SUMMARY:Clinical Reformer
DESCRIPTION:
URL:https://synergyhealthworks.com/event/clinical-reformer-47/2029-11-14/
LOCATION:Wagga Wagga | Reformer Studio\, 221 Kincaid Street\, Wagga Wagga\, NSW\, 2650\, Australia
CATEGORIES:Clinical Reformer
END:VEVENT
BEGIN:VEVENT
DTSTART;TZID=Australia/Sydney:20291114T161500
DTEND;TZID=Australia/Sydney:20291114T170000
DTSTAMP:20260426T024954
CREATED:20241204T014718Z
LAST-MODIFIED:20250129T031835Z
UID:10099991-1889367300-1889370000@synergyhealthworks.com
SUMMARY:Clinical Reformer
DESCRIPTION:
URL:https://synergyhealthworks.com/event/clinical-reformer-49/2029-11-14/
LOCATION:Wagga Wagga | Reformer Studio\, 221 Kincaid Street\, Wagga Wagga\, NSW\, 2650\, Australia
CATEGORIES:Clinical Reformer
END:VEVENT
BEGIN:VEVENT
DTSTART;TZID=Australia/Sydney:20291115T110000
DTEND;TZID=Australia/Sydney:20291115T114500
DTSTAMP:20260426T024954
CREATED:20241204T011425Z
LAST-MODIFIED:20251204T222714Z
UID:10128933-1889434800-1889437500@synergyhealthworks.com
SUMMARY:Mums and Bubs Core Class
DESCRIPTION:
URL:https://synergyhealthworks.com/event/mums-and-bubs-core-class-7/2029-11-15/
LOCATION:Wagga Wagga | Mat Studio\, 221 Kincaid Street\, Wagga Wagga\, NSW\, 2650\, Australia
CATEGORIES:Mums and Bubs
END:VEVENT
BEGIN:VEVENT
DTSTART;TZID=Australia/Sydney:20291115T130000
DTEND;TZID=Australia/Sydney:20291115T134500
DTSTAMP:20260426T024954
CREATED:20241204T011507Z
LAST-MODIFIED:20250129T031040Z
UID:10092693-1889442000-1889444700@synergyhealthworks.com
SUMMARY:Parkinson's Group Strength
DESCRIPTION:
URL:https://synergyhealthworks.com/event/parkinsons-group-strength-6/2029-11-15/
LOCATION:Wagga Wagga | Mat Studio\, 221 Kincaid Street\, Wagga Wagga\, NSW\, 2650\, Australia
CATEGORIES:Parkinson's Group Strength
END:VEVENT
END:VCALENDAR