BEGIN:VCALENDAR
VERSION:2.0
PRODID:-//Synergy Healthworks - ECPv6.15.20//NONSGML v1.0//EN
CALSCALE:GREGORIAN
METHOD:PUBLISH
X-ORIGINAL-URL:https://synergyhealthworks.com
X-WR-CALDESC:Events for Synergy Healthworks
REFRESH-INTERVAL;VALUE=DURATION:PT1H
X-Robots-Tag:noindex
X-PUBLISHED-TTL:PT1H
BEGIN:VTIMEZONE
TZID:Australia/Sydney
BEGIN:STANDARD
TZOFFSETFROM:+1100
TZOFFSETTO:+1000
TZNAME:AEST
DTSTART:20280401T160000
END:STANDARD
BEGIN:DAYLIGHT
TZOFFSETFROM:+1000
TZOFFSETTO:+1100
TZNAME:AEDT
DTSTART:20280930T160000
END:DAYLIGHT
BEGIN:STANDARD
TZOFFSETFROM:+1100
TZOFFSETTO:+1000
TZNAME:AEST
DTSTART:20290331T160000
END:STANDARD
BEGIN:DAYLIGHT
TZOFFSETFROM:+1000
TZOFFSETTO:+1100
TZNAME:AEDT
DTSTART:20291006T160000
END:DAYLIGHT
BEGIN:STANDARD
TZOFFSETFROM:+1100
TZOFFSETTO:+1000
TZNAME:AEST
DTSTART:20300406T160000
END:STANDARD
BEGIN:DAYLIGHT
TZOFFSETFROM:+1000
TZOFFSETTO:+1100
TZNAME:AEDT
DTSTART:20301005T160000
END:DAYLIGHT
END:VTIMEZONE
BEGIN:VEVENT
DTSTART;TZID=Australia/Sydney:20291015T070000
DTEND;TZID=Australia/Sydney:20291015T074500
DTSTAMP:20260425T232539
CREATED:20250901T033635Z
LAST-MODIFIED:20250901T033635Z
UID:10125317-1886742000-1886744700@synergyhealthworks.com
SUMMARY:Clinical Reformer
DESCRIPTION:
URL:https://synergyhealthworks.com/event/clinical-reformer-62-2/2029-10-15/
LOCATION:Gundagai\, 114 Sheridan Street\, Gundagai\, NSW\, 2722\, Australia
CATEGORIES:Clinical Reformer
END:VEVENT
BEGIN:VEVENT
DTSTART;TZID=Australia/Sydney:20291015T093000
DTEND;TZID=Australia/Sydney:20291015T101500
DTSTAMP:20260425T232539
CREATED:20250901T033248Z
LAST-MODIFIED:20251212T230425Z
UID:10124477-1886751000-1886753700@synergyhealthworks.com
SUMMARY:Clinical Reformer
DESCRIPTION:
URL:https://synergyhealthworks.com/event/clinical-reformer-61/2029-10-15/
LOCATION:Gundagai\, 114 Sheridan Street\, Gundagai\, NSW\, 2722\, Australia
CATEGORIES:Clinical Reformer
END:VEVENT
BEGIN:VEVENT
DTSTART;TZID=Australia/Sydney:20291017T093000
DTEND;TZID=Australia/Sydney:20291017T101500
DTSTAMP:20260425T232539
CREATED:20241204T014501Z
LAST-MODIFIED:20250618T063327Z
UID:10119554-1886923800-1886926500@synergyhealthworks.com
SUMMARY:Clinical Reformer
DESCRIPTION:
URL:https://synergyhealthworks.com/event/clinical-reformer-47/2029-10-17/
LOCATION:Wagga Wagga | Reformer Studio\, 221 Kincaid Street\, Wagga Wagga\, NSW\, 2650\, Australia
CATEGORIES:Clinical Reformer
END:VEVENT
BEGIN:VEVENT
DTSTART;TZID=Australia/Sydney:20291017T161500
DTEND;TZID=Australia/Sydney:20291017T170000
DTSTAMP:20260425T232539
CREATED:20241204T014718Z
LAST-MODIFIED:20250129T031835Z
UID:10099987-1886948100-1886950800@synergyhealthworks.com
SUMMARY:Clinical Reformer
DESCRIPTION:
URL:https://synergyhealthworks.com/event/clinical-reformer-49/2029-10-17/
LOCATION:Wagga Wagga | Reformer Studio\, 221 Kincaid Street\, Wagga Wagga\, NSW\, 2650\, Australia
CATEGORIES:Clinical Reformer
END:VEVENT
BEGIN:VEVENT
DTSTART;TZID=Australia/Sydney:20291018T110000
DTEND;TZID=Australia/Sydney:20291018T114500
DTSTAMP:20260425T232539
CREATED:20241204T011425Z
LAST-MODIFIED:20251204T222714Z
UID:10128929-1887015600-1887018300@synergyhealthworks.com
SUMMARY:Mums and Bubs Core Class
DESCRIPTION:
URL:https://synergyhealthworks.com/event/mums-and-bubs-core-class-7/2029-10-18/
LOCATION:Wagga Wagga | Mat Studio\, 221 Kincaid Street\, Wagga Wagga\, NSW\, 2650\, Australia
CATEGORIES:Mums and Bubs
END:VEVENT
BEGIN:VEVENT
DTSTART;TZID=Australia/Sydney:20291018T130000
DTEND;TZID=Australia/Sydney:20291018T134500
DTSTAMP:20260425T232539
CREATED:20241204T011507Z
LAST-MODIFIED:20250129T031040Z
UID:10092689-1887022800-1887025500@synergyhealthworks.com
SUMMARY:Parkinson's Group Strength
DESCRIPTION:
URL:https://synergyhealthworks.com/event/parkinsons-group-strength-6/2029-10-18/
LOCATION:Wagga Wagga | Mat Studio\, 221 Kincaid Street\, Wagga Wagga\, NSW\, 2650\, Australia
CATEGORIES:Parkinson's Group Strength
END:VEVENT
BEGIN:VEVENT
DTSTART;TZID=Australia/Sydney:20291018T161500
DTEND;TZID=Australia/Sydney:20291018T170000
DTSTAMP:20260425T232539
CREATED:20241204T015701Z
LAST-MODIFIED:20250129T032111Z
UID:10102497-1887034500-1887037200@synergyhealthworks.com
SUMMARY:Clinical Reformer
DESCRIPTION:
URL:https://synergyhealthworks.com/event/clinical-reformer-55/2029-10-18/
LOCATION:Wagga Wagga | Reformer Studio\, 221 Kincaid Street\, Wagga Wagga\, NSW\, 2650\, Australia
CATEGORIES:Clinical Reformer
END:VEVENT
BEGIN:VEVENT
DTSTART;TZID=Australia/Sydney:20291018T171500
DTEND;TZID=Australia/Sydney:20291018T180000
DTSTAMP:20260425T232539
CREATED:20241204T015723Z
LAST-MODIFIED:20250129T032120Z
UID:10102748-1887038100-1887040800@synergyhealthworks.com
SUMMARY:Clinical Reformer
DESCRIPTION:
URL:https://synergyhealthworks.com/event/clinical-reformer-56/2029-10-18/
LOCATION:Wagga Wagga | Reformer Studio\, 221 Kincaid Street\, Wagga Wagga\, NSW\, 2650\, Australia
CATEGORIES:Clinical Reformer
END:VEVENT
BEGIN:VEVENT
DTSTART;TZID=Australia/Sydney:20291018T181500
DTEND;TZID=Australia/Sydney:20291018T190000
DTSTAMP:20260425T232539
CREATED:20241204T015828Z
LAST-MODIFIED:20250914T095556Z
UID:10102999-1887041700-1887044400@synergyhealthworks.com
SUMMARY:Clinical Reformer
DESCRIPTION:
URL:https://synergyhealthworks.com/event/clinical-reformer-57/2029-10-18/
LOCATION:Wagga Wagga | Reformer Studio\, 221 Kincaid Street\, Wagga Wagga\, NSW\, 2650\, Australia
CATEGORIES:Clinical Reformer
END:VEVENT
BEGIN:VEVENT
DTSTART;TZID=Australia/Sydney:20291019T070000
DTEND;TZID=Australia/Sydney:20291019T074500
DTSTAMP:20260425T232539
CREATED:20241204T020111Z
LAST-MODIFIED:20251123T222717Z
UID:10103501-1887087600-1887090300@synergyhealthworks.com
SUMMARY:Clinical Reformer
DESCRIPTION:
URL:https://synergyhealthworks.com/event/clinical-reformer-59/2029-10-19/
LOCATION:Wagga Wagga | Reformer Studio\, 221 Kincaid Street\, Wagga Wagga\, NSW\, 2650\, Australia
CATEGORIES:Clinical Reformer
END:VEVENT
BEGIN:VEVENT
DTSTART;TZID=Australia/Sydney:20291019T090000
DTEND;TZID=Australia/Sydney:20291019T094500
DTSTAMP:20260425T232539
CREATED:20241204T011816Z
LAST-MODIFIED:20250129T031139Z
UID:10093442-1887094800-1887097500@synergyhealthworks.com
SUMMARY:Matwork Core Class
DESCRIPTION:
URL:https://synergyhealthworks.com/event/matwork-core-class-16/2029-10-19/
LOCATION:Wagga Wagga | Mat Studio\, 221 Kincaid Street\, Wagga Wagga\, NSW\, 2650\, Australia
CATEGORIES:Matwork
END:VEVENT
BEGIN:VEVENT
DTSTART;TZID=Australia/Sydney:20291019T110000
DTEND;TZID=Australia/Sydney:20291019T114500
DTSTAMP:20260425T232539
CREATED:20241204T020337Z
LAST-MODIFIED:20251123T222821Z
UID:10104003-1887102000-1887104700@synergyhealthworks.com
SUMMARY:Mums and Bubs Reformer
DESCRIPTION:
URL:https://synergyhealthworks.com/event/mums-and-bubs-reformer-6/2029-10-19/
LOCATION:Wagga Wagga | Reformer Studio\, 221 Kincaid Street\, Wagga Wagga\, NSW\, 2650\, Australia
CATEGORIES:Mums and Bubs
END:VEVENT
BEGIN:VEVENT
DTSTART;TZID=Australia/Sydney:20291022T070000
DTEND;TZID=Australia/Sydney:20291022T074500
DTSTAMP:20260425T232539
CREATED:20250901T033635Z
LAST-MODIFIED:20250901T033635Z
UID:10125318-1887346800-1887349500@synergyhealthworks.com
SUMMARY:Clinical Reformer
DESCRIPTION:
URL:https://synergyhealthworks.com/event/clinical-reformer-62-2/2029-10-22/
LOCATION:Gundagai\, 114 Sheridan Street\, Gundagai\, NSW\, 2722\, Australia
CATEGORIES:Clinical Reformer
END:VEVENT
BEGIN:VEVENT
DTSTART;TZID=Australia/Sydney:20291022T093000
DTEND;TZID=Australia/Sydney:20291022T101500
DTSTAMP:20260425T232539
CREATED:20250901T033248Z
LAST-MODIFIED:20251212T230425Z
UID:10124478-1887355800-1887358500@synergyhealthworks.com
SUMMARY:Clinical Reformer
DESCRIPTION:
URL:https://synergyhealthworks.com/event/clinical-reformer-61/2029-10-22/
LOCATION:Gundagai\, 114 Sheridan Street\, Gundagai\, NSW\, 2722\, Australia
CATEGORIES:Clinical Reformer
END:VEVENT
BEGIN:VEVENT
DTSTART;TZID=Australia/Sydney:20291024T093000
DTEND;TZID=Australia/Sydney:20291024T101500
DTSTAMP:20260425T232539
CREATED:20241204T014501Z
LAST-MODIFIED:20250618T063327Z
UID:10119555-1887528600-1887531300@synergyhealthworks.com
SUMMARY:Clinical Reformer
DESCRIPTION:
URL:https://synergyhealthworks.com/event/clinical-reformer-47/2029-10-24/
LOCATION:Wagga Wagga | Reformer Studio\, 221 Kincaid Street\, Wagga Wagga\, NSW\, 2650\, Australia
CATEGORIES:Clinical Reformer
END:VEVENT
BEGIN:VEVENT
DTSTART;TZID=Australia/Sydney:20291024T161500
DTEND;TZID=Australia/Sydney:20291024T170000
DTSTAMP:20260425T232539
CREATED:20241204T014718Z
LAST-MODIFIED:20250129T031835Z
UID:10099988-1887552900-1887555600@synergyhealthworks.com
SUMMARY:Clinical Reformer
DESCRIPTION:
URL:https://synergyhealthworks.com/event/clinical-reformer-49/2029-10-24/
LOCATION:Wagga Wagga | Reformer Studio\, 221 Kincaid Street\, Wagga Wagga\, NSW\, 2650\, Australia
CATEGORIES:Clinical Reformer
END:VEVENT
BEGIN:VEVENT
DTSTART;TZID=Australia/Sydney:20291025T110000
DTEND;TZID=Australia/Sydney:20291025T114500
DTSTAMP:20260425T232539
CREATED:20241204T011425Z
LAST-MODIFIED:20251204T222714Z
UID:10128930-1887620400-1887623100@synergyhealthworks.com
SUMMARY:Mums and Bubs Core Class
DESCRIPTION:
URL:https://synergyhealthworks.com/event/mums-and-bubs-core-class-7/2029-10-25/
LOCATION:Wagga Wagga | Mat Studio\, 221 Kincaid Street\, Wagga Wagga\, NSW\, 2650\, Australia
CATEGORIES:Mums and Bubs
END:VEVENT
BEGIN:VEVENT
DTSTART;TZID=Australia/Sydney:20291025T130000
DTEND;TZID=Australia/Sydney:20291025T134500
DTSTAMP:20260425T232539
CREATED:20241204T011507Z
LAST-MODIFIED:20250129T031040Z
UID:10092690-1887627600-1887630300@synergyhealthworks.com
SUMMARY:Parkinson's Group Strength
DESCRIPTION:
URL:https://synergyhealthworks.com/event/parkinsons-group-strength-6/2029-10-25/
LOCATION:Wagga Wagga | Mat Studio\, 221 Kincaid Street\, Wagga Wagga\, NSW\, 2650\, Australia
CATEGORIES:Parkinson's Group Strength
END:VEVENT
BEGIN:VEVENT
DTSTART;TZID=Australia/Sydney:20291025T161500
DTEND;TZID=Australia/Sydney:20291025T170000
DTSTAMP:20260425T232539
CREATED:20241204T015701Z
LAST-MODIFIED:20250129T032111Z
UID:10102498-1887639300-1887642000@synergyhealthworks.com
SUMMARY:Clinical Reformer
DESCRIPTION:
URL:https://synergyhealthworks.com/event/clinical-reformer-55/2029-10-25/
LOCATION:Wagga Wagga | Reformer Studio\, 221 Kincaid Street\, Wagga Wagga\, NSW\, 2650\, Australia
CATEGORIES:Clinical Reformer
END:VEVENT
BEGIN:VEVENT
DTSTART;TZID=Australia/Sydney:20291025T171500
DTEND;TZID=Australia/Sydney:20291025T180000
DTSTAMP:20260425T232539
CREATED:20241204T015723Z
LAST-MODIFIED:20250129T032120Z
UID:10102749-1887642900-1887645600@synergyhealthworks.com
SUMMARY:Clinical Reformer
DESCRIPTION:
URL:https://synergyhealthworks.com/event/clinical-reformer-56/2029-10-25/
LOCATION:Wagga Wagga | Reformer Studio\, 221 Kincaid Street\, Wagga Wagga\, NSW\, 2650\, Australia
CATEGORIES:Clinical Reformer
END:VEVENT
BEGIN:VEVENT
DTSTART;TZID=Australia/Sydney:20291025T181500
DTEND;TZID=Australia/Sydney:20291025T190000
DTSTAMP:20260425T232539
CREATED:20241204T015828Z
LAST-MODIFIED:20250914T095556Z
UID:10103000-1887646500-1887649200@synergyhealthworks.com
SUMMARY:Clinical Reformer
DESCRIPTION:
URL:https://synergyhealthworks.com/event/clinical-reformer-57/2029-10-25/
LOCATION:Wagga Wagga | Reformer Studio\, 221 Kincaid Street\, Wagga Wagga\, NSW\, 2650\, Australia
CATEGORIES:Clinical Reformer
END:VEVENT
BEGIN:VEVENT
DTSTART;TZID=Australia/Sydney:20291026T070000
DTEND;TZID=Australia/Sydney:20291026T074500
DTSTAMP:20260425T232539
CREATED:20241204T020111Z
LAST-MODIFIED:20251123T222717Z
UID:10103502-1887692400-1887695100@synergyhealthworks.com
SUMMARY:Clinical Reformer
DESCRIPTION:
URL:https://synergyhealthworks.com/event/clinical-reformer-59/2029-10-26/
LOCATION:Wagga Wagga | Reformer Studio\, 221 Kincaid Street\, Wagga Wagga\, NSW\, 2650\, Australia
CATEGORIES:Clinical Reformer
END:VEVENT
BEGIN:VEVENT
DTSTART;TZID=Australia/Sydney:20291026T090000
DTEND;TZID=Australia/Sydney:20291026T094500
DTSTAMP:20260425T232539
CREATED:20241204T011816Z
LAST-MODIFIED:20250129T031139Z
UID:10093443-1887699600-1887702300@synergyhealthworks.com
SUMMARY:Matwork Core Class
DESCRIPTION:
URL:https://synergyhealthworks.com/event/matwork-core-class-16/2029-10-26/
LOCATION:Wagga Wagga | Mat Studio\, 221 Kincaid Street\, Wagga Wagga\, NSW\, 2650\, Australia
CATEGORIES:Matwork
END:VEVENT
BEGIN:VEVENT
DTSTART;TZID=Australia/Sydney:20291026T110000
DTEND;TZID=Australia/Sydney:20291026T114500
DTSTAMP:20260425T232539
CREATED:20241204T020337Z
LAST-MODIFIED:20251123T222821Z
UID:10104004-1887706800-1887709500@synergyhealthworks.com
SUMMARY:Mums and Bubs Reformer
DESCRIPTION:
URL:https://synergyhealthworks.com/event/mums-and-bubs-reformer-6/2029-10-26/
LOCATION:Wagga Wagga | Reformer Studio\, 221 Kincaid Street\, Wagga Wagga\, NSW\, 2650\, Australia
CATEGORIES:Mums and Bubs
END:VEVENT
BEGIN:VEVENT
DTSTART;TZID=Australia/Sydney:20291029T070000
DTEND;TZID=Australia/Sydney:20291029T074500
DTSTAMP:20260425T232539
CREATED:20250901T033635Z
LAST-MODIFIED:20250901T033635Z
UID:10125319-1887951600-1887954300@synergyhealthworks.com
SUMMARY:Clinical Reformer
DESCRIPTION:
URL:https://synergyhealthworks.com/event/clinical-reformer-62-2/2029-10-29/
LOCATION:Gundagai\, 114 Sheridan Street\, Gundagai\, NSW\, 2722\, Australia
CATEGORIES:Clinical Reformer
END:VEVENT
BEGIN:VEVENT
DTSTART;TZID=Australia/Sydney:20291029T093000
DTEND;TZID=Australia/Sydney:20291029T101500
DTSTAMP:20260425T232539
CREATED:20250901T033248Z
LAST-MODIFIED:20251212T230425Z
UID:10124479-1887960600-1887963300@synergyhealthworks.com
SUMMARY:Clinical Reformer
DESCRIPTION:
URL:https://synergyhealthworks.com/event/clinical-reformer-61/2029-10-29/
LOCATION:Gundagai\, 114 Sheridan Street\, Gundagai\, NSW\, 2722\, Australia
CATEGORIES:Clinical Reformer
END:VEVENT
BEGIN:VEVENT
DTSTART;TZID=Australia/Sydney:20291031T093000
DTEND;TZID=Australia/Sydney:20291031T101500
DTSTAMP:20260425T232539
CREATED:20241204T014501Z
LAST-MODIFIED:20250618T063327Z
UID:10119556-1888133400-1888136100@synergyhealthworks.com
SUMMARY:Clinical Reformer
DESCRIPTION:
URL:https://synergyhealthworks.com/event/clinical-reformer-47/2029-10-31/
LOCATION:Wagga Wagga | Reformer Studio\, 221 Kincaid Street\, Wagga Wagga\, NSW\, 2650\, Australia
CATEGORIES:Clinical Reformer
END:VEVENT
BEGIN:VEVENT
DTSTART;TZID=Australia/Sydney:20291031T161500
DTEND;TZID=Australia/Sydney:20291031T170000
DTSTAMP:20260425T232539
CREATED:20241204T014718Z
LAST-MODIFIED:20250129T031835Z
UID:10099989-1888157700-1888160400@synergyhealthworks.com
SUMMARY:Clinical Reformer
DESCRIPTION:
URL:https://synergyhealthworks.com/event/clinical-reformer-49/2029-10-31/
LOCATION:Wagga Wagga | Reformer Studio\, 221 Kincaid Street\, Wagga Wagga\, NSW\, 2650\, Australia
CATEGORIES:Clinical Reformer
END:VEVENT
BEGIN:VEVENT
DTSTART;TZID=Australia/Sydney:20291101T110000
DTEND;TZID=Australia/Sydney:20291101T114500
DTSTAMP:20260425T232539
CREATED:20241204T011425Z
LAST-MODIFIED:20251204T222714Z
UID:10128931-1888225200-1888227900@synergyhealthworks.com
SUMMARY:Mums and Bubs Core Class
DESCRIPTION:
URL:https://synergyhealthworks.com/event/mums-and-bubs-core-class-7/2029-11-01/
LOCATION:Wagga Wagga | Mat Studio\, 221 Kincaid Street\, Wagga Wagga\, NSW\, 2650\, Australia
CATEGORIES:Mums and Bubs
END:VEVENT
BEGIN:VEVENT
DTSTART;TZID=Australia/Sydney:20291101T130000
DTEND;TZID=Australia/Sydney:20291101T134500
DTSTAMP:20260425T232539
CREATED:20241204T011507Z
LAST-MODIFIED:20250129T031040Z
UID:10092691-1888232400-1888235100@synergyhealthworks.com
SUMMARY:Parkinson's Group Strength
DESCRIPTION:
URL:https://synergyhealthworks.com/event/parkinsons-group-strength-6/2029-11-01/
LOCATION:Wagga Wagga | Mat Studio\, 221 Kincaid Street\, Wagga Wagga\, NSW\, 2650\, Australia
CATEGORIES:Parkinson's Group Strength
END:VEVENT
END:VCALENDAR