BEGIN:VCALENDAR
VERSION:2.0
PRODID:-//Synergy Healthworks - ECPv6.15.20//NONSGML v1.0//EN
CALSCALE:GREGORIAN
METHOD:PUBLISH
X-ORIGINAL-URL:https://synergyhealthworks.com
X-WR-CALDESC:Events for Synergy Healthworks
REFRESH-INTERVAL;VALUE=DURATION:PT1H
X-Robots-Tag:noindex
X-PUBLISHED-TTL:PT1H
BEGIN:VTIMEZONE
TZID:Australia/Sydney
BEGIN:STANDARD
TZOFFSETFROM:+1100
TZOFFSETTO:+1000
TZNAME:AEST
DTSTART:20280401T160000
END:STANDARD
BEGIN:DAYLIGHT
TZOFFSETFROM:+1000
TZOFFSETTO:+1100
TZNAME:AEDT
DTSTART:20280930T160000
END:DAYLIGHT
BEGIN:STANDARD
TZOFFSETFROM:+1100
TZOFFSETTO:+1000
TZNAME:AEST
DTSTART:20290331T160000
END:STANDARD
BEGIN:DAYLIGHT
TZOFFSETFROM:+1000
TZOFFSETTO:+1100
TZNAME:AEDT
DTSTART:20291006T160000
END:DAYLIGHT
BEGIN:STANDARD
TZOFFSETFROM:+1100
TZOFFSETTO:+1000
TZNAME:AEST
DTSTART:20300406T160000
END:STANDARD
BEGIN:DAYLIGHT
TZOFFSETFROM:+1000
TZOFFSETTO:+1100
TZNAME:AEDT
DTSTART:20301005T160000
END:DAYLIGHT
END:VTIMEZONE
BEGIN:VEVENT
DTSTART;TZID=Australia/Sydney:20290806T070000
DTEND;TZID=Australia/Sydney:20290806T074500
DTSTAMP:20260425T070914
CREATED:20250901T033635Z
LAST-MODIFIED:20250901T033635Z
UID:10125307-1880694000-1880696700@synergyhealthworks.com
SUMMARY:Clinical Reformer
DESCRIPTION:
URL:https://synergyhealthworks.com/event/clinical-reformer-62-2/2029-08-06/
LOCATION:Gundagai\, 114 Sheridan Street\, Gundagai\, NSW\, 2722\, Australia
CATEGORIES:Clinical Reformer
END:VEVENT
BEGIN:VEVENT
DTSTART;TZID=Australia/Sydney:20290806T093000
DTEND;TZID=Australia/Sydney:20290806T101500
DTSTAMP:20260425T070914
CREATED:20250901T033248Z
LAST-MODIFIED:20251212T230425Z
UID:10124467-1880703000-1880705700@synergyhealthworks.com
SUMMARY:Clinical Reformer
DESCRIPTION:
URL:https://synergyhealthworks.com/event/clinical-reformer-61/2029-08-06/
LOCATION:Gundagai\, 114 Sheridan Street\, Gundagai\, NSW\, 2722\, Australia
CATEGORIES:Clinical Reformer
END:VEVENT
BEGIN:VEVENT
DTSTART;TZID=Australia/Sydney:20290808T093000
DTEND;TZID=Australia/Sydney:20290808T101500
DTSTAMP:20260425T070914
CREATED:20241204T014501Z
LAST-MODIFIED:20250618T063327Z
UID:10119544-1880875800-1880878500@synergyhealthworks.com
SUMMARY:Clinical Reformer
DESCRIPTION:
URL:https://synergyhealthworks.com/event/clinical-reformer-47/2029-08-08/
LOCATION:Wagga Wagga | Reformer Studio\, 221 Kincaid Street\, Wagga Wagga\, NSW\, 2650\, Australia
CATEGORIES:Clinical Reformer
END:VEVENT
BEGIN:VEVENT
DTSTART;TZID=Australia/Sydney:20290808T161500
DTEND;TZID=Australia/Sydney:20290808T170000
DTSTAMP:20260425T070914
CREATED:20241204T014718Z
LAST-MODIFIED:20250129T031835Z
UID:10099977-1880900100-1880902800@synergyhealthworks.com
SUMMARY:Clinical Reformer
DESCRIPTION:
URL:https://synergyhealthworks.com/event/clinical-reformer-49/2029-08-08/
LOCATION:Wagga Wagga | Reformer Studio\, 221 Kincaid Street\, Wagga Wagga\, NSW\, 2650\, Australia
CATEGORIES:Clinical Reformer
END:VEVENT
BEGIN:VEVENT
DTSTART;TZID=Australia/Sydney:20290809T110000
DTEND;TZID=Australia/Sydney:20290809T114500
DTSTAMP:20260425T070914
CREATED:20241204T011425Z
LAST-MODIFIED:20251204T222714Z
UID:10128919-1880967600-1880970300@synergyhealthworks.com
SUMMARY:Mums and Bubs Core Class
DESCRIPTION:
URL:https://synergyhealthworks.com/event/mums-and-bubs-core-class-7/2029-08-09/
LOCATION:Wagga Wagga | Mat Studio\, 221 Kincaid Street\, Wagga Wagga\, NSW\, 2650\, Australia
CATEGORIES:Mums and Bubs
END:VEVENT
BEGIN:VEVENT
DTSTART;TZID=Australia/Sydney:20290809T130000
DTEND;TZID=Australia/Sydney:20290809T134500
DTSTAMP:20260425T070914
CREATED:20241204T011507Z
LAST-MODIFIED:20250129T031040Z
UID:10092679-1880974800-1880977500@synergyhealthworks.com
SUMMARY:Parkinson's Group Strength
DESCRIPTION:
URL:https://synergyhealthworks.com/event/parkinsons-group-strength-6/2029-08-09/
LOCATION:Wagga Wagga | Mat Studio\, 221 Kincaid Street\, Wagga Wagga\, NSW\, 2650\, Australia
CATEGORIES:Parkinson's Group Strength
END:VEVENT
BEGIN:VEVENT
DTSTART;TZID=Australia/Sydney:20290809T161500
DTEND;TZID=Australia/Sydney:20290809T170000
DTSTAMP:20260425T070914
CREATED:20241204T015701Z
LAST-MODIFIED:20250129T032111Z
UID:10102487-1880986500-1880989200@synergyhealthworks.com
SUMMARY:Clinical Reformer
DESCRIPTION:
URL:https://synergyhealthworks.com/event/clinical-reformer-55/2029-08-09/
LOCATION:Wagga Wagga | Reformer Studio\, 221 Kincaid Street\, Wagga Wagga\, NSW\, 2650\, Australia
CATEGORIES:Clinical Reformer
END:VEVENT
BEGIN:VEVENT
DTSTART;TZID=Australia/Sydney:20290809T171500
DTEND;TZID=Australia/Sydney:20290809T180000
DTSTAMP:20260425T070914
CREATED:20241204T015723Z
LAST-MODIFIED:20250129T032120Z
UID:10102738-1880990100-1880992800@synergyhealthworks.com
SUMMARY:Clinical Reformer
DESCRIPTION:
URL:https://synergyhealthworks.com/event/clinical-reformer-56/2029-08-09/
LOCATION:Wagga Wagga | Reformer Studio\, 221 Kincaid Street\, Wagga Wagga\, NSW\, 2650\, Australia
CATEGORIES:Clinical Reformer
END:VEVENT
BEGIN:VEVENT
DTSTART;TZID=Australia/Sydney:20290809T181500
DTEND;TZID=Australia/Sydney:20290809T190000
DTSTAMP:20260425T070914
CREATED:20241204T015828Z
LAST-MODIFIED:20250914T095556Z
UID:10102989-1880993700-1880996400@synergyhealthworks.com
SUMMARY:Clinical Reformer
DESCRIPTION:
URL:https://synergyhealthworks.com/event/clinical-reformer-57/2029-08-09/
LOCATION:Wagga Wagga | Reformer Studio\, 221 Kincaid Street\, Wagga Wagga\, NSW\, 2650\, Australia
CATEGORIES:Clinical Reformer
END:VEVENT
BEGIN:VEVENT
DTSTART;TZID=Australia/Sydney:20290810T070000
DTEND;TZID=Australia/Sydney:20290810T074500
DTSTAMP:20260425T070914
CREATED:20241204T020111Z
LAST-MODIFIED:20251123T222717Z
UID:10103491-1881039600-1881042300@synergyhealthworks.com
SUMMARY:Clinical Reformer
DESCRIPTION:
URL:https://synergyhealthworks.com/event/clinical-reformer-59/2029-08-10/
LOCATION:Wagga Wagga | Reformer Studio\, 221 Kincaid Street\, Wagga Wagga\, NSW\, 2650\, Australia
CATEGORIES:Clinical Reformer
END:VEVENT
BEGIN:VEVENT
DTSTART;TZID=Australia/Sydney:20290810T090000
DTEND;TZID=Australia/Sydney:20290810T094500
DTSTAMP:20260425T070914
CREATED:20241204T011816Z
LAST-MODIFIED:20250129T031139Z
UID:10093432-1881046800-1881049500@synergyhealthworks.com
SUMMARY:Matwork Core Class
DESCRIPTION:
URL:https://synergyhealthworks.com/event/matwork-core-class-16/2029-08-10/
LOCATION:Wagga Wagga | Mat Studio\, 221 Kincaid Street\, Wagga Wagga\, NSW\, 2650\, Australia
CATEGORIES:Matwork
END:VEVENT
BEGIN:VEVENT
DTSTART;TZID=Australia/Sydney:20290810T110000
DTEND;TZID=Australia/Sydney:20290810T114500
DTSTAMP:20260425T070914
CREATED:20241204T020337Z
LAST-MODIFIED:20251123T222821Z
UID:10103993-1881054000-1881056700@synergyhealthworks.com
SUMMARY:Mums and Bubs Reformer
DESCRIPTION:
URL:https://synergyhealthworks.com/event/mums-and-bubs-reformer-6/2029-08-10/
LOCATION:Wagga Wagga | Reformer Studio\, 221 Kincaid Street\, Wagga Wagga\, NSW\, 2650\, Australia
CATEGORIES:Mums and Bubs
END:VEVENT
BEGIN:VEVENT
DTSTART;TZID=Australia/Sydney:20290813T070000
DTEND;TZID=Australia/Sydney:20290813T074500
DTSTAMP:20260425T070914
CREATED:20250901T033635Z
LAST-MODIFIED:20250901T033635Z
UID:10125308-1881298800-1881301500@synergyhealthworks.com
SUMMARY:Clinical Reformer
DESCRIPTION:
URL:https://synergyhealthworks.com/event/clinical-reformer-62-2/2029-08-13/
LOCATION:Gundagai\, 114 Sheridan Street\, Gundagai\, NSW\, 2722\, Australia
CATEGORIES:Clinical Reformer
END:VEVENT
BEGIN:VEVENT
DTSTART;TZID=Australia/Sydney:20290813T093000
DTEND;TZID=Australia/Sydney:20290813T101500
DTSTAMP:20260425T070914
CREATED:20250901T033248Z
LAST-MODIFIED:20251212T230425Z
UID:10124468-1881307800-1881310500@synergyhealthworks.com
SUMMARY:Clinical Reformer
DESCRIPTION:
URL:https://synergyhealthworks.com/event/clinical-reformer-61/2029-08-13/
LOCATION:Gundagai\, 114 Sheridan Street\, Gundagai\, NSW\, 2722\, Australia
CATEGORIES:Clinical Reformer
END:VEVENT
BEGIN:VEVENT
DTSTART;TZID=Australia/Sydney:20290815T093000
DTEND;TZID=Australia/Sydney:20290815T101500
DTSTAMP:20260425T070914
CREATED:20241204T014501Z
LAST-MODIFIED:20250618T063327Z
UID:10119545-1881480600-1881483300@synergyhealthworks.com
SUMMARY:Clinical Reformer
DESCRIPTION:
URL:https://synergyhealthworks.com/event/clinical-reformer-47/2029-08-15/
LOCATION:Wagga Wagga | Reformer Studio\, 221 Kincaid Street\, Wagga Wagga\, NSW\, 2650\, Australia
CATEGORIES:Clinical Reformer
END:VEVENT
BEGIN:VEVENT
DTSTART;TZID=Australia/Sydney:20290815T161500
DTEND;TZID=Australia/Sydney:20290815T170000
DTSTAMP:20260425T070914
CREATED:20241204T014718Z
LAST-MODIFIED:20250129T031835Z
UID:10099978-1881504900-1881507600@synergyhealthworks.com
SUMMARY:Clinical Reformer
DESCRIPTION:
URL:https://synergyhealthworks.com/event/clinical-reformer-49/2029-08-15/
LOCATION:Wagga Wagga | Reformer Studio\, 221 Kincaid Street\, Wagga Wagga\, NSW\, 2650\, Australia
CATEGORIES:Clinical Reformer
END:VEVENT
BEGIN:VEVENT
DTSTART;TZID=Australia/Sydney:20290816T110000
DTEND;TZID=Australia/Sydney:20290816T114500
DTSTAMP:20260425T070914
CREATED:20241204T011425Z
LAST-MODIFIED:20251204T222714Z
UID:10128920-1881572400-1881575100@synergyhealthworks.com
SUMMARY:Mums and Bubs Core Class
DESCRIPTION:
URL:https://synergyhealthworks.com/event/mums-and-bubs-core-class-7/2029-08-16/
LOCATION:Wagga Wagga | Mat Studio\, 221 Kincaid Street\, Wagga Wagga\, NSW\, 2650\, Australia
CATEGORIES:Mums and Bubs
END:VEVENT
BEGIN:VEVENT
DTSTART;TZID=Australia/Sydney:20290816T130000
DTEND;TZID=Australia/Sydney:20290816T134500
DTSTAMP:20260425T070914
CREATED:20241204T011507Z
LAST-MODIFIED:20250129T031040Z
UID:10092680-1881579600-1881582300@synergyhealthworks.com
SUMMARY:Parkinson's Group Strength
DESCRIPTION:
URL:https://synergyhealthworks.com/event/parkinsons-group-strength-6/2029-08-16/
LOCATION:Wagga Wagga | Mat Studio\, 221 Kincaid Street\, Wagga Wagga\, NSW\, 2650\, Australia
CATEGORIES:Parkinson's Group Strength
END:VEVENT
BEGIN:VEVENT
DTSTART;TZID=Australia/Sydney:20290816T161500
DTEND;TZID=Australia/Sydney:20290816T170000
DTSTAMP:20260425T070914
CREATED:20241204T015701Z
LAST-MODIFIED:20250129T032111Z
UID:10102488-1881591300-1881594000@synergyhealthworks.com
SUMMARY:Clinical Reformer
DESCRIPTION:
URL:https://synergyhealthworks.com/event/clinical-reformer-55/2029-08-16/
LOCATION:Wagga Wagga | Reformer Studio\, 221 Kincaid Street\, Wagga Wagga\, NSW\, 2650\, Australia
CATEGORIES:Clinical Reformer
END:VEVENT
BEGIN:VEVENT
DTSTART;TZID=Australia/Sydney:20290816T171500
DTEND;TZID=Australia/Sydney:20290816T180000
DTSTAMP:20260425T070914
CREATED:20241204T015723Z
LAST-MODIFIED:20250129T032120Z
UID:10102739-1881594900-1881597600@synergyhealthworks.com
SUMMARY:Clinical Reformer
DESCRIPTION:
URL:https://synergyhealthworks.com/event/clinical-reformer-56/2029-08-16/
LOCATION:Wagga Wagga | Reformer Studio\, 221 Kincaid Street\, Wagga Wagga\, NSW\, 2650\, Australia
CATEGORIES:Clinical Reformer
END:VEVENT
BEGIN:VEVENT
DTSTART;TZID=Australia/Sydney:20290816T181500
DTEND;TZID=Australia/Sydney:20290816T190000
DTSTAMP:20260425T070914
CREATED:20241204T015828Z
LAST-MODIFIED:20250914T095556Z
UID:10102990-1881598500-1881601200@synergyhealthworks.com
SUMMARY:Clinical Reformer
DESCRIPTION:
URL:https://synergyhealthworks.com/event/clinical-reformer-57/2029-08-16/
LOCATION:Wagga Wagga | Reformer Studio\, 221 Kincaid Street\, Wagga Wagga\, NSW\, 2650\, Australia
CATEGORIES:Clinical Reformer
END:VEVENT
BEGIN:VEVENT
DTSTART;TZID=Australia/Sydney:20290817T070000
DTEND;TZID=Australia/Sydney:20290817T074500
DTSTAMP:20260425T070914
CREATED:20241204T020111Z
LAST-MODIFIED:20251123T222717Z
UID:10103492-1881644400-1881647100@synergyhealthworks.com
SUMMARY:Clinical Reformer
DESCRIPTION:
URL:https://synergyhealthworks.com/event/clinical-reformer-59/2029-08-17/
LOCATION:Wagga Wagga | Reformer Studio\, 221 Kincaid Street\, Wagga Wagga\, NSW\, 2650\, Australia
CATEGORIES:Clinical Reformer
END:VEVENT
BEGIN:VEVENT
DTSTART;TZID=Australia/Sydney:20290817T090000
DTEND;TZID=Australia/Sydney:20290817T094500
DTSTAMP:20260425T070914
CREATED:20241204T011816Z
LAST-MODIFIED:20250129T031139Z
UID:10093433-1881651600-1881654300@synergyhealthworks.com
SUMMARY:Matwork Core Class
DESCRIPTION:
URL:https://synergyhealthworks.com/event/matwork-core-class-16/2029-08-17/
LOCATION:Wagga Wagga | Mat Studio\, 221 Kincaid Street\, Wagga Wagga\, NSW\, 2650\, Australia
CATEGORIES:Matwork
END:VEVENT
BEGIN:VEVENT
DTSTART;TZID=Australia/Sydney:20290817T110000
DTEND;TZID=Australia/Sydney:20290817T114500
DTSTAMP:20260425T070914
CREATED:20241204T020337Z
LAST-MODIFIED:20251123T222821Z
UID:10103994-1881658800-1881661500@synergyhealthworks.com
SUMMARY:Mums and Bubs Reformer
DESCRIPTION:
URL:https://synergyhealthworks.com/event/mums-and-bubs-reformer-6/2029-08-17/
LOCATION:Wagga Wagga | Reformer Studio\, 221 Kincaid Street\, Wagga Wagga\, NSW\, 2650\, Australia
CATEGORIES:Mums and Bubs
END:VEVENT
BEGIN:VEVENT
DTSTART;TZID=Australia/Sydney:20290820T070000
DTEND;TZID=Australia/Sydney:20290820T074500
DTSTAMP:20260425T070914
CREATED:20250901T033635Z
LAST-MODIFIED:20250901T033635Z
UID:10125309-1881903600-1881906300@synergyhealthworks.com
SUMMARY:Clinical Reformer
DESCRIPTION:
URL:https://synergyhealthworks.com/event/clinical-reformer-62-2/2029-08-20/
LOCATION:Gundagai\, 114 Sheridan Street\, Gundagai\, NSW\, 2722\, Australia
CATEGORIES:Clinical Reformer
END:VEVENT
BEGIN:VEVENT
DTSTART;TZID=Australia/Sydney:20290820T093000
DTEND;TZID=Australia/Sydney:20290820T101500
DTSTAMP:20260425T070914
CREATED:20250901T033248Z
LAST-MODIFIED:20251212T230425Z
UID:10124469-1881912600-1881915300@synergyhealthworks.com
SUMMARY:Clinical Reformer
DESCRIPTION:
URL:https://synergyhealthworks.com/event/clinical-reformer-61/2029-08-20/
LOCATION:Gundagai\, 114 Sheridan Street\, Gundagai\, NSW\, 2722\, Australia
CATEGORIES:Clinical Reformer
END:VEVENT
BEGIN:VEVENT
DTSTART;TZID=Australia/Sydney:20290822T093000
DTEND;TZID=Australia/Sydney:20290822T101500
DTSTAMP:20260425T070914
CREATED:20241204T014501Z
LAST-MODIFIED:20250618T063327Z
UID:10119546-1882085400-1882088100@synergyhealthworks.com
SUMMARY:Clinical Reformer
DESCRIPTION:
URL:https://synergyhealthworks.com/event/clinical-reformer-47/2029-08-22/
LOCATION:Wagga Wagga | Reformer Studio\, 221 Kincaid Street\, Wagga Wagga\, NSW\, 2650\, Australia
CATEGORIES:Clinical Reformer
END:VEVENT
BEGIN:VEVENT
DTSTART;TZID=Australia/Sydney:20290822T161500
DTEND;TZID=Australia/Sydney:20290822T170000
DTSTAMP:20260425T070914
CREATED:20241204T014718Z
LAST-MODIFIED:20250129T031835Z
UID:10099979-1882109700-1882112400@synergyhealthworks.com
SUMMARY:Clinical Reformer
DESCRIPTION:
URL:https://synergyhealthworks.com/event/clinical-reformer-49/2029-08-22/
LOCATION:Wagga Wagga | Reformer Studio\, 221 Kincaid Street\, Wagga Wagga\, NSW\, 2650\, Australia
CATEGORIES:Clinical Reformer
END:VEVENT
BEGIN:VEVENT
DTSTART;TZID=Australia/Sydney:20290823T110000
DTEND;TZID=Australia/Sydney:20290823T114500
DTSTAMP:20260425T070914
CREATED:20241204T011425Z
LAST-MODIFIED:20251204T222714Z
UID:10128921-1882177200-1882179900@synergyhealthworks.com
SUMMARY:Mums and Bubs Core Class
DESCRIPTION:
URL:https://synergyhealthworks.com/event/mums-and-bubs-core-class-7/2029-08-23/
LOCATION:Wagga Wagga | Mat Studio\, 221 Kincaid Street\, Wagga Wagga\, NSW\, 2650\, Australia
CATEGORIES:Mums and Bubs
END:VEVENT
BEGIN:VEVENT
DTSTART;TZID=Australia/Sydney:20290823T130000
DTEND;TZID=Australia/Sydney:20290823T134500
DTSTAMP:20260425T070914
CREATED:20241204T011507Z
LAST-MODIFIED:20250129T031040Z
UID:10092681-1882184400-1882187100@synergyhealthworks.com
SUMMARY:Parkinson's Group Strength
DESCRIPTION:
URL:https://synergyhealthworks.com/event/parkinsons-group-strength-6/2029-08-23/
LOCATION:Wagga Wagga | Mat Studio\, 221 Kincaid Street\, Wagga Wagga\, NSW\, 2650\, Australia
CATEGORIES:Parkinson's Group Strength
END:VEVENT
END:VCALENDAR