BEGIN:VCALENDAR
VERSION:2.0
PRODID:-//Synergy Healthworks - ECPv6.15.20//NONSGML v1.0//EN
CALSCALE:GREGORIAN
METHOD:PUBLISH
X-WR-CALNAME:Synergy Healthworks
X-ORIGINAL-URL:https://synergyhealthworks.com
X-WR-CALDESC:Events for Synergy Healthworks
REFRESH-INTERVAL;VALUE=DURATION:PT1H
X-Robots-Tag:noindex
X-PUBLISHED-TTL:PT1H
BEGIN:VTIMEZONE
TZID:Australia/Sydney
BEGIN:STANDARD
TZOFFSETFROM:+1100
TZOFFSETTO:+1000
TZNAME:AEST
DTSTART:20280401T160000
END:STANDARD
BEGIN:DAYLIGHT
TZOFFSETFROM:+1000
TZOFFSETTO:+1100
TZNAME:AEDT
DTSTART:20280930T160000
END:DAYLIGHT
BEGIN:STANDARD
TZOFFSETFROM:+1100
TZOFFSETTO:+1000
TZNAME:AEST
DTSTART:20290331T160000
END:STANDARD
BEGIN:DAYLIGHT
TZOFFSETFROM:+1000
TZOFFSETTO:+1100
TZNAME:AEDT
DTSTART:20291006T160000
END:DAYLIGHT
BEGIN:STANDARD
TZOFFSETFROM:+1100
TZOFFSETTO:+1000
TZNAME:AEST
DTSTART:20300406T160000
END:STANDARD
BEGIN:DAYLIGHT
TZOFFSETFROM:+1000
TZOFFSETTO:+1100
TZNAME:AEDT
DTSTART:20301005T160000
END:DAYLIGHT
END:VTIMEZONE
BEGIN:VEVENT
DTSTART;TZID=Australia/Sydney:20290625T070000
DTEND;TZID=Australia/Sydney:20290625T074500
DTSTAMP:20260424T205154
CREATED:20250901T033635Z
LAST-MODIFIED:20250901T033635Z
UID:10125301-1877065200-1877067900@synergyhealthworks.com
SUMMARY:Clinical Reformer
DESCRIPTION:
URL:https://synergyhealthworks.com/event/clinical-reformer-62-2/2029-06-25/
LOCATION:Gundagai\, 114 Sheridan Street\, Gundagai\, NSW\, 2722\, Australia
CATEGORIES:Clinical Reformer
END:VEVENT
BEGIN:VEVENT
DTSTART;TZID=Australia/Sydney:20290625T093000
DTEND;TZID=Australia/Sydney:20290625T101500
DTSTAMP:20260424T205154
CREATED:20250901T033248Z
LAST-MODIFIED:20251212T230425Z
UID:10124461-1877074200-1877076900@synergyhealthworks.com
SUMMARY:Clinical Reformer
DESCRIPTION:
URL:https://synergyhealthworks.com/event/clinical-reformer-61/2029-06-25/
LOCATION:Gundagai\, 114 Sheridan Street\, Gundagai\, NSW\, 2722\, Australia
CATEGORIES:Clinical Reformer
END:VEVENT
BEGIN:VEVENT
DTSTART;TZID=Australia/Sydney:20290627T093000
DTEND;TZID=Australia/Sydney:20290627T101500
DTSTAMP:20260424T205154
CREATED:20241204T014501Z
LAST-MODIFIED:20250618T063327Z
UID:10119538-1877247000-1877249700@synergyhealthworks.com
SUMMARY:Clinical Reformer
DESCRIPTION:
URL:https://synergyhealthworks.com/event/clinical-reformer-47/2029-06-27/
LOCATION:Wagga Wagga | Reformer Studio\, 221 Kincaid Street\, Wagga Wagga\, NSW\, 2650\, Australia
CATEGORIES:Clinical Reformer
END:VEVENT
BEGIN:VEVENT
DTSTART;TZID=Australia/Sydney:20290627T161500
DTEND;TZID=Australia/Sydney:20290627T170000
DTSTAMP:20260424T205154
CREATED:20241204T014718Z
LAST-MODIFIED:20250129T031835Z
UID:10099971-1877271300-1877274000@synergyhealthworks.com
SUMMARY:Clinical Reformer
DESCRIPTION:
URL:https://synergyhealthworks.com/event/clinical-reformer-49/2029-06-27/
LOCATION:Wagga Wagga | Reformer Studio\, 221 Kincaid Street\, Wagga Wagga\, NSW\, 2650\, Australia
CATEGORIES:Clinical Reformer
END:VEVENT
BEGIN:VEVENT
DTSTART;TZID=Australia/Sydney:20290628T110000
DTEND;TZID=Australia/Sydney:20290628T114500
DTSTAMP:20260424T205154
CREATED:20241204T011425Z
LAST-MODIFIED:20251204T222714Z
UID:10128913-1877338800-1877341500@synergyhealthworks.com
SUMMARY:Mums and Bubs Core Class
DESCRIPTION:
URL:https://synergyhealthworks.com/event/mums-and-bubs-core-class-7/2029-06-28/
LOCATION:Wagga Wagga | Mat Studio\, 221 Kincaid Street\, Wagga Wagga\, NSW\, 2650\, Australia
CATEGORIES:Mums and Bubs
END:VEVENT
BEGIN:VEVENT
DTSTART;TZID=Australia/Sydney:20290628T130000
DTEND;TZID=Australia/Sydney:20290628T134500
DTSTAMP:20260424T205154
CREATED:20241204T011507Z
LAST-MODIFIED:20250129T031040Z
UID:10092673-1877346000-1877348700@synergyhealthworks.com
SUMMARY:Parkinson's Group Strength
DESCRIPTION:
URL:https://synergyhealthworks.com/event/parkinsons-group-strength-6/2029-06-28/
LOCATION:Wagga Wagga | Mat Studio\, 221 Kincaid Street\, Wagga Wagga\, NSW\, 2650\, Australia
CATEGORIES:Parkinson's Group Strength
END:VEVENT
BEGIN:VEVENT
DTSTART;TZID=Australia/Sydney:20290628T161500
DTEND;TZID=Australia/Sydney:20290628T170000
DTSTAMP:20260424T205154
CREATED:20241204T015701Z
LAST-MODIFIED:20250129T032111Z
UID:10102481-1877357700-1877360400@synergyhealthworks.com
SUMMARY:Clinical Reformer
DESCRIPTION:
URL:https://synergyhealthworks.com/event/clinical-reformer-55/2029-06-28/
LOCATION:Wagga Wagga | Reformer Studio\, 221 Kincaid Street\, Wagga Wagga\, NSW\, 2650\, Australia
CATEGORIES:Clinical Reformer
END:VEVENT
BEGIN:VEVENT
DTSTART;TZID=Australia/Sydney:20290628T171500
DTEND;TZID=Australia/Sydney:20290628T180000
DTSTAMP:20260424T205154
CREATED:20241204T015723Z
LAST-MODIFIED:20250129T032120Z
UID:10102732-1877361300-1877364000@synergyhealthworks.com
SUMMARY:Clinical Reformer
DESCRIPTION:
URL:https://synergyhealthworks.com/event/clinical-reformer-56/2029-06-28/
LOCATION:Wagga Wagga | Reformer Studio\, 221 Kincaid Street\, Wagga Wagga\, NSW\, 2650\, Australia
CATEGORIES:Clinical Reformer
END:VEVENT
BEGIN:VEVENT
DTSTART;TZID=Australia/Sydney:20290628T181500
DTEND;TZID=Australia/Sydney:20290628T190000
DTSTAMP:20260424T205154
CREATED:20241204T015828Z
LAST-MODIFIED:20250914T095556Z
UID:10102983-1877364900-1877367600@synergyhealthworks.com
SUMMARY:Clinical Reformer
DESCRIPTION:
URL:https://synergyhealthworks.com/event/clinical-reformer-57/2029-06-28/
LOCATION:Wagga Wagga | Reformer Studio\, 221 Kincaid Street\, Wagga Wagga\, NSW\, 2650\, Australia
CATEGORIES:Clinical Reformer
END:VEVENT
BEGIN:VEVENT
DTSTART;TZID=Australia/Sydney:20290629T070000
DTEND;TZID=Australia/Sydney:20290629T074500
DTSTAMP:20260424T205154
CREATED:20241204T020111Z
LAST-MODIFIED:20251123T222717Z
UID:10103485-1877410800-1877413500@synergyhealthworks.com
SUMMARY:Clinical Reformer
DESCRIPTION:
URL:https://synergyhealthworks.com/event/clinical-reformer-59/2029-06-29/
LOCATION:Wagga Wagga | Reformer Studio\, 221 Kincaid Street\, Wagga Wagga\, NSW\, 2650\, Australia
CATEGORIES:Clinical Reformer
END:VEVENT
BEGIN:VEVENT
DTSTART;TZID=Australia/Sydney:20290629T090000
DTEND;TZID=Australia/Sydney:20290629T094500
DTSTAMP:20260424T205154
CREATED:20241204T011816Z
LAST-MODIFIED:20250129T031139Z
UID:10093426-1877418000-1877420700@synergyhealthworks.com
SUMMARY:Matwork Core Class
DESCRIPTION:
URL:https://synergyhealthworks.com/event/matwork-core-class-16/2029-06-29/
LOCATION:Wagga Wagga | Mat Studio\, 221 Kincaid Street\, Wagga Wagga\, NSW\, 2650\, Australia
CATEGORIES:Matwork
END:VEVENT
BEGIN:VEVENT
DTSTART;TZID=Australia/Sydney:20290629T110000
DTEND;TZID=Australia/Sydney:20290629T114500
DTSTAMP:20260424T205154
CREATED:20241204T020337Z
LAST-MODIFIED:20251123T222821Z
UID:10103987-1877425200-1877427900@synergyhealthworks.com
SUMMARY:Mums and Bubs Reformer
DESCRIPTION:
URL:https://synergyhealthworks.com/event/mums-and-bubs-reformer-6/2029-06-29/
LOCATION:Wagga Wagga | Reformer Studio\, 221 Kincaid Street\, Wagga Wagga\, NSW\, 2650\, Australia
CATEGORIES:Mums and Bubs
END:VEVENT
BEGIN:VEVENT
DTSTART;TZID=Australia/Sydney:20290702T070000
DTEND;TZID=Australia/Sydney:20290702T074500
DTSTAMP:20260424T205154
CREATED:20250901T033635Z
LAST-MODIFIED:20250901T033635Z
UID:10125302-1877670000-1877672700@synergyhealthworks.com
SUMMARY:Clinical Reformer
DESCRIPTION:
URL:https://synergyhealthworks.com/event/clinical-reformer-62-2/2029-07-02/
LOCATION:Gundagai\, 114 Sheridan Street\, Gundagai\, NSW\, 2722\, Australia
CATEGORIES:Clinical Reformer
END:VEVENT
BEGIN:VEVENT
DTSTART;TZID=Australia/Sydney:20290702T093000
DTEND;TZID=Australia/Sydney:20290702T101500
DTSTAMP:20260424T205154
CREATED:20250901T033248Z
LAST-MODIFIED:20251212T230425Z
UID:10124462-1877679000-1877681700@synergyhealthworks.com
SUMMARY:Clinical Reformer
DESCRIPTION:
URL:https://synergyhealthworks.com/event/clinical-reformer-61/2029-07-02/
LOCATION:Gundagai\, 114 Sheridan Street\, Gundagai\, NSW\, 2722\, Australia
CATEGORIES:Clinical Reformer
END:VEVENT
BEGIN:VEVENT
DTSTART;TZID=Australia/Sydney:20290704T093000
DTEND;TZID=Australia/Sydney:20290704T101500
DTSTAMP:20260424T205154
CREATED:20241204T014501Z
LAST-MODIFIED:20250618T063327Z
UID:10119539-1877851800-1877854500@synergyhealthworks.com
SUMMARY:Clinical Reformer
DESCRIPTION:
URL:https://synergyhealthworks.com/event/clinical-reformer-47/2029-07-04/
LOCATION:Wagga Wagga | Reformer Studio\, 221 Kincaid Street\, Wagga Wagga\, NSW\, 2650\, Australia
CATEGORIES:Clinical Reformer
END:VEVENT
BEGIN:VEVENT
DTSTART;TZID=Australia/Sydney:20290704T161500
DTEND;TZID=Australia/Sydney:20290704T170000
DTSTAMP:20260424T205154
CREATED:20241204T014718Z
LAST-MODIFIED:20250129T031835Z
UID:10099972-1877876100-1877878800@synergyhealthworks.com
SUMMARY:Clinical Reformer
DESCRIPTION:
URL:https://synergyhealthworks.com/event/clinical-reformer-49/2029-07-04/
LOCATION:Wagga Wagga | Reformer Studio\, 221 Kincaid Street\, Wagga Wagga\, NSW\, 2650\, Australia
CATEGORIES:Clinical Reformer
END:VEVENT
BEGIN:VEVENT
DTSTART;TZID=Australia/Sydney:20290705T110000
DTEND;TZID=Australia/Sydney:20290705T114500
DTSTAMP:20260424T205154
CREATED:20241204T011425Z
LAST-MODIFIED:20251204T222714Z
UID:10128914-1877943600-1877946300@synergyhealthworks.com
SUMMARY:Mums and Bubs Core Class
DESCRIPTION:
URL:https://synergyhealthworks.com/event/mums-and-bubs-core-class-7/2029-07-05/
LOCATION:Wagga Wagga | Mat Studio\, 221 Kincaid Street\, Wagga Wagga\, NSW\, 2650\, Australia
CATEGORIES:Mums and Bubs
END:VEVENT
BEGIN:VEVENT
DTSTART;TZID=Australia/Sydney:20290705T130000
DTEND;TZID=Australia/Sydney:20290705T134500
DTSTAMP:20260424T205154
CREATED:20241204T011507Z
LAST-MODIFIED:20250129T031040Z
UID:10092674-1877950800-1877953500@synergyhealthworks.com
SUMMARY:Parkinson's Group Strength
DESCRIPTION:
URL:https://synergyhealthworks.com/event/parkinsons-group-strength-6/2029-07-05/
LOCATION:Wagga Wagga | Mat Studio\, 221 Kincaid Street\, Wagga Wagga\, NSW\, 2650\, Australia
CATEGORIES:Parkinson's Group Strength
END:VEVENT
BEGIN:VEVENT
DTSTART;TZID=Australia/Sydney:20290705T161500
DTEND;TZID=Australia/Sydney:20290705T170000
DTSTAMP:20260424T205154
CREATED:20241204T015701Z
LAST-MODIFIED:20250129T032111Z
UID:10102482-1877962500-1877965200@synergyhealthworks.com
SUMMARY:Clinical Reformer
DESCRIPTION:
URL:https://synergyhealthworks.com/event/clinical-reformer-55/2029-07-05/
LOCATION:Wagga Wagga | Reformer Studio\, 221 Kincaid Street\, Wagga Wagga\, NSW\, 2650\, Australia
CATEGORIES:Clinical Reformer
END:VEVENT
BEGIN:VEVENT
DTSTART;TZID=Australia/Sydney:20290705T171500
DTEND;TZID=Australia/Sydney:20290705T180000
DTSTAMP:20260424T205154
CREATED:20241204T015723Z
LAST-MODIFIED:20250129T032120Z
UID:10102733-1877966100-1877968800@synergyhealthworks.com
SUMMARY:Clinical Reformer
DESCRIPTION:
URL:https://synergyhealthworks.com/event/clinical-reformer-56/2029-07-05/
LOCATION:Wagga Wagga | Reformer Studio\, 221 Kincaid Street\, Wagga Wagga\, NSW\, 2650\, Australia
CATEGORIES:Clinical Reformer
END:VEVENT
BEGIN:VEVENT
DTSTART;TZID=Australia/Sydney:20290705T181500
DTEND;TZID=Australia/Sydney:20290705T190000
DTSTAMP:20260424T205154
CREATED:20241204T015828Z
LAST-MODIFIED:20250914T095556Z
UID:10102984-1877969700-1877972400@synergyhealthworks.com
SUMMARY:Clinical Reformer
DESCRIPTION:
URL:https://synergyhealthworks.com/event/clinical-reformer-57/2029-07-05/
LOCATION:Wagga Wagga | Reformer Studio\, 221 Kincaid Street\, Wagga Wagga\, NSW\, 2650\, Australia
CATEGORIES:Clinical Reformer
END:VEVENT
BEGIN:VEVENT
DTSTART;TZID=Australia/Sydney:20290706T070000
DTEND;TZID=Australia/Sydney:20290706T074500
DTSTAMP:20260424T205154
CREATED:20241204T020111Z
LAST-MODIFIED:20251123T222717Z
UID:10103486-1878015600-1878018300@synergyhealthworks.com
SUMMARY:Clinical Reformer
DESCRIPTION:
URL:https://synergyhealthworks.com/event/clinical-reformer-59/2029-07-06/
LOCATION:Wagga Wagga | Reformer Studio\, 221 Kincaid Street\, Wagga Wagga\, NSW\, 2650\, Australia
CATEGORIES:Clinical Reformer
END:VEVENT
BEGIN:VEVENT
DTSTART;TZID=Australia/Sydney:20290706T090000
DTEND;TZID=Australia/Sydney:20290706T094500
DTSTAMP:20260424T205154
CREATED:20241204T011816Z
LAST-MODIFIED:20250129T031139Z
UID:10093427-1878022800-1878025500@synergyhealthworks.com
SUMMARY:Matwork Core Class
DESCRIPTION:
URL:https://synergyhealthworks.com/event/matwork-core-class-16/2029-07-06/
LOCATION:Wagga Wagga | Mat Studio\, 221 Kincaid Street\, Wagga Wagga\, NSW\, 2650\, Australia
CATEGORIES:Matwork
END:VEVENT
BEGIN:VEVENT
DTSTART;TZID=Australia/Sydney:20290706T110000
DTEND;TZID=Australia/Sydney:20290706T114500
DTSTAMP:20260424T205154
CREATED:20241204T020337Z
LAST-MODIFIED:20251123T222821Z
UID:10103988-1878030000-1878032700@synergyhealthworks.com
SUMMARY:Mums and Bubs Reformer
DESCRIPTION:
URL:https://synergyhealthworks.com/event/mums-and-bubs-reformer-6/2029-07-06/
LOCATION:Wagga Wagga | Reformer Studio\, 221 Kincaid Street\, Wagga Wagga\, NSW\, 2650\, Australia
CATEGORIES:Mums and Bubs
END:VEVENT
BEGIN:VEVENT
DTSTART;TZID=Australia/Sydney:20290709T070000
DTEND;TZID=Australia/Sydney:20290709T074500
DTSTAMP:20260424T205154
CREATED:20250901T033635Z
LAST-MODIFIED:20250901T033635Z
UID:10125303-1878274800-1878277500@synergyhealthworks.com
SUMMARY:Clinical Reformer
DESCRIPTION:
URL:https://synergyhealthworks.com/event/clinical-reformer-62-2/2029-07-09/
LOCATION:Gundagai\, 114 Sheridan Street\, Gundagai\, NSW\, 2722\, Australia
CATEGORIES:Clinical Reformer
END:VEVENT
BEGIN:VEVENT
DTSTART;TZID=Australia/Sydney:20290709T093000
DTEND;TZID=Australia/Sydney:20290709T101500
DTSTAMP:20260424T205154
CREATED:20250901T033248Z
LAST-MODIFIED:20251212T230425Z
UID:10124463-1878283800-1878286500@synergyhealthworks.com
SUMMARY:Clinical Reformer
DESCRIPTION:
URL:https://synergyhealthworks.com/event/clinical-reformer-61/2029-07-09/
LOCATION:Gundagai\, 114 Sheridan Street\, Gundagai\, NSW\, 2722\, Australia
CATEGORIES:Clinical Reformer
END:VEVENT
BEGIN:VEVENT
DTSTART;TZID=Australia/Sydney:20290711T093000
DTEND;TZID=Australia/Sydney:20290711T101500
DTSTAMP:20260424T205154
CREATED:20241204T014501Z
LAST-MODIFIED:20250618T063327Z
UID:10119540-1878456600-1878459300@synergyhealthworks.com
SUMMARY:Clinical Reformer
DESCRIPTION:
URL:https://synergyhealthworks.com/event/clinical-reformer-47/2029-07-11/
LOCATION:Wagga Wagga | Reformer Studio\, 221 Kincaid Street\, Wagga Wagga\, NSW\, 2650\, Australia
CATEGORIES:Clinical Reformer
END:VEVENT
BEGIN:VEVENT
DTSTART;TZID=Australia/Sydney:20290711T161500
DTEND;TZID=Australia/Sydney:20290711T170000
DTSTAMP:20260424T205154
CREATED:20241204T014718Z
LAST-MODIFIED:20250129T031835Z
UID:10099973-1878480900-1878483600@synergyhealthworks.com
SUMMARY:Clinical Reformer
DESCRIPTION:
URL:https://synergyhealthworks.com/event/clinical-reformer-49/2029-07-11/
LOCATION:Wagga Wagga | Reformer Studio\, 221 Kincaid Street\, Wagga Wagga\, NSW\, 2650\, Australia
CATEGORIES:Clinical Reformer
END:VEVENT
BEGIN:VEVENT
DTSTART;TZID=Australia/Sydney:20290712T110000
DTEND;TZID=Australia/Sydney:20290712T114500
DTSTAMP:20260424T205154
CREATED:20241204T011425Z
LAST-MODIFIED:20251204T222714Z
UID:10128915-1878548400-1878551100@synergyhealthworks.com
SUMMARY:Mums and Bubs Core Class
DESCRIPTION:
URL:https://synergyhealthworks.com/event/mums-and-bubs-core-class-7/2029-07-12/
LOCATION:Wagga Wagga | Mat Studio\, 221 Kincaid Street\, Wagga Wagga\, NSW\, 2650\, Australia
CATEGORIES:Mums and Bubs
END:VEVENT
BEGIN:VEVENT
DTSTART;TZID=Australia/Sydney:20290712T130000
DTEND;TZID=Australia/Sydney:20290712T134500
DTSTAMP:20260424T205154
CREATED:20241204T011507Z
LAST-MODIFIED:20250129T031040Z
UID:10092675-1878555600-1878558300@synergyhealthworks.com
SUMMARY:Parkinson's Group Strength
DESCRIPTION:
URL:https://synergyhealthworks.com/event/parkinsons-group-strength-6/2029-07-12/
LOCATION:Wagga Wagga | Mat Studio\, 221 Kincaid Street\, Wagga Wagga\, NSW\, 2650\, Australia
CATEGORIES:Parkinson's Group Strength
END:VEVENT
END:VCALENDAR