BEGIN:VCALENDAR
VERSION:2.0
PRODID:-//Synergy Healthworks - ECPv6.15.20//NONSGML v1.0//EN
CALSCALE:GREGORIAN
METHOD:PUBLISH
X-WR-CALNAME:Synergy Healthworks
X-ORIGINAL-URL:https://synergyhealthworks.com
X-WR-CALDESC:Events for Synergy Healthworks
REFRESH-INTERVAL;VALUE=DURATION:PT1H
X-Robots-Tag:noindex
X-PUBLISHED-TTL:PT1H
BEGIN:VTIMEZONE
TZID:Australia/Sydney
BEGIN:STANDARD
TZOFFSETFROM:+1100
TZOFFSETTO:+1000
TZNAME:AEST
DTSTART:20280401T160000
END:STANDARD
BEGIN:DAYLIGHT
TZOFFSETFROM:+1000
TZOFFSETTO:+1100
TZNAME:AEDT
DTSTART:20280930T160000
END:DAYLIGHT
BEGIN:STANDARD
TZOFFSETFROM:+1100
TZOFFSETTO:+1000
TZNAME:AEST
DTSTART:20290331T160000
END:STANDARD
BEGIN:DAYLIGHT
TZOFFSETFROM:+1000
TZOFFSETTO:+1100
TZNAME:AEDT
DTSTART:20291006T160000
END:DAYLIGHT
BEGIN:STANDARD
TZOFFSETFROM:+1100
TZOFFSETTO:+1000
TZNAME:AEST
DTSTART:20300406T160000
END:STANDARD
BEGIN:DAYLIGHT
TZOFFSETFROM:+1000
TZOFFSETTO:+1100
TZNAME:AEDT
DTSTART:20301005T160000
END:DAYLIGHT
END:VTIMEZONE
BEGIN:VEVENT
DTSTART;TZID=Australia/Sydney:20290604T070000
DTEND;TZID=Australia/Sydney:20290604T074500
DTSTAMP:20260424T155007
CREATED:20250901T033635Z
LAST-MODIFIED:20250901T033635Z
UID:10125298-1875250800-1875253500@synergyhealthworks.com
SUMMARY:Clinical Reformer
DESCRIPTION:
URL:https://synergyhealthworks.com/event/clinical-reformer-62-2/2029-06-04/
LOCATION:Gundagai\, 114 Sheridan Street\, Gundagai\, NSW\, 2722\, Australia
CATEGORIES:Clinical Reformer
END:VEVENT
BEGIN:VEVENT
DTSTART;TZID=Australia/Sydney:20290604T093000
DTEND;TZID=Australia/Sydney:20290604T101500
DTSTAMP:20260424T155007
CREATED:20250901T033248Z
LAST-MODIFIED:20251212T230425Z
UID:10124458-1875259800-1875262500@synergyhealthworks.com
SUMMARY:Clinical Reformer
DESCRIPTION:
URL:https://synergyhealthworks.com/event/clinical-reformer-61/2029-06-04/
LOCATION:Gundagai\, 114 Sheridan Street\, Gundagai\, NSW\, 2722\, Australia
CATEGORIES:Clinical Reformer
END:VEVENT
BEGIN:VEVENT
DTSTART;TZID=Australia/Sydney:20290606T093000
DTEND;TZID=Australia/Sydney:20290606T101500
DTSTAMP:20260424T155007
CREATED:20241204T014501Z
LAST-MODIFIED:20250618T063327Z
UID:10119535-1875432600-1875435300@synergyhealthworks.com
SUMMARY:Clinical Reformer
DESCRIPTION:
URL:https://synergyhealthworks.com/event/clinical-reformer-47/2029-06-06/
LOCATION:Wagga Wagga | Reformer Studio\, 221 Kincaid Street\, Wagga Wagga\, NSW\, 2650\, Australia
CATEGORIES:Clinical Reformer
END:VEVENT
BEGIN:VEVENT
DTSTART;TZID=Australia/Sydney:20290606T161500
DTEND;TZID=Australia/Sydney:20290606T170000
DTSTAMP:20260424T155007
CREATED:20241204T014718Z
LAST-MODIFIED:20250129T031835Z
UID:10099968-1875456900-1875459600@synergyhealthworks.com
SUMMARY:Clinical Reformer
DESCRIPTION:
URL:https://synergyhealthworks.com/event/clinical-reformer-49/2029-06-06/
LOCATION:Wagga Wagga | Reformer Studio\, 221 Kincaid Street\, Wagga Wagga\, NSW\, 2650\, Australia
CATEGORIES:Clinical Reformer
END:VEVENT
BEGIN:VEVENT
DTSTART;TZID=Australia/Sydney:20290607T110000
DTEND;TZID=Australia/Sydney:20290607T114500
DTSTAMP:20260424T155007
CREATED:20241204T011425Z
LAST-MODIFIED:20251204T222714Z
UID:10128910-1875524400-1875527100@synergyhealthworks.com
SUMMARY:Mums and Bubs Core Class
DESCRIPTION:
URL:https://synergyhealthworks.com/event/mums-and-bubs-core-class-7/2029-06-07/
LOCATION:Wagga Wagga | Mat Studio\, 221 Kincaid Street\, Wagga Wagga\, NSW\, 2650\, Australia
CATEGORIES:Mums and Bubs
END:VEVENT
BEGIN:VEVENT
DTSTART;TZID=Australia/Sydney:20290607T130000
DTEND;TZID=Australia/Sydney:20290607T134500
DTSTAMP:20260424T155007
CREATED:20241204T011507Z
LAST-MODIFIED:20250129T031040Z
UID:10092670-1875531600-1875534300@synergyhealthworks.com
SUMMARY:Parkinson's Group Strength
DESCRIPTION:
URL:https://synergyhealthworks.com/event/parkinsons-group-strength-6/2029-06-07/
LOCATION:Wagga Wagga | Mat Studio\, 221 Kincaid Street\, Wagga Wagga\, NSW\, 2650\, Australia
CATEGORIES:Parkinson's Group Strength
END:VEVENT
BEGIN:VEVENT
DTSTART;TZID=Australia/Sydney:20290607T161500
DTEND;TZID=Australia/Sydney:20290607T170000
DTSTAMP:20260424T155007
CREATED:20241204T015701Z
LAST-MODIFIED:20250129T032111Z
UID:10102478-1875543300-1875546000@synergyhealthworks.com
SUMMARY:Clinical Reformer
DESCRIPTION:
URL:https://synergyhealthworks.com/event/clinical-reformer-55/2029-06-07/
LOCATION:Wagga Wagga | Reformer Studio\, 221 Kincaid Street\, Wagga Wagga\, NSW\, 2650\, Australia
CATEGORIES:Clinical Reformer
END:VEVENT
BEGIN:VEVENT
DTSTART;TZID=Australia/Sydney:20290607T171500
DTEND;TZID=Australia/Sydney:20290607T180000
DTSTAMP:20260424T155007
CREATED:20241204T015723Z
LAST-MODIFIED:20250129T032120Z
UID:10102729-1875546900-1875549600@synergyhealthworks.com
SUMMARY:Clinical Reformer
DESCRIPTION:
URL:https://synergyhealthworks.com/event/clinical-reformer-56/2029-06-07/
LOCATION:Wagga Wagga | Reformer Studio\, 221 Kincaid Street\, Wagga Wagga\, NSW\, 2650\, Australia
CATEGORIES:Clinical Reformer
END:VEVENT
BEGIN:VEVENT
DTSTART;TZID=Australia/Sydney:20290607T181500
DTEND;TZID=Australia/Sydney:20290607T190000
DTSTAMP:20260424T155007
CREATED:20241204T015828Z
LAST-MODIFIED:20250914T095556Z
UID:10102980-1875550500-1875553200@synergyhealthworks.com
SUMMARY:Clinical Reformer
DESCRIPTION:
URL:https://synergyhealthworks.com/event/clinical-reformer-57/2029-06-07/
LOCATION:Wagga Wagga | Reformer Studio\, 221 Kincaid Street\, Wagga Wagga\, NSW\, 2650\, Australia
CATEGORIES:Clinical Reformer
END:VEVENT
BEGIN:VEVENT
DTSTART;TZID=Australia/Sydney:20290608T070000
DTEND;TZID=Australia/Sydney:20290608T074500
DTSTAMP:20260424T155007
CREATED:20241204T020111Z
LAST-MODIFIED:20251123T222717Z
UID:10103482-1875596400-1875599100@synergyhealthworks.com
SUMMARY:Clinical Reformer
DESCRIPTION:
URL:https://synergyhealthworks.com/event/clinical-reformer-59/2029-06-08/
LOCATION:Wagga Wagga | Reformer Studio\, 221 Kincaid Street\, Wagga Wagga\, NSW\, 2650\, Australia
CATEGORIES:Clinical Reformer
END:VEVENT
BEGIN:VEVENT
DTSTART;TZID=Australia/Sydney:20290608T090000
DTEND;TZID=Australia/Sydney:20290608T094500
DTSTAMP:20260424T155007
CREATED:20241204T011816Z
LAST-MODIFIED:20250129T031139Z
UID:10093423-1875603600-1875606300@synergyhealthworks.com
SUMMARY:Matwork Core Class
DESCRIPTION:
URL:https://synergyhealthworks.com/event/matwork-core-class-16/2029-06-08/
LOCATION:Wagga Wagga | Mat Studio\, 221 Kincaid Street\, Wagga Wagga\, NSW\, 2650\, Australia
CATEGORIES:Matwork
END:VEVENT
BEGIN:VEVENT
DTSTART;TZID=Australia/Sydney:20290608T110000
DTEND;TZID=Australia/Sydney:20290608T114500
DTSTAMP:20260424T155007
CREATED:20241204T020337Z
LAST-MODIFIED:20251123T222821Z
UID:10103984-1875610800-1875613500@synergyhealthworks.com
SUMMARY:Mums and Bubs Reformer
DESCRIPTION:
URL:https://synergyhealthworks.com/event/mums-and-bubs-reformer-6/2029-06-08/
LOCATION:Wagga Wagga | Reformer Studio\, 221 Kincaid Street\, Wagga Wagga\, NSW\, 2650\, Australia
CATEGORIES:Mums and Bubs
END:VEVENT
BEGIN:VEVENT
DTSTART;TZID=Australia/Sydney:20290611T070000
DTEND;TZID=Australia/Sydney:20290611T074500
DTSTAMP:20260424T155007
CREATED:20250901T033635Z
LAST-MODIFIED:20250901T033635Z
UID:10125299-1875855600-1875858300@synergyhealthworks.com
SUMMARY:Clinical Reformer
DESCRIPTION:
URL:https://synergyhealthworks.com/event/clinical-reformer-62-2/2029-06-11/
LOCATION:Gundagai\, 114 Sheridan Street\, Gundagai\, NSW\, 2722\, Australia
CATEGORIES:Clinical Reformer
END:VEVENT
BEGIN:VEVENT
DTSTART;TZID=Australia/Sydney:20290611T093000
DTEND;TZID=Australia/Sydney:20290611T101500
DTSTAMP:20260424T155007
CREATED:20250901T033248Z
LAST-MODIFIED:20251212T230425Z
UID:10124459-1875864600-1875867300@synergyhealthworks.com
SUMMARY:Clinical Reformer
DESCRIPTION:
URL:https://synergyhealthworks.com/event/clinical-reformer-61/2029-06-11/
LOCATION:Gundagai\, 114 Sheridan Street\, Gundagai\, NSW\, 2722\, Australia
CATEGORIES:Clinical Reformer
END:VEVENT
BEGIN:VEVENT
DTSTART;TZID=Australia/Sydney:20290613T093000
DTEND;TZID=Australia/Sydney:20290613T101500
DTSTAMP:20260424T155007
CREATED:20241204T014501Z
LAST-MODIFIED:20250618T063327Z
UID:10119536-1876037400-1876040100@synergyhealthworks.com
SUMMARY:Clinical Reformer
DESCRIPTION:
URL:https://synergyhealthworks.com/event/clinical-reformer-47/2029-06-13/
LOCATION:Wagga Wagga | Reformer Studio\, 221 Kincaid Street\, Wagga Wagga\, NSW\, 2650\, Australia
CATEGORIES:Clinical Reformer
END:VEVENT
BEGIN:VEVENT
DTSTART;TZID=Australia/Sydney:20290613T161500
DTEND;TZID=Australia/Sydney:20290613T170000
DTSTAMP:20260424T155007
CREATED:20241204T014718Z
LAST-MODIFIED:20250129T031835Z
UID:10099969-1876061700-1876064400@synergyhealthworks.com
SUMMARY:Clinical Reformer
DESCRIPTION:
URL:https://synergyhealthworks.com/event/clinical-reformer-49/2029-06-13/
LOCATION:Wagga Wagga | Reformer Studio\, 221 Kincaid Street\, Wagga Wagga\, NSW\, 2650\, Australia
CATEGORIES:Clinical Reformer
END:VEVENT
BEGIN:VEVENT
DTSTART;TZID=Australia/Sydney:20290614T110000
DTEND;TZID=Australia/Sydney:20290614T114500
DTSTAMP:20260424T155007
CREATED:20241204T011425Z
LAST-MODIFIED:20251204T222714Z
UID:10128911-1876129200-1876131900@synergyhealthworks.com
SUMMARY:Mums and Bubs Core Class
DESCRIPTION:
URL:https://synergyhealthworks.com/event/mums-and-bubs-core-class-7/2029-06-14/
LOCATION:Wagga Wagga | Mat Studio\, 221 Kincaid Street\, Wagga Wagga\, NSW\, 2650\, Australia
CATEGORIES:Mums and Bubs
END:VEVENT
BEGIN:VEVENT
DTSTART;TZID=Australia/Sydney:20290614T130000
DTEND;TZID=Australia/Sydney:20290614T134500
DTSTAMP:20260424T155007
CREATED:20241204T011507Z
LAST-MODIFIED:20250129T031040Z
UID:10092671-1876136400-1876139100@synergyhealthworks.com
SUMMARY:Parkinson's Group Strength
DESCRIPTION:
URL:https://synergyhealthworks.com/event/parkinsons-group-strength-6/2029-06-14/
LOCATION:Wagga Wagga | Mat Studio\, 221 Kincaid Street\, Wagga Wagga\, NSW\, 2650\, Australia
CATEGORIES:Parkinson's Group Strength
END:VEVENT
BEGIN:VEVENT
DTSTART;TZID=Australia/Sydney:20290614T161500
DTEND;TZID=Australia/Sydney:20290614T170000
DTSTAMP:20260424T155007
CREATED:20241204T015701Z
LAST-MODIFIED:20250129T032111Z
UID:10102479-1876148100-1876150800@synergyhealthworks.com
SUMMARY:Clinical Reformer
DESCRIPTION:
URL:https://synergyhealthworks.com/event/clinical-reformer-55/2029-06-14/
LOCATION:Wagga Wagga | Reformer Studio\, 221 Kincaid Street\, Wagga Wagga\, NSW\, 2650\, Australia
CATEGORIES:Clinical Reformer
END:VEVENT
BEGIN:VEVENT
DTSTART;TZID=Australia/Sydney:20290614T171500
DTEND;TZID=Australia/Sydney:20290614T180000
DTSTAMP:20260424T155007
CREATED:20241204T015723Z
LAST-MODIFIED:20250129T032120Z
UID:10102730-1876151700-1876154400@synergyhealthworks.com
SUMMARY:Clinical Reformer
DESCRIPTION:
URL:https://synergyhealthworks.com/event/clinical-reformer-56/2029-06-14/
LOCATION:Wagga Wagga | Reformer Studio\, 221 Kincaid Street\, Wagga Wagga\, NSW\, 2650\, Australia
CATEGORIES:Clinical Reformer
END:VEVENT
BEGIN:VEVENT
DTSTART;TZID=Australia/Sydney:20290614T181500
DTEND;TZID=Australia/Sydney:20290614T190000
DTSTAMP:20260424T155007
CREATED:20241204T015828Z
LAST-MODIFIED:20250914T095556Z
UID:10102981-1876155300-1876158000@synergyhealthworks.com
SUMMARY:Clinical Reformer
DESCRIPTION:
URL:https://synergyhealthworks.com/event/clinical-reformer-57/2029-06-14/
LOCATION:Wagga Wagga | Reformer Studio\, 221 Kincaid Street\, Wagga Wagga\, NSW\, 2650\, Australia
CATEGORIES:Clinical Reformer
END:VEVENT
BEGIN:VEVENT
DTSTART;TZID=Australia/Sydney:20290615T070000
DTEND;TZID=Australia/Sydney:20290615T074500
DTSTAMP:20260424T155007
CREATED:20241204T020111Z
LAST-MODIFIED:20251123T222717Z
UID:10103483-1876201200-1876203900@synergyhealthworks.com
SUMMARY:Clinical Reformer
DESCRIPTION:
URL:https://synergyhealthworks.com/event/clinical-reformer-59/2029-06-15/
LOCATION:Wagga Wagga | Reformer Studio\, 221 Kincaid Street\, Wagga Wagga\, NSW\, 2650\, Australia
CATEGORIES:Clinical Reformer
END:VEVENT
BEGIN:VEVENT
DTSTART;TZID=Australia/Sydney:20290615T090000
DTEND;TZID=Australia/Sydney:20290615T094500
DTSTAMP:20260424T155007
CREATED:20241204T011816Z
LAST-MODIFIED:20250129T031139Z
UID:10093424-1876208400-1876211100@synergyhealthworks.com
SUMMARY:Matwork Core Class
DESCRIPTION:
URL:https://synergyhealthworks.com/event/matwork-core-class-16/2029-06-15/
LOCATION:Wagga Wagga | Mat Studio\, 221 Kincaid Street\, Wagga Wagga\, NSW\, 2650\, Australia
CATEGORIES:Matwork
END:VEVENT
BEGIN:VEVENT
DTSTART;TZID=Australia/Sydney:20290615T110000
DTEND;TZID=Australia/Sydney:20290615T114500
DTSTAMP:20260424T155007
CREATED:20241204T020337Z
LAST-MODIFIED:20251123T222821Z
UID:10103985-1876215600-1876218300@synergyhealthworks.com
SUMMARY:Mums and Bubs Reformer
DESCRIPTION:
URL:https://synergyhealthworks.com/event/mums-and-bubs-reformer-6/2029-06-15/
LOCATION:Wagga Wagga | Reformer Studio\, 221 Kincaid Street\, Wagga Wagga\, NSW\, 2650\, Australia
CATEGORIES:Mums and Bubs
END:VEVENT
BEGIN:VEVENT
DTSTART;TZID=Australia/Sydney:20290618T070000
DTEND;TZID=Australia/Sydney:20290618T074500
DTSTAMP:20260424T155007
CREATED:20250901T033635Z
LAST-MODIFIED:20250901T033635Z
UID:10125300-1876460400-1876463100@synergyhealthworks.com
SUMMARY:Clinical Reformer
DESCRIPTION:
URL:https://synergyhealthworks.com/event/clinical-reformer-62-2/2029-06-18/
LOCATION:Gundagai\, 114 Sheridan Street\, Gundagai\, NSW\, 2722\, Australia
CATEGORIES:Clinical Reformer
END:VEVENT
BEGIN:VEVENT
DTSTART;TZID=Australia/Sydney:20290618T093000
DTEND;TZID=Australia/Sydney:20290618T101500
DTSTAMP:20260424T155007
CREATED:20250901T033248Z
LAST-MODIFIED:20251212T230425Z
UID:10124460-1876469400-1876472100@synergyhealthworks.com
SUMMARY:Clinical Reformer
DESCRIPTION:
URL:https://synergyhealthworks.com/event/clinical-reformer-61/2029-06-18/
LOCATION:Gundagai\, 114 Sheridan Street\, Gundagai\, NSW\, 2722\, Australia
CATEGORIES:Clinical Reformer
END:VEVENT
BEGIN:VEVENT
DTSTART;TZID=Australia/Sydney:20290620T093000
DTEND;TZID=Australia/Sydney:20290620T101500
DTSTAMP:20260424T155007
CREATED:20241204T014501Z
LAST-MODIFIED:20250618T063327Z
UID:10119537-1876642200-1876644900@synergyhealthworks.com
SUMMARY:Clinical Reformer
DESCRIPTION:
URL:https://synergyhealthworks.com/event/clinical-reformer-47/2029-06-20/
LOCATION:Wagga Wagga | Reformer Studio\, 221 Kincaid Street\, Wagga Wagga\, NSW\, 2650\, Australia
CATEGORIES:Clinical Reformer
END:VEVENT
BEGIN:VEVENT
DTSTART;TZID=Australia/Sydney:20290620T161500
DTEND;TZID=Australia/Sydney:20290620T170000
DTSTAMP:20260424T155007
CREATED:20241204T014718Z
LAST-MODIFIED:20250129T031835Z
UID:10099970-1876666500-1876669200@synergyhealthworks.com
SUMMARY:Clinical Reformer
DESCRIPTION:
URL:https://synergyhealthworks.com/event/clinical-reformer-49/2029-06-20/
LOCATION:Wagga Wagga | Reformer Studio\, 221 Kincaid Street\, Wagga Wagga\, NSW\, 2650\, Australia
CATEGORIES:Clinical Reformer
END:VEVENT
BEGIN:VEVENT
DTSTART;TZID=Australia/Sydney:20290621T110000
DTEND;TZID=Australia/Sydney:20290621T114500
DTSTAMP:20260424T155007
CREATED:20241204T011425Z
LAST-MODIFIED:20251204T222714Z
UID:10128912-1876734000-1876736700@synergyhealthworks.com
SUMMARY:Mums and Bubs Core Class
DESCRIPTION:
URL:https://synergyhealthworks.com/event/mums-and-bubs-core-class-7/2029-06-21/
LOCATION:Wagga Wagga | Mat Studio\, 221 Kincaid Street\, Wagga Wagga\, NSW\, 2650\, Australia
CATEGORIES:Mums and Bubs
END:VEVENT
BEGIN:VEVENT
DTSTART;TZID=Australia/Sydney:20290621T130000
DTEND;TZID=Australia/Sydney:20290621T134500
DTSTAMP:20260424T155007
CREATED:20241204T011507Z
LAST-MODIFIED:20250129T031040Z
UID:10092672-1876741200-1876743900@synergyhealthworks.com
SUMMARY:Parkinson's Group Strength
DESCRIPTION:
URL:https://synergyhealthworks.com/event/parkinsons-group-strength-6/2029-06-21/
LOCATION:Wagga Wagga | Mat Studio\, 221 Kincaid Street\, Wagga Wagga\, NSW\, 2650\, Australia
CATEGORIES:Parkinson's Group Strength
END:VEVENT
END:VCALENDAR