BEGIN:VCALENDAR
VERSION:2.0
PRODID:-//Synergy Healthworks - ECPv6.15.20//NONSGML v1.0//EN
CALSCALE:GREGORIAN
METHOD:PUBLISH
X-ORIGINAL-URL:https://synergyhealthworks.com
X-WR-CALDESC:Events for Synergy Healthworks
REFRESH-INTERVAL;VALUE=DURATION:PT1H
X-Robots-Tag:noindex
X-PUBLISHED-TTL:PT1H
BEGIN:VTIMEZONE
TZID:Australia/Sydney
BEGIN:STANDARD
TZOFFSETFROM:+1100
TZOFFSETTO:+1000
TZNAME:AEST
DTSTART:20280401T160000
END:STANDARD
BEGIN:DAYLIGHT
TZOFFSETFROM:+1000
TZOFFSETTO:+1100
TZNAME:AEDT
DTSTART:20280930T160000
END:DAYLIGHT
BEGIN:STANDARD
TZOFFSETFROM:+1100
TZOFFSETTO:+1000
TZNAME:AEST
DTSTART:20290331T160000
END:STANDARD
BEGIN:DAYLIGHT
TZOFFSETFROM:+1000
TZOFFSETTO:+1100
TZNAME:AEDT
DTSTART:20291006T160000
END:DAYLIGHT
BEGIN:STANDARD
TZOFFSETFROM:+1100
TZOFFSETTO:+1000
TZNAME:AEST
DTSTART:20300406T160000
END:STANDARD
BEGIN:DAYLIGHT
TZOFFSETFROM:+1000
TZOFFSETTO:+1100
TZNAME:AEDT
DTSTART:20301005T160000
END:DAYLIGHT
END:VTIMEZONE
BEGIN:VEVENT
DTSTART;TZID=Australia/Sydney:20290511T110000
DTEND;TZID=Australia/Sydney:20290511T114500
DTSTAMP:20260424T102906
CREATED:20241204T020337Z
LAST-MODIFIED:20251123T222821Z
UID:10103980-1873191600-1873194300@synergyhealthworks.com
SUMMARY:Mums and Bubs Reformer
DESCRIPTION:
URL:https://synergyhealthworks.com/event/mums-and-bubs-reformer-6/2029-05-11/
LOCATION:Wagga Wagga | Reformer Studio\, 221 Kincaid Street\, Wagga Wagga\, NSW\, 2650\, Australia
CATEGORIES:Mums and Bubs
END:VEVENT
BEGIN:VEVENT
DTSTART;TZID=Australia/Sydney:20290514T070000
DTEND;TZID=Australia/Sydney:20290514T074500
DTSTAMP:20260424T102906
CREATED:20250901T033635Z
LAST-MODIFIED:20250901T033635Z
UID:10125295-1873436400-1873439100@synergyhealthworks.com
SUMMARY:Clinical Reformer
DESCRIPTION:
URL:https://synergyhealthworks.com/event/clinical-reformer-62-2/2029-05-14/
LOCATION:Gundagai\, 114 Sheridan Street\, Gundagai\, NSW\, 2722\, Australia
CATEGORIES:Clinical Reformer
END:VEVENT
BEGIN:VEVENT
DTSTART;TZID=Australia/Sydney:20290514T093000
DTEND;TZID=Australia/Sydney:20290514T101500
DTSTAMP:20260424T102906
CREATED:20250901T033248Z
LAST-MODIFIED:20251212T230425Z
UID:10124455-1873445400-1873448100@synergyhealthworks.com
SUMMARY:Clinical Reformer
DESCRIPTION:
URL:https://synergyhealthworks.com/event/clinical-reformer-61/2029-05-14/
LOCATION:Gundagai\, 114 Sheridan Street\, Gundagai\, NSW\, 2722\, Australia
CATEGORIES:Clinical Reformer
END:VEVENT
BEGIN:VEVENT
DTSTART;TZID=Australia/Sydney:20290516T093000
DTEND;TZID=Australia/Sydney:20290516T101500
DTSTAMP:20260424T102906
CREATED:20241204T014501Z
LAST-MODIFIED:20250618T063327Z
UID:10119532-1873618200-1873620900@synergyhealthworks.com
SUMMARY:Clinical Reformer
DESCRIPTION:
URL:https://synergyhealthworks.com/event/clinical-reformer-47/2029-05-16/
LOCATION:Wagga Wagga | Reformer Studio\, 221 Kincaid Street\, Wagga Wagga\, NSW\, 2650\, Australia
CATEGORIES:Clinical Reformer
END:VEVENT
BEGIN:VEVENT
DTSTART;TZID=Australia/Sydney:20290516T161500
DTEND;TZID=Australia/Sydney:20290516T170000
DTSTAMP:20260424T102906
CREATED:20241204T014718Z
LAST-MODIFIED:20250129T031835Z
UID:10099965-1873642500-1873645200@synergyhealthworks.com
SUMMARY:Clinical Reformer
DESCRIPTION:
URL:https://synergyhealthworks.com/event/clinical-reformer-49/2029-05-16/
LOCATION:Wagga Wagga | Reformer Studio\, 221 Kincaid Street\, Wagga Wagga\, NSW\, 2650\, Australia
CATEGORIES:Clinical Reformer
END:VEVENT
BEGIN:VEVENT
DTSTART;TZID=Australia/Sydney:20290517T110000
DTEND;TZID=Australia/Sydney:20290517T114500
DTSTAMP:20260424T102906
CREATED:20241204T011425Z
LAST-MODIFIED:20251204T222714Z
UID:10128907-1873710000-1873712700@synergyhealthworks.com
SUMMARY:Mums and Bubs Core Class
DESCRIPTION:
URL:https://synergyhealthworks.com/event/mums-and-bubs-core-class-7/2029-05-17/
LOCATION:Wagga Wagga | Mat Studio\, 221 Kincaid Street\, Wagga Wagga\, NSW\, 2650\, Australia
CATEGORIES:Mums and Bubs
END:VEVENT
BEGIN:VEVENT
DTSTART;TZID=Australia/Sydney:20290517T130000
DTEND;TZID=Australia/Sydney:20290517T134500
DTSTAMP:20260424T102906
CREATED:20241204T011507Z
LAST-MODIFIED:20250129T031040Z
UID:10092667-1873717200-1873719900@synergyhealthworks.com
SUMMARY:Parkinson's Group Strength
DESCRIPTION:
URL:https://synergyhealthworks.com/event/parkinsons-group-strength-6/2029-05-17/
LOCATION:Wagga Wagga | Mat Studio\, 221 Kincaid Street\, Wagga Wagga\, NSW\, 2650\, Australia
CATEGORIES:Parkinson's Group Strength
END:VEVENT
BEGIN:VEVENT
DTSTART;TZID=Australia/Sydney:20290517T161500
DTEND;TZID=Australia/Sydney:20290517T170000
DTSTAMP:20260424T102906
CREATED:20241204T015701Z
LAST-MODIFIED:20250129T032111Z
UID:10102475-1873728900-1873731600@synergyhealthworks.com
SUMMARY:Clinical Reformer
DESCRIPTION:
URL:https://synergyhealthworks.com/event/clinical-reformer-55/2029-05-17/
LOCATION:Wagga Wagga | Reformer Studio\, 221 Kincaid Street\, Wagga Wagga\, NSW\, 2650\, Australia
CATEGORIES:Clinical Reformer
END:VEVENT
BEGIN:VEVENT
DTSTART;TZID=Australia/Sydney:20290517T171500
DTEND;TZID=Australia/Sydney:20290517T180000
DTSTAMP:20260424T102906
CREATED:20241204T015723Z
LAST-MODIFIED:20250129T032120Z
UID:10102726-1873732500-1873735200@synergyhealthworks.com
SUMMARY:Clinical Reformer
DESCRIPTION:
URL:https://synergyhealthworks.com/event/clinical-reformer-56/2029-05-17/
LOCATION:Wagga Wagga | Reformer Studio\, 221 Kincaid Street\, Wagga Wagga\, NSW\, 2650\, Australia
CATEGORIES:Clinical Reformer
END:VEVENT
BEGIN:VEVENT
DTSTART;TZID=Australia/Sydney:20290517T181500
DTEND;TZID=Australia/Sydney:20290517T190000
DTSTAMP:20260424T102906
CREATED:20241204T015828Z
LAST-MODIFIED:20250914T095556Z
UID:10102977-1873736100-1873738800@synergyhealthworks.com
SUMMARY:Clinical Reformer
DESCRIPTION:
URL:https://synergyhealthworks.com/event/clinical-reformer-57/2029-05-17/
LOCATION:Wagga Wagga | Reformer Studio\, 221 Kincaid Street\, Wagga Wagga\, NSW\, 2650\, Australia
CATEGORIES:Clinical Reformer
END:VEVENT
BEGIN:VEVENT
DTSTART;TZID=Australia/Sydney:20290518T070000
DTEND;TZID=Australia/Sydney:20290518T074500
DTSTAMP:20260424T102906
CREATED:20241204T020111Z
LAST-MODIFIED:20251123T222717Z
UID:10103479-1873782000-1873784700@synergyhealthworks.com
SUMMARY:Clinical Reformer
DESCRIPTION:
URL:https://synergyhealthworks.com/event/clinical-reformer-59/2029-05-18/
LOCATION:Wagga Wagga | Reformer Studio\, 221 Kincaid Street\, Wagga Wagga\, NSW\, 2650\, Australia
CATEGORIES:Clinical Reformer
END:VEVENT
BEGIN:VEVENT
DTSTART;TZID=Australia/Sydney:20290518T090000
DTEND;TZID=Australia/Sydney:20290518T094500
DTSTAMP:20260424T102906
CREATED:20241204T011816Z
LAST-MODIFIED:20250129T031139Z
UID:10093420-1873789200-1873791900@synergyhealthworks.com
SUMMARY:Matwork Core Class
DESCRIPTION:
URL:https://synergyhealthworks.com/event/matwork-core-class-16/2029-05-18/
LOCATION:Wagga Wagga | Mat Studio\, 221 Kincaid Street\, Wagga Wagga\, NSW\, 2650\, Australia
CATEGORIES:Matwork
END:VEVENT
BEGIN:VEVENT
DTSTART;TZID=Australia/Sydney:20290518T110000
DTEND;TZID=Australia/Sydney:20290518T114500
DTSTAMP:20260424T102906
CREATED:20241204T020337Z
LAST-MODIFIED:20251123T222821Z
UID:10103981-1873796400-1873799100@synergyhealthworks.com
SUMMARY:Mums and Bubs Reformer
DESCRIPTION:
URL:https://synergyhealthworks.com/event/mums-and-bubs-reformer-6/2029-05-18/
LOCATION:Wagga Wagga | Reformer Studio\, 221 Kincaid Street\, Wagga Wagga\, NSW\, 2650\, Australia
CATEGORIES:Mums and Bubs
END:VEVENT
BEGIN:VEVENT
DTSTART;TZID=Australia/Sydney:20290521T070000
DTEND;TZID=Australia/Sydney:20290521T074500
DTSTAMP:20260424T102906
CREATED:20250901T033635Z
LAST-MODIFIED:20250901T033635Z
UID:10125296-1874041200-1874043900@synergyhealthworks.com
SUMMARY:Clinical Reformer
DESCRIPTION:
URL:https://synergyhealthworks.com/event/clinical-reformer-62-2/2029-05-21/
LOCATION:Gundagai\, 114 Sheridan Street\, Gundagai\, NSW\, 2722\, Australia
CATEGORIES:Clinical Reformer
END:VEVENT
BEGIN:VEVENT
DTSTART;TZID=Australia/Sydney:20290521T093000
DTEND;TZID=Australia/Sydney:20290521T101500
DTSTAMP:20260424T102906
CREATED:20250901T033248Z
LAST-MODIFIED:20251212T230425Z
UID:10124456-1874050200-1874052900@synergyhealthworks.com
SUMMARY:Clinical Reformer
DESCRIPTION:
URL:https://synergyhealthworks.com/event/clinical-reformer-61/2029-05-21/
LOCATION:Gundagai\, 114 Sheridan Street\, Gundagai\, NSW\, 2722\, Australia
CATEGORIES:Clinical Reformer
END:VEVENT
BEGIN:VEVENT
DTSTART;TZID=Australia/Sydney:20290523T093000
DTEND;TZID=Australia/Sydney:20290523T101500
DTSTAMP:20260424T102906
CREATED:20241204T014501Z
LAST-MODIFIED:20250618T063327Z
UID:10119533-1874223000-1874225700@synergyhealthworks.com
SUMMARY:Clinical Reformer
DESCRIPTION:
URL:https://synergyhealthworks.com/event/clinical-reformer-47/2029-05-23/
LOCATION:Wagga Wagga | Reformer Studio\, 221 Kincaid Street\, Wagga Wagga\, NSW\, 2650\, Australia
CATEGORIES:Clinical Reformer
END:VEVENT
BEGIN:VEVENT
DTSTART;TZID=Australia/Sydney:20290523T161500
DTEND;TZID=Australia/Sydney:20290523T170000
DTSTAMP:20260424T102906
CREATED:20241204T014718Z
LAST-MODIFIED:20250129T031835Z
UID:10099966-1874247300-1874250000@synergyhealthworks.com
SUMMARY:Clinical Reformer
DESCRIPTION:
URL:https://synergyhealthworks.com/event/clinical-reformer-49/2029-05-23/
LOCATION:Wagga Wagga | Reformer Studio\, 221 Kincaid Street\, Wagga Wagga\, NSW\, 2650\, Australia
CATEGORIES:Clinical Reformer
END:VEVENT
BEGIN:VEVENT
DTSTART;TZID=Australia/Sydney:20290524T110000
DTEND;TZID=Australia/Sydney:20290524T114500
DTSTAMP:20260424T102906
CREATED:20241204T011425Z
LAST-MODIFIED:20251204T222714Z
UID:10128908-1874314800-1874317500@synergyhealthworks.com
SUMMARY:Mums and Bubs Core Class
DESCRIPTION:
URL:https://synergyhealthworks.com/event/mums-and-bubs-core-class-7/2029-05-24/
LOCATION:Wagga Wagga | Mat Studio\, 221 Kincaid Street\, Wagga Wagga\, NSW\, 2650\, Australia
CATEGORIES:Mums and Bubs
END:VEVENT
BEGIN:VEVENT
DTSTART;TZID=Australia/Sydney:20290524T130000
DTEND;TZID=Australia/Sydney:20290524T134500
DTSTAMP:20260424T102906
CREATED:20241204T011507Z
LAST-MODIFIED:20250129T031040Z
UID:10092668-1874322000-1874324700@synergyhealthworks.com
SUMMARY:Parkinson's Group Strength
DESCRIPTION:
URL:https://synergyhealthworks.com/event/parkinsons-group-strength-6/2029-05-24/
LOCATION:Wagga Wagga | Mat Studio\, 221 Kincaid Street\, Wagga Wagga\, NSW\, 2650\, Australia
CATEGORIES:Parkinson's Group Strength
END:VEVENT
BEGIN:VEVENT
DTSTART;TZID=Australia/Sydney:20290524T161500
DTEND;TZID=Australia/Sydney:20290524T170000
DTSTAMP:20260424T102906
CREATED:20241204T015701Z
LAST-MODIFIED:20250129T032111Z
UID:10102476-1874333700-1874336400@synergyhealthworks.com
SUMMARY:Clinical Reformer
DESCRIPTION:
URL:https://synergyhealthworks.com/event/clinical-reformer-55/2029-05-24/
LOCATION:Wagga Wagga | Reformer Studio\, 221 Kincaid Street\, Wagga Wagga\, NSW\, 2650\, Australia
CATEGORIES:Clinical Reformer
END:VEVENT
BEGIN:VEVENT
DTSTART;TZID=Australia/Sydney:20290524T171500
DTEND;TZID=Australia/Sydney:20290524T180000
DTSTAMP:20260424T102906
CREATED:20241204T015723Z
LAST-MODIFIED:20250129T032120Z
UID:10102727-1874337300-1874340000@synergyhealthworks.com
SUMMARY:Clinical Reformer
DESCRIPTION:
URL:https://synergyhealthworks.com/event/clinical-reformer-56/2029-05-24/
LOCATION:Wagga Wagga | Reformer Studio\, 221 Kincaid Street\, Wagga Wagga\, NSW\, 2650\, Australia
CATEGORIES:Clinical Reformer
END:VEVENT
BEGIN:VEVENT
DTSTART;TZID=Australia/Sydney:20290524T181500
DTEND;TZID=Australia/Sydney:20290524T190000
DTSTAMP:20260424T102906
CREATED:20241204T015828Z
LAST-MODIFIED:20250914T095556Z
UID:10102978-1874340900-1874343600@synergyhealthworks.com
SUMMARY:Clinical Reformer
DESCRIPTION:
URL:https://synergyhealthworks.com/event/clinical-reformer-57/2029-05-24/
LOCATION:Wagga Wagga | Reformer Studio\, 221 Kincaid Street\, Wagga Wagga\, NSW\, 2650\, Australia
CATEGORIES:Clinical Reformer
END:VEVENT
BEGIN:VEVENT
DTSTART;TZID=Australia/Sydney:20290525T070000
DTEND;TZID=Australia/Sydney:20290525T074500
DTSTAMP:20260424T102906
CREATED:20241204T020111Z
LAST-MODIFIED:20251123T222717Z
UID:10103480-1874386800-1874389500@synergyhealthworks.com
SUMMARY:Clinical Reformer
DESCRIPTION:
URL:https://synergyhealthworks.com/event/clinical-reformer-59/2029-05-25/
LOCATION:Wagga Wagga | Reformer Studio\, 221 Kincaid Street\, Wagga Wagga\, NSW\, 2650\, Australia
CATEGORIES:Clinical Reformer
END:VEVENT
BEGIN:VEVENT
DTSTART;TZID=Australia/Sydney:20290525T090000
DTEND;TZID=Australia/Sydney:20290525T094500
DTSTAMP:20260424T102906
CREATED:20241204T011816Z
LAST-MODIFIED:20250129T031139Z
UID:10093421-1874394000-1874396700@synergyhealthworks.com
SUMMARY:Matwork Core Class
DESCRIPTION:
URL:https://synergyhealthworks.com/event/matwork-core-class-16/2029-05-25/
LOCATION:Wagga Wagga | Mat Studio\, 221 Kincaid Street\, Wagga Wagga\, NSW\, 2650\, Australia
CATEGORIES:Matwork
END:VEVENT
BEGIN:VEVENT
DTSTART;TZID=Australia/Sydney:20290525T110000
DTEND;TZID=Australia/Sydney:20290525T114500
DTSTAMP:20260424T102906
CREATED:20241204T020337Z
LAST-MODIFIED:20251123T222821Z
UID:10103982-1874401200-1874403900@synergyhealthworks.com
SUMMARY:Mums and Bubs Reformer
DESCRIPTION:
URL:https://synergyhealthworks.com/event/mums-and-bubs-reformer-6/2029-05-25/
LOCATION:Wagga Wagga | Reformer Studio\, 221 Kincaid Street\, Wagga Wagga\, NSW\, 2650\, Australia
CATEGORIES:Mums and Bubs
END:VEVENT
BEGIN:VEVENT
DTSTART;TZID=Australia/Sydney:20290528T070000
DTEND;TZID=Australia/Sydney:20290528T074500
DTSTAMP:20260424T102906
CREATED:20250901T033635Z
LAST-MODIFIED:20250901T033635Z
UID:10125297-1874646000-1874648700@synergyhealthworks.com
SUMMARY:Clinical Reformer
DESCRIPTION:
URL:https://synergyhealthworks.com/event/clinical-reformer-62-2/2029-05-28/
LOCATION:Gundagai\, 114 Sheridan Street\, Gundagai\, NSW\, 2722\, Australia
CATEGORIES:Clinical Reformer
END:VEVENT
BEGIN:VEVENT
DTSTART;TZID=Australia/Sydney:20290528T093000
DTEND;TZID=Australia/Sydney:20290528T101500
DTSTAMP:20260424T102906
CREATED:20250901T033248Z
LAST-MODIFIED:20251212T230425Z
UID:10124457-1874655000-1874657700@synergyhealthworks.com
SUMMARY:Clinical Reformer
DESCRIPTION:
URL:https://synergyhealthworks.com/event/clinical-reformer-61/2029-05-28/
LOCATION:Gundagai\, 114 Sheridan Street\, Gundagai\, NSW\, 2722\, Australia
CATEGORIES:Clinical Reformer
END:VEVENT
BEGIN:VEVENT
DTSTART;TZID=Australia/Sydney:20290530T093000
DTEND;TZID=Australia/Sydney:20290530T101500
DTSTAMP:20260424T102906
CREATED:20241204T014501Z
LAST-MODIFIED:20250618T063327Z
UID:10119534-1874827800-1874830500@synergyhealthworks.com
SUMMARY:Clinical Reformer
DESCRIPTION:
URL:https://synergyhealthworks.com/event/clinical-reformer-47/2029-05-30/
LOCATION:Wagga Wagga | Reformer Studio\, 221 Kincaid Street\, Wagga Wagga\, NSW\, 2650\, Australia
CATEGORIES:Clinical Reformer
END:VEVENT
BEGIN:VEVENT
DTSTART;TZID=Australia/Sydney:20290530T161500
DTEND;TZID=Australia/Sydney:20290530T170000
DTSTAMP:20260424T102906
CREATED:20241204T014718Z
LAST-MODIFIED:20250129T031835Z
UID:10099967-1874852100-1874854800@synergyhealthworks.com
SUMMARY:Clinical Reformer
DESCRIPTION:
URL:https://synergyhealthworks.com/event/clinical-reformer-49/2029-05-30/
LOCATION:Wagga Wagga | Reformer Studio\, 221 Kincaid Street\, Wagga Wagga\, NSW\, 2650\, Australia
CATEGORIES:Clinical Reformer
END:VEVENT
BEGIN:VEVENT
DTSTART;TZID=Australia/Sydney:20290531T110000
DTEND;TZID=Australia/Sydney:20290531T114500
DTSTAMP:20260424T102906
CREATED:20241204T011425Z
LAST-MODIFIED:20251204T222714Z
UID:10128909-1874919600-1874922300@synergyhealthworks.com
SUMMARY:Mums and Bubs Core Class
DESCRIPTION:
URL:https://synergyhealthworks.com/event/mums-and-bubs-core-class-7/2029-05-31/
LOCATION:Wagga Wagga | Mat Studio\, 221 Kincaid Street\, Wagga Wagga\, NSW\, 2650\, Australia
CATEGORIES:Mums and Bubs
END:VEVENT
END:VCALENDAR