BEGIN:VCALENDAR
VERSION:2.0
PRODID:-//Synergy Healthworks - ECPv6.15.20//NONSGML v1.0//EN
CALSCALE:GREGORIAN
METHOD:PUBLISH
X-ORIGINAL-URL:https://synergyhealthworks.com
X-WR-CALDESC:Events for Synergy Healthworks
REFRESH-INTERVAL;VALUE=DURATION:PT1H
X-Robots-Tag:noindex
X-PUBLISHED-TTL:PT1H
BEGIN:VTIMEZONE
TZID:Australia/Sydney
BEGIN:STANDARD
TZOFFSETFROM:+1100
TZOFFSETTO:+1000
TZNAME:AEST
DTSTART:20280401T160000
END:STANDARD
BEGIN:DAYLIGHT
TZOFFSETFROM:+1000
TZOFFSETTO:+1100
TZNAME:AEDT
DTSTART:20280930T160000
END:DAYLIGHT
BEGIN:STANDARD
TZOFFSETFROM:+1100
TZOFFSETTO:+1000
TZNAME:AEST
DTSTART:20290331T160000
END:STANDARD
BEGIN:DAYLIGHT
TZOFFSETFROM:+1000
TZOFFSETTO:+1100
TZNAME:AEDT
DTSTART:20291006T160000
END:DAYLIGHT
BEGIN:STANDARD
TZOFFSETFROM:+1100
TZOFFSETTO:+1000
TZNAME:AEST
DTSTART:20300406T160000
END:STANDARD
BEGIN:DAYLIGHT
TZOFFSETFROM:+1000
TZOFFSETTO:+1100
TZNAME:AEDT
DTSTART:20301005T160000
END:DAYLIGHT
END:VTIMEZONE
BEGIN:VEVENT
DTSTART;TZID=Australia/Sydney:20290309T070000
DTEND;TZID=Australia/Sydney:20290309T074500
DTSTAMP:20260423T190450
CREATED:20241204T020111Z
LAST-MODIFIED:20251123T222717Z
UID:10103469-1867734000-1867736700@synergyhealthworks.com
SUMMARY:Clinical Reformer
DESCRIPTION:
URL:https://synergyhealthworks.com/event/clinical-reformer-59/2029-03-09/
LOCATION:Wagga Wagga | Reformer Studio\, 221 Kincaid Street\, Wagga Wagga\, NSW\, 2650\, Australia
CATEGORIES:Clinical Reformer
END:VEVENT
BEGIN:VEVENT
DTSTART;TZID=Australia/Sydney:20290309T090000
DTEND;TZID=Australia/Sydney:20290309T094500
DTSTAMP:20260423T190450
CREATED:20241204T011816Z
LAST-MODIFIED:20250129T031139Z
UID:10093410-1867741200-1867743900@synergyhealthworks.com
SUMMARY:Matwork Core Class
DESCRIPTION:
URL:https://synergyhealthworks.com/event/matwork-core-class-16/2029-03-09/
LOCATION:Wagga Wagga | Mat Studio\, 221 Kincaid Street\, Wagga Wagga\, NSW\, 2650\, Australia
CATEGORIES:Matwork
END:VEVENT
BEGIN:VEVENT
DTSTART;TZID=Australia/Sydney:20290309T110000
DTEND;TZID=Australia/Sydney:20290309T114500
DTSTAMP:20260423T190450
CREATED:20241204T020337Z
LAST-MODIFIED:20251123T222821Z
UID:10103971-1867748400-1867751100@synergyhealthworks.com
SUMMARY:Mums and Bubs Reformer
DESCRIPTION:
URL:https://synergyhealthworks.com/event/mums-and-bubs-reformer-6/2029-03-09/
LOCATION:Wagga Wagga | Reformer Studio\, 221 Kincaid Street\, Wagga Wagga\, NSW\, 2650\, Australia
CATEGORIES:Mums and Bubs
END:VEVENT
BEGIN:VEVENT
DTSTART;TZID=Australia/Sydney:20290312T070000
DTEND;TZID=Australia/Sydney:20290312T074500
DTSTAMP:20260423T190450
CREATED:20250901T033635Z
LAST-MODIFIED:20250901T033635Z
UID:10125286-1867993200-1867995900@synergyhealthworks.com
SUMMARY:Clinical Reformer
DESCRIPTION:
URL:https://synergyhealthworks.com/event/clinical-reformer-62-2/2029-03-12/
LOCATION:Gundagai\, 114 Sheridan Street\, Gundagai\, NSW\, 2722\, Australia
CATEGORIES:Clinical Reformer
END:VEVENT
BEGIN:VEVENT
DTSTART;TZID=Australia/Sydney:20290312T093000
DTEND;TZID=Australia/Sydney:20290312T101500
DTSTAMP:20260423T190450
CREATED:20250901T033248Z
LAST-MODIFIED:20251212T230425Z
UID:10124446-1868002200-1868004900@synergyhealthworks.com
SUMMARY:Clinical Reformer
DESCRIPTION:
URL:https://synergyhealthworks.com/event/clinical-reformer-61/2029-03-12/
LOCATION:Gundagai\, 114 Sheridan Street\, Gundagai\, NSW\, 2722\, Australia
CATEGORIES:Clinical Reformer
END:VEVENT
BEGIN:VEVENT
DTSTART;TZID=Australia/Sydney:20290314T093000
DTEND;TZID=Australia/Sydney:20290314T101500
DTSTAMP:20260423T190450
CREATED:20241204T014501Z
LAST-MODIFIED:20250618T063327Z
UID:10119523-1868175000-1868177700@synergyhealthworks.com
SUMMARY:Clinical Reformer
DESCRIPTION:
URL:https://synergyhealthworks.com/event/clinical-reformer-47/2029-03-14/
LOCATION:Wagga Wagga | Reformer Studio\, 221 Kincaid Street\, Wagga Wagga\, NSW\, 2650\, Australia
CATEGORIES:Clinical Reformer
END:VEVENT
BEGIN:VEVENT
DTSTART;TZID=Australia/Sydney:20290314T161500
DTEND;TZID=Australia/Sydney:20290314T170000
DTSTAMP:20260423T190450
CREATED:20241204T014718Z
LAST-MODIFIED:20250129T031835Z
UID:10099956-1868199300-1868202000@synergyhealthworks.com
SUMMARY:Clinical Reformer
DESCRIPTION:
URL:https://synergyhealthworks.com/event/clinical-reformer-49/2029-03-14/
LOCATION:Wagga Wagga | Reformer Studio\, 221 Kincaid Street\, Wagga Wagga\, NSW\, 2650\, Australia
CATEGORIES:Clinical Reformer
END:VEVENT
BEGIN:VEVENT
DTSTART;TZID=Australia/Sydney:20290315T110000
DTEND;TZID=Australia/Sydney:20290315T114500
DTSTAMP:20260423T190450
CREATED:20241204T011425Z
LAST-MODIFIED:20251204T222714Z
UID:10128898-1868266800-1868269500@synergyhealthworks.com
SUMMARY:Mums and Bubs Core Class
DESCRIPTION:
URL:https://synergyhealthworks.com/event/mums-and-bubs-core-class-7/2029-03-15/
LOCATION:Wagga Wagga | Mat Studio\, 221 Kincaid Street\, Wagga Wagga\, NSW\, 2650\, Australia
CATEGORIES:Mums and Bubs
END:VEVENT
BEGIN:VEVENT
DTSTART;TZID=Australia/Sydney:20290315T130000
DTEND;TZID=Australia/Sydney:20290315T134500
DTSTAMP:20260423T190450
CREATED:20241204T011507Z
LAST-MODIFIED:20250129T031040Z
UID:10092658-1868274000-1868276700@synergyhealthworks.com
SUMMARY:Parkinson's Group Strength
DESCRIPTION:
URL:https://synergyhealthworks.com/event/parkinsons-group-strength-6/2029-03-15/
LOCATION:Wagga Wagga | Mat Studio\, 221 Kincaid Street\, Wagga Wagga\, NSW\, 2650\, Australia
CATEGORIES:Parkinson's Group Strength
END:VEVENT
BEGIN:VEVENT
DTSTART;TZID=Australia/Sydney:20290315T161500
DTEND;TZID=Australia/Sydney:20290315T170000
DTSTAMP:20260423T190450
CREATED:20241204T015701Z
LAST-MODIFIED:20250129T032111Z
UID:10102466-1868285700-1868288400@synergyhealthworks.com
SUMMARY:Clinical Reformer
DESCRIPTION:
URL:https://synergyhealthworks.com/event/clinical-reformer-55/2029-03-15/
LOCATION:Wagga Wagga | Reformer Studio\, 221 Kincaid Street\, Wagga Wagga\, NSW\, 2650\, Australia
CATEGORIES:Clinical Reformer
END:VEVENT
BEGIN:VEVENT
DTSTART;TZID=Australia/Sydney:20290315T171500
DTEND;TZID=Australia/Sydney:20290315T180000
DTSTAMP:20260423T190450
CREATED:20241204T015723Z
LAST-MODIFIED:20250129T032120Z
UID:10102717-1868289300-1868292000@synergyhealthworks.com
SUMMARY:Clinical Reformer
DESCRIPTION:
URL:https://synergyhealthworks.com/event/clinical-reformer-56/2029-03-15/
LOCATION:Wagga Wagga | Reformer Studio\, 221 Kincaid Street\, Wagga Wagga\, NSW\, 2650\, Australia
CATEGORIES:Clinical Reformer
END:VEVENT
BEGIN:VEVENT
DTSTART;TZID=Australia/Sydney:20290315T181500
DTEND;TZID=Australia/Sydney:20290315T190000
DTSTAMP:20260423T190450
CREATED:20241204T015828Z
LAST-MODIFIED:20250914T095556Z
UID:10102968-1868292900-1868295600@synergyhealthworks.com
SUMMARY:Clinical Reformer
DESCRIPTION:
URL:https://synergyhealthworks.com/event/clinical-reformer-57/2029-03-15/
LOCATION:Wagga Wagga | Reformer Studio\, 221 Kincaid Street\, Wagga Wagga\, NSW\, 2650\, Australia
CATEGORIES:Clinical Reformer
END:VEVENT
BEGIN:VEVENT
DTSTART;TZID=Australia/Sydney:20290316T070000
DTEND;TZID=Australia/Sydney:20290316T074500
DTSTAMP:20260423T190450
CREATED:20241204T020111Z
LAST-MODIFIED:20251123T222717Z
UID:10103470-1868338800-1868341500@synergyhealthworks.com
SUMMARY:Clinical Reformer
DESCRIPTION:
URL:https://synergyhealthworks.com/event/clinical-reformer-59/2029-03-16/
LOCATION:Wagga Wagga | Reformer Studio\, 221 Kincaid Street\, Wagga Wagga\, NSW\, 2650\, Australia
CATEGORIES:Clinical Reformer
END:VEVENT
BEGIN:VEVENT
DTSTART;TZID=Australia/Sydney:20290316T090000
DTEND;TZID=Australia/Sydney:20290316T094500
DTSTAMP:20260423T190450
CREATED:20241204T011816Z
LAST-MODIFIED:20250129T031139Z
UID:10093411-1868346000-1868348700@synergyhealthworks.com
SUMMARY:Matwork Core Class
DESCRIPTION:
URL:https://synergyhealthworks.com/event/matwork-core-class-16/2029-03-16/
LOCATION:Wagga Wagga | Mat Studio\, 221 Kincaid Street\, Wagga Wagga\, NSW\, 2650\, Australia
CATEGORIES:Matwork
END:VEVENT
BEGIN:VEVENT
DTSTART;TZID=Australia/Sydney:20290316T110000
DTEND;TZID=Australia/Sydney:20290316T114500
DTSTAMP:20260423T190450
CREATED:20241204T020337Z
LAST-MODIFIED:20251123T222821Z
UID:10103972-1868353200-1868355900@synergyhealthworks.com
SUMMARY:Mums and Bubs Reformer
DESCRIPTION:
URL:https://synergyhealthworks.com/event/mums-and-bubs-reformer-6/2029-03-16/
LOCATION:Wagga Wagga | Reformer Studio\, 221 Kincaid Street\, Wagga Wagga\, NSW\, 2650\, Australia
CATEGORIES:Mums and Bubs
END:VEVENT
BEGIN:VEVENT
DTSTART;TZID=Australia/Sydney:20290319T070000
DTEND;TZID=Australia/Sydney:20290319T074500
DTSTAMP:20260423T190451
CREATED:20250901T033635Z
LAST-MODIFIED:20250901T033635Z
UID:10125287-1868598000-1868600700@synergyhealthworks.com
SUMMARY:Clinical Reformer
DESCRIPTION:
URL:https://synergyhealthworks.com/event/clinical-reformer-62-2/2029-03-19/
LOCATION:Gundagai\, 114 Sheridan Street\, Gundagai\, NSW\, 2722\, Australia
CATEGORIES:Clinical Reformer
END:VEVENT
BEGIN:VEVENT
DTSTART;TZID=Australia/Sydney:20290319T093000
DTEND;TZID=Australia/Sydney:20290319T101500
DTSTAMP:20260423T190451
CREATED:20250901T033248Z
LAST-MODIFIED:20251212T230425Z
UID:10124447-1868607000-1868609700@synergyhealthworks.com
SUMMARY:Clinical Reformer
DESCRIPTION:
URL:https://synergyhealthworks.com/event/clinical-reformer-61/2029-03-19/
LOCATION:Gundagai\, 114 Sheridan Street\, Gundagai\, NSW\, 2722\, Australia
CATEGORIES:Clinical Reformer
END:VEVENT
BEGIN:VEVENT
DTSTART;TZID=Australia/Sydney:20290321T093000
DTEND;TZID=Australia/Sydney:20290321T101500
DTSTAMP:20260423T190451
CREATED:20241204T014501Z
LAST-MODIFIED:20250618T063327Z
UID:10119524-1868779800-1868782500@synergyhealthworks.com
SUMMARY:Clinical Reformer
DESCRIPTION:
URL:https://synergyhealthworks.com/event/clinical-reformer-47/2029-03-21/
LOCATION:Wagga Wagga | Reformer Studio\, 221 Kincaid Street\, Wagga Wagga\, NSW\, 2650\, Australia
CATEGORIES:Clinical Reformer
END:VEVENT
BEGIN:VEVENT
DTSTART;TZID=Australia/Sydney:20290321T161500
DTEND;TZID=Australia/Sydney:20290321T170000
DTSTAMP:20260423T190451
CREATED:20241204T014718Z
LAST-MODIFIED:20250129T031835Z
UID:10099957-1868804100-1868806800@synergyhealthworks.com
SUMMARY:Clinical Reformer
DESCRIPTION:
URL:https://synergyhealthworks.com/event/clinical-reformer-49/2029-03-21/
LOCATION:Wagga Wagga | Reformer Studio\, 221 Kincaid Street\, Wagga Wagga\, NSW\, 2650\, Australia
CATEGORIES:Clinical Reformer
END:VEVENT
BEGIN:VEVENT
DTSTART;TZID=Australia/Sydney:20290322T110000
DTEND;TZID=Australia/Sydney:20290322T114500
DTSTAMP:20260423T190451
CREATED:20241204T011425Z
LAST-MODIFIED:20251204T222714Z
UID:10128899-1868871600-1868874300@synergyhealthworks.com
SUMMARY:Mums and Bubs Core Class
DESCRIPTION:
URL:https://synergyhealthworks.com/event/mums-and-bubs-core-class-7/2029-03-22/
LOCATION:Wagga Wagga | Mat Studio\, 221 Kincaid Street\, Wagga Wagga\, NSW\, 2650\, Australia
CATEGORIES:Mums and Bubs
END:VEVENT
BEGIN:VEVENT
DTSTART;TZID=Australia/Sydney:20290322T130000
DTEND;TZID=Australia/Sydney:20290322T134500
DTSTAMP:20260423T190451
CREATED:20241204T011507Z
LAST-MODIFIED:20250129T031040Z
UID:10092659-1868878800-1868881500@synergyhealthworks.com
SUMMARY:Parkinson's Group Strength
DESCRIPTION:
URL:https://synergyhealthworks.com/event/parkinsons-group-strength-6/2029-03-22/
LOCATION:Wagga Wagga | Mat Studio\, 221 Kincaid Street\, Wagga Wagga\, NSW\, 2650\, Australia
CATEGORIES:Parkinson's Group Strength
END:VEVENT
BEGIN:VEVENT
DTSTART;TZID=Australia/Sydney:20290322T161500
DTEND;TZID=Australia/Sydney:20290322T170000
DTSTAMP:20260423T190451
CREATED:20241204T015701Z
LAST-MODIFIED:20250129T032111Z
UID:10102467-1868890500-1868893200@synergyhealthworks.com
SUMMARY:Clinical Reformer
DESCRIPTION:
URL:https://synergyhealthworks.com/event/clinical-reformer-55/2029-03-22/
LOCATION:Wagga Wagga | Reformer Studio\, 221 Kincaid Street\, Wagga Wagga\, NSW\, 2650\, Australia
CATEGORIES:Clinical Reformer
END:VEVENT
BEGIN:VEVENT
DTSTART;TZID=Australia/Sydney:20290322T171500
DTEND;TZID=Australia/Sydney:20290322T180000
DTSTAMP:20260423T190451
CREATED:20241204T015723Z
LAST-MODIFIED:20250129T032120Z
UID:10102718-1868894100-1868896800@synergyhealthworks.com
SUMMARY:Clinical Reformer
DESCRIPTION:
URL:https://synergyhealthworks.com/event/clinical-reformer-56/2029-03-22/
LOCATION:Wagga Wagga | Reformer Studio\, 221 Kincaid Street\, Wagga Wagga\, NSW\, 2650\, Australia
CATEGORIES:Clinical Reformer
END:VEVENT
BEGIN:VEVENT
DTSTART;TZID=Australia/Sydney:20290322T181500
DTEND;TZID=Australia/Sydney:20290322T190000
DTSTAMP:20260423T190451
CREATED:20241204T015828Z
LAST-MODIFIED:20250914T095556Z
UID:10102969-1868897700-1868900400@synergyhealthworks.com
SUMMARY:Clinical Reformer
DESCRIPTION:
URL:https://synergyhealthworks.com/event/clinical-reformer-57/2029-03-22/
LOCATION:Wagga Wagga | Reformer Studio\, 221 Kincaid Street\, Wagga Wagga\, NSW\, 2650\, Australia
CATEGORIES:Clinical Reformer
END:VEVENT
BEGIN:VEVENT
DTSTART;TZID=Australia/Sydney:20290323T070000
DTEND;TZID=Australia/Sydney:20290323T074500
DTSTAMP:20260423T190451
CREATED:20241204T020111Z
LAST-MODIFIED:20251123T222717Z
UID:10103471-1868943600-1868946300@synergyhealthworks.com
SUMMARY:Clinical Reformer
DESCRIPTION:
URL:https://synergyhealthworks.com/event/clinical-reformer-59/2029-03-23/
LOCATION:Wagga Wagga | Reformer Studio\, 221 Kincaid Street\, Wagga Wagga\, NSW\, 2650\, Australia
CATEGORIES:Clinical Reformer
END:VEVENT
BEGIN:VEVENT
DTSTART;TZID=Australia/Sydney:20290323T090000
DTEND;TZID=Australia/Sydney:20290323T094500
DTSTAMP:20260423T190451
CREATED:20241204T011816Z
LAST-MODIFIED:20250129T031139Z
UID:10093412-1868950800-1868953500@synergyhealthworks.com
SUMMARY:Matwork Core Class
DESCRIPTION:
URL:https://synergyhealthworks.com/event/matwork-core-class-16/2029-03-23/
LOCATION:Wagga Wagga | Mat Studio\, 221 Kincaid Street\, Wagga Wagga\, NSW\, 2650\, Australia
CATEGORIES:Matwork
END:VEVENT
BEGIN:VEVENT
DTSTART;TZID=Australia/Sydney:20290323T110000
DTEND;TZID=Australia/Sydney:20290323T114500
DTSTAMP:20260423T190451
CREATED:20241204T020337Z
LAST-MODIFIED:20251123T222821Z
UID:10103973-1868958000-1868960700@synergyhealthworks.com
SUMMARY:Mums and Bubs Reformer
DESCRIPTION:
URL:https://synergyhealthworks.com/event/mums-and-bubs-reformer-6/2029-03-23/
LOCATION:Wagga Wagga | Reformer Studio\, 221 Kincaid Street\, Wagga Wagga\, NSW\, 2650\, Australia
CATEGORIES:Mums and Bubs
END:VEVENT
BEGIN:VEVENT
DTSTART;TZID=Australia/Sydney:20290326T070000
DTEND;TZID=Australia/Sydney:20290326T074500
DTSTAMP:20260423T190451
CREATED:20250901T033635Z
LAST-MODIFIED:20250901T033635Z
UID:10125288-1869202800-1869205500@synergyhealthworks.com
SUMMARY:Clinical Reformer
DESCRIPTION:
URL:https://synergyhealthworks.com/event/clinical-reformer-62-2/2029-03-26/
LOCATION:Gundagai\, 114 Sheridan Street\, Gundagai\, NSW\, 2722\, Australia
CATEGORIES:Clinical Reformer
END:VEVENT
BEGIN:VEVENT
DTSTART;TZID=Australia/Sydney:20290326T093000
DTEND;TZID=Australia/Sydney:20290326T101500
DTSTAMP:20260423T190451
CREATED:20250901T033248Z
LAST-MODIFIED:20251212T230425Z
UID:10124448-1869211800-1869214500@synergyhealthworks.com
SUMMARY:Clinical Reformer
DESCRIPTION:
URL:https://synergyhealthworks.com/event/clinical-reformer-61/2029-03-26/
LOCATION:Gundagai\, 114 Sheridan Street\, Gundagai\, NSW\, 2722\, Australia
CATEGORIES:Clinical Reformer
END:VEVENT
BEGIN:VEVENT
DTSTART;TZID=Australia/Sydney:20290328T093000
DTEND;TZID=Australia/Sydney:20290328T101500
DTSTAMP:20260423T190451
CREATED:20241204T014501Z
LAST-MODIFIED:20250618T063327Z
UID:10119525-1869384600-1869387300@synergyhealthworks.com
SUMMARY:Clinical Reformer
DESCRIPTION:
URL:https://synergyhealthworks.com/event/clinical-reformer-47/2029-03-28/
LOCATION:Wagga Wagga | Reformer Studio\, 221 Kincaid Street\, Wagga Wagga\, NSW\, 2650\, Australia
CATEGORIES:Clinical Reformer
END:VEVENT
END:VCALENDAR