BEGIN:VCALENDAR
VERSION:2.0
PRODID:-//Synergy Healthworks - ECPv6.15.20//NONSGML v1.0//EN
CALSCALE:GREGORIAN
METHOD:PUBLISH
X-WR-CALNAME:Synergy Healthworks
X-ORIGINAL-URL:https://synergyhealthworks.com
X-WR-CALDESC:Events for Synergy Healthworks
REFRESH-INTERVAL;VALUE=DURATION:PT1H
X-Robots-Tag:noindex
X-PUBLISHED-TTL:PT1H
BEGIN:VTIMEZONE
TZID:Australia/Sydney
BEGIN:STANDARD
TZOFFSETFROM:+1100
TZOFFSETTO:+1000
TZNAME:AEST
DTSTART:20250405T160000
END:STANDARD
BEGIN:DAYLIGHT
TZOFFSETFROM:+1000
TZOFFSETTO:+1100
TZNAME:AEDT
DTSTART:20251004T160000
END:DAYLIGHT
BEGIN:STANDARD
TZOFFSETFROM:+1100
TZOFFSETTO:+1000
TZNAME:AEST
DTSTART:20260404T160000
END:STANDARD
BEGIN:DAYLIGHT
TZOFFSETFROM:+1000
TZOFFSETTO:+1100
TZNAME:AEDT
DTSTART:20261003T160000
END:DAYLIGHT
BEGIN:STANDARD
TZOFFSETFROM:+1100
TZOFFSETTO:+1000
TZNAME:AEST
DTSTART:20270403T160000
END:STANDARD
BEGIN:DAYLIGHT
TZOFFSETFROM:+1000
TZOFFSETTO:+1100
TZNAME:AEDT
DTSTART:20271002T160000
END:DAYLIGHT
END:VTIMEZONE
BEGIN:VEVENT
DTSTART;TZID=Australia/Sydney:20260525T130000
DTEND;TZID=Australia/Sydney:20260525T134500
DTSTAMP:20260422T092711
CREATED:20241204T012238Z
LAST-MODIFIED:20250617T140550Z
UID:10094775-1779714000-1779716700@synergyhealthworks.com
SUMMARY:Gentle Reformer
DESCRIPTION:
URL:https://synergyhealthworks.com/event/gentle-reformer-8/2026-05-25/
LOCATION:Wagga Wagga | Reformer Studio\, 221 Kincaid Street\, Wagga Wagga\, NSW\, 2650\, Australia
CATEGORIES:Clinical Reformer
END:VEVENT
BEGIN:VEVENT
DTSTART;TZID=Australia/Sydney:20260526T133000
DTEND;TZID=Australia/Sydney:20260526T141500
DTSTAMP:20260422T092711
CREATED:20241204T012919Z
LAST-MODIFIED:20250617T140621Z
UID:10097295-1779802200-1779804900@synergyhealthworks.com
SUMMARY:Gentle Reformer
DESCRIPTION:
URL:https://synergyhealthworks.com/event/gentle-reformer-9/2026-05-26/
LOCATION:Wagga Wagga | Reformer Studio\, 221 Kincaid Street\, Wagga Wagga\, NSW\, 2650\, Australia
CATEGORIES:Clinical Reformer
END:VEVENT
BEGIN:VEVENT
DTSTART;TZID=Australia/Sydney:20260526T171500
DTEND;TZID=Australia/Sydney:20260526T180000
DTSTAMP:20260422T092711
CREATED:20241204T013249Z
LAST-MODIFIED:20250129T031645Z
UID:10098051-1779815700-1779818400@synergyhealthworks.com
SUMMARY:Clinical Reformer
DESCRIPTION:
URL:https://synergyhealthworks.com/event/clinical-reformer-45/2026-05-26/
LOCATION:Wagga Wagga | Reformer Studio\, 221 Kincaid Street\, Wagga Wagga\, NSW\, 2650\, Australia
CATEGORIES:Clinical Reformer
END:VEVENT
BEGIN:VEVENT
DTSTART;TZID=Australia/Sydney:20260526T181500
DTEND;TZID=Australia/Sydney:20260526T190000
DTSTAMP:20260422T092711
CREATED:20241204T013314Z
LAST-MODIFIED:20250914T095850Z
UID:10098303-1779819300-1779822000@synergyhealthworks.com
SUMMARY:Clinical Reformer
DESCRIPTION:
URL:https://synergyhealthworks.com/event/clinical-reformer-46/2026-05-26/
LOCATION:Wagga Wagga | Reformer Studio\, 221 Kincaid Street\, Wagga Wagga\, NSW\, 2650\, Australia
CATEGORIES:Clinical Reformer
END:VEVENT
BEGIN:VEVENT
DTSTART;TZID=Australia/Sydney:20260528T154000
DTEND;TZID=Australia/Sydney:20260528T161000
DTSTAMP:20260422T092711
CREATED:20241204T015621Z
LAST-MODIFIED:20251123T222612Z
UID:10114080-1779982800-1779984600@synergyhealthworks.com
SUMMARY:Reformer for Ballet Dancers
DESCRIPTION:
URL:https://synergyhealthworks.com/event/reformer-for-ballet-dancers/2026-05-28/
LOCATION:Wagga Wagga | Reformer Studio\, 221 Kincaid Street\, Wagga Wagga\, NSW\, 2650\, Australia
CATEGORIES:Clinical Reformer
END:VEVENT
BEGIN:VEVENT
DTSTART;TZID=Australia/Sydney:20260529T060000
DTEND;TZID=Australia/Sydney:20260529T064500
DTSTAMP:20260422T092711
CREATED:20241204T015959Z
LAST-MODIFIED:20251123T222648Z
UID:10103073-1780034400-1780037100@synergyhealthworks.com
SUMMARY:Clinical Reformer
DESCRIPTION:
URL:https://synergyhealthworks.com/event/clinical-reformer-58/2026-05-29/
LOCATION:Wagga Wagga | Reformer Studio\, 221 Kincaid Street\, Wagga Wagga\, NSW\, 2650\, Australia
CATEGORIES:Clinical Reformer
END:VEVENT
BEGIN:VEVENT
DTSTART;TZID=Australia/Sydney:20260529T070000
DTEND;TZID=Australia/Sydney:20260529T074500
DTSTAMP:20260422T092711
CREATED:20241204T011739Z
LAST-MODIFIED:20250129T031131Z
UID:10093014-1780038000-1780040700@synergyhealthworks.com
SUMMARY:Matwork Core Class
DESCRIPTION:
URL:https://synergyhealthworks.com/event/matwork-core-class-15/2026-05-29/
LOCATION:Wagga Wagga | Mat Studio\, 221 Kincaid Street\, Wagga Wagga\, NSW\, 2650\, Australia
CATEGORIES:Matwork
END:VEVENT
BEGIN:VEVENT
DTSTART;TZID=Australia/Sydney:20260529T100000
DTEND;TZID=Australia/Sydney:20260529T104500
DTSTAMP:20260422T092711
CREATED:20250617T134104Z
LAST-MODIFIED:20250617T135929Z
UID:10103575-1780048800-1780051500@synergyhealthworks.com
SUMMARY:Gentle Reformer
DESCRIPTION:
URL:https://synergyhealthworks.com/event/gentle-reformer-12-2-2/2026-05-29/
LOCATION:Wagga Wagga | Reformer Studio\, 221 Kincaid Street\, Wagga Wagga\, NSW\, 2650\, Australia
CATEGORIES:Clinical Reformer
END:VEVENT
BEGIN:VEVENT
DTSTART;TZID=Australia/Sydney:20260601T130000
DTEND;TZID=Australia/Sydney:20260601T134500
DTSTAMP:20260422T092711
CREATED:20241204T012238Z
LAST-MODIFIED:20250617T140550Z
UID:10094776-1780318800-1780321500@synergyhealthworks.com
SUMMARY:Gentle Reformer
DESCRIPTION:
URL:https://synergyhealthworks.com/event/gentle-reformer-8/2026-06-01/
LOCATION:Wagga Wagga | Reformer Studio\, 221 Kincaid Street\, Wagga Wagga\, NSW\, 2650\, Australia
CATEGORIES:Clinical Reformer
END:VEVENT
BEGIN:VEVENT
DTSTART;TZID=Australia/Sydney:20260602T133000
DTEND;TZID=Australia/Sydney:20260602T141500
DTSTAMP:20260422T092711
CREATED:20241204T012919Z
LAST-MODIFIED:20250617T140621Z
UID:10097296-1780407000-1780409700@synergyhealthworks.com
SUMMARY:Gentle Reformer
DESCRIPTION:
URL:https://synergyhealthworks.com/event/gentle-reformer-9/2026-06-02/
LOCATION:Wagga Wagga | Reformer Studio\, 221 Kincaid Street\, Wagga Wagga\, NSW\, 2650\, Australia
CATEGORIES:Clinical Reformer
END:VEVENT
BEGIN:VEVENT
DTSTART;TZID=Australia/Sydney:20260602T171500
DTEND;TZID=Australia/Sydney:20260602T180000
DTSTAMP:20260422T092711
CREATED:20241204T013249Z
LAST-MODIFIED:20250129T031645Z
UID:10098052-1780420500-1780423200@synergyhealthworks.com
SUMMARY:Clinical Reformer
DESCRIPTION:
URL:https://synergyhealthworks.com/event/clinical-reformer-45/2026-06-02/
LOCATION:Wagga Wagga | Reformer Studio\, 221 Kincaid Street\, Wagga Wagga\, NSW\, 2650\, Australia
CATEGORIES:Clinical Reformer
END:VEVENT
BEGIN:VEVENT
DTSTART;TZID=Australia/Sydney:20260602T181500
DTEND;TZID=Australia/Sydney:20260602T190000
DTSTAMP:20260422T092711
CREATED:20241204T013314Z
LAST-MODIFIED:20250914T095850Z
UID:10098304-1780424100-1780426800@synergyhealthworks.com
SUMMARY:Clinical Reformer
DESCRIPTION:
URL:https://synergyhealthworks.com/event/clinical-reformer-46/2026-06-02/
LOCATION:Wagga Wagga | Reformer Studio\, 221 Kincaid Street\, Wagga Wagga\, NSW\, 2650\, Australia
CATEGORIES:Clinical Reformer
END:VEVENT
BEGIN:VEVENT
DTSTART;TZID=Australia/Sydney:20260604T154000
DTEND;TZID=Australia/Sydney:20260604T161000
DTSTAMP:20260422T092711
CREATED:20241204T015621Z
LAST-MODIFIED:20251123T222612Z
UID:10114081-1780587600-1780589400@synergyhealthworks.com
SUMMARY:Reformer for Ballet Dancers
DESCRIPTION:
URL:https://synergyhealthworks.com/event/reformer-for-ballet-dancers/2026-06-04/
LOCATION:Wagga Wagga | Reformer Studio\, 221 Kincaid Street\, Wagga Wagga\, NSW\, 2650\, Australia
CATEGORIES:Clinical Reformer
END:VEVENT
BEGIN:VEVENT
DTSTART;TZID=Australia/Sydney:20260605T060000
DTEND;TZID=Australia/Sydney:20260605T064500
DTSTAMP:20260422T092711
CREATED:20241204T015959Z
LAST-MODIFIED:20251123T222648Z
UID:10103074-1780639200-1780641900@synergyhealthworks.com
SUMMARY:Clinical Reformer
DESCRIPTION:
URL:https://synergyhealthworks.com/event/clinical-reformer-58/2026-06-05/
LOCATION:Wagga Wagga | Reformer Studio\, 221 Kincaid Street\, Wagga Wagga\, NSW\, 2650\, Australia
CATEGORIES:Clinical Reformer
END:VEVENT
BEGIN:VEVENT
DTSTART;TZID=Australia/Sydney:20260605T070000
DTEND;TZID=Australia/Sydney:20260605T074500
DTSTAMP:20260422T092711
CREATED:20241204T011739Z
LAST-MODIFIED:20250129T031131Z
UID:10093015-1780642800-1780645500@synergyhealthworks.com
SUMMARY:Matwork Core Class
DESCRIPTION:
URL:https://synergyhealthworks.com/event/matwork-core-class-15/2026-06-05/
LOCATION:Wagga Wagga | Mat Studio\, 221 Kincaid Street\, Wagga Wagga\, NSW\, 2650\, Australia
CATEGORIES:Matwork
END:VEVENT
BEGIN:VEVENT
DTSTART;TZID=Australia/Sydney:20260605T100000
DTEND;TZID=Australia/Sydney:20260605T104500
DTSTAMP:20260422T092711
CREATED:20250617T134104Z
LAST-MODIFIED:20250617T135929Z
UID:10103576-1780653600-1780656300@synergyhealthworks.com
SUMMARY:Gentle Reformer
DESCRIPTION:
URL:https://synergyhealthworks.com/event/gentle-reformer-12-2-2/2026-06-05/
LOCATION:Wagga Wagga | Reformer Studio\, 221 Kincaid Street\, Wagga Wagga\, NSW\, 2650\, Australia
CATEGORIES:Clinical Reformer
END:VEVENT
BEGIN:VEVENT
DTSTART;TZID=Australia/Sydney:20260608T130000
DTEND;TZID=Australia/Sydney:20260608T134500
DTSTAMP:20260422T092711
CREATED:20241204T012238Z
LAST-MODIFIED:20250617T140550Z
UID:10094777-1780923600-1780926300@synergyhealthworks.com
SUMMARY:Gentle Reformer
DESCRIPTION:
URL:https://synergyhealthworks.com/event/gentle-reformer-8/2026-06-08/
LOCATION:Wagga Wagga | Reformer Studio\, 221 Kincaid Street\, Wagga Wagga\, NSW\, 2650\, Australia
CATEGORIES:Clinical Reformer
END:VEVENT
BEGIN:VEVENT
DTSTART;TZID=Australia/Sydney:20260609T133000
DTEND;TZID=Australia/Sydney:20260609T141500
DTSTAMP:20260422T092711
CREATED:20241204T012919Z
LAST-MODIFIED:20250617T140621Z
UID:10097297-1781011800-1781014500@synergyhealthworks.com
SUMMARY:Gentle Reformer
DESCRIPTION:
URL:https://synergyhealthworks.com/event/gentle-reformer-9/2026-06-09/
LOCATION:Wagga Wagga | Reformer Studio\, 221 Kincaid Street\, Wagga Wagga\, NSW\, 2650\, Australia
CATEGORIES:Clinical Reformer
END:VEVENT
BEGIN:VEVENT
DTSTART;TZID=Australia/Sydney:20260609T171500
DTEND;TZID=Australia/Sydney:20260609T180000
DTSTAMP:20260422T092711
CREATED:20241204T013249Z
LAST-MODIFIED:20250129T031645Z
UID:10098053-1781025300-1781028000@synergyhealthworks.com
SUMMARY:Clinical Reformer
DESCRIPTION:
URL:https://synergyhealthworks.com/event/clinical-reformer-45/2026-06-09/
LOCATION:Wagga Wagga | Reformer Studio\, 221 Kincaid Street\, Wagga Wagga\, NSW\, 2650\, Australia
CATEGORIES:Clinical Reformer
END:VEVENT
BEGIN:VEVENT
DTSTART;TZID=Australia/Sydney:20260609T181500
DTEND;TZID=Australia/Sydney:20260609T190000
DTSTAMP:20260422T092711
CREATED:20241204T013314Z
LAST-MODIFIED:20250914T095850Z
UID:10098305-1781028900-1781031600@synergyhealthworks.com
SUMMARY:Clinical Reformer
DESCRIPTION:
URL:https://synergyhealthworks.com/event/clinical-reformer-46/2026-06-09/
LOCATION:Wagga Wagga | Reformer Studio\, 221 Kincaid Street\, Wagga Wagga\, NSW\, 2650\, Australia
CATEGORIES:Clinical Reformer
END:VEVENT
BEGIN:VEVENT
DTSTART;TZID=Australia/Sydney:20260611T154000
DTEND;TZID=Australia/Sydney:20260611T161000
DTSTAMP:20260422T092711
CREATED:20241204T015621Z
LAST-MODIFIED:20251123T222612Z
UID:10114082-1781192400-1781194200@synergyhealthworks.com
SUMMARY:Reformer for Ballet Dancers
DESCRIPTION:
URL:https://synergyhealthworks.com/event/reformer-for-ballet-dancers/2026-06-11/
LOCATION:Wagga Wagga | Reformer Studio\, 221 Kincaid Street\, Wagga Wagga\, NSW\, 2650\, Australia
CATEGORIES:Clinical Reformer
END:VEVENT
BEGIN:VEVENT
DTSTART;TZID=Australia/Sydney:20260612T060000
DTEND;TZID=Australia/Sydney:20260612T064500
DTSTAMP:20260422T092711
CREATED:20241204T015959Z
LAST-MODIFIED:20251123T222648Z
UID:10103075-1781244000-1781246700@synergyhealthworks.com
SUMMARY:Clinical Reformer
DESCRIPTION:
URL:https://synergyhealthworks.com/event/clinical-reformer-58/2026-06-12/
LOCATION:Wagga Wagga | Reformer Studio\, 221 Kincaid Street\, Wagga Wagga\, NSW\, 2650\, Australia
CATEGORIES:Clinical Reformer
END:VEVENT
BEGIN:VEVENT
DTSTART;TZID=Australia/Sydney:20260612T070000
DTEND;TZID=Australia/Sydney:20260612T074500
DTSTAMP:20260422T092711
CREATED:20241204T011739Z
LAST-MODIFIED:20250129T031131Z
UID:10093016-1781247600-1781250300@synergyhealthworks.com
SUMMARY:Matwork Core Class
DESCRIPTION:
URL:https://synergyhealthworks.com/event/matwork-core-class-15/2026-06-12/
LOCATION:Wagga Wagga | Mat Studio\, 221 Kincaid Street\, Wagga Wagga\, NSW\, 2650\, Australia
CATEGORIES:Matwork
END:VEVENT
BEGIN:VEVENT
DTSTART;TZID=Australia/Sydney:20260612T100000
DTEND;TZID=Australia/Sydney:20260612T104500
DTSTAMP:20260422T092711
CREATED:20250617T134104Z
LAST-MODIFIED:20250617T135929Z
UID:10103577-1781258400-1781261100@synergyhealthworks.com
SUMMARY:Gentle Reformer
DESCRIPTION:
URL:https://synergyhealthworks.com/event/gentle-reformer-12-2-2/2026-06-12/
LOCATION:Wagga Wagga | Reformer Studio\, 221 Kincaid Street\, Wagga Wagga\, NSW\, 2650\, Australia
CATEGORIES:Clinical Reformer
END:VEVENT
BEGIN:VEVENT
DTSTART;TZID=Australia/Sydney:20260615T130000
DTEND;TZID=Australia/Sydney:20260615T134500
DTSTAMP:20260422T092711
CREATED:20241204T012238Z
LAST-MODIFIED:20250617T140550Z
UID:10094778-1781528400-1781531100@synergyhealthworks.com
SUMMARY:Gentle Reformer
DESCRIPTION:
URL:https://synergyhealthworks.com/event/gentle-reformer-8/2026-06-15/
LOCATION:Wagga Wagga | Reformer Studio\, 221 Kincaid Street\, Wagga Wagga\, NSW\, 2650\, Australia
CATEGORIES:Clinical Reformer
END:VEVENT
BEGIN:VEVENT
DTSTART;TZID=Australia/Sydney:20260616T133000
DTEND;TZID=Australia/Sydney:20260616T141500
DTSTAMP:20260422T092711
CREATED:20241204T012919Z
LAST-MODIFIED:20250617T140621Z
UID:10097298-1781616600-1781619300@synergyhealthworks.com
SUMMARY:Gentle Reformer
DESCRIPTION:
URL:https://synergyhealthworks.com/event/gentle-reformer-9/2026-06-16/
LOCATION:Wagga Wagga | Reformer Studio\, 221 Kincaid Street\, Wagga Wagga\, NSW\, 2650\, Australia
CATEGORIES:Clinical Reformer
END:VEVENT
BEGIN:VEVENT
DTSTART;TZID=Australia/Sydney:20260616T171500
DTEND;TZID=Australia/Sydney:20260616T180000
DTSTAMP:20260422T092711
CREATED:20241204T013249Z
LAST-MODIFIED:20250129T031645Z
UID:10098054-1781630100-1781632800@synergyhealthworks.com
SUMMARY:Clinical Reformer
DESCRIPTION:
URL:https://synergyhealthworks.com/event/clinical-reformer-45/2026-06-16/
LOCATION:Wagga Wagga | Reformer Studio\, 221 Kincaid Street\, Wagga Wagga\, NSW\, 2650\, Australia
CATEGORIES:Clinical Reformer
END:VEVENT
BEGIN:VEVENT
DTSTART;TZID=Australia/Sydney:20260616T181500
DTEND;TZID=Australia/Sydney:20260616T190000
DTSTAMP:20260422T092711
CREATED:20241204T013314Z
LAST-MODIFIED:20250914T095850Z
UID:10098306-1781633700-1781636400@synergyhealthworks.com
SUMMARY:Clinical Reformer
DESCRIPTION:
URL:https://synergyhealthworks.com/event/clinical-reformer-46/2026-06-16/
LOCATION:Wagga Wagga | Reformer Studio\, 221 Kincaid Street\, Wagga Wagga\, NSW\, 2650\, Australia
CATEGORIES:Clinical Reformer
END:VEVENT
BEGIN:VEVENT
DTSTART;TZID=Australia/Sydney:20260618T154000
DTEND;TZID=Australia/Sydney:20260618T161000
DTSTAMP:20260422T092711
CREATED:20241204T015621Z
LAST-MODIFIED:20251123T222612Z
UID:10114083-1781797200-1781799000@synergyhealthworks.com
SUMMARY:Reformer for Ballet Dancers
DESCRIPTION:
URL:https://synergyhealthworks.com/event/reformer-for-ballet-dancers/2026-06-18/
LOCATION:Wagga Wagga | Reformer Studio\, 221 Kincaid Street\, Wagga Wagga\, NSW\, 2650\, Australia
CATEGORIES:Clinical Reformer
END:VEVENT
BEGIN:VEVENT
DTSTART;TZID=Australia/Sydney:20260619T060000
DTEND;TZID=Australia/Sydney:20260619T064500
DTSTAMP:20260422T092711
CREATED:20241204T015959Z
LAST-MODIFIED:20251123T222648Z
UID:10103076-1781848800-1781851500@synergyhealthworks.com
SUMMARY:Clinical Reformer
DESCRIPTION:
URL:https://synergyhealthworks.com/event/clinical-reformer-58/2026-06-19/
LOCATION:Wagga Wagga | Reformer Studio\, 221 Kincaid Street\, Wagga Wagga\, NSW\, 2650\, Australia
CATEGORIES:Clinical Reformer
END:VEVENT
END:VCALENDAR