BEGIN:VCALENDAR
VERSION:2.0
PRODID:-//Synergy Healthworks - ECPv6.15.20//NONSGML v1.0//EN
CALSCALE:GREGORIAN
METHOD:PUBLISH
X-WR-CALNAME:Synergy Healthworks
X-ORIGINAL-URL:https://synergyhealthworks.com
X-WR-CALDESC:Events for Synergy Healthworks
REFRESH-INTERVAL;VALUE=DURATION:PT1H
X-Robots-Tag:noindex
X-PUBLISHED-TTL:PT1H
BEGIN:VTIMEZONE
TZID:Australia/Sydney
BEGIN:STANDARD
TZOFFSETFROM:+1100
TZOFFSETTO:+1000
TZNAME:AEST
DTSTART:20250405T160000
END:STANDARD
BEGIN:DAYLIGHT
TZOFFSETFROM:+1000
TZOFFSETTO:+1100
TZNAME:AEDT
DTSTART:20251004T160000
END:DAYLIGHT
BEGIN:STANDARD
TZOFFSETFROM:+1100
TZOFFSETTO:+1000
TZNAME:AEST
DTSTART:20260404T160000
END:STANDARD
BEGIN:DAYLIGHT
TZOFFSETFROM:+1000
TZOFFSETTO:+1100
TZNAME:AEDT
DTSTART:20261003T160000
END:DAYLIGHT
BEGIN:STANDARD
TZOFFSETFROM:+1100
TZOFFSETTO:+1000
TZNAME:AEST
DTSTART:20270403T160000
END:STANDARD
BEGIN:DAYLIGHT
TZOFFSETFROM:+1000
TZOFFSETTO:+1100
TZNAME:AEDT
DTSTART:20271002T160000
END:DAYLIGHT
END:VTIMEZONE
BEGIN:VEVENT
DTSTART;TZID=Australia/Sydney:20260617T113000
DTEND;TZID=Australia/Sydney:20260617T123000
DTSTAMP:20260423T190044
CREATED:20241028T051308Z
LAST-MODIFIED:20251123T230251Z
UID:10110245-1781695800-1781699400@synergyhealthworks.com
SUMMARY:Active Ageing Level 2
DESCRIPTION:
URL:https://synergyhealthworks.com/event/active-ageing-level-2-5/2026-06-17/
LOCATION:Tumut\, Shop 10/95 Wynyard Street\, Tumut\, NSW\, 2720\, Australia
CATEGORIES:Active Ageing
END:VEVENT
BEGIN:VEVENT
DTSTART;TZID=Australia/Sydney:20260618T083000
DTEND;TZID=Australia/Sydney:20260618T093000
DTSTAMP:20260423T190044
CREATED:20241220T013734Z
LAST-MODIFIED:20251123T230349Z
UID:10111022-1781771400-1781775000@synergyhealthworks.com
SUMMARY:Active Ageing Level 2
DESCRIPTION:
URL:https://synergyhealthworks.com/event/active-ageing-level-2-6/2026-06-18/
LOCATION:Tumut\, Shop 10/95 Wynyard Street\, Tumut\, NSW\, 2720\, Australia
CATEGORIES:Active Ageing
END:VEVENT
BEGIN:VEVENT
DTSTART;TZID=Australia/Sydney:20260618T093000
DTEND;TZID=Australia/Sydney:20260618T103000
DTSTAMP:20260423T190044
CREATED:20241220T013930Z
LAST-MODIFIED:20251123T230452Z
UID:10111281-1781775000-1781778600@synergyhealthworks.com
SUMMARY:Active Ageing Level 2
DESCRIPTION:
URL:https://synergyhealthworks.com/event/active-ageing-level-2-7/2026-06-18/
LOCATION:Tumut\, Shop 10/95 Wynyard Street\, Tumut\, NSW\, 2720\, Australia
CATEGORIES:Active Ageing
END:VEVENT
BEGIN:VEVENT
DTSTART;TZID=Australia/Sydney:20260618T133000
DTEND;TZID=Australia/Sydney:20260618T143000
DTSTAMP:20260423T190044
CREATED:20241220T013710Z
LAST-MODIFIED:20251123T230524Z
UID:10110763-1781789400-1781793000@synergyhealthworks.com
SUMMARY:Active Ageing Level 1
DESCRIPTION:
URL:https://synergyhealthworks.com/event/active-ageing-level-1-5/2026-06-18/
LOCATION:Tumut\, Shop 10/95 Wynyard Street\, Tumut\, NSW\, 2720\, Australia
CATEGORIES:Active Ageing
END:VEVENT
BEGIN:VEVENT
DTSTART;TZID=Australia/Sydney:20260622T083000
DTEND;TZID=Australia/Sydney:20260622T093000
DTSTAMP:20260423T190044
CREATED:20241028T050434Z
LAST-MODIFIED:20251123T225656Z
UID:10109154-1782117000-1782120600@synergyhealthworks.com
SUMMARY:Active Ageing Level 2
DESCRIPTION:
URL:https://synergyhealthworks.com/event/active-ageing-level-2/2026-06-22/
LOCATION:Tumut\, Shop 10/95 Wynyard Street\, Tumut\, NSW\, 2720\, Australia
CATEGORIES:Active Ageing
END:VEVENT
BEGIN:VEVENT
DTSTART;TZID=Australia/Sydney:20260622T093000
DTEND;TZID=Australia/Sydney:20260622T103000
DTSTAMP:20260423T190044
CREATED:20241028T050603Z
LAST-MODIFIED:20251123T225830Z
UID:10067941-1782120600-1782124200@synergyhealthworks.com
SUMMARY:Active Ageing Level 2
DESCRIPTION:
URL:https://synergyhealthworks.com/event/active-ageing-level-1/2026-06-22/
LOCATION:Tumut\, Shop 10/95 Wynyard Street\, Tumut\, NSW\, 2720\, Australia
CATEGORIES:Active Ageing
END:VEVENT
BEGIN:VEVENT
DTSTART;TZID=Australia/Sydney:20260622T103000
DTEND;TZID=Australia/Sydney:20260622T113000
DTSTAMP:20260423T190044
CREATED:20241028T050721Z
LAST-MODIFIED:20251123T225903Z
UID:10109431-1782124200-1782127800@synergyhealthworks.com
SUMMARY:Active Ageing Level 2
DESCRIPTION:
URL:https://synergyhealthworks.com/event/active-ageing-level-2-2/2026-06-22/
LOCATION:Tumut\, Shop 10/95 Wynyard Street\, Tumut\, NSW\, 2720\, Australia
CATEGORIES:Active Ageing
END:VEVENT
BEGIN:VEVENT
DTSTART;TZID=Australia/Sydney:20260623T093000
DTEND;TZID=Australia/Sydney:20260623T103000
DTSTAMP:20260423T190044
CREATED:20241220T010410Z
LAST-MODIFIED:20251123T225952Z
UID:10110505-1782207000-1782210600@synergyhealthworks.com
SUMMARY:Active Ageing Level 1
DESCRIPTION:
URL:https://synergyhealthworks.com/event/active-ageing-level-1-4/2026-06-23/
LOCATION:Tumut\, Shop 10/95 Wynyard Street\, Tumut\, NSW\, 2720\, Australia
CATEGORIES:Active Ageing
END:VEVENT
BEGIN:VEVENT
DTSTART;TZID=Australia/Sydney:20260624T083000
DTEND;TZID=Australia/Sydney:20260624T093000
DTSTAMP:20260423T190044
CREATED:20241028T050839Z
LAST-MODIFIED:20251123T230028Z
UID:10109700-1782289800-1782293400@synergyhealthworks.com
SUMMARY:Active Ageing Level 2
DESCRIPTION:
URL:https://synergyhealthworks.com/event/active-ageing-level-2-3/2026-06-24/
LOCATION:Tumut\, Shop 10/95 Wynyard Street\, Tumut\, NSW\, 2720\, Australia
CATEGORIES:Active Ageing
END:VEVENT
BEGIN:VEVENT
DTSTART;TZID=Australia/Sydney:20260624T093000
DTEND;TZID=Australia/Sydney:20260624T103000
DTSTAMP:20260423T190044
CREATED:20241028T050956Z
LAST-MODIFIED:20251123T230111Z
UID:10068724-1782293400-1782297000@synergyhealthworks.com
SUMMARY:Active Ageing Level 2
DESCRIPTION:
URL:https://synergyhealthworks.com/event/active-ageing-level-2-4/2026-06-24/
LOCATION:Tumut\, Shop 10/95 Wynyard Street\, Tumut\, NSW\, 2720\, Australia
CATEGORIES:Active Ageing
END:VEVENT
BEGIN:VEVENT
DTSTART;TZID=Australia/Sydney:20260624T103000
DTEND;TZID=Australia/Sydney:20260624T113000
DTSTAMP:20260423T190044
CREATED:20241028T051106Z
LAST-MODIFIED:20251123T230148Z
UID:10109977-1782297000-1782300600@synergyhealthworks.com
SUMMARY:Active Ageing Level 2
DESCRIPTION:
URL:https://synergyhealthworks.com/event/active-ageing-level-1-2/2026-06-24/
LOCATION:Tumut\, Shop 10/95 Wynyard Street\, Tumut\, NSW\, 2720\, Australia
CATEGORIES:Active Ageing
END:VEVENT
BEGIN:VEVENT
DTSTART;TZID=Australia/Sydney:20260624T113000
DTEND;TZID=Australia/Sydney:20260624T123000
DTSTAMP:20260423T190044
CREATED:20241028T051308Z
LAST-MODIFIED:20251123T230251Z
UID:10110246-1782300600-1782304200@synergyhealthworks.com
SUMMARY:Active Ageing Level 2
DESCRIPTION:
URL:https://synergyhealthworks.com/event/active-ageing-level-2-5/2026-06-24/
LOCATION:Tumut\, Shop 10/95 Wynyard Street\, Tumut\, NSW\, 2720\, Australia
CATEGORIES:Active Ageing
END:VEVENT
BEGIN:VEVENT
DTSTART;TZID=Australia/Sydney:20260625T083000
DTEND;TZID=Australia/Sydney:20260625T093000
DTSTAMP:20260423T190044
CREATED:20241220T013734Z
LAST-MODIFIED:20251123T230349Z
UID:10111023-1782376200-1782379800@synergyhealthworks.com
SUMMARY:Active Ageing Level 2
DESCRIPTION:
URL:https://synergyhealthworks.com/event/active-ageing-level-2-6/2026-06-25/
LOCATION:Tumut\, Shop 10/95 Wynyard Street\, Tumut\, NSW\, 2720\, Australia
CATEGORIES:Active Ageing
END:VEVENT
BEGIN:VEVENT
DTSTART;TZID=Australia/Sydney:20260625T093000
DTEND;TZID=Australia/Sydney:20260625T103000
DTSTAMP:20260423T190044
CREATED:20241220T013930Z
LAST-MODIFIED:20251123T230452Z
UID:10111282-1782379800-1782383400@synergyhealthworks.com
SUMMARY:Active Ageing Level 2
DESCRIPTION:
URL:https://synergyhealthworks.com/event/active-ageing-level-2-7/2026-06-25/
LOCATION:Tumut\, Shop 10/95 Wynyard Street\, Tumut\, NSW\, 2720\, Australia
CATEGORIES:Active Ageing
END:VEVENT
BEGIN:VEVENT
DTSTART;TZID=Australia/Sydney:20260625T133000
DTEND;TZID=Australia/Sydney:20260625T143000
DTSTAMP:20260423T190044
CREATED:20241220T013710Z
LAST-MODIFIED:20251123T230524Z
UID:10110764-1782394200-1782397800@synergyhealthworks.com
SUMMARY:Active Ageing Level 1
DESCRIPTION:
URL:https://synergyhealthworks.com/event/active-ageing-level-1-5/2026-06-25/
LOCATION:Tumut\, Shop 10/95 Wynyard Street\, Tumut\, NSW\, 2720\, Australia
CATEGORIES:Active Ageing
END:VEVENT
BEGIN:VEVENT
DTSTART;TZID=Australia/Sydney:20260629T083000
DTEND;TZID=Australia/Sydney:20260629T093000
DTSTAMP:20260423T190044
CREATED:20241028T050434Z
LAST-MODIFIED:20251123T225656Z
UID:10109155-1782721800-1782725400@synergyhealthworks.com
SUMMARY:Active Ageing Level 2
DESCRIPTION:
URL:https://synergyhealthworks.com/event/active-ageing-level-2/2026-06-29/
LOCATION:Tumut\, Shop 10/95 Wynyard Street\, Tumut\, NSW\, 2720\, Australia
CATEGORIES:Active Ageing
END:VEVENT
BEGIN:VEVENT
DTSTART;TZID=Australia/Sydney:20260629T093000
DTEND;TZID=Australia/Sydney:20260629T103000
DTSTAMP:20260423T190044
CREATED:20241028T050603Z
LAST-MODIFIED:20251123T225830Z
UID:10067942-1782725400-1782729000@synergyhealthworks.com
SUMMARY:Active Ageing Level 2
DESCRIPTION:
URL:https://synergyhealthworks.com/event/active-ageing-level-1/2026-06-29/
LOCATION:Tumut\, Shop 10/95 Wynyard Street\, Tumut\, NSW\, 2720\, Australia
CATEGORIES:Active Ageing
END:VEVENT
BEGIN:VEVENT
DTSTART;TZID=Australia/Sydney:20260629T103000
DTEND;TZID=Australia/Sydney:20260629T113000
DTSTAMP:20260423T190044
CREATED:20241028T050721Z
LAST-MODIFIED:20251123T225903Z
UID:10109432-1782729000-1782732600@synergyhealthworks.com
SUMMARY:Active Ageing Level 2
DESCRIPTION:
URL:https://synergyhealthworks.com/event/active-ageing-level-2-2/2026-06-29/
LOCATION:Tumut\, Shop 10/95 Wynyard Street\, Tumut\, NSW\, 2720\, Australia
CATEGORIES:Active Ageing
END:VEVENT
BEGIN:VEVENT
DTSTART;TZID=Australia/Sydney:20260630T093000
DTEND;TZID=Australia/Sydney:20260630T103000
DTSTAMP:20260423T190044
CREATED:20241220T010410Z
LAST-MODIFIED:20251123T225952Z
UID:10110506-1782811800-1782815400@synergyhealthworks.com
SUMMARY:Active Ageing Level 1
DESCRIPTION:
URL:https://synergyhealthworks.com/event/active-ageing-level-1-4/2026-06-30/
LOCATION:Tumut\, Shop 10/95 Wynyard Street\, Tumut\, NSW\, 2720\, Australia
CATEGORIES:Active Ageing
END:VEVENT
BEGIN:VEVENT
DTSTART;TZID=Australia/Sydney:20260701T083000
DTEND;TZID=Australia/Sydney:20260701T093000
DTSTAMP:20260423T190044
CREATED:20241028T050839Z
LAST-MODIFIED:20251123T230028Z
UID:10109701-1782894600-1782898200@synergyhealthworks.com
SUMMARY:Active Ageing Level 2
DESCRIPTION:
URL:https://synergyhealthworks.com/event/active-ageing-level-2-3/2026-07-01/
LOCATION:Tumut\, Shop 10/95 Wynyard Street\, Tumut\, NSW\, 2720\, Australia
CATEGORIES:Active Ageing
END:VEVENT
BEGIN:VEVENT
DTSTART;TZID=Australia/Sydney:20260701T093000
DTEND;TZID=Australia/Sydney:20260701T103000
DTSTAMP:20260423T190044
CREATED:20241028T050956Z
LAST-MODIFIED:20251123T230111Z
UID:10068725-1782898200-1782901800@synergyhealthworks.com
SUMMARY:Active Ageing Level 2
DESCRIPTION:
URL:https://synergyhealthworks.com/event/active-ageing-level-2-4/2026-07-01/
LOCATION:Tumut\, Shop 10/95 Wynyard Street\, Tumut\, NSW\, 2720\, Australia
CATEGORIES:Active Ageing
END:VEVENT
BEGIN:VEVENT
DTSTART;TZID=Australia/Sydney:20260701T103000
DTEND;TZID=Australia/Sydney:20260701T113000
DTSTAMP:20260423T190044
CREATED:20241028T051106Z
LAST-MODIFIED:20251123T230148Z
UID:10109978-1782901800-1782905400@synergyhealthworks.com
SUMMARY:Active Ageing Level 2
DESCRIPTION:
URL:https://synergyhealthworks.com/event/active-ageing-level-1-2/2026-07-01/
LOCATION:Tumut\, Shop 10/95 Wynyard Street\, Tumut\, NSW\, 2720\, Australia
CATEGORIES:Active Ageing
END:VEVENT
BEGIN:VEVENT
DTSTART;TZID=Australia/Sydney:20260701T113000
DTEND;TZID=Australia/Sydney:20260701T123000
DTSTAMP:20260423T190044
CREATED:20241028T051308Z
LAST-MODIFIED:20251123T230251Z
UID:10110247-1782905400-1782909000@synergyhealthworks.com
SUMMARY:Active Ageing Level 2
DESCRIPTION:
URL:https://synergyhealthworks.com/event/active-ageing-level-2-5/2026-07-01/
LOCATION:Tumut\, Shop 10/95 Wynyard Street\, Tumut\, NSW\, 2720\, Australia
CATEGORIES:Active Ageing
END:VEVENT
BEGIN:VEVENT
DTSTART;TZID=Australia/Sydney:20260702T083000
DTEND;TZID=Australia/Sydney:20260702T093000
DTSTAMP:20260423T190044
CREATED:20241220T013734Z
LAST-MODIFIED:20251123T230349Z
UID:10111024-1782981000-1782984600@synergyhealthworks.com
SUMMARY:Active Ageing Level 2
DESCRIPTION:
URL:https://synergyhealthworks.com/event/active-ageing-level-2-6/2026-07-02/
LOCATION:Tumut\, Shop 10/95 Wynyard Street\, Tumut\, NSW\, 2720\, Australia
CATEGORIES:Active Ageing
END:VEVENT
BEGIN:VEVENT
DTSTART;TZID=Australia/Sydney:20260702T093000
DTEND;TZID=Australia/Sydney:20260702T103000
DTSTAMP:20260423T190044
CREATED:20241220T013930Z
LAST-MODIFIED:20251123T230452Z
UID:10111283-1782984600-1782988200@synergyhealthworks.com
SUMMARY:Active Ageing Level 2
DESCRIPTION:
URL:https://synergyhealthworks.com/event/active-ageing-level-2-7/2026-07-02/
LOCATION:Tumut\, Shop 10/95 Wynyard Street\, Tumut\, NSW\, 2720\, Australia
CATEGORIES:Active Ageing
END:VEVENT
BEGIN:VEVENT
DTSTART;TZID=Australia/Sydney:20260702T133000
DTEND;TZID=Australia/Sydney:20260702T143000
DTSTAMP:20260423T190044
CREATED:20241220T013710Z
LAST-MODIFIED:20251123T230524Z
UID:10110765-1782999000-1783002600@synergyhealthworks.com
SUMMARY:Active Ageing Level 1
DESCRIPTION:
URL:https://synergyhealthworks.com/event/active-ageing-level-1-5/2026-07-02/
LOCATION:Tumut\, Shop 10/95 Wynyard Street\, Tumut\, NSW\, 2720\, Australia
CATEGORIES:Active Ageing
END:VEVENT
BEGIN:VEVENT
DTSTART;TZID=Australia/Sydney:20260706T083000
DTEND;TZID=Australia/Sydney:20260706T093000
DTSTAMP:20260423T190044
CREATED:20241028T050434Z
LAST-MODIFIED:20251123T225656Z
UID:10109156-1783326600-1783330200@synergyhealthworks.com
SUMMARY:Active Ageing Level 2
DESCRIPTION:
URL:https://synergyhealthworks.com/event/active-ageing-level-2/2026-07-06/
LOCATION:Tumut\, Shop 10/95 Wynyard Street\, Tumut\, NSW\, 2720\, Australia
CATEGORIES:Active Ageing
END:VEVENT
BEGIN:VEVENT
DTSTART;TZID=Australia/Sydney:20260706T093000
DTEND;TZID=Australia/Sydney:20260706T103000
DTSTAMP:20260423T190044
CREATED:20241028T050603Z
LAST-MODIFIED:20251123T225830Z
UID:10067943-1783330200-1783333800@synergyhealthworks.com
SUMMARY:Active Ageing Level 2
DESCRIPTION:
URL:https://synergyhealthworks.com/event/active-ageing-level-1/2026-07-06/
LOCATION:Tumut\, Shop 10/95 Wynyard Street\, Tumut\, NSW\, 2720\, Australia
CATEGORIES:Active Ageing
END:VEVENT
BEGIN:VEVENT
DTSTART;TZID=Australia/Sydney:20260706T103000
DTEND;TZID=Australia/Sydney:20260706T113000
DTSTAMP:20260423T190044
CREATED:20241028T050721Z
LAST-MODIFIED:20251123T225903Z
UID:10109433-1783333800-1783337400@synergyhealthworks.com
SUMMARY:Active Ageing Level 2
DESCRIPTION:
URL:https://synergyhealthworks.com/event/active-ageing-level-2-2/2026-07-06/
LOCATION:Tumut\, Shop 10/95 Wynyard Street\, Tumut\, NSW\, 2720\, Australia
CATEGORIES:Active Ageing
END:VEVENT
BEGIN:VEVENT
DTSTART;TZID=Australia/Sydney:20260707T093000
DTEND;TZID=Australia/Sydney:20260707T103000
DTSTAMP:20260423T190044
CREATED:20241220T010410Z
LAST-MODIFIED:20251123T225952Z
UID:10110507-1783416600-1783420200@synergyhealthworks.com
SUMMARY:Active Ageing Level 1
DESCRIPTION:
URL:https://synergyhealthworks.com/event/active-ageing-level-1-4/2026-07-07/
LOCATION:Tumut\, Shop 10/95 Wynyard Street\, Tumut\, NSW\, 2720\, Australia
CATEGORIES:Active Ageing
END:VEVENT
END:VCALENDAR