BEGIN:VCALENDAR
VERSION:2.0
PRODID:-//Synergy Healthworks - ECPv6.15.20//NONSGML v1.0//EN
CALSCALE:GREGORIAN
METHOD:PUBLISH
X-ORIGINAL-URL:https://synergyhealthworks.com
X-WR-CALDESC:Events for Synergy Healthworks
REFRESH-INTERVAL;VALUE=DURATION:PT1H
X-Robots-Tag:noindex
X-PUBLISHED-TTL:PT1H
BEGIN:VTIMEZONE
TZID:Australia/Sydney
BEGIN:STANDARD
TZOFFSETFROM:+1100
TZOFFSETTO:+1000
TZNAME:AEST
DTSTART:20260404T160000
END:STANDARD
BEGIN:DAYLIGHT
TZOFFSETFROM:+1000
TZOFFSETTO:+1100
TZNAME:AEDT
DTSTART:20261003T160000
END:DAYLIGHT
BEGIN:STANDARD
TZOFFSETFROM:+1100
TZOFFSETTO:+1000
TZNAME:AEST
DTSTART:20270403T160000
END:STANDARD
BEGIN:DAYLIGHT
TZOFFSETFROM:+1000
TZOFFSETTO:+1100
TZNAME:AEDT
DTSTART:20271002T160000
END:DAYLIGHT
BEGIN:STANDARD
TZOFFSETFROM:+1100
TZOFFSETTO:+1000
TZNAME:AEST
DTSTART:20280401T160000
END:STANDARD
BEGIN:DAYLIGHT
TZOFFSETFROM:+1000
TZOFFSETTO:+1100
TZNAME:AEDT
DTSTART:20280930T160000
END:DAYLIGHT
END:VTIMEZONE
BEGIN:VEVENT
DTSTART;TZID=Australia/Sydney:20270329T083000
DTEND;TZID=Australia/Sydney:20270329T093000
DTSTAMP:20260426T092323
CREATED:20241028T050434Z
LAST-MODIFIED:20251123T225656Z
UID:10109194-1806309000-1806312600@synergyhealthworks.com
SUMMARY:Active Ageing Level 2
DESCRIPTION:
URL:https://synergyhealthworks.com/event/active-ageing-level-2/2027-03-29/
LOCATION:Tumut\, Shop 10/95 Wynyard Street\, Tumut\, NSW\, 2720\, Australia
CATEGORIES:Active Ageing
END:VEVENT
BEGIN:VEVENT
DTSTART;TZID=Australia/Sydney:20270329T093000
DTEND;TZID=Australia/Sydney:20270329T103000
DTSTAMP:20260426T092323
CREATED:20241028T050603Z
LAST-MODIFIED:20251123T225830Z
UID:10067981-1806312600-1806316200@synergyhealthworks.com
SUMMARY:Active Ageing Level 2
DESCRIPTION:
URL:https://synergyhealthworks.com/event/active-ageing-level-1/2027-03-29/
LOCATION:Tumut\, Shop 10/95 Wynyard Street\, Tumut\, NSW\, 2720\, Australia
CATEGORIES:Active Ageing
END:VEVENT
BEGIN:VEVENT
DTSTART;TZID=Australia/Sydney:20270329T103000
DTEND;TZID=Australia/Sydney:20270329T113000
DTSTAMP:20260426T092323
CREATED:20241028T050721Z
LAST-MODIFIED:20251123T225903Z
UID:10109471-1806316200-1806319800@synergyhealthworks.com
SUMMARY:Active Ageing Level 2
DESCRIPTION:
URL:https://synergyhealthworks.com/event/active-ageing-level-2-2/2027-03-29/
LOCATION:Tumut\, Shop 10/95 Wynyard Street\, Tumut\, NSW\, 2720\, Australia
CATEGORIES:Active Ageing
END:VEVENT
BEGIN:VEVENT
DTSTART;TZID=Australia/Sydney:20270330T093000
DTEND;TZID=Australia/Sydney:20270330T103000
DTSTAMP:20260426T092323
CREATED:20241220T010410Z
LAST-MODIFIED:20251123T225952Z
UID:10110545-1806399000-1806402600@synergyhealthworks.com
SUMMARY:Active Ageing Level 1
DESCRIPTION:
URL:https://synergyhealthworks.com/event/active-ageing-level-1-4/2027-03-30/
LOCATION:Tumut\, Shop 10/95 Wynyard Street\, Tumut\, NSW\, 2720\, Australia
CATEGORIES:Active Ageing
END:VEVENT
BEGIN:VEVENT
DTSTART;TZID=Australia/Sydney:20270331T083000
DTEND;TZID=Australia/Sydney:20270331T093000
DTSTAMP:20260426T092323
CREATED:20241028T050839Z
LAST-MODIFIED:20251123T230028Z
UID:10109740-1806481800-1806485400@synergyhealthworks.com
SUMMARY:Active Ageing Level 2
DESCRIPTION:
URL:https://synergyhealthworks.com/event/active-ageing-level-2-3/2027-03-31/
LOCATION:Tumut\, Shop 10/95 Wynyard Street\, Tumut\, NSW\, 2720\, Australia
CATEGORIES:Active Ageing
END:VEVENT
BEGIN:VEVENT
DTSTART;TZID=Australia/Sydney:20270331T093000
DTEND;TZID=Australia/Sydney:20270331T103000
DTSTAMP:20260426T092323
CREATED:20241028T050956Z
LAST-MODIFIED:20251123T230111Z
UID:10068764-1806485400-1806489000@synergyhealthworks.com
SUMMARY:Active Ageing Level 2
DESCRIPTION:
URL:https://synergyhealthworks.com/event/active-ageing-level-2-4/2027-03-31/
LOCATION:Tumut\, Shop 10/95 Wynyard Street\, Tumut\, NSW\, 2720\, Australia
CATEGORIES:Active Ageing
END:VEVENT
BEGIN:VEVENT
DTSTART;TZID=Australia/Sydney:20270331T103000
DTEND;TZID=Australia/Sydney:20270331T113000
DTSTAMP:20260426T092323
CREATED:20241028T051106Z
LAST-MODIFIED:20251123T230148Z
UID:10110017-1806489000-1806492600@synergyhealthworks.com
SUMMARY:Active Ageing Level 2
DESCRIPTION:
URL:https://synergyhealthworks.com/event/active-ageing-level-1-2/2027-03-31/
LOCATION:Tumut\, Shop 10/95 Wynyard Street\, Tumut\, NSW\, 2720\, Australia
CATEGORIES:Active Ageing
END:VEVENT
BEGIN:VEVENT
DTSTART;TZID=Australia/Sydney:20270331T113000
DTEND;TZID=Australia/Sydney:20270331T123000
DTSTAMP:20260426T092323
CREATED:20241028T051308Z
LAST-MODIFIED:20251123T230251Z
UID:10110286-1806492600-1806496200@synergyhealthworks.com
SUMMARY:Active Ageing Level 2
DESCRIPTION:
URL:https://synergyhealthworks.com/event/active-ageing-level-2-5/2027-03-31/
LOCATION:Tumut\, Shop 10/95 Wynyard Street\, Tumut\, NSW\, 2720\, Australia
CATEGORIES:Active Ageing
END:VEVENT
BEGIN:VEVENT
DTSTART;TZID=Australia/Sydney:20270401T083000
DTEND;TZID=Australia/Sydney:20270401T093000
DTSTAMP:20260426T092323
CREATED:20241220T013734Z
LAST-MODIFIED:20251123T230349Z
UID:10111063-1806568200-1806571800@synergyhealthworks.com
SUMMARY:Active Ageing Level 2
DESCRIPTION:
URL:https://synergyhealthworks.com/event/active-ageing-level-2-6/2027-04-01/
LOCATION:Tumut\, Shop 10/95 Wynyard Street\, Tumut\, NSW\, 2720\, Australia
CATEGORIES:Active Ageing
END:VEVENT
BEGIN:VEVENT
DTSTART;TZID=Australia/Sydney:20270401T093000
DTEND;TZID=Australia/Sydney:20270401T103000
DTSTAMP:20260426T092323
CREATED:20241220T013930Z
LAST-MODIFIED:20251123T230452Z
UID:10111322-1806571800-1806575400@synergyhealthworks.com
SUMMARY:Active Ageing Level 2
DESCRIPTION:
URL:https://synergyhealthworks.com/event/active-ageing-level-2-7/2027-04-01/
LOCATION:Tumut\, Shop 10/95 Wynyard Street\, Tumut\, NSW\, 2720\, Australia
CATEGORIES:Active Ageing
END:VEVENT
BEGIN:VEVENT
DTSTART;TZID=Australia/Sydney:20270401T133000
DTEND;TZID=Australia/Sydney:20270401T143000
DTSTAMP:20260426T092323
CREATED:20241220T013710Z
LAST-MODIFIED:20251123T230524Z
UID:10110804-1806586200-1806589800@synergyhealthworks.com
SUMMARY:Active Ageing Level 1
DESCRIPTION:
URL:https://synergyhealthworks.com/event/active-ageing-level-1-5/2027-04-01/
LOCATION:Tumut\, Shop 10/95 Wynyard Street\, Tumut\, NSW\, 2720\, Australia
CATEGORIES:Active Ageing
END:VEVENT
BEGIN:VEVENT
DTSTART;TZID=Australia/Sydney:20270405T083000
DTEND;TZID=Australia/Sydney:20270405T093000
DTSTAMP:20260426T092323
CREATED:20241028T050434Z
LAST-MODIFIED:20251123T225656Z
UID:10109195-1806913800-1806917400@synergyhealthworks.com
SUMMARY:Active Ageing Level 2
DESCRIPTION:
URL:https://synergyhealthworks.com/event/active-ageing-level-2/2027-04-05/
LOCATION:Tumut\, Shop 10/95 Wynyard Street\, Tumut\, NSW\, 2720\, Australia
CATEGORIES:Active Ageing
END:VEVENT
BEGIN:VEVENT
DTSTART;TZID=Australia/Sydney:20270405T093000
DTEND;TZID=Australia/Sydney:20270405T103000
DTSTAMP:20260426T092323
CREATED:20241028T050603Z
LAST-MODIFIED:20251123T225830Z
UID:10067982-1806917400-1806921000@synergyhealthworks.com
SUMMARY:Active Ageing Level 2
DESCRIPTION:
URL:https://synergyhealthworks.com/event/active-ageing-level-1/2027-04-05/
LOCATION:Tumut\, Shop 10/95 Wynyard Street\, Tumut\, NSW\, 2720\, Australia
CATEGORIES:Active Ageing
END:VEVENT
BEGIN:VEVENT
DTSTART;TZID=Australia/Sydney:20270405T103000
DTEND;TZID=Australia/Sydney:20270405T113000
DTSTAMP:20260426T092323
CREATED:20241028T050721Z
LAST-MODIFIED:20251123T225903Z
UID:10109472-1806921000-1806924600@synergyhealthworks.com
SUMMARY:Active Ageing Level 2
DESCRIPTION:
URL:https://synergyhealthworks.com/event/active-ageing-level-2-2/2027-04-05/
LOCATION:Tumut\, Shop 10/95 Wynyard Street\, Tumut\, NSW\, 2720\, Australia
CATEGORIES:Active Ageing
END:VEVENT
BEGIN:VEVENT
DTSTART;TZID=Australia/Sydney:20270406T093000
DTEND;TZID=Australia/Sydney:20270406T103000
DTSTAMP:20260426T092323
CREATED:20241220T010410Z
LAST-MODIFIED:20251123T225952Z
UID:10110546-1807003800-1807007400@synergyhealthworks.com
SUMMARY:Active Ageing Level 1
DESCRIPTION:
URL:https://synergyhealthworks.com/event/active-ageing-level-1-4/2027-04-06/
LOCATION:Tumut\, Shop 10/95 Wynyard Street\, Tumut\, NSW\, 2720\, Australia
CATEGORIES:Active Ageing
END:VEVENT
BEGIN:VEVENT
DTSTART;TZID=Australia/Sydney:20270407T083000
DTEND;TZID=Australia/Sydney:20270407T093000
DTSTAMP:20260426T092323
CREATED:20241028T050839Z
LAST-MODIFIED:20251123T230028Z
UID:10109741-1807086600-1807090200@synergyhealthworks.com
SUMMARY:Active Ageing Level 2
DESCRIPTION:
URL:https://synergyhealthworks.com/event/active-ageing-level-2-3/2027-04-07/
LOCATION:Tumut\, Shop 10/95 Wynyard Street\, Tumut\, NSW\, 2720\, Australia
CATEGORIES:Active Ageing
END:VEVENT
BEGIN:VEVENT
DTSTART;TZID=Australia/Sydney:20270407T093000
DTEND;TZID=Australia/Sydney:20270407T103000
DTSTAMP:20260426T092323
CREATED:20241028T050956Z
LAST-MODIFIED:20251123T230111Z
UID:10068765-1807090200-1807093800@synergyhealthworks.com
SUMMARY:Active Ageing Level 2
DESCRIPTION:
URL:https://synergyhealthworks.com/event/active-ageing-level-2-4/2027-04-07/
LOCATION:Tumut\, Shop 10/95 Wynyard Street\, Tumut\, NSW\, 2720\, Australia
CATEGORIES:Active Ageing
END:VEVENT
BEGIN:VEVENT
DTSTART;TZID=Australia/Sydney:20270407T103000
DTEND;TZID=Australia/Sydney:20270407T113000
DTSTAMP:20260426T092323
CREATED:20241028T051106Z
LAST-MODIFIED:20251123T230148Z
UID:10110018-1807093800-1807097400@synergyhealthworks.com
SUMMARY:Active Ageing Level 2
DESCRIPTION:
URL:https://synergyhealthworks.com/event/active-ageing-level-1-2/2027-04-07/
LOCATION:Tumut\, Shop 10/95 Wynyard Street\, Tumut\, NSW\, 2720\, Australia
CATEGORIES:Active Ageing
END:VEVENT
BEGIN:VEVENT
DTSTART;TZID=Australia/Sydney:20270407T113000
DTEND;TZID=Australia/Sydney:20270407T123000
DTSTAMP:20260426T092323
CREATED:20241028T051308Z
LAST-MODIFIED:20251123T230251Z
UID:10110287-1807097400-1807101000@synergyhealthworks.com
SUMMARY:Active Ageing Level 2
DESCRIPTION:
URL:https://synergyhealthworks.com/event/active-ageing-level-2-5/2027-04-07/
LOCATION:Tumut\, Shop 10/95 Wynyard Street\, Tumut\, NSW\, 2720\, Australia
CATEGORIES:Active Ageing
END:VEVENT
BEGIN:VEVENT
DTSTART;TZID=Australia/Sydney:20270408T083000
DTEND;TZID=Australia/Sydney:20270408T093000
DTSTAMP:20260426T092323
CREATED:20241220T013734Z
LAST-MODIFIED:20251123T230349Z
UID:10111064-1807173000-1807176600@synergyhealthworks.com
SUMMARY:Active Ageing Level 2
DESCRIPTION:
URL:https://synergyhealthworks.com/event/active-ageing-level-2-6/2027-04-08/
LOCATION:Tumut\, Shop 10/95 Wynyard Street\, Tumut\, NSW\, 2720\, Australia
CATEGORIES:Active Ageing
END:VEVENT
BEGIN:VEVENT
DTSTART;TZID=Australia/Sydney:20270408T093000
DTEND;TZID=Australia/Sydney:20270408T103000
DTSTAMP:20260426T092323
CREATED:20241220T013930Z
LAST-MODIFIED:20251123T230452Z
UID:10111323-1807176600-1807180200@synergyhealthworks.com
SUMMARY:Active Ageing Level 2
DESCRIPTION:
URL:https://synergyhealthworks.com/event/active-ageing-level-2-7/2027-04-08/
LOCATION:Tumut\, Shop 10/95 Wynyard Street\, Tumut\, NSW\, 2720\, Australia
CATEGORIES:Active Ageing
END:VEVENT
BEGIN:VEVENT
DTSTART;TZID=Australia/Sydney:20270408T133000
DTEND;TZID=Australia/Sydney:20270408T143000
DTSTAMP:20260426T092323
CREATED:20241220T013710Z
LAST-MODIFIED:20251123T230524Z
UID:10110805-1807191000-1807194600@synergyhealthworks.com
SUMMARY:Active Ageing Level 1
DESCRIPTION:
URL:https://synergyhealthworks.com/event/active-ageing-level-1-5/2027-04-08/
LOCATION:Tumut\, Shop 10/95 Wynyard Street\, Tumut\, NSW\, 2720\, Australia
CATEGORIES:Active Ageing
END:VEVENT
BEGIN:VEVENT
DTSTART;TZID=Australia/Sydney:20270412T083000
DTEND;TZID=Australia/Sydney:20270412T093000
DTSTAMP:20260426T092323
CREATED:20241028T050434Z
LAST-MODIFIED:20251123T225656Z
UID:10109196-1807518600-1807522200@synergyhealthworks.com
SUMMARY:Active Ageing Level 2
DESCRIPTION:
URL:https://synergyhealthworks.com/event/active-ageing-level-2/2027-04-12/
LOCATION:Tumut\, Shop 10/95 Wynyard Street\, Tumut\, NSW\, 2720\, Australia
CATEGORIES:Active Ageing
END:VEVENT
BEGIN:VEVENT
DTSTART;TZID=Australia/Sydney:20270412T093000
DTEND;TZID=Australia/Sydney:20270412T103000
DTSTAMP:20260426T092323
CREATED:20241028T050603Z
LAST-MODIFIED:20251123T225830Z
UID:10067983-1807522200-1807525800@synergyhealthworks.com
SUMMARY:Active Ageing Level 2
DESCRIPTION:
URL:https://synergyhealthworks.com/event/active-ageing-level-1/2027-04-12/
LOCATION:Tumut\, Shop 10/95 Wynyard Street\, Tumut\, NSW\, 2720\, Australia
CATEGORIES:Active Ageing
END:VEVENT
BEGIN:VEVENT
DTSTART;TZID=Australia/Sydney:20270412T103000
DTEND;TZID=Australia/Sydney:20270412T113000
DTSTAMP:20260426T092323
CREATED:20241028T050721Z
LAST-MODIFIED:20251123T225903Z
UID:10109473-1807525800-1807529400@synergyhealthworks.com
SUMMARY:Active Ageing Level 2
DESCRIPTION:
URL:https://synergyhealthworks.com/event/active-ageing-level-2-2/2027-04-12/
LOCATION:Tumut\, Shop 10/95 Wynyard Street\, Tumut\, NSW\, 2720\, Australia
CATEGORIES:Active Ageing
END:VEVENT
BEGIN:VEVENT
DTSTART;TZID=Australia/Sydney:20270413T093000
DTEND;TZID=Australia/Sydney:20270413T103000
DTSTAMP:20260426T092323
CREATED:20241220T010410Z
LAST-MODIFIED:20251123T225952Z
UID:10110547-1807608600-1807612200@synergyhealthworks.com
SUMMARY:Active Ageing Level 1
DESCRIPTION:
URL:https://synergyhealthworks.com/event/active-ageing-level-1-4/2027-04-13/
LOCATION:Tumut\, Shop 10/95 Wynyard Street\, Tumut\, NSW\, 2720\, Australia
CATEGORIES:Active Ageing
END:VEVENT
BEGIN:VEVENT
DTSTART;TZID=Australia/Sydney:20270414T083000
DTEND;TZID=Australia/Sydney:20270414T093000
DTSTAMP:20260426T092323
CREATED:20241028T050839Z
LAST-MODIFIED:20251123T230028Z
UID:10109742-1807691400-1807695000@synergyhealthworks.com
SUMMARY:Active Ageing Level 2
DESCRIPTION:
URL:https://synergyhealthworks.com/event/active-ageing-level-2-3/2027-04-14/
LOCATION:Tumut\, Shop 10/95 Wynyard Street\, Tumut\, NSW\, 2720\, Australia
CATEGORIES:Active Ageing
END:VEVENT
BEGIN:VEVENT
DTSTART;TZID=Australia/Sydney:20270414T093000
DTEND;TZID=Australia/Sydney:20270414T103000
DTSTAMP:20260426T092323
CREATED:20241028T050956Z
LAST-MODIFIED:20251123T230111Z
UID:10068766-1807695000-1807698600@synergyhealthworks.com
SUMMARY:Active Ageing Level 2
DESCRIPTION:
URL:https://synergyhealthworks.com/event/active-ageing-level-2-4/2027-04-14/
LOCATION:Tumut\, Shop 10/95 Wynyard Street\, Tumut\, NSW\, 2720\, Australia
CATEGORIES:Active Ageing
END:VEVENT
BEGIN:VEVENT
DTSTART;TZID=Australia/Sydney:20270414T103000
DTEND;TZID=Australia/Sydney:20270414T113000
DTSTAMP:20260426T092323
CREATED:20241028T051106Z
LAST-MODIFIED:20251123T230148Z
UID:10110019-1807698600-1807702200@synergyhealthworks.com
SUMMARY:Active Ageing Level 2
DESCRIPTION:
URL:https://synergyhealthworks.com/event/active-ageing-level-1-2/2027-04-14/
LOCATION:Tumut\, Shop 10/95 Wynyard Street\, Tumut\, NSW\, 2720\, Australia
CATEGORIES:Active Ageing
END:VEVENT
BEGIN:VEVENT
DTSTART;TZID=Australia/Sydney:20270414T113000
DTEND;TZID=Australia/Sydney:20270414T123000
DTSTAMP:20260426T092323
CREATED:20241028T051308Z
LAST-MODIFIED:20251123T230251Z
UID:10110288-1807702200-1807705800@synergyhealthworks.com
SUMMARY:Active Ageing Level 2
DESCRIPTION:
URL:https://synergyhealthworks.com/event/active-ageing-level-2-5/2027-04-14/
LOCATION:Tumut\, Shop 10/95 Wynyard Street\, Tumut\, NSW\, 2720\, Australia
CATEGORIES:Active Ageing
END:VEVENT
END:VCALENDAR