BEGIN:VCALENDAR
VERSION:2.0
PRODID:-//Synergy Healthworks - ECPv6.15.20//NONSGML v1.0//EN
CALSCALE:GREGORIAN
METHOD:PUBLISH
X-ORIGINAL-URL:https://synergyhealthworks.com
X-WR-CALDESC:Events for Synergy Healthworks
REFRESH-INTERVAL;VALUE=DURATION:PT1H
X-Robots-Tag:noindex
X-PUBLISHED-TTL:PT1H
BEGIN:VTIMEZONE
TZID:Australia/Sydney
BEGIN:STANDARD
TZOFFSETFROM:+1100
TZOFFSETTO:+1000
TZNAME:AEST
DTSTART:20260404T160000
END:STANDARD
BEGIN:DAYLIGHT
TZOFFSETFROM:+1000
TZOFFSETTO:+1100
TZNAME:AEDT
DTSTART:20261003T160000
END:DAYLIGHT
BEGIN:STANDARD
TZOFFSETFROM:+1100
TZOFFSETTO:+1000
TZNAME:AEST
DTSTART:20270403T160000
END:STANDARD
BEGIN:DAYLIGHT
TZOFFSETFROM:+1000
TZOFFSETTO:+1100
TZNAME:AEDT
DTSTART:20271002T160000
END:DAYLIGHT
BEGIN:STANDARD
TZOFFSETFROM:+1100
TZOFFSETTO:+1000
TZNAME:AEST
DTSTART:20280401T160000
END:STANDARD
BEGIN:DAYLIGHT
TZOFFSETFROM:+1000
TZOFFSETTO:+1100
TZNAME:AEDT
DTSTART:20280930T160000
END:DAYLIGHT
END:VTIMEZONE
BEGIN:VEVENT
DTSTART;TZID=Australia/Sydney:20270311T093000
DTEND;TZID=Australia/Sydney:20270311T103000
DTSTAMP:20260426T055700
CREATED:20241220T013930Z
LAST-MODIFIED:20251123T230452Z
UID:10111319-1804757400-1804761000@synergyhealthworks.com
SUMMARY:Active Ageing Level 2
DESCRIPTION:
URL:https://synergyhealthworks.com/event/active-ageing-level-2-7/2027-03-11/
LOCATION:Tumut\, Shop 10/95 Wynyard Street\, Tumut\, NSW\, 2720\, Australia
CATEGORIES:Active Ageing
END:VEVENT
BEGIN:VEVENT
DTSTART;TZID=Australia/Sydney:20270311T133000
DTEND;TZID=Australia/Sydney:20270311T143000
DTSTAMP:20260426T055700
CREATED:20241220T013710Z
LAST-MODIFIED:20251123T230524Z
UID:10110801-1804771800-1804775400@synergyhealthworks.com
SUMMARY:Active Ageing Level 1
DESCRIPTION:
URL:https://synergyhealthworks.com/event/active-ageing-level-1-5/2027-03-11/
LOCATION:Tumut\, Shop 10/95 Wynyard Street\, Tumut\, NSW\, 2720\, Australia
CATEGORIES:Active Ageing
END:VEVENT
BEGIN:VEVENT
DTSTART;TZID=Australia/Sydney:20270315T083000
DTEND;TZID=Australia/Sydney:20270315T093000
DTSTAMP:20260426T055700
CREATED:20241028T050434Z
LAST-MODIFIED:20251123T225656Z
UID:10109192-1805099400-1805103000@synergyhealthworks.com
SUMMARY:Active Ageing Level 2
DESCRIPTION:
URL:https://synergyhealthworks.com/event/active-ageing-level-2/2027-03-15/
LOCATION:Tumut\, Shop 10/95 Wynyard Street\, Tumut\, NSW\, 2720\, Australia
CATEGORIES:Active Ageing
END:VEVENT
BEGIN:VEVENT
DTSTART;TZID=Australia/Sydney:20270315T093000
DTEND;TZID=Australia/Sydney:20270315T103000
DTSTAMP:20260426T055700
CREATED:20241028T050603Z
LAST-MODIFIED:20251123T225830Z
UID:10067979-1805103000-1805106600@synergyhealthworks.com
SUMMARY:Active Ageing Level 2
DESCRIPTION:
URL:https://synergyhealthworks.com/event/active-ageing-level-1/2027-03-15/
LOCATION:Tumut\, Shop 10/95 Wynyard Street\, Tumut\, NSW\, 2720\, Australia
CATEGORIES:Active Ageing
END:VEVENT
BEGIN:VEVENT
DTSTART;TZID=Australia/Sydney:20270315T103000
DTEND;TZID=Australia/Sydney:20270315T113000
DTSTAMP:20260426T055700
CREATED:20241028T050721Z
LAST-MODIFIED:20251123T225903Z
UID:10109469-1805106600-1805110200@synergyhealthworks.com
SUMMARY:Active Ageing Level 2
DESCRIPTION:
URL:https://synergyhealthworks.com/event/active-ageing-level-2-2/2027-03-15/
LOCATION:Tumut\, Shop 10/95 Wynyard Street\, Tumut\, NSW\, 2720\, Australia
CATEGORIES:Active Ageing
END:VEVENT
BEGIN:VEVENT
DTSTART;TZID=Australia/Sydney:20270316T093000
DTEND;TZID=Australia/Sydney:20270316T103000
DTSTAMP:20260426T055700
CREATED:20241220T010410Z
LAST-MODIFIED:20251123T225952Z
UID:10110543-1805189400-1805193000@synergyhealthworks.com
SUMMARY:Active Ageing Level 1
DESCRIPTION:
URL:https://synergyhealthworks.com/event/active-ageing-level-1-4/2027-03-16/
LOCATION:Tumut\, Shop 10/95 Wynyard Street\, Tumut\, NSW\, 2720\, Australia
CATEGORIES:Active Ageing
END:VEVENT
BEGIN:VEVENT
DTSTART;TZID=Australia/Sydney:20270317T083000
DTEND;TZID=Australia/Sydney:20270317T093000
DTSTAMP:20260426T055700
CREATED:20241028T050839Z
LAST-MODIFIED:20251123T230028Z
UID:10109738-1805272200-1805275800@synergyhealthworks.com
SUMMARY:Active Ageing Level 2
DESCRIPTION:
URL:https://synergyhealthworks.com/event/active-ageing-level-2-3/2027-03-17/
LOCATION:Tumut\, Shop 10/95 Wynyard Street\, Tumut\, NSW\, 2720\, Australia
CATEGORIES:Active Ageing
END:VEVENT
BEGIN:VEVENT
DTSTART;TZID=Australia/Sydney:20270317T093000
DTEND;TZID=Australia/Sydney:20270317T103000
DTSTAMP:20260426T055700
CREATED:20241028T050956Z
LAST-MODIFIED:20251123T230111Z
UID:10068762-1805275800-1805279400@synergyhealthworks.com
SUMMARY:Active Ageing Level 2
DESCRIPTION:
URL:https://synergyhealthworks.com/event/active-ageing-level-2-4/2027-03-17/
LOCATION:Tumut\, Shop 10/95 Wynyard Street\, Tumut\, NSW\, 2720\, Australia
CATEGORIES:Active Ageing
END:VEVENT
BEGIN:VEVENT
DTSTART;TZID=Australia/Sydney:20270317T103000
DTEND;TZID=Australia/Sydney:20270317T113000
DTSTAMP:20260426T055700
CREATED:20241028T051106Z
LAST-MODIFIED:20251123T230148Z
UID:10110015-1805279400-1805283000@synergyhealthworks.com
SUMMARY:Active Ageing Level 2
DESCRIPTION:
URL:https://synergyhealthworks.com/event/active-ageing-level-1-2/2027-03-17/
LOCATION:Tumut\, Shop 10/95 Wynyard Street\, Tumut\, NSW\, 2720\, Australia
CATEGORIES:Active Ageing
END:VEVENT
BEGIN:VEVENT
DTSTART;TZID=Australia/Sydney:20270317T113000
DTEND;TZID=Australia/Sydney:20270317T123000
DTSTAMP:20260426T055700
CREATED:20241028T051308Z
LAST-MODIFIED:20251123T230251Z
UID:10110284-1805283000-1805286600@synergyhealthworks.com
SUMMARY:Active Ageing Level 2
DESCRIPTION:
URL:https://synergyhealthworks.com/event/active-ageing-level-2-5/2027-03-17/
LOCATION:Tumut\, Shop 10/95 Wynyard Street\, Tumut\, NSW\, 2720\, Australia
CATEGORIES:Active Ageing
END:VEVENT
BEGIN:VEVENT
DTSTART;TZID=Australia/Sydney:20270318T083000
DTEND;TZID=Australia/Sydney:20270318T093000
DTSTAMP:20260426T055700
CREATED:20241220T013734Z
LAST-MODIFIED:20251123T230349Z
UID:10111061-1805358600-1805362200@synergyhealthworks.com
SUMMARY:Active Ageing Level 2
DESCRIPTION:
URL:https://synergyhealthworks.com/event/active-ageing-level-2-6/2027-03-18/
LOCATION:Tumut\, Shop 10/95 Wynyard Street\, Tumut\, NSW\, 2720\, Australia
CATEGORIES:Active Ageing
END:VEVENT
BEGIN:VEVENT
DTSTART;TZID=Australia/Sydney:20270318T093000
DTEND;TZID=Australia/Sydney:20270318T103000
DTSTAMP:20260426T055700
CREATED:20241220T013930Z
LAST-MODIFIED:20251123T230452Z
UID:10111320-1805362200-1805365800@synergyhealthworks.com
SUMMARY:Active Ageing Level 2
DESCRIPTION:
URL:https://synergyhealthworks.com/event/active-ageing-level-2-7/2027-03-18/
LOCATION:Tumut\, Shop 10/95 Wynyard Street\, Tumut\, NSW\, 2720\, Australia
CATEGORIES:Active Ageing
END:VEVENT
BEGIN:VEVENT
DTSTART;TZID=Australia/Sydney:20270318T133000
DTEND;TZID=Australia/Sydney:20270318T143000
DTSTAMP:20260426T055700
CREATED:20241220T013710Z
LAST-MODIFIED:20251123T230524Z
UID:10110802-1805376600-1805380200@synergyhealthworks.com
SUMMARY:Active Ageing Level 1
DESCRIPTION:
URL:https://synergyhealthworks.com/event/active-ageing-level-1-5/2027-03-18/
LOCATION:Tumut\, Shop 10/95 Wynyard Street\, Tumut\, NSW\, 2720\, Australia
CATEGORIES:Active Ageing
END:VEVENT
BEGIN:VEVENT
DTSTART;TZID=Australia/Sydney:20270322T083000
DTEND;TZID=Australia/Sydney:20270322T093000
DTSTAMP:20260426T055700
CREATED:20241028T050434Z
LAST-MODIFIED:20251123T225656Z
UID:10109193-1805704200-1805707800@synergyhealthworks.com
SUMMARY:Active Ageing Level 2
DESCRIPTION:
URL:https://synergyhealthworks.com/event/active-ageing-level-2/2027-03-22/
LOCATION:Tumut\, Shop 10/95 Wynyard Street\, Tumut\, NSW\, 2720\, Australia
CATEGORIES:Active Ageing
END:VEVENT
BEGIN:VEVENT
DTSTART;TZID=Australia/Sydney:20270322T093000
DTEND;TZID=Australia/Sydney:20270322T103000
DTSTAMP:20260426T055700
CREATED:20241028T050603Z
LAST-MODIFIED:20251123T225830Z
UID:10067980-1805707800-1805711400@synergyhealthworks.com
SUMMARY:Active Ageing Level 2
DESCRIPTION:
URL:https://synergyhealthworks.com/event/active-ageing-level-1/2027-03-22/
LOCATION:Tumut\, Shop 10/95 Wynyard Street\, Tumut\, NSW\, 2720\, Australia
CATEGORIES:Active Ageing
END:VEVENT
BEGIN:VEVENT
DTSTART;TZID=Australia/Sydney:20270322T103000
DTEND;TZID=Australia/Sydney:20270322T113000
DTSTAMP:20260426T055700
CREATED:20241028T050721Z
LAST-MODIFIED:20251123T225903Z
UID:10109470-1805711400-1805715000@synergyhealthworks.com
SUMMARY:Active Ageing Level 2
DESCRIPTION:
URL:https://synergyhealthworks.com/event/active-ageing-level-2-2/2027-03-22/
LOCATION:Tumut\, Shop 10/95 Wynyard Street\, Tumut\, NSW\, 2720\, Australia
CATEGORIES:Active Ageing
END:VEVENT
BEGIN:VEVENT
DTSTART;TZID=Australia/Sydney:20270323T093000
DTEND;TZID=Australia/Sydney:20270323T103000
DTSTAMP:20260426T055700
CREATED:20241220T010410Z
LAST-MODIFIED:20251123T225952Z
UID:10110544-1805794200-1805797800@synergyhealthworks.com
SUMMARY:Active Ageing Level 1
DESCRIPTION:
URL:https://synergyhealthworks.com/event/active-ageing-level-1-4/2027-03-23/
LOCATION:Tumut\, Shop 10/95 Wynyard Street\, Tumut\, NSW\, 2720\, Australia
CATEGORIES:Active Ageing
END:VEVENT
BEGIN:VEVENT
DTSTART;TZID=Australia/Sydney:20270324T083000
DTEND;TZID=Australia/Sydney:20270324T093000
DTSTAMP:20260426T055700
CREATED:20241028T050839Z
LAST-MODIFIED:20251123T230028Z
UID:10109739-1805877000-1805880600@synergyhealthworks.com
SUMMARY:Active Ageing Level 2
DESCRIPTION:
URL:https://synergyhealthworks.com/event/active-ageing-level-2-3/2027-03-24/
LOCATION:Tumut\, Shop 10/95 Wynyard Street\, Tumut\, NSW\, 2720\, Australia
CATEGORIES:Active Ageing
END:VEVENT
BEGIN:VEVENT
DTSTART;TZID=Australia/Sydney:20270324T093000
DTEND;TZID=Australia/Sydney:20270324T103000
DTSTAMP:20260426T055700
CREATED:20241028T050956Z
LAST-MODIFIED:20251123T230111Z
UID:10068763-1805880600-1805884200@synergyhealthworks.com
SUMMARY:Active Ageing Level 2
DESCRIPTION:
URL:https://synergyhealthworks.com/event/active-ageing-level-2-4/2027-03-24/
LOCATION:Tumut\, Shop 10/95 Wynyard Street\, Tumut\, NSW\, 2720\, Australia
CATEGORIES:Active Ageing
END:VEVENT
BEGIN:VEVENT
DTSTART;TZID=Australia/Sydney:20270324T103000
DTEND;TZID=Australia/Sydney:20270324T113000
DTSTAMP:20260426T055700
CREATED:20241028T051106Z
LAST-MODIFIED:20251123T230148Z
UID:10110016-1805884200-1805887800@synergyhealthworks.com
SUMMARY:Active Ageing Level 2
DESCRIPTION:
URL:https://synergyhealthworks.com/event/active-ageing-level-1-2/2027-03-24/
LOCATION:Tumut\, Shop 10/95 Wynyard Street\, Tumut\, NSW\, 2720\, Australia
CATEGORIES:Active Ageing
END:VEVENT
BEGIN:VEVENT
DTSTART;TZID=Australia/Sydney:20270324T113000
DTEND;TZID=Australia/Sydney:20270324T123000
DTSTAMP:20260426T055700
CREATED:20241028T051308Z
LAST-MODIFIED:20251123T230251Z
UID:10110285-1805887800-1805891400@synergyhealthworks.com
SUMMARY:Active Ageing Level 2
DESCRIPTION:
URL:https://synergyhealthworks.com/event/active-ageing-level-2-5/2027-03-24/
LOCATION:Tumut\, Shop 10/95 Wynyard Street\, Tumut\, NSW\, 2720\, Australia
CATEGORIES:Active Ageing
END:VEVENT
BEGIN:VEVENT
DTSTART;TZID=Australia/Sydney:20270325T083000
DTEND;TZID=Australia/Sydney:20270325T093000
DTSTAMP:20260426T055700
CREATED:20241220T013734Z
LAST-MODIFIED:20251123T230349Z
UID:10111062-1805963400-1805967000@synergyhealthworks.com
SUMMARY:Active Ageing Level 2
DESCRIPTION:
URL:https://synergyhealthworks.com/event/active-ageing-level-2-6/2027-03-25/
LOCATION:Tumut\, Shop 10/95 Wynyard Street\, Tumut\, NSW\, 2720\, Australia
CATEGORIES:Active Ageing
END:VEVENT
BEGIN:VEVENT
DTSTART;TZID=Australia/Sydney:20270325T093000
DTEND;TZID=Australia/Sydney:20270325T103000
DTSTAMP:20260426T055700
CREATED:20241220T013930Z
LAST-MODIFIED:20251123T230452Z
UID:10111321-1805967000-1805970600@synergyhealthworks.com
SUMMARY:Active Ageing Level 2
DESCRIPTION:
URL:https://synergyhealthworks.com/event/active-ageing-level-2-7/2027-03-25/
LOCATION:Tumut\, Shop 10/95 Wynyard Street\, Tumut\, NSW\, 2720\, Australia
CATEGORIES:Active Ageing
END:VEVENT
BEGIN:VEVENT
DTSTART;TZID=Australia/Sydney:20270325T133000
DTEND;TZID=Australia/Sydney:20270325T143000
DTSTAMP:20260426T055700
CREATED:20241220T013710Z
LAST-MODIFIED:20251123T230524Z
UID:10110803-1805981400-1805985000@synergyhealthworks.com
SUMMARY:Active Ageing Level 1
DESCRIPTION:
URL:https://synergyhealthworks.com/event/active-ageing-level-1-5/2027-03-25/
LOCATION:Tumut\, Shop 10/95 Wynyard Street\, Tumut\, NSW\, 2720\, Australia
CATEGORIES:Active Ageing
END:VEVENT
BEGIN:VEVENT
DTSTART;TZID=Australia/Sydney:20270329T083000
DTEND;TZID=Australia/Sydney:20270329T093000
DTSTAMP:20260426T055700
CREATED:20241028T050434Z
LAST-MODIFIED:20251123T225656Z
UID:10109194-1806309000-1806312600@synergyhealthworks.com
SUMMARY:Active Ageing Level 2
DESCRIPTION:
URL:https://synergyhealthworks.com/event/active-ageing-level-2/2027-03-29/
LOCATION:Tumut\, Shop 10/95 Wynyard Street\, Tumut\, NSW\, 2720\, Australia
CATEGORIES:Active Ageing
END:VEVENT
BEGIN:VEVENT
DTSTART;TZID=Australia/Sydney:20270329T093000
DTEND;TZID=Australia/Sydney:20270329T103000
DTSTAMP:20260426T055700
CREATED:20241028T050603Z
LAST-MODIFIED:20251123T225830Z
UID:10067981-1806312600-1806316200@synergyhealthworks.com
SUMMARY:Active Ageing Level 2
DESCRIPTION:
URL:https://synergyhealthworks.com/event/active-ageing-level-1/2027-03-29/
LOCATION:Tumut\, Shop 10/95 Wynyard Street\, Tumut\, NSW\, 2720\, Australia
CATEGORIES:Active Ageing
END:VEVENT
BEGIN:VEVENT
DTSTART;TZID=Australia/Sydney:20270329T103000
DTEND;TZID=Australia/Sydney:20270329T113000
DTSTAMP:20260426T055700
CREATED:20241028T050721Z
LAST-MODIFIED:20251123T225903Z
UID:10109471-1806316200-1806319800@synergyhealthworks.com
SUMMARY:Active Ageing Level 2
DESCRIPTION:
URL:https://synergyhealthworks.com/event/active-ageing-level-2-2/2027-03-29/
LOCATION:Tumut\, Shop 10/95 Wynyard Street\, Tumut\, NSW\, 2720\, Australia
CATEGORIES:Active Ageing
END:VEVENT
BEGIN:VEVENT
DTSTART;TZID=Australia/Sydney:20270330T093000
DTEND;TZID=Australia/Sydney:20270330T103000
DTSTAMP:20260426T055700
CREATED:20241220T010410Z
LAST-MODIFIED:20251123T225952Z
UID:10110545-1806399000-1806402600@synergyhealthworks.com
SUMMARY:Active Ageing Level 1
DESCRIPTION:
URL:https://synergyhealthworks.com/event/active-ageing-level-1-4/2027-03-30/
LOCATION:Tumut\, Shop 10/95 Wynyard Street\, Tumut\, NSW\, 2720\, Australia
CATEGORIES:Active Ageing
END:VEVENT
BEGIN:VEVENT
DTSTART;TZID=Australia/Sydney:20270331T083000
DTEND;TZID=Australia/Sydney:20270331T093000
DTSTAMP:20260426T055700
CREATED:20241028T050839Z
LAST-MODIFIED:20251123T230028Z
UID:10109740-1806481800-1806485400@synergyhealthworks.com
SUMMARY:Active Ageing Level 2
DESCRIPTION:
URL:https://synergyhealthworks.com/event/active-ageing-level-2-3/2027-03-31/
LOCATION:Tumut\, Shop 10/95 Wynyard Street\, Tumut\, NSW\, 2720\, Australia
CATEGORIES:Active Ageing
END:VEVENT
BEGIN:VEVENT
DTSTART;TZID=Australia/Sydney:20270331T093000
DTEND;TZID=Australia/Sydney:20270331T103000
DTSTAMP:20260426T055700
CREATED:20241028T050956Z
LAST-MODIFIED:20251123T230111Z
UID:10068764-1806485400-1806489000@synergyhealthworks.com
SUMMARY:Active Ageing Level 2
DESCRIPTION:
URL:https://synergyhealthworks.com/event/active-ageing-level-2-4/2027-03-31/
LOCATION:Tumut\, Shop 10/95 Wynyard Street\, Tumut\, NSW\, 2720\, Australia
CATEGORIES:Active Ageing
END:VEVENT
END:VCALENDAR