BEGIN:VCALENDAR
VERSION:2.0
PRODID:-//Synergy Healthworks - ECPv6.15.20//NONSGML v1.0//EN
CALSCALE:GREGORIAN
METHOD:PUBLISH
X-WR-CALNAME:Synergy Healthworks
X-ORIGINAL-URL:https://synergyhealthworks.com
X-WR-CALDESC:Events for Synergy Healthworks
REFRESH-INTERVAL;VALUE=DURATION:PT1H
X-Robots-Tag:noindex
X-PUBLISHED-TTL:PT1H
BEGIN:VTIMEZONE
TZID:Australia/Sydney
BEGIN:STANDARD
TZOFFSETFROM:+1100
TZOFFSETTO:+1000
TZNAME:AEST
DTSTART:20260404T160000
END:STANDARD
BEGIN:DAYLIGHT
TZOFFSETFROM:+1000
TZOFFSETTO:+1100
TZNAME:AEDT
DTSTART:20261003T160000
END:DAYLIGHT
BEGIN:STANDARD
TZOFFSETFROM:+1100
TZOFFSETTO:+1000
TZNAME:AEST
DTSTART:20270403T160000
END:STANDARD
BEGIN:DAYLIGHT
TZOFFSETFROM:+1000
TZOFFSETTO:+1100
TZNAME:AEDT
DTSTART:20271002T160000
END:DAYLIGHT
BEGIN:STANDARD
TZOFFSETFROM:+1100
TZOFFSETTO:+1000
TZNAME:AEST
DTSTART:20280401T160000
END:STANDARD
BEGIN:DAYLIGHT
TZOFFSETFROM:+1000
TZOFFSETTO:+1100
TZNAME:AEDT
DTSTART:20280930T160000
END:DAYLIGHT
END:VTIMEZONE
BEGIN:VEVENT
DTSTART;TZID=Australia/Sydney:20270217T103000
DTEND;TZID=Australia/Sydney:20270217T113000
DTSTAMP:20260426T003739
CREATED:20241028T051106Z
LAST-MODIFIED:20251123T230148Z
UID:10110011-1802860200-1802863800@synergyhealthworks.com
SUMMARY:Active Ageing Level 2
DESCRIPTION:
URL:https://synergyhealthworks.com/event/active-ageing-level-1-2/2027-02-17/
LOCATION:Tumut\, Shop 10/95 Wynyard Street\, Tumut\, NSW\, 2720\, Australia
CATEGORIES:Active Ageing
END:VEVENT
BEGIN:VEVENT
DTSTART;TZID=Australia/Sydney:20270217T113000
DTEND;TZID=Australia/Sydney:20270217T123000
DTSTAMP:20260426T003739
CREATED:20241028T051308Z
LAST-MODIFIED:20251123T230251Z
UID:10110280-1802863800-1802867400@synergyhealthworks.com
SUMMARY:Active Ageing Level 2
DESCRIPTION:
URL:https://synergyhealthworks.com/event/active-ageing-level-2-5/2027-02-17/
LOCATION:Tumut\, Shop 10/95 Wynyard Street\, Tumut\, NSW\, 2720\, Australia
CATEGORIES:Active Ageing
END:VEVENT
BEGIN:VEVENT
DTSTART;TZID=Australia/Sydney:20270218T083000
DTEND;TZID=Australia/Sydney:20270218T093000
DTSTAMP:20260426T003739
CREATED:20241220T013734Z
LAST-MODIFIED:20251123T230349Z
UID:10111057-1802939400-1802943000@synergyhealthworks.com
SUMMARY:Active Ageing Level 2
DESCRIPTION:
URL:https://synergyhealthworks.com/event/active-ageing-level-2-6/2027-02-18/
LOCATION:Tumut\, Shop 10/95 Wynyard Street\, Tumut\, NSW\, 2720\, Australia
CATEGORIES:Active Ageing
END:VEVENT
BEGIN:VEVENT
DTSTART;TZID=Australia/Sydney:20270218T093000
DTEND;TZID=Australia/Sydney:20270218T103000
DTSTAMP:20260426T003739
CREATED:20241220T013930Z
LAST-MODIFIED:20251123T230452Z
UID:10111316-1802943000-1802946600@synergyhealthworks.com
SUMMARY:Active Ageing Level 2
DESCRIPTION:
URL:https://synergyhealthworks.com/event/active-ageing-level-2-7/2027-02-18/
LOCATION:Tumut\, Shop 10/95 Wynyard Street\, Tumut\, NSW\, 2720\, Australia
CATEGORIES:Active Ageing
END:VEVENT
BEGIN:VEVENT
DTSTART;TZID=Australia/Sydney:20270218T133000
DTEND;TZID=Australia/Sydney:20270218T143000
DTSTAMP:20260426T003739
CREATED:20241220T013710Z
LAST-MODIFIED:20251123T230524Z
UID:10110798-1802957400-1802961000@synergyhealthworks.com
SUMMARY:Active Ageing Level 1
DESCRIPTION:
URL:https://synergyhealthworks.com/event/active-ageing-level-1-5/2027-02-18/
LOCATION:Tumut\, Shop 10/95 Wynyard Street\, Tumut\, NSW\, 2720\, Australia
CATEGORIES:Active Ageing
END:VEVENT
BEGIN:VEVENT
DTSTART;TZID=Australia/Sydney:20270222T083000
DTEND;TZID=Australia/Sydney:20270222T093000
DTSTAMP:20260426T003739
CREATED:20241028T050434Z
LAST-MODIFIED:20251123T225656Z
UID:10109189-1803285000-1803288600@synergyhealthworks.com
SUMMARY:Active Ageing Level 2
DESCRIPTION:
URL:https://synergyhealthworks.com/event/active-ageing-level-2/2027-02-22/
LOCATION:Tumut\, Shop 10/95 Wynyard Street\, Tumut\, NSW\, 2720\, Australia
CATEGORIES:Active Ageing
END:VEVENT
BEGIN:VEVENT
DTSTART;TZID=Australia/Sydney:20270222T093000
DTEND;TZID=Australia/Sydney:20270222T103000
DTSTAMP:20260426T003739
CREATED:20241028T050603Z
LAST-MODIFIED:20251123T225830Z
UID:10067976-1803288600-1803292200@synergyhealthworks.com
SUMMARY:Active Ageing Level 2
DESCRIPTION:
URL:https://synergyhealthworks.com/event/active-ageing-level-1/2027-02-22/
LOCATION:Tumut\, Shop 10/95 Wynyard Street\, Tumut\, NSW\, 2720\, Australia
CATEGORIES:Active Ageing
END:VEVENT
BEGIN:VEVENT
DTSTART;TZID=Australia/Sydney:20270222T103000
DTEND;TZID=Australia/Sydney:20270222T113000
DTSTAMP:20260426T003739
CREATED:20241028T050721Z
LAST-MODIFIED:20251123T225903Z
UID:10109466-1803292200-1803295800@synergyhealthworks.com
SUMMARY:Active Ageing Level 2
DESCRIPTION:
URL:https://synergyhealthworks.com/event/active-ageing-level-2-2/2027-02-22/
LOCATION:Tumut\, Shop 10/95 Wynyard Street\, Tumut\, NSW\, 2720\, Australia
CATEGORIES:Active Ageing
END:VEVENT
BEGIN:VEVENT
DTSTART;TZID=Australia/Sydney:20270223T093000
DTEND;TZID=Australia/Sydney:20270223T103000
DTSTAMP:20260426T003739
CREATED:20241220T010410Z
LAST-MODIFIED:20251123T225952Z
UID:10110540-1803375000-1803378600@synergyhealthworks.com
SUMMARY:Active Ageing Level 1
DESCRIPTION:
URL:https://synergyhealthworks.com/event/active-ageing-level-1-4/2027-02-23/
LOCATION:Tumut\, Shop 10/95 Wynyard Street\, Tumut\, NSW\, 2720\, Australia
CATEGORIES:Active Ageing
END:VEVENT
BEGIN:VEVENT
DTSTART;TZID=Australia/Sydney:20270224T083000
DTEND;TZID=Australia/Sydney:20270224T093000
DTSTAMP:20260426T003739
CREATED:20241028T050839Z
LAST-MODIFIED:20251123T230028Z
UID:10109735-1803457800-1803461400@synergyhealthworks.com
SUMMARY:Active Ageing Level 2
DESCRIPTION:
URL:https://synergyhealthworks.com/event/active-ageing-level-2-3/2027-02-24/
LOCATION:Tumut\, Shop 10/95 Wynyard Street\, Tumut\, NSW\, 2720\, Australia
CATEGORIES:Active Ageing
END:VEVENT
BEGIN:VEVENT
DTSTART;TZID=Australia/Sydney:20270224T093000
DTEND;TZID=Australia/Sydney:20270224T103000
DTSTAMP:20260426T003739
CREATED:20241028T050956Z
LAST-MODIFIED:20251123T230111Z
UID:10068759-1803461400-1803465000@synergyhealthworks.com
SUMMARY:Active Ageing Level 2
DESCRIPTION:
URL:https://synergyhealthworks.com/event/active-ageing-level-2-4/2027-02-24/
LOCATION:Tumut\, Shop 10/95 Wynyard Street\, Tumut\, NSW\, 2720\, Australia
CATEGORIES:Active Ageing
END:VEVENT
BEGIN:VEVENT
DTSTART;TZID=Australia/Sydney:20270224T103000
DTEND;TZID=Australia/Sydney:20270224T113000
DTSTAMP:20260426T003739
CREATED:20241028T051106Z
LAST-MODIFIED:20251123T230148Z
UID:10110012-1803465000-1803468600@synergyhealthworks.com
SUMMARY:Active Ageing Level 2
DESCRIPTION:
URL:https://synergyhealthworks.com/event/active-ageing-level-1-2/2027-02-24/
LOCATION:Tumut\, Shop 10/95 Wynyard Street\, Tumut\, NSW\, 2720\, Australia
CATEGORIES:Active Ageing
END:VEVENT
BEGIN:VEVENT
DTSTART;TZID=Australia/Sydney:20270224T113000
DTEND;TZID=Australia/Sydney:20270224T123000
DTSTAMP:20260426T003739
CREATED:20241028T051308Z
LAST-MODIFIED:20251123T230251Z
UID:10110281-1803468600-1803472200@synergyhealthworks.com
SUMMARY:Active Ageing Level 2
DESCRIPTION:
URL:https://synergyhealthworks.com/event/active-ageing-level-2-5/2027-02-24/
LOCATION:Tumut\, Shop 10/95 Wynyard Street\, Tumut\, NSW\, 2720\, Australia
CATEGORIES:Active Ageing
END:VEVENT
BEGIN:VEVENT
DTSTART;TZID=Australia/Sydney:20270225T083000
DTEND;TZID=Australia/Sydney:20270225T093000
DTSTAMP:20260426T003739
CREATED:20241220T013734Z
LAST-MODIFIED:20251123T230349Z
UID:10111058-1803544200-1803547800@synergyhealthworks.com
SUMMARY:Active Ageing Level 2
DESCRIPTION:
URL:https://synergyhealthworks.com/event/active-ageing-level-2-6/2027-02-25/
LOCATION:Tumut\, Shop 10/95 Wynyard Street\, Tumut\, NSW\, 2720\, Australia
CATEGORIES:Active Ageing
END:VEVENT
BEGIN:VEVENT
DTSTART;TZID=Australia/Sydney:20270225T093000
DTEND;TZID=Australia/Sydney:20270225T103000
DTSTAMP:20260426T003739
CREATED:20241220T013930Z
LAST-MODIFIED:20251123T230452Z
UID:10111317-1803547800-1803551400@synergyhealthworks.com
SUMMARY:Active Ageing Level 2
DESCRIPTION:
URL:https://synergyhealthworks.com/event/active-ageing-level-2-7/2027-02-25/
LOCATION:Tumut\, Shop 10/95 Wynyard Street\, Tumut\, NSW\, 2720\, Australia
CATEGORIES:Active Ageing
END:VEVENT
BEGIN:VEVENT
DTSTART;TZID=Australia/Sydney:20270225T133000
DTEND;TZID=Australia/Sydney:20270225T143000
DTSTAMP:20260426T003739
CREATED:20241220T013710Z
LAST-MODIFIED:20251123T230524Z
UID:10110799-1803562200-1803565800@synergyhealthworks.com
SUMMARY:Active Ageing Level 1
DESCRIPTION:
URL:https://synergyhealthworks.com/event/active-ageing-level-1-5/2027-02-25/
LOCATION:Tumut\, Shop 10/95 Wynyard Street\, Tumut\, NSW\, 2720\, Australia
CATEGORIES:Active Ageing
END:VEVENT
BEGIN:VEVENT
DTSTART;TZID=Australia/Sydney:20270301T083000
DTEND;TZID=Australia/Sydney:20270301T093000
DTSTAMP:20260426T003739
CREATED:20241028T050434Z
LAST-MODIFIED:20251123T225656Z
UID:10109190-1803889800-1803893400@synergyhealthworks.com
SUMMARY:Active Ageing Level 2
DESCRIPTION:
URL:https://synergyhealthworks.com/event/active-ageing-level-2/2027-03-01/
LOCATION:Tumut\, Shop 10/95 Wynyard Street\, Tumut\, NSW\, 2720\, Australia
CATEGORIES:Active Ageing
END:VEVENT
BEGIN:VEVENT
DTSTART;TZID=Australia/Sydney:20270301T093000
DTEND;TZID=Australia/Sydney:20270301T103000
DTSTAMP:20260426T003739
CREATED:20241028T050603Z
LAST-MODIFIED:20251123T225830Z
UID:10067977-1803893400-1803897000@synergyhealthworks.com
SUMMARY:Active Ageing Level 2
DESCRIPTION:
URL:https://synergyhealthworks.com/event/active-ageing-level-1/2027-03-01/
LOCATION:Tumut\, Shop 10/95 Wynyard Street\, Tumut\, NSW\, 2720\, Australia
CATEGORIES:Active Ageing
END:VEVENT
BEGIN:VEVENT
DTSTART;TZID=Australia/Sydney:20270301T103000
DTEND;TZID=Australia/Sydney:20270301T113000
DTSTAMP:20260426T003739
CREATED:20241028T050721Z
LAST-MODIFIED:20251123T225903Z
UID:10109467-1803897000-1803900600@synergyhealthworks.com
SUMMARY:Active Ageing Level 2
DESCRIPTION:
URL:https://synergyhealthworks.com/event/active-ageing-level-2-2/2027-03-01/
LOCATION:Tumut\, Shop 10/95 Wynyard Street\, Tumut\, NSW\, 2720\, Australia
CATEGORIES:Active Ageing
END:VEVENT
BEGIN:VEVENT
DTSTART;TZID=Australia/Sydney:20270302T093000
DTEND;TZID=Australia/Sydney:20270302T103000
DTSTAMP:20260426T003739
CREATED:20241220T010410Z
LAST-MODIFIED:20251123T225952Z
UID:10110541-1803979800-1803983400@synergyhealthworks.com
SUMMARY:Active Ageing Level 1
DESCRIPTION:
URL:https://synergyhealthworks.com/event/active-ageing-level-1-4/2027-03-02/
LOCATION:Tumut\, Shop 10/95 Wynyard Street\, Tumut\, NSW\, 2720\, Australia
CATEGORIES:Active Ageing
END:VEVENT
BEGIN:VEVENT
DTSTART;TZID=Australia/Sydney:20270303T083000
DTEND;TZID=Australia/Sydney:20270303T093000
DTSTAMP:20260426T003739
CREATED:20241028T050839Z
LAST-MODIFIED:20251123T230028Z
UID:10109736-1804062600-1804066200@synergyhealthworks.com
SUMMARY:Active Ageing Level 2
DESCRIPTION:
URL:https://synergyhealthworks.com/event/active-ageing-level-2-3/2027-03-03/
LOCATION:Tumut\, Shop 10/95 Wynyard Street\, Tumut\, NSW\, 2720\, Australia
CATEGORIES:Active Ageing
END:VEVENT
BEGIN:VEVENT
DTSTART;TZID=Australia/Sydney:20270303T093000
DTEND;TZID=Australia/Sydney:20270303T103000
DTSTAMP:20260426T003739
CREATED:20241028T050956Z
LAST-MODIFIED:20251123T230111Z
UID:10068760-1804066200-1804069800@synergyhealthworks.com
SUMMARY:Active Ageing Level 2
DESCRIPTION:
URL:https://synergyhealthworks.com/event/active-ageing-level-2-4/2027-03-03/
LOCATION:Tumut\, Shop 10/95 Wynyard Street\, Tumut\, NSW\, 2720\, Australia
CATEGORIES:Active Ageing
END:VEVENT
BEGIN:VEVENT
DTSTART;TZID=Australia/Sydney:20270303T103000
DTEND;TZID=Australia/Sydney:20270303T113000
DTSTAMP:20260426T003739
CREATED:20241028T051106Z
LAST-MODIFIED:20251123T230148Z
UID:10110013-1804069800-1804073400@synergyhealthworks.com
SUMMARY:Active Ageing Level 2
DESCRIPTION:
URL:https://synergyhealthworks.com/event/active-ageing-level-1-2/2027-03-03/
LOCATION:Tumut\, Shop 10/95 Wynyard Street\, Tumut\, NSW\, 2720\, Australia
CATEGORIES:Active Ageing
END:VEVENT
BEGIN:VEVENT
DTSTART;TZID=Australia/Sydney:20270303T113000
DTEND;TZID=Australia/Sydney:20270303T123000
DTSTAMP:20260426T003739
CREATED:20241028T051308Z
LAST-MODIFIED:20251123T230251Z
UID:10110282-1804073400-1804077000@synergyhealthworks.com
SUMMARY:Active Ageing Level 2
DESCRIPTION:
URL:https://synergyhealthworks.com/event/active-ageing-level-2-5/2027-03-03/
LOCATION:Tumut\, Shop 10/95 Wynyard Street\, Tumut\, NSW\, 2720\, Australia
CATEGORIES:Active Ageing
END:VEVENT
BEGIN:VEVENT
DTSTART;TZID=Australia/Sydney:20270304T083000
DTEND;TZID=Australia/Sydney:20270304T093000
DTSTAMP:20260426T003739
CREATED:20241220T013734Z
LAST-MODIFIED:20251123T230349Z
UID:10111059-1804149000-1804152600@synergyhealthworks.com
SUMMARY:Active Ageing Level 2
DESCRIPTION:
URL:https://synergyhealthworks.com/event/active-ageing-level-2-6/2027-03-04/
LOCATION:Tumut\, Shop 10/95 Wynyard Street\, Tumut\, NSW\, 2720\, Australia
CATEGORIES:Active Ageing
END:VEVENT
BEGIN:VEVENT
DTSTART;TZID=Australia/Sydney:20270304T093000
DTEND;TZID=Australia/Sydney:20270304T103000
DTSTAMP:20260426T003739
CREATED:20241220T013930Z
LAST-MODIFIED:20251123T230452Z
UID:10111318-1804152600-1804156200@synergyhealthworks.com
SUMMARY:Active Ageing Level 2
DESCRIPTION:
URL:https://synergyhealthworks.com/event/active-ageing-level-2-7/2027-03-04/
LOCATION:Tumut\, Shop 10/95 Wynyard Street\, Tumut\, NSW\, 2720\, Australia
CATEGORIES:Active Ageing
END:VEVENT
BEGIN:VEVENT
DTSTART;TZID=Australia/Sydney:20270304T133000
DTEND;TZID=Australia/Sydney:20270304T143000
DTSTAMP:20260426T003739
CREATED:20241220T013710Z
LAST-MODIFIED:20251123T230524Z
UID:10110800-1804167000-1804170600@synergyhealthworks.com
SUMMARY:Active Ageing Level 1
DESCRIPTION:
URL:https://synergyhealthworks.com/event/active-ageing-level-1-5/2027-03-04/
LOCATION:Tumut\, Shop 10/95 Wynyard Street\, Tumut\, NSW\, 2720\, Australia
CATEGORIES:Active Ageing
END:VEVENT
BEGIN:VEVENT
DTSTART;TZID=Australia/Sydney:20270308T083000
DTEND;TZID=Australia/Sydney:20270308T093000
DTSTAMP:20260426T003739
CREATED:20241028T050434Z
LAST-MODIFIED:20251123T225656Z
UID:10109191-1804494600-1804498200@synergyhealthworks.com
SUMMARY:Active Ageing Level 2
DESCRIPTION:
URL:https://synergyhealthworks.com/event/active-ageing-level-2/2027-03-08/
LOCATION:Tumut\, Shop 10/95 Wynyard Street\, Tumut\, NSW\, 2720\, Australia
CATEGORIES:Active Ageing
END:VEVENT
BEGIN:VEVENT
DTSTART;TZID=Australia/Sydney:20270308T093000
DTEND;TZID=Australia/Sydney:20270308T103000
DTSTAMP:20260426T003739
CREATED:20241028T050603Z
LAST-MODIFIED:20251123T225830Z
UID:10067978-1804498200-1804501800@synergyhealthworks.com
SUMMARY:Active Ageing Level 2
DESCRIPTION:
URL:https://synergyhealthworks.com/event/active-ageing-level-1/2027-03-08/
LOCATION:Tumut\, Shop 10/95 Wynyard Street\, Tumut\, NSW\, 2720\, Australia
CATEGORIES:Active Ageing
END:VEVENT
BEGIN:VEVENT
DTSTART;TZID=Australia/Sydney:20270308T103000
DTEND;TZID=Australia/Sydney:20270308T113000
DTSTAMP:20260426T003739
CREATED:20241028T050721Z
LAST-MODIFIED:20251123T225903Z
UID:10109468-1804501800-1804505400@synergyhealthworks.com
SUMMARY:Active Ageing Level 2
DESCRIPTION:
URL:https://synergyhealthworks.com/event/active-ageing-level-2-2/2027-03-08/
LOCATION:Tumut\, Shop 10/95 Wynyard Street\, Tumut\, NSW\, 2720\, Australia
CATEGORIES:Active Ageing
END:VEVENT
END:VCALENDAR