BEGIN:VCALENDAR
VERSION:2.0
PRODID:-//Synergy Healthworks - ECPv6.15.20//NONSGML v1.0//EN
CALSCALE:GREGORIAN
METHOD:PUBLISH
X-WR-CALNAME:Synergy Healthworks
X-ORIGINAL-URL:https://synergyhealthworks.com
X-WR-CALDESC:Events for Synergy Healthworks
REFRESH-INTERVAL;VALUE=DURATION:PT1H
X-Robots-Tag:noindex
X-PUBLISHED-TTL:PT1H
BEGIN:VTIMEZONE
TZID:Australia/Sydney
BEGIN:STANDARD
TZOFFSETFROM:+1100
TZOFFSETTO:+1000
TZNAME:AEST
DTSTART:20250405T160000
END:STANDARD
BEGIN:DAYLIGHT
TZOFFSETFROM:+1000
TZOFFSETTO:+1100
TZNAME:AEDT
DTSTART:20251004T160000
END:DAYLIGHT
BEGIN:STANDARD
TZOFFSETFROM:+1100
TZOFFSETTO:+1000
TZNAME:AEST
DTSTART:20260404T160000
END:STANDARD
BEGIN:DAYLIGHT
TZOFFSETFROM:+1000
TZOFFSETTO:+1100
TZNAME:AEDT
DTSTART:20261003T160000
END:DAYLIGHT
BEGIN:STANDARD
TZOFFSETFROM:+1100
TZOFFSETTO:+1000
TZNAME:AEST
DTSTART:20270403T160000
END:STANDARD
BEGIN:DAYLIGHT
TZOFFSETFROM:+1000
TZOFFSETTO:+1100
TZNAME:AEDT
DTSTART:20271002T160000
END:DAYLIGHT
END:VTIMEZONE
BEGIN:VEVENT
DTSTART;TZID=Australia/Sydney:20261118T093000
DTEND;TZID=Australia/Sydney:20261118T103000
DTSTAMP:20260425T044320
CREATED:20241028T050956Z
LAST-MODIFIED:20251123T230111Z
UID:10068745-1794994200-1794997800@synergyhealthworks.com
SUMMARY:Active Ageing Level 2
DESCRIPTION:
URL:https://synergyhealthworks.com/event/active-ageing-level-2-4/2026-11-18/
LOCATION:Tumut\, Shop 10/95 Wynyard Street\, Tumut\, NSW\, 2720\, Australia
CATEGORIES:Active Ageing
END:VEVENT
BEGIN:VEVENT
DTSTART;TZID=Australia/Sydney:20261118T103000
DTEND;TZID=Australia/Sydney:20261118T113000
DTSTAMP:20260425T044320
CREATED:20241028T051106Z
LAST-MODIFIED:20251123T230148Z
UID:10109998-1794997800-1795001400@synergyhealthworks.com
SUMMARY:Active Ageing Level 2
DESCRIPTION:
URL:https://synergyhealthworks.com/event/active-ageing-level-1-2/2026-11-18/
LOCATION:Tumut\, Shop 10/95 Wynyard Street\, Tumut\, NSW\, 2720\, Australia
CATEGORIES:Active Ageing
END:VEVENT
BEGIN:VEVENT
DTSTART;TZID=Australia/Sydney:20261118T113000
DTEND;TZID=Australia/Sydney:20261118T123000
DTSTAMP:20260425T044320
CREATED:20241028T051308Z
LAST-MODIFIED:20251123T230251Z
UID:10110267-1795001400-1795005000@synergyhealthworks.com
SUMMARY:Active Ageing Level 2
DESCRIPTION:
URL:https://synergyhealthworks.com/event/active-ageing-level-2-5/2026-11-18/
LOCATION:Tumut\, Shop 10/95 Wynyard Street\, Tumut\, NSW\, 2720\, Australia
CATEGORIES:Active Ageing
END:VEVENT
BEGIN:VEVENT
DTSTART;TZID=Australia/Sydney:20261119T083000
DTEND;TZID=Australia/Sydney:20261119T093000
DTSTAMP:20260425T044320
CREATED:20241220T013734Z
LAST-MODIFIED:20251123T230349Z
UID:10111044-1795077000-1795080600@synergyhealthworks.com
SUMMARY:Active Ageing Level 2
DESCRIPTION:
URL:https://synergyhealthworks.com/event/active-ageing-level-2-6/2026-11-19/
LOCATION:Tumut\, Shop 10/95 Wynyard Street\, Tumut\, NSW\, 2720\, Australia
CATEGORIES:Active Ageing
END:VEVENT
BEGIN:VEVENT
DTSTART;TZID=Australia/Sydney:20261119T093000
DTEND;TZID=Australia/Sydney:20261119T103000
DTSTAMP:20260425T044320
CREATED:20241220T013930Z
LAST-MODIFIED:20251123T230452Z
UID:10111303-1795080600-1795084200@synergyhealthworks.com
SUMMARY:Active Ageing Level 2
DESCRIPTION:
URL:https://synergyhealthworks.com/event/active-ageing-level-2-7/2026-11-19/
LOCATION:Tumut\, Shop 10/95 Wynyard Street\, Tumut\, NSW\, 2720\, Australia
CATEGORIES:Active Ageing
END:VEVENT
BEGIN:VEVENT
DTSTART;TZID=Australia/Sydney:20261119T133000
DTEND;TZID=Australia/Sydney:20261119T143000
DTSTAMP:20260425T044320
CREATED:20241220T013710Z
LAST-MODIFIED:20251123T230524Z
UID:10110785-1795095000-1795098600@synergyhealthworks.com
SUMMARY:Active Ageing Level 1
DESCRIPTION:
URL:https://synergyhealthworks.com/event/active-ageing-level-1-5/2026-11-19/
LOCATION:Tumut\, Shop 10/95 Wynyard Street\, Tumut\, NSW\, 2720\, Australia
CATEGORIES:Active Ageing
END:VEVENT
BEGIN:VEVENT
DTSTART;TZID=Australia/Sydney:20261123T083000
DTEND;TZID=Australia/Sydney:20261123T093000
DTSTAMP:20260425T044320
CREATED:20241028T050434Z
LAST-MODIFIED:20251123T225656Z
UID:10109176-1795422600-1795426200@synergyhealthworks.com
SUMMARY:Active Ageing Level 2
DESCRIPTION:
URL:https://synergyhealthworks.com/event/active-ageing-level-2/2026-11-23/
LOCATION:Tumut\, Shop 10/95 Wynyard Street\, Tumut\, NSW\, 2720\, Australia
CATEGORIES:Active Ageing
END:VEVENT
BEGIN:VEVENT
DTSTART;TZID=Australia/Sydney:20261123T093000
DTEND;TZID=Australia/Sydney:20261123T103000
DTSTAMP:20260425T044320
CREATED:20241028T050603Z
LAST-MODIFIED:20251123T225830Z
UID:10067963-1795426200-1795429800@synergyhealthworks.com
SUMMARY:Active Ageing Level 2
DESCRIPTION:
URL:https://synergyhealthworks.com/event/active-ageing-level-1/2026-11-23/
LOCATION:Tumut\, Shop 10/95 Wynyard Street\, Tumut\, NSW\, 2720\, Australia
CATEGORIES:Active Ageing
END:VEVENT
BEGIN:VEVENT
DTSTART;TZID=Australia/Sydney:20261123T103000
DTEND;TZID=Australia/Sydney:20261123T113000
DTSTAMP:20260425T044320
CREATED:20241028T050721Z
LAST-MODIFIED:20251123T225903Z
UID:10109453-1795429800-1795433400@synergyhealthworks.com
SUMMARY:Active Ageing Level 2
DESCRIPTION:
URL:https://synergyhealthworks.com/event/active-ageing-level-2-2/2026-11-23/
LOCATION:Tumut\, Shop 10/95 Wynyard Street\, Tumut\, NSW\, 2720\, Australia
CATEGORIES:Active Ageing
END:VEVENT
BEGIN:VEVENT
DTSTART;TZID=Australia/Sydney:20261124T093000
DTEND;TZID=Australia/Sydney:20261124T103000
DTSTAMP:20260425T044320
CREATED:20241220T010410Z
LAST-MODIFIED:20251123T225952Z
UID:10110527-1795512600-1795516200@synergyhealthworks.com
SUMMARY:Active Ageing Level 1
DESCRIPTION:
URL:https://synergyhealthworks.com/event/active-ageing-level-1-4/2026-11-24/
LOCATION:Tumut\, Shop 10/95 Wynyard Street\, Tumut\, NSW\, 2720\, Australia
CATEGORIES:Active Ageing
END:VEVENT
BEGIN:VEVENT
DTSTART;TZID=Australia/Sydney:20261125T083000
DTEND;TZID=Australia/Sydney:20261125T093000
DTSTAMP:20260425T044320
CREATED:20241028T050839Z
LAST-MODIFIED:20251123T230028Z
UID:10109722-1795595400-1795599000@synergyhealthworks.com
SUMMARY:Active Ageing Level 2
DESCRIPTION:
URL:https://synergyhealthworks.com/event/active-ageing-level-2-3/2026-11-25/
LOCATION:Tumut\, Shop 10/95 Wynyard Street\, Tumut\, NSW\, 2720\, Australia
CATEGORIES:Active Ageing
END:VEVENT
BEGIN:VEVENT
DTSTART;TZID=Australia/Sydney:20261125T093000
DTEND;TZID=Australia/Sydney:20261125T103000
DTSTAMP:20260425T044320
CREATED:20241028T050956Z
LAST-MODIFIED:20251123T230111Z
UID:10068746-1795599000-1795602600@synergyhealthworks.com
SUMMARY:Active Ageing Level 2
DESCRIPTION:
URL:https://synergyhealthworks.com/event/active-ageing-level-2-4/2026-11-25/
LOCATION:Tumut\, Shop 10/95 Wynyard Street\, Tumut\, NSW\, 2720\, Australia
CATEGORIES:Active Ageing
END:VEVENT
BEGIN:VEVENT
DTSTART;TZID=Australia/Sydney:20261125T103000
DTEND;TZID=Australia/Sydney:20261125T113000
DTSTAMP:20260425T044320
CREATED:20241028T051106Z
LAST-MODIFIED:20251123T230148Z
UID:10109999-1795602600-1795606200@synergyhealthworks.com
SUMMARY:Active Ageing Level 2
DESCRIPTION:
URL:https://synergyhealthworks.com/event/active-ageing-level-1-2/2026-11-25/
LOCATION:Tumut\, Shop 10/95 Wynyard Street\, Tumut\, NSW\, 2720\, Australia
CATEGORIES:Active Ageing
END:VEVENT
BEGIN:VEVENT
DTSTART;TZID=Australia/Sydney:20261125T113000
DTEND;TZID=Australia/Sydney:20261125T123000
DTSTAMP:20260425T044320
CREATED:20241028T051308Z
LAST-MODIFIED:20251123T230251Z
UID:10110268-1795606200-1795609800@synergyhealthworks.com
SUMMARY:Active Ageing Level 2
DESCRIPTION:
URL:https://synergyhealthworks.com/event/active-ageing-level-2-5/2026-11-25/
LOCATION:Tumut\, Shop 10/95 Wynyard Street\, Tumut\, NSW\, 2720\, Australia
CATEGORIES:Active Ageing
END:VEVENT
BEGIN:VEVENT
DTSTART;TZID=Australia/Sydney:20261126T083000
DTEND;TZID=Australia/Sydney:20261126T093000
DTSTAMP:20260425T044320
CREATED:20241220T013734Z
LAST-MODIFIED:20251123T230349Z
UID:10111045-1795681800-1795685400@synergyhealthworks.com
SUMMARY:Active Ageing Level 2
DESCRIPTION:
URL:https://synergyhealthworks.com/event/active-ageing-level-2-6/2026-11-26/
LOCATION:Tumut\, Shop 10/95 Wynyard Street\, Tumut\, NSW\, 2720\, Australia
CATEGORIES:Active Ageing
END:VEVENT
BEGIN:VEVENT
DTSTART;TZID=Australia/Sydney:20261126T093000
DTEND;TZID=Australia/Sydney:20261126T103000
DTSTAMP:20260425T044320
CREATED:20241220T013930Z
LAST-MODIFIED:20251123T230452Z
UID:10111304-1795685400-1795689000@synergyhealthworks.com
SUMMARY:Active Ageing Level 2
DESCRIPTION:
URL:https://synergyhealthworks.com/event/active-ageing-level-2-7/2026-11-26/
LOCATION:Tumut\, Shop 10/95 Wynyard Street\, Tumut\, NSW\, 2720\, Australia
CATEGORIES:Active Ageing
END:VEVENT
BEGIN:VEVENT
DTSTART;TZID=Australia/Sydney:20261126T133000
DTEND;TZID=Australia/Sydney:20261126T143000
DTSTAMP:20260425T044320
CREATED:20241220T013710Z
LAST-MODIFIED:20251123T230524Z
UID:10110786-1795699800-1795703400@synergyhealthworks.com
SUMMARY:Active Ageing Level 1
DESCRIPTION:
URL:https://synergyhealthworks.com/event/active-ageing-level-1-5/2026-11-26/
LOCATION:Tumut\, Shop 10/95 Wynyard Street\, Tumut\, NSW\, 2720\, Australia
CATEGORIES:Active Ageing
END:VEVENT
BEGIN:VEVENT
DTSTART;TZID=Australia/Sydney:20261130T083000
DTEND;TZID=Australia/Sydney:20261130T093000
DTSTAMP:20260425T044320
CREATED:20241028T050434Z
LAST-MODIFIED:20251123T225656Z
UID:10109177-1796027400-1796031000@synergyhealthworks.com
SUMMARY:Active Ageing Level 2
DESCRIPTION:
URL:https://synergyhealthworks.com/event/active-ageing-level-2/2026-11-30/
LOCATION:Tumut\, Shop 10/95 Wynyard Street\, Tumut\, NSW\, 2720\, Australia
CATEGORIES:Active Ageing
END:VEVENT
BEGIN:VEVENT
DTSTART;TZID=Australia/Sydney:20261130T093000
DTEND;TZID=Australia/Sydney:20261130T103000
DTSTAMP:20260425T044320
CREATED:20241028T050603Z
LAST-MODIFIED:20251123T225830Z
UID:10067964-1796031000-1796034600@synergyhealthworks.com
SUMMARY:Active Ageing Level 2
DESCRIPTION:
URL:https://synergyhealthworks.com/event/active-ageing-level-1/2026-11-30/
LOCATION:Tumut\, Shop 10/95 Wynyard Street\, Tumut\, NSW\, 2720\, Australia
CATEGORIES:Active Ageing
END:VEVENT
BEGIN:VEVENT
DTSTART;TZID=Australia/Sydney:20261130T103000
DTEND;TZID=Australia/Sydney:20261130T113000
DTSTAMP:20260425T044320
CREATED:20241028T050721Z
LAST-MODIFIED:20251123T225903Z
UID:10109454-1796034600-1796038200@synergyhealthworks.com
SUMMARY:Active Ageing Level 2
DESCRIPTION:
URL:https://synergyhealthworks.com/event/active-ageing-level-2-2/2026-11-30/
LOCATION:Tumut\, Shop 10/95 Wynyard Street\, Tumut\, NSW\, 2720\, Australia
CATEGORIES:Active Ageing
END:VEVENT
BEGIN:VEVENT
DTSTART;TZID=Australia/Sydney:20261201T093000
DTEND;TZID=Australia/Sydney:20261201T103000
DTSTAMP:20260425T044320
CREATED:20241220T010410Z
LAST-MODIFIED:20251123T225952Z
UID:10110528-1796117400-1796121000@synergyhealthworks.com
SUMMARY:Active Ageing Level 1
DESCRIPTION:
URL:https://synergyhealthworks.com/event/active-ageing-level-1-4/2026-12-01/
LOCATION:Tumut\, Shop 10/95 Wynyard Street\, Tumut\, NSW\, 2720\, Australia
CATEGORIES:Active Ageing
END:VEVENT
BEGIN:VEVENT
DTSTART;TZID=Australia/Sydney:20261202T083000
DTEND;TZID=Australia/Sydney:20261202T093000
DTSTAMP:20260425T044320
CREATED:20241028T050839Z
LAST-MODIFIED:20251123T230028Z
UID:10109723-1796200200-1796203800@synergyhealthworks.com
SUMMARY:Active Ageing Level 2
DESCRIPTION:
URL:https://synergyhealthworks.com/event/active-ageing-level-2-3/2026-12-02/
LOCATION:Tumut\, Shop 10/95 Wynyard Street\, Tumut\, NSW\, 2720\, Australia
CATEGORIES:Active Ageing
END:VEVENT
BEGIN:VEVENT
DTSTART;TZID=Australia/Sydney:20261202T093000
DTEND;TZID=Australia/Sydney:20261202T103000
DTSTAMP:20260425T044320
CREATED:20241028T050956Z
LAST-MODIFIED:20251123T230111Z
UID:10068747-1796203800-1796207400@synergyhealthworks.com
SUMMARY:Active Ageing Level 2
DESCRIPTION:
URL:https://synergyhealthworks.com/event/active-ageing-level-2-4/2026-12-02/
LOCATION:Tumut\, Shop 10/95 Wynyard Street\, Tumut\, NSW\, 2720\, Australia
CATEGORIES:Active Ageing
END:VEVENT
BEGIN:VEVENT
DTSTART;TZID=Australia/Sydney:20261202T103000
DTEND;TZID=Australia/Sydney:20261202T113000
DTSTAMP:20260425T044320
CREATED:20241028T051106Z
LAST-MODIFIED:20251123T230148Z
UID:10110000-1796207400-1796211000@synergyhealthworks.com
SUMMARY:Active Ageing Level 2
DESCRIPTION:
URL:https://synergyhealthworks.com/event/active-ageing-level-1-2/2026-12-02/
LOCATION:Tumut\, Shop 10/95 Wynyard Street\, Tumut\, NSW\, 2720\, Australia
CATEGORIES:Active Ageing
END:VEVENT
BEGIN:VEVENT
DTSTART;TZID=Australia/Sydney:20261202T113000
DTEND;TZID=Australia/Sydney:20261202T123000
DTSTAMP:20260425T044320
CREATED:20241028T051308Z
LAST-MODIFIED:20251123T230251Z
UID:10110269-1796211000-1796214600@synergyhealthworks.com
SUMMARY:Active Ageing Level 2
DESCRIPTION:
URL:https://synergyhealthworks.com/event/active-ageing-level-2-5/2026-12-02/
LOCATION:Tumut\, Shop 10/95 Wynyard Street\, Tumut\, NSW\, 2720\, Australia
CATEGORIES:Active Ageing
END:VEVENT
BEGIN:VEVENT
DTSTART;TZID=Australia/Sydney:20261203T083000
DTEND;TZID=Australia/Sydney:20261203T093000
DTSTAMP:20260425T044320
CREATED:20241220T013734Z
LAST-MODIFIED:20251123T230349Z
UID:10111046-1796286600-1796290200@synergyhealthworks.com
SUMMARY:Active Ageing Level 2
DESCRIPTION:
URL:https://synergyhealthworks.com/event/active-ageing-level-2-6/2026-12-03/
LOCATION:Tumut\, Shop 10/95 Wynyard Street\, Tumut\, NSW\, 2720\, Australia
CATEGORIES:Active Ageing
END:VEVENT
BEGIN:VEVENT
DTSTART;TZID=Australia/Sydney:20261203T093000
DTEND;TZID=Australia/Sydney:20261203T103000
DTSTAMP:20260425T044320
CREATED:20241220T013930Z
LAST-MODIFIED:20251123T230452Z
UID:10111305-1796290200-1796293800@synergyhealthworks.com
SUMMARY:Active Ageing Level 2
DESCRIPTION:
URL:https://synergyhealthworks.com/event/active-ageing-level-2-7/2026-12-03/
LOCATION:Tumut\, Shop 10/95 Wynyard Street\, Tumut\, NSW\, 2720\, Australia
CATEGORIES:Active Ageing
END:VEVENT
BEGIN:VEVENT
DTSTART;TZID=Australia/Sydney:20261203T133000
DTEND;TZID=Australia/Sydney:20261203T143000
DTSTAMP:20260425T044320
CREATED:20241220T013710Z
LAST-MODIFIED:20251123T230524Z
UID:10110787-1796304600-1796308200@synergyhealthworks.com
SUMMARY:Active Ageing Level 1
DESCRIPTION:
URL:https://synergyhealthworks.com/event/active-ageing-level-1-5/2026-12-03/
LOCATION:Tumut\, Shop 10/95 Wynyard Street\, Tumut\, NSW\, 2720\, Australia
CATEGORIES:Active Ageing
END:VEVENT
BEGIN:VEVENT
DTSTART;TZID=Australia/Sydney:20261207T083000
DTEND;TZID=Australia/Sydney:20261207T093000
DTSTAMP:20260425T044320
CREATED:20241028T050434Z
LAST-MODIFIED:20251123T225656Z
UID:10109178-1796632200-1796635800@synergyhealthworks.com
SUMMARY:Active Ageing Level 2
DESCRIPTION:
URL:https://synergyhealthworks.com/event/active-ageing-level-2/2026-12-07/
LOCATION:Tumut\, Shop 10/95 Wynyard Street\, Tumut\, NSW\, 2720\, Australia
CATEGORIES:Active Ageing
END:VEVENT
BEGIN:VEVENT
DTSTART;TZID=Australia/Sydney:20261207T093000
DTEND;TZID=Australia/Sydney:20261207T103000
DTSTAMP:20260425T044320
CREATED:20241028T050603Z
LAST-MODIFIED:20251123T225830Z
UID:10067965-1796635800-1796639400@synergyhealthworks.com
SUMMARY:Active Ageing Level 2
DESCRIPTION:
URL:https://synergyhealthworks.com/event/active-ageing-level-1/2026-12-07/
LOCATION:Tumut\, Shop 10/95 Wynyard Street\, Tumut\, NSW\, 2720\, Australia
CATEGORIES:Active Ageing
END:VEVENT
END:VCALENDAR