BEGIN:VCALENDAR
VERSION:2.0
PRODID:-//Synergy Healthworks - ECPv6.15.20//NONSGML v1.0//EN
CALSCALE:GREGORIAN
METHOD:PUBLISH
X-ORIGINAL-URL:https://synergyhealthworks.com
X-WR-CALDESC:Events for Synergy Healthworks
REFRESH-INTERVAL;VALUE=DURATION:PT1H
X-Robots-Tag:noindex
X-PUBLISHED-TTL:PT1H
BEGIN:VTIMEZONE
TZID:Australia/Sydney
BEGIN:STANDARD
TZOFFSETFROM:+1100
TZOFFSETTO:+1000
TZNAME:AEST
DTSTART:20250405T160000
END:STANDARD
BEGIN:DAYLIGHT
TZOFFSETFROM:+1000
TZOFFSETTO:+1100
TZNAME:AEDT
DTSTART:20251004T160000
END:DAYLIGHT
BEGIN:STANDARD
TZOFFSETFROM:+1100
TZOFFSETTO:+1000
TZNAME:AEST
DTSTART:20260404T160000
END:STANDARD
BEGIN:DAYLIGHT
TZOFFSETFROM:+1000
TZOFFSETTO:+1100
TZNAME:AEDT
DTSTART:20261003T160000
END:DAYLIGHT
BEGIN:STANDARD
TZOFFSETFROM:+1100
TZOFFSETTO:+1000
TZNAME:AEST
DTSTART:20270403T160000
END:STANDARD
BEGIN:DAYLIGHT
TZOFFSETFROM:+1000
TZOFFSETTO:+1100
TZNAME:AEDT
DTSTART:20271002T160000
END:DAYLIGHT
END:VTIMEZONE
BEGIN:VEVENT
DTSTART;TZID=Australia/Sydney:20261012T083000
DTEND;TZID=Australia/Sydney:20261012T093000
DTSTAMP:20260424T200929
CREATED:20241028T050434Z
LAST-MODIFIED:20251123T225656Z
UID:10109170-1791793800-1791797400@synergyhealthworks.com
SUMMARY:Active Ageing Level 2
DESCRIPTION:
URL:https://synergyhealthworks.com/event/active-ageing-level-2/2026-10-12/
LOCATION:Tumut\, Shop 10/95 Wynyard Street\, Tumut\, NSW\, 2720\, Australia
CATEGORIES:Active Ageing
END:VEVENT
BEGIN:VEVENT
DTSTART;TZID=Australia/Sydney:20261012T093000
DTEND;TZID=Australia/Sydney:20261012T103000
DTSTAMP:20260424T200929
CREATED:20241028T050603Z
LAST-MODIFIED:20251123T225830Z
UID:10067957-1791797400-1791801000@synergyhealthworks.com
SUMMARY:Active Ageing Level 2
DESCRIPTION:
URL:https://synergyhealthworks.com/event/active-ageing-level-1/2026-10-12/
LOCATION:Tumut\, Shop 10/95 Wynyard Street\, Tumut\, NSW\, 2720\, Australia
CATEGORIES:Active Ageing
END:VEVENT
BEGIN:VEVENT
DTSTART;TZID=Australia/Sydney:20261012T103000
DTEND;TZID=Australia/Sydney:20261012T113000
DTSTAMP:20260424T200929
CREATED:20241028T050721Z
LAST-MODIFIED:20251123T225903Z
UID:10109447-1791801000-1791804600@synergyhealthworks.com
SUMMARY:Active Ageing Level 2
DESCRIPTION:
URL:https://synergyhealthworks.com/event/active-ageing-level-2-2/2026-10-12/
LOCATION:Tumut\, Shop 10/95 Wynyard Street\, Tumut\, NSW\, 2720\, Australia
CATEGORIES:Active Ageing
END:VEVENT
BEGIN:VEVENT
DTSTART;TZID=Australia/Sydney:20261013T093000
DTEND;TZID=Australia/Sydney:20261013T103000
DTSTAMP:20260424T200929
CREATED:20241220T010410Z
LAST-MODIFIED:20251123T225952Z
UID:10110521-1791883800-1791887400@synergyhealthworks.com
SUMMARY:Active Ageing Level 1
DESCRIPTION:
URL:https://synergyhealthworks.com/event/active-ageing-level-1-4/2026-10-13/
LOCATION:Tumut\, Shop 10/95 Wynyard Street\, Tumut\, NSW\, 2720\, Australia
CATEGORIES:Active Ageing
END:VEVENT
BEGIN:VEVENT
DTSTART;TZID=Australia/Sydney:20261014T083000
DTEND;TZID=Australia/Sydney:20261014T093000
DTSTAMP:20260424T200929
CREATED:20241028T050839Z
LAST-MODIFIED:20251123T230028Z
UID:10109716-1791966600-1791970200@synergyhealthworks.com
SUMMARY:Active Ageing Level 2
DESCRIPTION:
URL:https://synergyhealthworks.com/event/active-ageing-level-2-3/2026-10-14/
LOCATION:Tumut\, Shop 10/95 Wynyard Street\, Tumut\, NSW\, 2720\, Australia
CATEGORIES:Active Ageing
END:VEVENT
BEGIN:VEVENT
DTSTART;TZID=Australia/Sydney:20261014T093000
DTEND;TZID=Australia/Sydney:20261014T103000
DTSTAMP:20260424T200929
CREATED:20241028T050956Z
LAST-MODIFIED:20251123T230111Z
UID:10068740-1791970200-1791973800@synergyhealthworks.com
SUMMARY:Active Ageing Level 2
DESCRIPTION:
URL:https://synergyhealthworks.com/event/active-ageing-level-2-4/2026-10-14/
LOCATION:Tumut\, Shop 10/95 Wynyard Street\, Tumut\, NSW\, 2720\, Australia
CATEGORIES:Active Ageing
END:VEVENT
BEGIN:VEVENT
DTSTART;TZID=Australia/Sydney:20261014T103000
DTEND;TZID=Australia/Sydney:20261014T113000
DTSTAMP:20260424T200929
CREATED:20241028T051106Z
LAST-MODIFIED:20251123T230148Z
UID:10109993-1791973800-1791977400@synergyhealthworks.com
SUMMARY:Active Ageing Level 2
DESCRIPTION:
URL:https://synergyhealthworks.com/event/active-ageing-level-1-2/2026-10-14/
LOCATION:Tumut\, Shop 10/95 Wynyard Street\, Tumut\, NSW\, 2720\, Australia
CATEGORIES:Active Ageing
END:VEVENT
BEGIN:VEVENT
DTSTART;TZID=Australia/Sydney:20261014T113000
DTEND;TZID=Australia/Sydney:20261014T123000
DTSTAMP:20260424T200929
CREATED:20241028T051308Z
LAST-MODIFIED:20251123T230251Z
UID:10110262-1791977400-1791981000@synergyhealthworks.com
SUMMARY:Active Ageing Level 2
DESCRIPTION:
URL:https://synergyhealthworks.com/event/active-ageing-level-2-5/2026-10-14/
LOCATION:Tumut\, Shop 10/95 Wynyard Street\, Tumut\, NSW\, 2720\, Australia
CATEGORIES:Active Ageing
END:VEVENT
BEGIN:VEVENT
DTSTART;TZID=Australia/Sydney:20261015T083000
DTEND;TZID=Australia/Sydney:20261015T093000
DTSTAMP:20260424T200929
CREATED:20241220T013734Z
LAST-MODIFIED:20251123T230349Z
UID:10111039-1792053000-1792056600@synergyhealthworks.com
SUMMARY:Active Ageing Level 2
DESCRIPTION:
URL:https://synergyhealthworks.com/event/active-ageing-level-2-6/2026-10-15/
LOCATION:Tumut\, Shop 10/95 Wynyard Street\, Tumut\, NSW\, 2720\, Australia
CATEGORIES:Active Ageing
END:VEVENT
BEGIN:VEVENT
DTSTART;TZID=Australia/Sydney:20261015T093000
DTEND;TZID=Australia/Sydney:20261015T103000
DTSTAMP:20260424T200929
CREATED:20241220T013930Z
LAST-MODIFIED:20251123T230452Z
UID:10111298-1792056600-1792060200@synergyhealthworks.com
SUMMARY:Active Ageing Level 2
DESCRIPTION:
URL:https://synergyhealthworks.com/event/active-ageing-level-2-7/2026-10-15/
LOCATION:Tumut\, Shop 10/95 Wynyard Street\, Tumut\, NSW\, 2720\, Australia
CATEGORIES:Active Ageing
END:VEVENT
BEGIN:VEVENT
DTSTART;TZID=Australia/Sydney:20261015T133000
DTEND;TZID=Australia/Sydney:20261015T143000
DTSTAMP:20260424T200929
CREATED:20241220T013710Z
LAST-MODIFIED:20251123T230524Z
UID:10110780-1792071000-1792074600@synergyhealthworks.com
SUMMARY:Active Ageing Level 1
DESCRIPTION:
URL:https://synergyhealthworks.com/event/active-ageing-level-1-5/2026-10-15/
LOCATION:Tumut\, Shop 10/95 Wynyard Street\, Tumut\, NSW\, 2720\, Australia
CATEGORIES:Active Ageing
END:VEVENT
BEGIN:VEVENT
DTSTART;TZID=Australia/Sydney:20261019T083000
DTEND;TZID=Australia/Sydney:20261019T093000
DTSTAMP:20260424T200929
CREATED:20241028T050434Z
LAST-MODIFIED:20251123T225656Z
UID:10109171-1792398600-1792402200@synergyhealthworks.com
SUMMARY:Active Ageing Level 2
DESCRIPTION:
URL:https://synergyhealthworks.com/event/active-ageing-level-2/2026-10-19/
LOCATION:Tumut\, Shop 10/95 Wynyard Street\, Tumut\, NSW\, 2720\, Australia
CATEGORIES:Active Ageing
END:VEVENT
BEGIN:VEVENT
DTSTART;TZID=Australia/Sydney:20261019T093000
DTEND;TZID=Australia/Sydney:20261019T103000
DTSTAMP:20260424T200929
CREATED:20241028T050603Z
LAST-MODIFIED:20251123T225830Z
UID:10067958-1792402200-1792405800@synergyhealthworks.com
SUMMARY:Active Ageing Level 2
DESCRIPTION:
URL:https://synergyhealthworks.com/event/active-ageing-level-1/2026-10-19/
LOCATION:Tumut\, Shop 10/95 Wynyard Street\, Tumut\, NSW\, 2720\, Australia
CATEGORIES:Active Ageing
END:VEVENT
BEGIN:VEVENT
DTSTART;TZID=Australia/Sydney:20261019T103000
DTEND;TZID=Australia/Sydney:20261019T113000
DTSTAMP:20260424T200929
CREATED:20241028T050721Z
LAST-MODIFIED:20251123T225903Z
UID:10109448-1792405800-1792409400@synergyhealthworks.com
SUMMARY:Active Ageing Level 2
DESCRIPTION:
URL:https://synergyhealthworks.com/event/active-ageing-level-2-2/2026-10-19/
LOCATION:Tumut\, Shop 10/95 Wynyard Street\, Tumut\, NSW\, 2720\, Australia
CATEGORIES:Active Ageing
END:VEVENT
BEGIN:VEVENT
DTSTART;TZID=Australia/Sydney:20261020T093000
DTEND;TZID=Australia/Sydney:20261020T103000
DTSTAMP:20260424T200929
CREATED:20241220T010410Z
LAST-MODIFIED:20251123T225952Z
UID:10110522-1792488600-1792492200@synergyhealthworks.com
SUMMARY:Active Ageing Level 1
DESCRIPTION:
URL:https://synergyhealthworks.com/event/active-ageing-level-1-4/2026-10-20/
LOCATION:Tumut\, Shop 10/95 Wynyard Street\, Tumut\, NSW\, 2720\, Australia
CATEGORIES:Active Ageing
END:VEVENT
BEGIN:VEVENT
DTSTART;TZID=Australia/Sydney:20261021T083000
DTEND;TZID=Australia/Sydney:20261021T093000
DTSTAMP:20260424T200929
CREATED:20241028T050839Z
LAST-MODIFIED:20251123T230028Z
UID:10109717-1792571400-1792575000@synergyhealthworks.com
SUMMARY:Active Ageing Level 2
DESCRIPTION:
URL:https://synergyhealthworks.com/event/active-ageing-level-2-3/2026-10-21/
LOCATION:Tumut\, Shop 10/95 Wynyard Street\, Tumut\, NSW\, 2720\, Australia
CATEGORIES:Active Ageing
END:VEVENT
BEGIN:VEVENT
DTSTART;TZID=Australia/Sydney:20261021T093000
DTEND;TZID=Australia/Sydney:20261021T103000
DTSTAMP:20260424T200929
CREATED:20241028T050956Z
LAST-MODIFIED:20251123T230111Z
UID:10068741-1792575000-1792578600@synergyhealthworks.com
SUMMARY:Active Ageing Level 2
DESCRIPTION:
URL:https://synergyhealthworks.com/event/active-ageing-level-2-4/2026-10-21/
LOCATION:Tumut\, Shop 10/95 Wynyard Street\, Tumut\, NSW\, 2720\, Australia
CATEGORIES:Active Ageing
END:VEVENT
BEGIN:VEVENT
DTSTART;TZID=Australia/Sydney:20261021T103000
DTEND;TZID=Australia/Sydney:20261021T113000
DTSTAMP:20260424T200929
CREATED:20241028T051106Z
LAST-MODIFIED:20251123T230148Z
UID:10109994-1792578600-1792582200@synergyhealthworks.com
SUMMARY:Active Ageing Level 2
DESCRIPTION:
URL:https://synergyhealthworks.com/event/active-ageing-level-1-2/2026-10-21/
LOCATION:Tumut\, Shop 10/95 Wynyard Street\, Tumut\, NSW\, 2720\, Australia
CATEGORIES:Active Ageing
END:VEVENT
BEGIN:VEVENT
DTSTART;TZID=Australia/Sydney:20261021T113000
DTEND;TZID=Australia/Sydney:20261021T123000
DTSTAMP:20260424T200929
CREATED:20241028T051308Z
LAST-MODIFIED:20251123T230251Z
UID:10110263-1792582200-1792585800@synergyhealthworks.com
SUMMARY:Active Ageing Level 2
DESCRIPTION:
URL:https://synergyhealthworks.com/event/active-ageing-level-2-5/2026-10-21/
LOCATION:Tumut\, Shop 10/95 Wynyard Street\, Tumut\, NSW\, 2720\, Australia
CATEGORIES:Active Ageing
END:VEVENT
BEGIN:VEVENT
DTSTART;TZID=Australia/Sydney:20261022T083000
DTEND;TZID=Australia/Sydney:20261022T093000
DTSTAMP:20260424T200929
CREATED:20241220T013734Z
LAST-MODIFIED:20251123T230349Z
UID:10111040-1792657800-1792661400@synergyhealthworks.com
SUMMARY:Active Ageing Level 2
DESCRIPTION:
URL:https://synergyhealthworks.com/event/active-ageing-level-2-6/2026-10-22/
LOCATION:Tumut\, Shop 10/95 Wynyard Street\, Tumut\, NSW\, 2720\, Australia
CATEGORIES:Active Ageing
END:VEVENT
BEGIN:VEVENT
DTSTART;TZID=Australia/Sydney:20261022T093000
DTEND;TZID=Australia/Sydney:20261022T103000
DTSTAMP:20260424T200929
CREATED:20241220T013930Z
LAST-MODIFIED:20251123T230452Z
UID:10111299-1792661400-1792665000@synergyhealthworks.com
SUMMARY:Active Ageing Level 2
DESCRIPTION:
URL:https://synergyhealthworks.com/event/active-ageing-level-2-7/2026-10-22/
LOCATION:Tumut\, Shop 10/95 Wynyard Street\, Tumut\, NSW\, 2720\, Australia
CATEGORIES:Active Ageing
END:VEVENT
BEGIN:VEVENT
DTSTART;TZID=Australia/Sydney:20261022T133000
DTEND;TZID=Australia/Sydney:20261022T143000
DTSTAMP:20260424T200929
CREATED:20241220T013710Z
LAST-MODIFIED:20251123T230524Z
UID:10110781-1792675800-1792679400@synergyhealthworks.com
SUMMARY:Active Ageing Level 1
DESCRIPTION:
URL:https://synergyhealthworks.com/event/active-ageing-level-1-5/2026-10-22/
LOCATION:Tumut\, Shop 10/95 Wynyard Street\, Tumut\, NSW\, 2720\, Australia
CATEGORIES:Active Ageing
END:VEVENT
BEGIN:VEVENT
DTSTART;TZID=Australia/Sydney:20261026T083000
DTEND;TZID=Australia/Sydney:20261026T093000
DTSTAMP:20260424T200929
CREATED:20241028T050434Z
LAST-MODIFIED:20251123T225656Z
UID:10109172-1793003400-1793007000@synergyhealthworks.com
SUMMARY:Active Ageing Level 2
DESCRIPTION:
URL:https://synergyhealthworks.com/event/active-ageing-level-2/2026-10-26/
LOCATION:Tumut\, Shop 10/95 Wynyard Street\, Tumut\, NSW\, 2720\, Australia
CATEGORIES:Active Ageing
END:VEVENT
BEGIN:VEVENT
DTSTART;TZID=Australia/Sydney:20261026T093000
DTEND;TZID=Australia/Sydney:20261026T103000
DTSTAMP:20260424T200929
CREATED:20241028T050603Z
LAST-MODIFIED:20251123T225830Z
UID:10067959-1793007000-1793010600@synergyhealthworks.com
SUMMARY:Active Ageing Level 2
DESCRIPTION:
URL:https://synergyhealthworks.com/event/active-ageing-level-1/2026-10-26/
LOCATION:Tumut\, Shop 10/95 Wynyard Street\, Tumut\, NSW\, 2720\, Australia
CATEGORIES:Active Ageing
END:VEVENT
BEGIN:VEVENT
DTSTART;TZID=Australia/Sydney:20261026T103000
DTEND;TZID=Australia/Sydney:20261026T113000
DTSTAMP:20260424T200929
CREATED:20241028T050721Z
LAST-MODIFIED:20251123T225903Z
UID:10109449-1793010600-1793014200@synergyhealthworks.com
SUMMARY:Active Ageing Level 2
DESCRIPTION:
URL:https://synergyhealthworks.com/event/active-ageing-level-2-2/2026-10-26/
LOCATION:Tumut\, Shop 10/95 Wynyard Street\, Tumut\, NSW\, 2720\, Australia
CATEGORIES:Active Ageing
END:VEVENT
BEGIN:VEVENT
DTSTART;TZID=Australia/Sydney:20261027T093000
DTEND;TZID=Australia/Sydney:20261027T103000
DTSTAMP:20260424T200929
CREATED:20241220T010410Z
LAST-MODIFIED:20251123T225952Z
UID:10110523-1793093400-1793097000@synergyhealthworks.com
SUMMARY:Active Ageing Level 1
DESCRIPTION:
URL:https://synergyhealthworks.com/event/active-ageing-level-1-4/2026-10-27/
LOCATION:Tumut\, Shop 10/95 Wynyard Street\, Tumut\, NSW\, 2720\, Australia
CATEGORIES:Active Ageing
END:VEVENT
BEGIN:VEVENT
DTSTART;TZID=Australia/Sydney:20261028T083000
DTEND;TZID=Australia/Sydney:20261028T093000
DTSTAMP:20260424T200929
CREATED:20241028T050839Z
LAST-MODIFIED:20251123T230028Z
UID:10109718-1793176200-1793179800@synergyhealthworks.com
SUMMARY:Active Ageing Level 2
DESCRIPTION:
URL:https://synergyhealthworks.com/event/active-ageing-level-2-3/2026-10-28/
LOCATION:Tumut\, Shop 10/95 Wynyard Street\, Tumut\, NSW\, 2720\, Australia
CATEGORIES:Active Ageing
END:VEVENT
BEGIN:VEVENT
DTSTART;TZID=Australia/Sydney:20261028T093000
DTEND;TZID=Australia/Sydney:20261028T103000
DTSTAMP:20260424T200929
CREATED:20241028T050956Z
LAST-MODIFIED:20251123T230111Z
UID:10068742-1793179800-1793183400@synergyhealthworks.com
SUMMARY:Active Ageing Level 2
DESCRIPTION:
URL:https://synergyhealthworks.com/event/active-ageing-level-2-4/2026-10-28/
LOCATION:Tumut\, Shop 10/95 Wynyard Street\, Tumut\, NSW\, 2720\, Australia
CATEGORIES:Active Ageing
END:VEVENT
BEGIN:VEVENT
DTSTART;TZID=Australia/Sydney:20261028T103000
DTEND;TZID=Australia/Sydney:20261028T113000
DTSTAMP:20260424T200929
CREATED:20241028T051106Z
LAST-MODIFIED:20251123T230148Z
UID:10109995-1793183400-1793187000@synergyhealthworks.com
SUMMARY:Active Ageing Level 2
DESCRIPTION:
URL:https://synergyhealthworks.com/event/active-ageing-level-1-2/2026-10-28/
LOCATION:Tumut\, Shop 10/95 Wynyard Street\, Tumut\, NSW\, 2720\, Australia
CATEGORIES:Active Ageing
END:VEVENT
BEGIN:VEVENT
DTSTART;TZID=Australia/Sydney:20261028T113000
DTEND;TZID=Australia/Sydney:20261028T123000
DTSTAMP:20260424T200929
CREATED:20241028T051308Z
LAST-MODIFIED:20251123T230251Z
UID:10110264-1793187000-1793190600@synergyhealthworks.com
SUMMARY:Active Ageing Level 2
DESCRIPTION:
URL:https://synergyhealthworks.com/event/active-ageing-level-2-5/2026-10-28/
LOCATION:Tumut\, Shop 10/95 Wynyard Street\, Tumut\, NSW\, 2720\, Australia
CATEGORIES:Active Ageing
END:VEVENT
END:VCALENDAR