BEGIN:VCALENDAR
VERSION:2.0
PRODID:-//Synergy Healthworks - ECPv6.15.20//NONSGML v1.0//EN
CALSCALE:GREGORIAN
METHOD:PUBLISH
X-ORIGINAL-URL:https://synergyhealthworks.com
X-WR-CALDESC:Events for Synergy Healthworks
REFRESH-INTERVAL;VALUE=DURATION:PT1H
X-Robots-Tag:noindex
X-PUBLISHED-TTL:PT1H
BEGIN:VTIMEZONE
TZID:Australia/Sydney
BEGIN:STANDARD
TZOFFSETFROM:+1100
TZOFFSETTO:+1000
TZNAME:AEST
DTSTART:20250405T160000
END:STANDARD
BEGIN:DAYLIGHT
TZOFFSETFROM:+1000
TZOFFSETTO:+1100
TZNAME:AEDT
DTSTART:20251004T160000
END:DAYLIGHT
BEGIN:STANDARD
TZOFFSETFROM:+1100
TZOFFSETTO:+1000
TZNAME:AEST
DTSTART:20260404T160000
END:STANDARD
BEGIN:DAYLIGHT
TZOFFSETFROM:+1000
TZOFFSETTO:+1100
TZNAME:AEDT
DTSTART:20261003T160000
END:DAYLIGHT
BEGIN:STANDARD
TZOFFSETFROM:+1100
TZOFFSETTO:+1000
TZNAME:AEST
DTSTART:20270403T160000
END:STANDARD
BEGIN:DAYLIGHT
TZOFFSETFROM:+1000
TZOFFSETTO:+1100
TZNAME:AEDT
DTSTART:20271002T160000
END:DAYLIGHT
END:VTIMEZONE
BEGIN:VEVENT
DTSTART;TZID=Australia/Sydney:20260924T093000
DTEND;TZID=Australia/Sydney:20260924T103000
DTSTAMP:20260424T164819
CREATED:20241220T013930Z
LAST-MODIFIED:20251123T230452Z
UID:10111295-1790242200-1790245800@synergyhealthworks.com
SUMMARY:Active Ageing Level 2
DESCRIPTION:
URL:https://synergyhealthworks.com/event/active-ageing-level-2-7/2026-09-24/
LOCATION:Tumut\, Shop 10/95 Wynyard Street\, Tumut\, NSW\, 2720\, Australia
CATEGORIES:Active Ageing
END:VEVENT
BEGIN:VEVENT
DTSTART;TZID=Australia/Sydney:20260924T133000
DTEND;TZID=Australia/Sydney:20260924T143000
DTSTAMP:20260424T164819
CREATED:20241220T013710Z
LAST-MODIFIED:20251123T230524Z
UID:10110777-1790256600-1790260200@synergyhealthworks.com
SUMMARY:Active Ageing Level 1
DESCRIPTION:
URL:https://synergyhealthworks.com/event/active-ageing-level-1-5/2026-09-24/
LOCATION:Tumut\, Shop 10/95 Wynyard Street\, Tumut\, NSW\, 2720\, Australia
CATEGORIES:Active Ageing
END:VEVENT
BEGIN:VEVENT
DTSTART;TZID=Australia/Sydney:20260928T083000
DTEND;TZID=Australia/Sydney:20260928T093000
DTSTAMP:20260424T164819
CREATED:20241028T050434Z
LAST-MODIFIED:20251123T225656Z
UID:10109168-1790584200-1790587800@synergyhealthworks.com
SUMMARY:Active Ageing Level 2
DESCRIPTION:
URL:https://synergyhealthworks.com/event/active-ageing-level-2/2026-09-28/
LOCATION:Tumut\, Shop 10/95 Wynyard Street\, Tumut\, NSW\, 2720\, Australia
CATEGORIES:Active Ageing
END:VEVENT
BEGIN:VEVENT
DTSTART;TZID=Australia/Sydney:20260928T093000
DTEND;TZID=Australia/Sydney:20260928T103000
DTSTAMP:20260424T164819
CREATED:20241028T050603Z
LAST-MODIFIED:20251123T225830Z
UID:10067955-1790587800-1790591400@synergyhealthworks.com
SUMMARY:Active Ageing Level 2
DESCRIPTION:
URL:https://synergyhealthworks.com/event/active-ageing-level-1/2026-09-28/
LOCATION:Tumut\, Shop 10/95 Wynyard Street\, Tumut\, NSW\, 2720\, Australia
CATEGORIES:Active Ageing
END:VEVENT
BEGIN:VEVENT
DTSTART;TZID=Australia/Sydney:20260928T103000
DTEND;TZID=Australia/Sydney:20260928T113000
DTSTAMP:20260424T164819
CREATED:20241028T050721Z
LAST-MODIFIED:20251123T225903Z
UID:10109445-1790591400-1790595000@synergyhealthworks.com
SUMMARY:Active Ageing Level 2
DESCRIPTION:
URL:https://synergyhealthworks.com/event/active-ageing-level-2-2/2026-09-28/
LOCATION:Tumut\, Shop 10/95 Wynyard Street\, Tumut\, NSW\, 2720\, Australia
CATEGORIES:Active Ageing
END:VEVENT
BEGIN:VEVENT
DTSTART;TZID=Australia/Sydney:20260929T093000
DTEND;TZID=Australia/Sydney:20260929T103000
DTSTAMP:20260424T164819
CREATED:20241220T010410Z
LAST-MODIFIED:20251123T225952Z
UID:10110519-1790674200-1790677800@synergyhealthworks.com
SUMMARY:Active Ageing Level 1
DESCRIPTION:
URL:https://synergyhealthworks.com/event/active-ageing-level-1-4/2026-09-29/
LOCATION:Tumut\, Shop 10/95 Wynyard Street\, Tumut\, NSW\, 2720\, Australia
CATEGORIES:Active Ageing
END:VEVENT
BEGIN:VEVENT
DTSTART;TZID=Australia/Sydney:20260930T083000
DTEND;TZID=Australia/Sydney:20260930T093000
DTSTAMP:20260424T164819
CREATED:20241028T050839Z
LAST-MODIFIED:20251123T230028Z
UID:10109714-1790757000-1790760600@synergyhealthworks.com
SUMMARY:Active Ageing Level 2
DESCRIPTION:
URL:https://synergyhealthworks.com/event/active-ageing-level-2-3/2026-09-30/
LOCATION:Tumut\, Shop 10/95 Wynyard Street\, Tumut\, NSW\, 2720\, Australia
CATEGORIES:Active Ageing
END:VEVENT
BEGIN:VEVENT
DTSTART;TZID=Australia/Sydney:20260930T093000
DTEND;TZID=Australia/Sydney:20260930T103000
DTSTAMP:20260424T164819
CREATED:20241028T050956Z
LAST-MODIFIED:20251123T230111Z
UID:10068738-1790760600-1790764200@synergyhealthworks.com
SUMMARY:Active Ageing Level 2
DESCRIPTION:
URL:https://synergyhealthworks.com/event/active-ageing-level-2-4/2026-09-30/
LOCATION:Tumut\, Shop 10/95 Wynyard Street\, Tumut\, NSW\, 2720\, Australia
CATEGORIES:Active Ageing
END:VEVENT
BEGIN:VEVENT
DTSTART;TZID=Australia/Sydney:20260930T103000
DTEND;TZID=Australia/Sydney:20260930T113000
DTSTAMP:20260424T164819
CREATED:20241028T051106Z
LAST-MODIFIED:20251123T230148Z
UID:10109991-1790764200-1790767800@synergyhealthworks.com
SUMMARY:Active Ageing Level 2
DESCRIPTION:
URL:https://synergyhealthworks.com/event/active-ageing-level-1-2/2026-09-30/
LOCATION:Tumut\, Shop 10/95 Wynyard Street\, Tumut\, NSW\, 2720\, Australia
CATEGORIES:Active Ageing
END:VEVENT
BEGIN:VEVENT
DTSTART;TZID=Australia/Sydney:20260930T113000
DTEND;TZID=Australia/Sydney:20260930T123000
DTSTAMP:20260424T164819
CREATED:20241028T051308Z
LAST-MODIFIED:20251123T230251Z
UID:10110260-1790767800-1790771400@synergyhealthworks.com
SUMMARY:Active Ageing Level 2
DESCRIPTION:
URL:https://synergyhealthworks.com/event/active-ageing-level-2-5/2026-09-30/
LOCATION:Tumut\, Shop 10/95 Wynyard Street\, Tumut\, NSW\, 2720\, Australia
CATEGORIES:Active Ageing
END:VEVENT
BEGIN:VEVENT
DTSTART;TZID=Australia/Sydney:20261001T083000
DTEND;TZID=Australia/Sydney:20261001T093000
DTSTAMP:20260424T164819
CREATED:20241220T013734Z
LAST-MODIFIED:20251123T230349Z
UID:10111037-1790843400-1790847000@synergyhealthworks.com
SUMMARY:Active Ageing Level 2
DESCRIPTION:
URL:https://synergyhealthworks.com/event/active-ageing-level-2-6/2026-10-01/
LOCATION:Tumut\, Shop 10/95 Wynyard Street\, Tumut\, NSW\, 2720\, Australia
CATEGORIES:Active Ageing
END:VEVENT
BEGIN:VEVENT
DTSTART;TZID=Australia/Sydney:20261001T093000
DTEND;TZID=Australia/Sydney:20261001T103000
DTSTAMP:20260424T164819
CREATED:20241220T013930Z
LAST-MODIFIED:20251123T230452Z
UID:10111296-1790847000-1790850600@synergyhealthworks.com
SUMMARY:Active Ageing Level 2
DESCRIPTION:
URL:https://synergyhealthworks.com/event/active-ageing-level-2-7/2026-10-01/
LOCATION:Tumut\, Shop 10/95 Wynyard Street\, Tumut\, NSW\, 2720\, Australia
CATEGORIES:Active Ageing
END:VEVENT
BEGIN:VEVENT
DTSTART;TZID=Australia/Sydney:20261001T133000
DTEND;TZID=Australia/Sydney:20261001T143000
DTSTAMP:20260424T164819
CREATED:20241220T013710Z
LAST-MODIFIED:20251123T230524Z
UID:10110778-1790861400-1790865000@synergyhealthworks.com
SUMMARY:Active Ageing Level 1
DESCRIPTION:
URL:https://synergyhealthworks.com/event/active-ageing-level-1-5/2026-10-01/
LOCATION:Tumut\, Shop 10/95 Wynyard Street\, Tumut\, NSW\, 2720\, Australia
CATEGORIES:Active Ageing
END:VEVENT
BEGIN:VEVENT
DTSTART;TZID=Australia/Sydney:20261005T083000
DTEND;TZID=Australia/Sydney:20261005T093000
DTSTAMP:20260424T164819
CREATED:20241028T050434Z
LAST-MODIFIED:20251123T225656Z
UID:10109169-1791189000-1791192600@synergyhealthworks.com
SUMMARY:Active Ageing Level 2
DESCRIPTION:
URL:https://synergyhealthworks.com/event/active-ageing-level-2/2026-10-05/
LOCATION:Tumut\, Shop 10/95 Wynyard Street\, Tumut\, NSW\, 2720\, Australia
CATEGORIES:Active Ageing
END:VEVENT
BEGIN:VEVENT
DTSTART;TZID=Australia/Sydney:20261005T093000
DTEND;TZID=Australia/Sydney:20261005T103000
DTSTAMP:20260424T164819
CREATED:20241028T050603Z
LAST-MODIFIED:20251123T225830Z
UID:10067956-1791192600-1791196200@synergyhealthworks.com
SUMMARY:Active Ageing Level 2
DESCRIPTION:
URL:https://synergyhealthworks.com/event/active-ageing-level-1/2026-10-05/
LOCATION:Tumut\, Shop 10/95 Wynyard Street\, Tumut\, NSW\, 2720\, Australia
CATEGORIES:Active Ageing
END:VEVENT
BEGIN:VEVENT
DTSTART;TZID=Australia/Sydney:20261005T103000
DTEND;TZID=Australia/Sydney:20261005T113000
DTSTAMP:20260424T164819
CREATED:20241028T050721Z
LAST-MODIFIED:20251123T225903Z
UID:10109446-1791196200-1791199800@synergyhealthworks.com
SUMMARY:Active Ageing Level 2
DESCRIPTION:
URL:https://synergyhealthworks.com/event/active-ageing-level-2-2/2026-10-05/
LOCATION:Tumut\, Shop 10/95 Wynyard Street\, Tumut\, NSW\, 2720\, Australia
CATEGORIES:Active Ageing
END:VEVENT
BEGIN:VEVENT
DTSTART;TZID=Australia/Sydney:20261006T093000
DTEND;TZID=Australia/Sydney:20261006T103000
DTSTAMP:20260424T164819
CREATED:20241220T010410Z
LAST-MODIFIED:20251123T225952Z
UID:10110520-1791279000-1791282600@synergyhealthworks.com
SUMMARY:Active Ageing Level 1
DESCRIPTION:
URL:https://synergyhealthworks.com/event/active-ageing-level-1-4/2026-10-06/
LOCATION:Tumut\, Shop 10/95 Wynyard Street\, Tumut\, NSW\, 2720\, Australia
CATEGORIES:Active Ageing
END:VEVENT
BEGIN:VEVENT
DTSTART;TZID=Australia/Sydney:20261007T083000
DTEND;TZID=Australia/Sydney:20261007T093000
DTSTAMP:20260424T164819
CREATED:20241028T050839Z
LAST-MODIFIED:20251123T230028Z
UID:10109715-1791361800-1791365400@synergyhealthworks.com
SUMMARY:Active Ageing Level 2
DESCRIPTION:
URL:https://synergyhealthworks.com/event/active-ageing-level-2-3/2026-10-07/
LOCATION:Tumut\, Shop 10/95 Wynyard Street\, Tumut\, NSW\, 2720\, Australia
CATEGORIES:Active Ageing
END:VEVENT
BEGIN:VEVENT
DTSTART;TZID=Australia/Sydney:20261007T093000
DTEND;TZID=Australia/Sydney:20261007T103000
DTSTAMP:20260424T164819
CREATED:20241028T050956Z
LAST-MODIFIED:20251123T230111Z
UID:10068739-1791365400-1791369000@synergyhealthworks.com
SUMMARY:Active Ageing Level 2
DESCRIPTION:
URL:https://synergyhealthworks.com/event/active-ageing-level-2-4/2026-10-07/
LOCATION:Tumut\, Shop 10/95 Wynyard Street\, Tumut\, NSW\, 2720\, Australia
CATEGORIES:Active Ageing
END:VEVENT
BEGIN:VEVENT
DTSTART;TZID=Australia/Sydney:20261007T103000
DTEND;TZID=Australia/Sydney:20261007T113000
DTSTAMP:20260424T164819
CREATED:20241028T051106Z
LAST-MODIFIED:20251123T230148Z
UID:10109992-1791369000-1791372600@synergyhealthworks.com
SUMMARY:Active Ageing Level 2
DESCRIPTION:
URL:https://synergyhealthworks.com/event/active-ageing-level-1-2/2026-10-07/
LOCATION:Tumut\, Shop 10/95 Wynyard Street\, Tumut\, NSW\, 2720\, Australia
CATEGORIES:Active Ageing
END:VEVENT
BEGIN:VEVENT
DTSTART;TZID=Australia/Sydney:20261007T113000
DTEND;TZID=Australia/Sydney:20261007T123000
DTSTAMP:20260424T164819
CREATED:20241028T051308Z
LAST-MODIFIED:20251123T230251Z
UID:10110261-1791372600-1791376200@synergyhealthworks.com
SUMMARY:Active Ageing Level 2
DESCRIPTION:
URL:https://synergyhealthworks.com/event/active-ageing-level-2-5/2026-10-07/
LOCATION:Tumut\, Shop 10/95 Wynyard Street\, Tumut\, NSW\, 2720\, Australia
CATEGORIES:Active Ageing
END:VEVENT
BEGIN:VEVENT
DTSTART;TZID=Australia/Sydney:20261008T083000
DTEND;TZID=Australia/Sydney:20261008T093000
DTSTAMP:20260424T164819
CREATED:20241220T013734Z
LAST-MODIFIED:20251123T230349Z
UID:10111038-1791448200-1791451800@synergyhealthworks.com
SUMMARY:Active Ageing Level 2
DESCRIPTION:
URL:https://synergyhealthworks.com/event/active-ageing-level-2-6/2026-10-08/
LOCATION:Tumut\, Shop 10/95 Wynyard Street\, Tumut\, NSW\, 2720\, Australia
CATEGORIES:Active Ageing
END:VEVENT
BEGIN:VEVENT
DTSTART;TZID=Australia/Sydney:20261008T093000
DTEND;TZID=Australia/Sydney:20261008T103000
DTSTAMP:20260424T164819
CREATED:20241220T013930Z
LAST-MODIFIED:20251123T230452Z
UID:10111297-1791451800-1791455400@synergyhealthworks.com
SUMMARY:Active Ageing Level 2
DESCRIPTION:
URL:https://synergyhealthworks.com/event/active-ageing-level-2-7/2026-10-08/
LOCATION:Tumut\, Shop 10/95 Wynyard Street\, Tumut\, NSW\, 2720\, Australia
CATEGORIES:Active Ageing
END:VEVENT
BEGIN:VEVENT
DTSTART;TZID=Australia/Sydney:20261008T133000
DTEND;TZID=Australia/Sydney:20261008T143000
DTSTAMP:20260424T164819
CREATED:20241220T013710Z
LAST-MODIFIED:20251123T230524Z
UID:10110779-1791466200-1791469800@synergyhealthworks.com
SUMMARY:Active Ageing Level 1
DESCRIPTION:
URL:https://synergyhealthworks.com/event/active-ageing-level-1-5/2026-10-08/
LOCATION:Tumut\, Shop 10/95 Wynyard Street\, Tumut\, NSW\, 2720\, Australia
CATEGORIES:Active Ageing
END:VEVENT
BEGIN:VEVENT
DTSTART;TZID=Australia/Sydney:20261012T083000
DTEND;TZID=Australia/Sydney:20261012T093000
DTSTAMP:20260424T164819
CREATED:20241028T050434Z
LAST-MODIFIED:20251123T225656Z
UID:10109170-1791793800-1791797400@synergyhealthworks.com
SUMMARY:Active Ageing Level 2
DESCRIPTION:
URL:https://synergyhealthworks.com/event/active-ageing-level-2/2026-10-12/
LOCATION:Tumut\, Shop 10/95 Wynyard Street\, Tumut\, NSW\, 2720\, Australia
CATEGORIES:Active Ageing
END:VEVENT
BEGIN:VEVENT
DTSTART;TZID=Australia/Sydney:20261012T093000
DTEND;TZID=Australia/Sydney:20261012T103000
DTSTAMP:20260424T164819
CREATED:20241028T050603Z
LAST-MODIFIED:20251123T225830Z
UID:10067957-1791797400-1791801000@synergyhealthworks.com
SUMMARY:Active Ageing Level 2
DESCRIPTION:
URL:https://synergyhealthworks.com/event/active-ageing-level-1/2026-10-12/
LOCATION:Tumut\, Shop 10/95 Wynyard Street\, Tumut\, NSW\, 2720\, Australia
CATEGORIES:Active Ageing
END:VEVENT
BEGIN:VEVENT
DTSTART;TZID=Australia/Sydney:20261012T103000
DTEND;TZID=Australia/Sydney:20261012T113000
DTSTAMP:20260424T164819
CREATED:20241028T050721Z
LAST-MODIFIED:20251123T225903Z
UID:10109447-1791801000-1791804600@synergyhealthworks.com
SUMMARY:Active Ageing Level 2
DESCRIPTION:
URL:https://synergyhealthworks.com/event/active-ageing-level-2-2/2026-10-12/
LOCATION:Tumut\, Shop 10/95 Wynyard Street\, Tumut\, NSW\, 2720\, Australia
CATEGORIES:Active Ageing
END:VEVENT
BEGIN:VEVENT
DTSTART;TZID=Australia/Sydney:20261013T093000
DTEND;TZID=Australia/Sydney:20261013T103000
DTSTAMP:20260424T164819
CREATED:20241220T010410Z
LAST-MODIFIED:20251123T225952Z
UID:10110521-1791883800-1791887400@synergyhealthworks.com
SUMMARY:Active Ageing Level 1
DESCRIPTION:
URL:https://synergyhealthworks.com/event/active-ageing-level-1-4/2026-10-13/
LOCATION:Tumut\, Shop 10/95 Wynyard Street\, Tumut\, NSW\, 2720\, Australia
CATEGORIES:Active Ageing
END:VEVENT
BEGIN:VEVENT
DTSTART;TZID=Australia/Sydney:20261014T083000
DTEND;TZID=Australia/Sydney:20261014T093000
DTSTAMP:20260424T164819
CREATED:20241028T050839Z
LAST-MODIFIED:20251123T230028Z
UID:10109716-1791966600-1791970200@synergyhealthworks.com
SUMMARY:Active Ageing Level 2
DESCRIPTION:
URL:https://synergyhealthworks.com/event/active-ageing-level-2-3/2026-10-14/
LOCATION:Tumut\, Shop 10/95 Wynyard Street\, Tumut\, NSW\, 2720\, Australia
CATEGORIES:Active Ageing
END:VEVENT
BEGIN:VEVENT
DTSTART;TZID=Australia/Sydney:20261014T093000
DTEND;TZID=Australia/Sydney:20261014T103000
DTSTAMP:20260424T164819
CREATED:20241028T050956Z
LAST-MODIFIED:20251123T230111Z
UID:10068740-1791970200-1791973800@synergyhealthworks.com
SUMMARY:Active Ageing Level 2
DESCRIPTION:
URL:https://synergyhealthworks.com/event/active-ageing-level-2-4/2026-10-14/
LOCATION:Tumut\, Shop 10/95 Wynyard Street\, Tumut\, NSW\, 2720\, Australia
CATEGORIES:Active Ageing
END:VEVENT
END:VCALENDAR