BEGIN:VCALENDAR
VERSION:2.0
PRODID:-//Synergy Healthworks - ECPv6.15.20//NONSGML v1.0//EN
CALSCALE:GREGORIAN
METHOD:PUBLISH
X-WR-CALNAME:Synergy Healthworks
X-ORIGINAL-URL:https://synergyhealthworks.com
X-WR-CALDESC:Events for Synergy Healthworks
REFRESH-INTERVAL;VALUE=DURATION:PT1H
X-Robots-Tag:noindex
X-PUBLISHED-TTL:PT1H
BEGIN:VTIMEZONE
TZID:Australia/Sydney
BEGIN:STANDARD
TZOFFSETFROM:+1100
TZOFFSETTO:+1000
TZNAME:AEST
DTSTART:20250405T160000
END:STANDARD
BEGIN:DAYLIGHT
TZOFFSETFROM:+1000
TZOFFSETTO:+1100
TZNAME:AEDT
DTSTART:20251004T160000
END:DAYLIGHT
BEGIN:STANDARD
TZOFFSETFROM:+1100
TZOFFSETTO:+1000
TZNAME:AEST
DTSTART:20260404T160000
END:STANDARD
BEGIN:DAYLIGHT
TZOFFSETFROM:+1000
TZOFFSETTO:+1100
TZNAME:AEDT
DTSTART:20261003T160000
END:DAYLIGHT
BEGIN:STANDARD
TZOFFSETFROM:+1100
TZOFFSETTO:+1000
TZNAME:AEST
DTSTART:20270403T160000
END:STANDARD
BEGIN:DAYLIGHT
TZOFFSETFROM:+1000
TZOFFSETTO:+1100
TZNAME:AEDT
DTSTART:20271002T160000
END:DAYLIGHT
END:VTIMEZONE
BEGIN:VEVENT
DTSTART;TZID=Australia/Sydney:20260909T113000
DTEND;TZID=Australia/Sydney:20260909T123000
DTSTAMP:20260424T132418
CREATED:20241028T051308Z
LAST-MODIFIED:20251123T230251Z
UID:10110257-1788953400-1788957000@synergyhealthworks.com
SUMMARY:Active Ageing Level 2
DESCRIPTION:
URL:https://synergyhealthworks.com/event/active-ageing-level-2-5/2026-09-09/
LOCATION:Tumut\, Shop 10/95 Wynyard Street\, Tumut\, NSW\, 2720\, Australia
CATEGORIES:Active Ageing
END:VEVENT
BEGIN:VEVENT
DTSTART;TZID=Australia/Sydney:20260910T083000
DTEND;TZID=Australia/Sydney:20260910T093000
DTSTAMP:20260424T132418
CREATED:20241220T013734Z
LAST-MODIFIED:20251123T230349Z
UID:10111034-1789029000-1789032600@synergyhealthworks.com
SUMMARY:Active Ageing Level 2
DESCRIPTION:
URL:https://synergyhealthworks.com/event/active-ageing-level-2-6/2026-09-10/
LOCATION:Tumut\, Shop 10/95 Wynyard Street\, Tumut\, NSW\, 2720\, Australia
CATEGORIES:Active Ageing
END:VEVENT
BEGIN:VEVENT
DTSTART;TZID=Australia/Sydney:20260910T093000
DTEND;TZID=Australia/Sydney:20260910T103000
DTSTAMP:20260424T132418
CREATED:20241220T013930Z
LAST-MODIFIED:20251123T230452Z
UID:10111293-1789032600-1789036200@synergyhealthworks.com
SUMMARY:Active Ageing Level 2
DESCRIPTION:
URL:https://synergyhealthworks.com/event/active-ageing-level-2-7/2026-09-10/
LOCATION:Tumut\, Shop 10/95 Wynyard Street\, Tumut\, NSW\, 2720\, Australia
CATEGORIES:Active Ageing
END:VEVENT
BEGIN:VEVENT
DTSTART;TZID=Australia/Sydney:20260910T133000
DTEND;TZID=Australia/Sydney:20260910T143000
DTSTAMP:20260424T132418
CREATED:20241220T013710Z
LAST-MODIFIED:20251123T230524Z
UID:10110775-1789047000-1789050600@synergyhealthworks.com
SUMMARY:Active Ageing Level 1
DESCRIPTION:
URL:https://synergyhealthworks.com/event/active-ageing-level-1-5/2026-09-10/
LOCATION:Tumut\, Shop 10/95 Wynyard Street\, Tumut\, NSW\, 2720\, Australia
CATEGORIES:Active Ageing
END:VEVENT
BEGIN:VEVENT
DTSTART;TZID=Australia/Sydney:20260914T083000
DTEND;TZID=Australia/Sydney:20260914T093000
DTSTAMP:20260424T132418
CREATED:20241028T050434Z
LAST-MODIFIED:20251123T225656Z
UID:10109166-1789374600-1789378200@synergyhealthworks.com
SUMMARY:Active Ageing Level 2
DESCRIPTION:
URL:https://synergyhealthworks.com/event/active-ageing-level-2/2026-09-14/
LOCATION:Tumut\, Shop 10/95 Wynyard Street\, Tumut\, NSW\, 2720\, Australia
CATEGORIES:Active Ageing
END:VEVENT
BEGIN:VEVENT
DTSTART;TZID=Australia/Sydney:20260914T093000
DTEND;TZID=Australia/Sydney:20260914T103000
DTSTAMP:20260424T132418
CREATED:20241028T050603Z
LAST-MODIFIED:20251123T225830Z
UID:10067953-1789378200-1789381800@synergyhealthworks.com
SUMMARY:Active Ageing Level 2
DESCRIPTION:
URL:https://synergyhealthworks.com/event/active-ageing-level-1/2026-09-14/
LOCATION:Tumut\, Shop 10/95 Wynyard Street\, Tumut\, NSW\, 2720\, Australia
CATEGORIES:Active Ageing
END:VEVENT
BEGIN:VEVENT
DTSTART;TZID=Australia/Sydney:20260914T103000
DTEND;TZID=Australia/Sydney:20260914T113000
DTSTAMP:20260424T132418
CREATED:20241028T050721Z
LAST-MODIFIED:20251123T225903Z
UID:10109443-1789381800-1789385400@synergyhealthworks.com
SUMMARY:Active Ageing Level 2
DESCRIPTION:
URL:https://synergyhealthworks.com/event/active-ageing-level-2-2/2026-09-14/
LOCATION:Tumut\, Shop 10/95 Wynyard Street\, Tumut\, NSW\, 2720\, Australia
CATEGORIES:Active Ageing
END:VEVENT
BEGIN:VEVENT
DTSTART;TZID=Australia/Sydney:20260915T093000
DTEND;TZID=Australia/Sydney:20260915T103000
DTSTAMP:20260424T132418
CREATED:20241220T010410Z
LAST-MODIFIED:20251123T225952Z
UID:10110517-1789464600-1789468200@synergyhealthworks.com
SUMMARY:Active Ageing Level 1
DESCRIPTION:
URL:https://synergyhealthworks.com/event/active-ageing-level-1-4/2026-09-15/
LOCATION:Tumut\, Shop 10/95 Wynyard Street\, Tumut\, NSW\, 2720\, Australia
CATEGORIES:Active Ageing
END:VEVENT
BEGIN:VEVENT
DTSTART;TZID=Australia/Sydney:20260916T083000
DTEND;TZID=Australia/Sydney:20260916T093000
DTSTAMP:20260424T132418
CREATED:20241028T050839Z
LAST-MODIFIED:20251123T230028Z
UID:10109712-1789547400-1789551000@synergyhealthworks.com
SUMMARY:Active Ageing Level 2
DESCRIPTION:
URL:https://synergyhealthworks.com/event/active-ageing-level-2-3/2026-09-16/
LOCATION:Tumut\, Shop 10/95 Wynyard Street\, Tumut\, NSW\, 2720\, Australia
CATEGORIES:Active Ageing
END:VEVENT
BEGIN:VEVENT
DTSTART;TZID=Australia/Sydney:20260916T093000
DTEND;TZID=Australia/Sydney:20260916T103000
DTSTAMP:20260424T132418
CREATED:20241028T050956Z
LAST-MODIFIED:20251123T230111Z
UID:10068736-1789551000-1789554600@synergyhealthworks.com
SUMMARY:Active Ageing Level 2
DESCRIPTION:
URL:https://synergyhealthworks.com/event/active-ageing-level-2-4/2026-09-16/
LOCATION:Tumut\, Shop 10/95 Wynyard Street\, Tumut\, NSW\, 2720\, Australia
CATEGORIES:Active Ageing
END:VEVENT
BEGIN:VEVENT
DTSTART;TZID=Australia/Sydney:20260916T103000
DTEND;TZID=Australia/Sydney:20260916T113000
DTSTAMP:20260424T132418
CREATED:20241028T051106Z
LAST-MODIFIED:20251123T230148Z
UID:10109989-1789554600-1789558200@synergyhealthworks.com
SUMMARY:Active Ageing Level 2
DESCRIPTION:
URL:https://synergyhealthworks.com/event/active-ageing-level-1-2/2026-09-16/
LOCATION:Tumut\, Shop 10/95 Wynyard Street\, Tumut\, NSW\, 2720\, Australia
CATEGORIES:Active Ageing
END:VEVENT
BEGIN:VEVENT
DTSTART;TZID=Australia/Sydney:20260916T113000
DTEND;TZID=Australia/Sydney:20260916T123000
DTSTAMP:20260424T132418
CREATED:20241028T051308Z
LAST-MODIFIED:20251123T230251Z
UID:10110258-1789558200-1789561800@synergyhealthworks.com
SUMMARY:Active Ageing Level 2
DESCRIPTION:
URL:https://synergyhealthworks.com/event/active-ageing-level-2-5/2026-09-16/
LOCATION:Tumut\, Shop 10/95 Wynyard Street\, Tumut\, NSW\, 2720\, Australia
CATEGORIES:Active Ageing
END:VEVENT
BEGIN:VEVENT
DTSTART;TZID=Australia/Sydney:20260917T083000
DTEND;TZID=Australia/Sydney:20260917T093000
DTSTAMP:20260424T132418
CREATED:20241220T013734Z
LAST-MODIFIED:20251123T230349Z
UID:10111035-1789633800-1789637400@synergyhealthworks.com
SUMMARY:Active Ageing Level 2
DESCRIPTION:
URL:https://synergyhealthworks.com/event/active-ageing-level-2-6/2026-09-17/
LOCATION:Tumut\, Shop 10/95 Wynyard Street\, Tumut\, NSW\, 2720\, Australia
CATEGORIES:Active Ageing
END:VEVENT
BEGIN:VEVENT
DTSTART;TZID=Australia/Sydney:20260917T093000
DTEND;TZID=Australia/Sydney:20260917T103000
DTSTAMP:20260424T132418
CREATED:20241220T013930Z
LAST-MODIFIED:20251123T230452Z
UID:10111294-1789637400-1789641000@synergyhealthworks.com
SUMMARY:Active Ageing Level 2
DESCRIPTION:
URL:https://synergyhealthworks.com/event/active-ageing-level-2-7/2026-09-17/
LOCATION:Tumut\, Shop 10/95 Wynyard Street\, Tumut\, NSW\, 2720\, Australia
CATEGORIES:Active Ageing
END:VEVENT
BEGIN:VEVENT
DTSTART;TZID=Australia/Sydney:20260917T133000
DTEND;TZID=Australia/Sydney:20260917T143000
DTSTAMP:20260424T132418
CREATED:20241220T013710Z
LAST-MODIFIED:20251123T230524Z
UID:10110776-1789651800-1789655400@synergyhealthworks.com
SUMMARY:Active Ageing Level 1
DESCRIPTION:
URL:https://synergyhealthworks.com/event/active-ageing-level-1-5/2026-09-17/
LOCATION:Tumut\, Shop 10/95 Wynyard Street\, Tumut\, NSW\, 2720\, Australia
CATEGORIES:Active Ageing
END:VEVENT
BEGIN:VEVENT
DTSTART;TZID=Australia/Sydney:20260921T083000
DTEND;TZID=Australia/Sydney:20260921T093000
DTSTAMP:20260424T132418
CREATED:20241028T050434Z
LAST-MODIFIED:20251123T225656Z
UID:10109167-1789979400-1789983000@synergyhealthworks.com
SUMMARY:Active Ageing Level 2
DESCRIPTION:
URL:https://synergyhealthworks.com/event/active-ageing-level-2/2026-09-21/
LOCATION:Tumut\, Shop 10/95 Wynyard Street\, Tumut\, NSW\, 2720\, Australia
CATEGORIES:Active Ageing
END:VEVENT
BEGIN:VEVENT
DTSTART;TZID=Australia/Sydney:20260921T093000
DTEND;TZID=Australia/Sydney:20260921T103000
DTSTAMP:20260424T132418
CREATED:20241028T050603Z
LAST-MODIFIED:20251123T225830Z
UID:10067954-1789983000-1789986600@synergyhealthworks.com
SUMMARY:Active Ageing Level 2
DESCRIPTION:
URL:https://synergyhealthworks.com/event/active-ageing-level-1/2026-09-21/
LOCATION:Tumut\, Shop 10/95 Wynyard Street\, Tumut\, NSW\, 2720\, Australia
CATEGORIES:Active Ageing
END:VEVENT
BEGIN:VEVENT
DTSTART;TZID=Australia/Sydney:20260921T103000
DTEND;TZID=Australia/Sydney:20260921T113000
DTSTAMP:20260424T132418
CREATED:20241028T050721Z
LAST-MODIFIED:20251123T225903Z
UID:10109444-1789986600-1789990200@synergyhealthworks.com
SUMMARY:Active Ageing Level 2
DESCRIPTION:
URL:https://synergyhealthworks.com/event/active-ageing-level-2-2/2026-09-21/
LOCATION:Tumut\, Shop 10/95 Wynyard Street\, Tumut\, NSW\, 2720\, Australia
CATEGORIES:Active Ageing
END:VEVENT
BEGIN:VEVENT
DTSTART;TZID=Australia/Sydney:20260922T093000
DTEND;TZID=Australia/Sydney:20260922T103000
DTSTAMP:20260424T132418
CREATED:20241220T010410Z
LAST-MODIFIED:20251123T225952Z
UID:10110518-1790069400-1790073000@synergyhealthworks.com
SUMMARY:Active Ageing Level 1
DESCRIPTION:
URL:https://synergyhealthworks.com/event/active-ageing-level-1-4/2026-09-22/
LOCATION:Tumut\, Shop 10/95 Wynyard Street\, Tumut\, NSW\, 2720\, Australia
CATEGORIES:Active Ageing
END:VEVENT
BEGIN:VEVENT
DTSTART;TZID=Australia/Sydney:20260923T083000
DTEND;TZID=Australia/Sydney:20260923T093000
DTSTAMP:20260424T132418
CREATED:20241028T050839Z
LAST-MODIFIED:20251123T230028Z
UID:10109713-1790152200-1790155800@synergyhealthworks.com
SUMMARY:Active Ageing Level 2
DESCRIPTION:
URL:https://synergyhealthworks.com/event/active-ageing-level-2-3/2026-09-23/
LOCATION:Tumut\, Shop 10/95 Wynyard Street\, Tumut\, NSW\, 2720\, Australia
CATEGORIES:Active Ageing
END:VEVENT
BEGIN:VEVENT
DTSTART;TZID=Australia/Sydney:20260923T093000
DTEND;TZID=Australia/Sydney:20260923T103000
DTSTAMP:20260424T132418
CREATED:20241028T050956Z
LAST-MODIFIED:20251123T230111Z
UID:10068737-1790155800-1790159400@synergyhealthworks.com
SUMMARY:Active Ageing Level 2
DESCRIPTION:
URL:https://synergyhealthworks.com/event/active-ageing-level-2-4/2026-09-23/
LOCATION:Tumut\, Shop 10/95 Wynyard Street\, Tumut\, NSW\, 2720\, Australia
CATEGORIES:Active Ageing
END:VEVENT
BEGIN:VEVENT
DTSTART;TZID=Australia/Sydney:20260923T103000
DTEND;TZID=Australia/Sydney:20260923T113000
DTSTAMP:20260424T132418
CREATED:20241028T051106Z
LAST-MODIFIED:20251123T230148Z
UID:10109990-1790159400-1790163000@synergyhealthworks.com
SUMMARY:Active Ageing Level 2
DESCRIPTION:
URL:https://synergyhealthworks.com/event/active-ageing-level-1-2/2026-09-23/
LOCATION:Tumut\, Shop 10/95 Wynyard Street\, Tumut\, NSW\, 2720\, Australia
CATEGORIES:Active Ageing
END:VEVENT
BEGIN:VEVENT
DTSTART;TZID=Australia/Sydney:20260923T113000
DTEND;TZID=Australia/Sydney:20260923T123000
DTSTAMP:20260424T132418
CREATED:20241028T051308Z
LAST-MODIFIED:20251123T230251Z
UID:10110259-1790163000-1790166600@synergyhealthworks.com
SUMMARY:Active Ageing Level 2
DESCRIPTION:
URL:https://synergyhealthworks.com/event/active-ageing-level-2-5/2026-09-23/
LOCATION:Tumut\, Shop 10/95 Wynyard Street\, Tumut\, NSW\, 2720\, Australia
CATEGORIES:Active Ageing
END:VEVENT
BEGIN:VEVENT
DTSTART;TZID=Australia/Sydney:20260924T083000
DTEND;TZID=Australia/Sydney:20260924T093000
DTSTAMP:20260424T132418
CREATED:20241220T013734Z
LAST-MODIFIED:20251123T230349Z
UID:10111036-1790238600-1790242200@synergyhealthworks.com
SUMMARY:Active Ageing Level 2
DESCRIPTION:
URL:https://synergyhealthworks.com/event/active-ageing-level-2-6/2026-09-24/
LOCATION:Tumut\, Shop 10/95 Wynyard Street\, Tumut\, NSW\, 2720\, Australia
CATEGORIES:Active Ageing
END:VEVENT
BEGIN:VEVENT
DTSTART;TZID=Australia/Sydney:20260924T093000
DTEND;TZID=Australia/Sydney:20260924T103000
DTSTAMP:20260424T132418
CREATED:20241220T013930Z
LAST-MODIFIED:20251123T230452Z
UID:10111295-1790242200-1790245800@synergyhealthworks.com
SUMMARY:Active Ageing Level 2
DESCRIPTION:
URL:https://synergyhealthworks.com/event/active-ageing-level-2-7/2026-09-24/
LOCATION:Tumut\, Shop 10/95 Wynyard Street\, Tumut\, NSW\, 2720\, Australia
CATEGORIES:Active Ageing
END:VEVENT
BEGIN:VEVENT
DTSTART;TZID=Australia/Sydney:20260924T133000
DTEND;TZID=Australia/Sydney:20260924T143000
DTSTAMP:20260424T132418
CREATED:20241220T013710Z
LAST-MODIFIED:20251123T230524Z
UID:10110777-1790256600-1790260200@synergyhealthworks.com
SUMMARY:Active Ageing Level 1
DESCRIPTION:
URL:https://synergyhealthworks.com/event/active-ageing-level-1-5/2026-09-24/
LOCATION:Tumut\, Shop 10/95 Wynyard Street\, Tumut\, NSW\, 2720\, Australia
CATEGORIES:Active Ageing
END:VEVENT
BEGIN:VEVENT
DTSTART;TZID=Australia/Sydney:20260928T083000
DTEND;TZID=Australia/Sydney:20260928T093000
DTSTAMP:20260424T132418
CREATED:20241028T050434Z
LAST-MODIFIED:20251123T225656Z
UID:10109168-1790584200-1790587800@synergyhealthworks.com
SUMMARY:Active Ageing Level 2
DESCRIPTION:
URL:https://synergyhealthworks.com/event/active-ageing-level-2/2026-09-28/
LOCATION:Tumut\, Shop 10/95 Wynyard Street\, Tumut\, NSW\, 2720\, Australia
CATEGORIES:Active Ageing
END:VEVENT
BEGIN:VEVENT
DTSTART;TZID=Australia/Sydney:20260928T093000
DTEND;TZID=Australia/Sydney:20260928T103000
DTSTAMP:20260424T132418
CREATED:20241028T050603Z
LAST-MODIFIED:20251123T225830Z
UID:10067955-1790587800-1790591400@synergyhealthworks.com
SUMMARY:Active Ageing Level 2
DESCRIPTION:
URL:https://synergyhealthworks.com/event/active-ageing-level-1/2026-09-28/
LOCATION:Tumut\, Shop 10/95 Wynyard Street\, Tumut\, NSW\, 2720\, Australia
CATEGORIES:Active Ageing
END:VEVENT
BEGIN:VEVENT
DTSTART;TZID=Australia/Sydney:20260928T103000
DTEND;TZID=Australia/Sydney:20260928T113000
DTSTAMP:20260424T132418
CREATED:20241028T050721Z
LAST-MODIFIED:20251123T225903Z
UID:10109445-1790591400-1790595000@synergyhealthworks.com
SUMMARY:Active Ageing Level 2
DESCRIPTION:
URL:https://synergyhealthworks.com/event/active-ageing-level-2-2/2026-09-28/
LOCATION:Tumut\, Shop 10/95 Wynyard Street\, Tumut\, NSW\, 2720\, Australia
CATEGORIES:Active Ageing
END:VEVENT
BEGIN:VEVENT
DTSTART;TZID=Australia/Sydney:20260929T093000
DTEND;TZID=Australia/Sydney:20260929T103000
DTSTAMP:20260424T132418
CREATED:20241220T010410Z
LAST-MODIFIED:20251123T225952Z
UID:10110519-1790674200-1790677800@synergyhealthworks.com
SUMMARY:Active Ageing Level 1
DESCRIPTION:
URL:https://synergyhealthworks.com/event/active-ageing-level-1-4/2026-09-29/
LOCATION:Tumut\, Shop 10/95 Wynyard Street\, Tumut\, NSW\, 2720\, Australia
CATEGORIES:Active Ageing
END:VEVENT
END:VCALENDAR