BEGIN:VCALENDAR
VERSION:2.0
PRODID:-//Synergy Healthworks - ECPv6.15.20//NONSGML v1.0//EN
CALSCALE:GREGORIAN
METHOD:PUBLISH
X-WR-CALNAME:Synergy Healthworks
X-ORIGINAL-URL:https://synergyhealthworks.com
X-WR-CALDESC:Events for Synergy Healthworks
REFRESH-INTERVAL;VALUE=DURATION:PT1H
X-Robots-Tag:noindex
X-PUBLISHED-TTL:PT1H
BEGIN:VTIMEZONE
TZID:Australia/Sydney
BEGIN:STANDARD
TZOFFSETFROM:+1100
TZOFFSETTO:+1000
TZNAME:AEST
DTSTART:20250405T160000
END:STANDARD
BEGIN:DAYLIGHT
TZOFFSETFROM:+1000
TZOFFSETTO:+1100
TZNAME:AEDT
DTSTART:20251004T160000
END:DAYLIGHT
BEGIN:STANDARD
TZOFFSETFROM:+1100
TZOFFSETTO:+1000
TZNAME:AEST
DTSTART:20260404T160000
END:STANDARD
BEGIN:DAYLIGHT
TZOFFSETFROM:+1000
TZOFFSETTO:+1100
TZNAME:AEDT
DTSTART:20261003T160000
END:DAYLIGHT
BEGIN:STANDARD
TZOFFSETFROM:+1100
TZOFFSETTO:+1000
TZNAME:AEST
DTSTART:20270403T160000
END:STANDARD
BEGIN:DAYLIGHT
TZOFFSETFROM:+1000
TZOFFSETTO:+1100
TZNAME:AEDT
DTSTART:20271002T160000
END:DAYLIGHT
END:VTIMEZONE
BEGIN:VEVENT
DTSTART;TZID=Australia/Sydney:20260826T093000
DTEND;TZID=Australia/Sydney:20260826T103000
DTSTAMP:20260424T095707
CREATED:20241028T050956Z
LAST-MODIFIED:20251123T230111Z
UID:10068733-1787736600-1787740200@synergyhealthworks.com
SUMMARY:Active Ageing Level 2
DESCRIPTION:
URL:https://synergyhealthworks.com/event/active-ageing-level-2-4/2026-08-26/
LOCATION:Tumut\, Shop 10/95 Wynyard Street\, Tumut\, NSW\, 2720\, Australia
CATEGORIES:Active Ageing
END:VEVENT
BEGIN:VEVENT
DTSTART;TZID=Australia/Sydney:20260826T103000
DTEND;TZID=Australia/Sydney:20260826T113000
DTSTAMP:20260424T095707
CREATED:20241028T051106Z
LAST-MODIFIED:20251123T230148Z
UID:10109986-1787740200-1787743800@synergyhealthworks.com
SUMMARY:Active Ageing Level 2
DESCRIPTION:
URL:https://synergyhealthworks.com/event/active-ageing-level-1-2/2026-08-26/
LOCATION:Tumut\, Shop 10/95 Wynyard Street\, Tumut\, NSW\, 2720\, Australia
CATEGORIES:Active Ageing
END:VEVENT
BEGIN:VEVENT
DTSTART;TZID=Australia/Sydney:20260826T113000
DTEND;TZID=Australia/Sydney:20260826T123000
DTSTAMP:20260424T095707
CREATED:20241028T051308Z
LAST-MODIFIED:20251123T230251Z
UID:10110255-1787743800-1787747400@synergyhealthworks.com
SUMMARY:Active Ageing Level 2
DESCRIPTION:
URL:https://synergyhealthworks.com/event/active-ageing-level-2-5/2026-08-26/
LOCATION:Tumut\, Shop 10/95 Wynyard Street\, Tumut\, NSW\, 2720\, Australia
CATEGORIES:Active Ageing
END:VEVENT
BEGIN:VEVENT
DTSTART;TZID=Australia/Sydney:20260827T083000
DTEND;TZID=Australia/Sydney:20260827T093000
DTSTAMP:20260424T095707
CREATED:20241220T013734Z
LAST-MODIFIED:20251123T230349Z
UID:10111032-1787819400-1787823000@synergyhealthworks.com
SUMMARY:Active Ageing Level 2
DESCRIPTION:
URL:https://synergyhealthworks.com/event/active-ageing-level-2-6/2026-08-27/
LOCATION:Tumut\, Shop 10/95 Wynyard Street\, Tumut\, NSW\, 2720\, Australia
CATEGORIES:Active Ageing
END:VEVENT
BEGIN:VEVENT
DTSTART;TZID=Australia/Sydney:20260827T093000
DTEND;TZID=Australia/Sydney:20260827T103000
DTSTAMP:20260424T095707
CREATED:20241220T013930Z
LAST-MODIFIED:20251123T230452Z
UID:10111291-1787823000-1787826600@synergyhealthworks.com
SUMMARY:Active Ageing Level 2
DESCRIPTION:
URL:https://synergyhealthworks.com/event/active-ageing-level-2-7/2026-08-27/
LOCATION:Tumut\, Shop 10/95 Wynyard Street\, Tumut\, NSW\, 2720\, Australia
CATEGORIES:Active Ageing
END:VEVENT
BEGIN:VEVENT
DTSTART;TZID=Australia/Sydney:20260827T133000
DTEND;TZID=Australia/Sydney:20260827T143000
DTSTAMP:20260424T095707
CREATED:20241220T013710Z
LAST-MODIFIED:20251123T230524Z
UID:10110773-1787837400-1787841000@synergyhealthworks.com
SUMMARY:Active Ageing Level 1
DESCRIPTION:
URL:https://synergyhealthworks.com/event/active-ageing-level-1-5/2026-08-27/
LOCATION:Tumut\, Shop 10/95 Wynyard Street\, Tumut\, NSW\, 2720\, Australia
CATEGORIES:Active Ageing
END:VEVENT
BEGIN:VEVENT
DTSTART;TZID=Australia/Sydney:20260831T083000
DTEND;TZID=Australia/Sydney:20260831T093000
DTSTAMP:20260424T095707
CREATED:20241028T050434Z
LAST-MODIFIED:20251123T225656Z
UID:10109164-1788165000-1788168600@synergyhealthworks.com
SUMMARY:Active Ageing Level 2
DESCRIPTION:
URL:https://synergyhealthworks.com/event/active-ageing-level-2/2026-08-31/
LOCATION:Tumut\, Shop 10/95 Wynyard Street\, Tumut\, NSW\, 2720\, Australia
CATEGORIES:Active Ageing
END:VEVENT
BEGIN:VEVENT
DTSTART;TZID=Australia/Sydney:20260831T093000
DTEND;TZID=Australia/Sydney:20260831T103000
DTSTAMP:20260424T095707
CREATED:20241028T050603Z
LAST-MODIFIED:20251123T225830Z
UID:10067951-1788168600-1788172200@synergyhealthworks.com
SUMMARY:Active Ageing Level 2
DESCRIPTION:
URL:https://synergyhealthworks.com/event/active-ageing-level-1/2026-08-31/
LOCATION:Tumut\, Shop 10/95 Wynyard Street\, Tumut\, NSW\, 2720\, Australia
CATEGORIES:Active Ageing
END:VEVENT
BEGIN:VEVENT
DTSTART;TZID=Australia/Sydney:20260831T103000
DTEND;TZID=Australia/Sydney:20260831T113000
DTSTAMP:20260424T095707
CREATED:20241028T050721Z
LAST-MODIFIED:20251123T225903Z
UID:10109441-1788172200-1788175800@synergyhealthworks.com
SUMMARY:Active Ageing Level 2
DESCRIPTION:
URL:https://synergyhealthworks.com/event/active-ageing-level-2-2/2026-08-31/
LOCATION:Tumut\, Shop 10/95 Wynyard Street\, Tumut\, NSW\, 2720\, Australia
CATEGORIES:Active Ageing
END:VEVENT
BEGIN:VEVENT
DTSTART;TZID=Australia/Sydney:20260901T093000
DTEND;TZID=Australia/Sydney:20260901T103000
DTSTAMP:20260424T095707
CREATED:20241220T010410Z
LAST-MODIFIED:20251123T225952Z
UID:10110515-1788255000-1788258600@synergyhealthworks.com
SUMMARY:Active Ageing Level 1
DESCRIPTION:
URL:https://synergyhealthworks.com/event/active-ageing-level-1-4/2026-09-01/
LOCATION:Tumut\, Shop 10/95 Wynyard Street\, Tumut\, NSW\, 2720\, Australia
CATEGORIES:Active Ageing
END:VEVENT
BEGIN:VEVENT
DTSTART;TZID=Australia/Sydney:20260902T083000
DTEND;TZID=Australia/Sydney:20260902T093000
DTSTAMP:20260424T095707
CREATED:20241028T050839Z
LAST-MODIFIED:20251123T230028Z
UID:10109710-1788337800-1788341400@synergyhealthworks.com
SUMMARY:Active Ageing Level 2
DESCRIPTION:
URL:https://synergyhealthworks.com/event/active-ageing-level-2-3/2026-09-02/
LOCATION:Tumut\, Shop 10/95 Wynyard Street\, Tumut\, NSW\, 2720\, Australia
CATEGORIES:Active Ageing
END:VEVENT
BEGIN:VEVENT
DTSTART;TZID=Australia/Sydney:20260902T093000
DTEND;TZID=Australia/Sydney:20260902T103000
DTSTAMP:20260424T095707
CREATED:20241028T050956Z
LAST-MODIFIED:20251123T230111Z
UID:10068734-1788341400-1788345000@synergyhealthworks.com
SUMMARY:Active Ageing Level 2
DESCRIPTION:
URL:https://synergyhealthworks.com/event/active-ageing-level-2-4/2026-09-02/
LOCATION:Tumut\, Shop 10/95 Wynyard Street\, Tumut\, NSW\, 2720\, Australia
CATEGORIES:Active Ageing
END:VEVENT
BEGIN:VEVENT
DTSTART;TZID=Australia/Sydney:20260902T103000
DTEND;TZID=Australia/Sydney:20260902T113000
DTSTAMP:20260424T095707
CREATED:20241028T051106Z
LAST-MODIFIED:20251123T230148Z
UID:10109987-1788345000-1788348600@synergyhealthworks.com
SUMMARY:Active Ageing Level 2
DESCRIPTION:
URL:https://synergyhealthworks.com/event/active-ageing-level-1-2/2026-09-02/
LOCATION:Tumut\, Shop 10/95 Wynyard Street\, Tumut\, NSW\, 2720\, Australia
CATEGORIES:Active Ageing
END:VEVENT
BEGIN:VEVENT
DTSTART;TZID=Australia/Sydney:20260902T113000
DTEND;TZID=Australia/Sydney:20260902T123000
DTSTAMP:20260424T095707
CREATED:20241028T051308Z
LAST-MODIFIED:20251123T230251Z
UID:10110256-1788348600-1788352200@synergyhealthworks.com
SUMMARY:Active Ageing Level 2
DESCRIPTION:
URL:https://synergyhealthworks.com/event/active-ageing-level-2-5/2026-09-02/
LOCATION:Tumut\, Shop 10/95 Wynyard Street\, Tumut\, NSW\, 2720\, Australia
CATEGORIES:Active Ageing
END:VEVENT
BEGIN:VEVENT
DTSTART;TZID=Australia/Sydney:20260903T083000
DTEND;TZID=Australia/Sydney:20260903T093000
DTSTAMP:20260424T095707
CREATED:20241220T013734Z
LAST-MODIFIED:20251123T230349Z
UID:10111033-1788424200-1788427800@synergyhealthworks.com
SUMMARY:Active Ageing Level 2
DESCRIPTION:
URL:https://synergyhealthworks.com/event/active-ageing-level-2-6/2026-09-03/
LOCATION:Tumut\, Shop 10/95 Wynyard Street\, Tumut\, NSW\, 2720\, Australia
CATEGORIES:Active Ageing
END:VEVENT
BEGIN:VEVENT
DTSTART;TZID=Australia/Sydney:20260903T093000
DTEND;TZID=Australia/Sydney:20260903T103000
DTSTAMP:20260424T095707
CREATED:20241220T013930Z
LAST-MODIFIED:20251123T230452Z
UID:10111292-1788427800-1788431400@synergyhealthworks.com
SUMMARY:Active Ageing Level 2
DESCRIPTION:
URL:https://synergyhealthworks.com/event/active-ageing-level-2-7/2026-09-03/
LOCATION:Tumut\, Shop 10/95 Wynyard Street\, Tumut\, NSW\, 2720\, Australia
CATEGORIES:Active Ageing
END:VEVENT
BEGIN:VEVENT
DTSTART;TZID=Australia/Sydney:20260903T133000
DTEND;TZID=Australia/Sydney:20260903T143000
DTSTAMP:20260424T095707
CREATED:20241220T013710Z
LAST-MODIFIED:20251123T230524Z
UID:10110774-1788442200-1788445800@synergyhealthworks.com
SUMMARY:Active Ageing Level 1
DESCRIPTION:
URL:https://synergyhealthworks.com/event/active-ageing-level-1-5/2026-09-03/
LOCATION:Tumut\, Shop 10/95 Wynyard Street\, Tumut\, NSW\, 2720\, Australia
CATEGORIES:Active Ageing
END:VEVENT
BEGIN:VEVENT
DTSTART;TZID=Australia/Sydney:20260907T083000
DTEND;TZID=Australia/Sydney:20260907T093000
DTSTAMP:20260424T095707
CREATED:20241028T050434Z
LAST-MODIFIED:20251123T225656Z
UID:10109165-1788769800-1788773400@synergyhealthworks.com
SUMMARY:Active Ageing Level 2
DESCRIPTION:
URL:https://synergyhealthworks.com/event/active-ageing-level-2/2026-09-07/
LOCATION:Tumut\, Shop 10/95 Wynyard Street\, Tumut\, NSW\, 2720\, Australia
CATEGORIES:Active Ageing
END:VEVENT
BEGIN:VEVENT
DTSTART;TZID=Australia/Sydney:20260907T093000
DTEND;TZID=Australia/Sydney:20260907T103000
DTSTAMP:20260424T095707
CREATED:20241028T050603Z
LAST-MODIFIED:20251123T225830Z
UID:10067952-1788773400-1788777000@synergyhealthworks.com
SUMMARY:Active Ageing Level 2
DESCRIPTION:
URL:https://synergyhealthworks.com/event/active-ageing-level-1/2026-09-07/
LOCATION:Tumut\, Shop 10/95 Wynyard Street\, Tumut\, NSW\, 2720\, Australia
CATEGORIES:Active Ageing
END:VEVENT
BEGIN:VEVENT
DTSTART;TZID=Australia/Sydney:20260907T103000
DTEND;TZID=Australia/Sydney:20260907T113000
DTSTAMP:20260424T095707
CREATED:20241028T050721Z
LAST-MODIFIED:20251123T225903Z
UID:10109442-1788777000-1788780600@synergyhealthworks.com
SUMMARY:Active Ageing Level 2
DESCRIPTION:
URL:https://synergyhealthworks.com/event/active-ageing-level-2-2/2026-09-07/
LOCATION:Tumut\, Shop 10/95 Wynyard Street\, Tumut\, NSW\, 2720\, Australia
CATEGORIES:Active Ageing
END:VEVENT
BEGIN:VEVENT
DTSTART;TZID=Australia/Sydney:20260908T093000
DTEND;TZID=Australia/Sydney:20260908T103000
DTSTAMP:20260424T095707
CREATED:20241220T010410Z
LAST-MODIFIED:20251123T225952Z
UID:10110516-1788859800-1788863400@synergyhealthworks.com
SUMMARY:Active Ageing Level 1
DESCRIPTION:
URL:https://synergyhealthworks.com/event/active-ageing-level-1-4/2026-09-08/
LOCATION:Tumut\, Shop 10/95 Wynyard Street\, Tumut\, NSW\, 2720\, Australia
CATEGORIES:Active Ageing
END:VEVENT
BEGIN:VEVENT
DTSTART;TZID=Australia/Sydney:20260909T083000
DTEND;TZID=Australia/Sydney:20260909T093000
DTSTAMP:20260424T095707
CREATED:20241028T050839Z
LAST-MODIFIED:20251123T230028Z
UID:10109711-1788942600-1788946200@synergyhealthworks.com
SUMMARY:Active Ageing Level 2
DESCRIPTION:
URL:https://synergyhealthworks.com/event/active-ageing-level-2-3/2026-09-09/
LOCATION:Tumut\, Shop 10/95 Wynyard Street\, Tumut\, NSW\, 2720\, Australia
CATEGORIES:Active Ageing
END:VEVENT
BEGIN:VEVENT
DTSTART;TZID=Australia/Sydney:20260909T093000
DTEND;TZID=Australia/Sydney:20260909T103000
DTSTAMP:20260424T095707
CREATED:20241028T050956Z
LAST-MODIFIED:20251123T230111Z
UID:10068735-1788946200-1788949800@synergyhealthworks.com
SUMMARY:Active Ageing Level 2
DESCRIPTION:
URL:https://synergyhealthworks.com/event/active-ageing-level-2-4/2026-09-09/
LOCATION:Tumut\, Shop 10/95 Wynyard Street\, Tumut\, NSW\, 2720\, Australia
CATEGORIES:Active Ageing
END:VEVENT
BEGIN:VEVENT
DTSTART;TZID=Australia/Sydney:20260909T103000
DTEND;TZID=Australia/Sydney:20260909T113000
DTSTAMP:20260424T095707
CREATED:20241028T051106Z
LAST-MODIFIED:20251123T230148Z
UID:10109988-1788949800-1788953400@synergyhealthworks.com
SUMMARY:Active Ageing Level 2
DESCRIPTION:
URL:https://synergyhealthworks.com/event/active-ageing-level-1-2/2026-09-09/
LOCATION:Tumut\, Shop 10/95 Wynyard Street\, Tumut\, NSW\, 2720\, Australia
CATEGORIES:Active Ageing
END:VEVENT
BEGIN:VEVENT
DTSTART;TZID=Australia/Sydney:20260909T113000
DTEND;TZID=Australia/Sydney:20260909T123000
DTSTAMP:20260424T095707
CREATED:20241028T051308Z
LAST-MODIFIED:20251123T230251Z
UID:10110257-1788953400-1788957000@synergyhealthworks.com
SUMMARY:Active Ageing Level 2
DESCRIPTION:
URL:https://synergyhealthworks.com/event/active-ageing-level-2-5/2026-09-09/
LOCATION:Tumut\, Shop 10/95 Wynyard Street\, Tumut\, NSW\, 2720\, Australia
CATEGORIES:Active Ageing
END:VEVENT
BEGIN:VEVENT
DTSTART;TZID=Australia/Sydney:20260910T083000
DTEND;TZID=Australia/Sydney:20260910T093000
DTSTAMP:20260424T095707
CREATED:20241220T013734Z
LAST-MODIFIED:20251123T230349Z
UID:10111034-1789029000-1789032600@synergyhealthworks.com
SUMMARY:Active Ageing Level 2
DESCRIPTION:
URL:https://synergyhealthworks.com/event/active-ageing-level-2-6/2026-09-10/
LOCATION:Tumut\, Shop 10/95 Wynyard Street\, Tumut\, NSW\, 2720\, Australia
CATEGORIES:Active Ageing
END:VEVENT
BEGIN:VEVENT
DTSTART;TZID=Australia/Sydney:20260910T093000
DTEND;TZID=Australia/Sydney:20260910T103000
DTSTAMP:20260424T095707
CREATED:20241220T013930Z
LAST-MODIFIED:20251123T230452Z
UID:10111293-1789032600-1789036200@synergyhealthworks.com
SUMMARY:Active Ageing Level 2
DESCRIPTION:
URL:https://synergyhealthworks.com/event/active-ageing-level-2-7/2026-09-10/
LOCATION:Tumut\, Shop 10/95 Wynyard Street\, Tumut\, NSW\, 2720\, Australia
CATEGORIES:Active Ageing
END:VEVENT
BEGIN:VEVENT
DTSTART;TZID=Australia/Sydney:20260910T133000
DTEND;TZID=Australia/Sydney:20260910T143000
DTSTAMP:20260424T095707
CREATED:20241220T013710Z
LAST-MODIFIED:20251123T230524Z
UID:10110775-1789047000-1789050600@synergyhealthworks.com
SUMMARY:Active Ageing Level 1
DESCRIPTION:
URL:https://synergyhealthworks.com/event/active-ageing-level-1-5/2026-09-10/
LOCATION:Tumut\, Shop 10/95 Wynyard Street\, Tumut\, NSW\, 2720\, Australia
CATEGORIES:Active Ageing
END:VEVENT
BEGIN:VEVENT
DTSTART;TZID=Australia/Sydney:20260914T083000
DTEND;TZID=Australia/Sydney:20260914T093000
DTSTAMP:20260424T095707
CREATED:20241028T050434Z
LAST-MODIFIED:20251123T225656Z
UID:10109166-1789374600-1789378200@synergyhealthworks.com
SUMMARY:Active Ageing Level 2
DESCRIPTION:
URL:https://synergyhealthworks.com/event/active-ageing-level-2/2026-09-14/
LOCATION:Tumut\, Shop 10/95 Wynyard Street\, Tumut\, NSW\, 2720\, Australia
CATEGORIES:Active Ageing
END:VEVENT
BEGIN:VEVENT
DTSTART;TZID=Australia/Sydney:20260914T093000
DTEND;TZID=Australia/Sydney:20260914T103000
DTSTAMP:20260424T095707
CREATED:20241028T050603Z
LAST-MODIFIED:20251123T225830Z
UID:10067953-1789378200-1789381800@synergyhealthworks.com
SUMMARY:Active Ageing Level 2
DESCRIPTION:
URL:https://synergyhealthworks.com/event/active-ageing-level-1/2026-09-14/
LOCATION:Tumut\, Shop 10/95 Wynyard Street\, Tumut\, NSW\, 2720\, Australia
CATEGORIES:Active Ageing
END:VEVENT
END:VCALENDAR