BEGIN:VCALENDAR
VERSION:2.0
PRODID:-//Synergy Healthworks - ECPv6.15.20//NONSGML v1.0//EN
CALSCALE:GREGORIAN
METHOD:PUBLISH
X-ORIGINAL-URL:https://synergyhealthworks.com
X-WR-CALDESC:Events for Synergy Healthworks
REFRESH-INTERVAL;VALUE=DURATION:PT1H
X-Robots-Tag:noindex
X-PUBLISHED-TTL:PT1H
BEGIN:VTIMEZONE
TZID:Australia/Sydney
BEGIN:STANDARD
TZOFFSETFROM:+1100
TZOFFSETTO:+1000
TZNAME:AEST
DTSTART:20250405T160000
END:STANDARD
BEGIN:DAYLIGHT
TZOFFSETFROM:+1000
TZOFFSETTO:+1100
TZNAME:AEDT
DTSTART:20251004T160000
END:DAYLIGHT
BEGIN:STANDARD
TZOFFSETFROM:+1100
TZOFFSETTO:+1000
TZNAME:AEST
DTSTART:20260404T160000
END:STANDARD
BEGIN:DAYLIGHT
TZOFFSETFROM:+1000
TZOFFSETTO:+1100
TZNAME:AEDT
DTSTART:20261003T160000
END:DAYLIGHT
BEGIN:STANDARD
TZOFFSETFROM:+1100
TZOFFSETTO:+1000
TZNAME:AEST
DTSTART:20270403T160000
END:STANDARD
BEGIN:DAYLIGHT
TZOFFSETFROM:+1000
TZOFFSETTO:+1100
TZNAME:AEDT
DTSTART:20271002T160000
END:DAYLIGHT
END:VTIMEZONE
BEGIN:VEVENT
DTSTART;TZID=Australia/Sydney:20260727T093000
DTEND;TZID=Australia/Sydney:20260727T103000
DTSTAMP:20260424T025227
CREATED:20241028T050603Z
LAST-MODIFIED:20251123T225830Z
UID:10067946-1785144600-1785148200@synergyhealthworks.com
SUMMARY:Active Ageing Level 2
DESCRIPTION:
URL:https://synergyhealthworks.com/event/active-ageing-level-1/2026-07-27/
LOCATION:Tumut\, Shop 10/95 Wynyard Street\, Tumut\, NSW\, 2720\, Australia
CATEGORIES:Active Ageing
END:VEVENT
BEGIN:VEVENT
DTSTART;TZID=Australia/Sydney:20260727T103000
DTEND;TZID=Australia/Sydney:20260727T113000
DTSTAMP:20260424T025227
CREATED:20241028T050721Z
LAST-MODIFIED:20251123T225903Z
UID:10109436-1785148200-1785151800@synergyhealthworks.com
SUMMARY:Active Ageing Level 2
DESCRIPTION:
URL:https://synergyhealthworks.com/event/active-ageing-level-2-2/2026-07-27/
LOCATION:Tumut\, Shop 10/95 Wynyard Street\, Tumut\, NSW\, 2720\, Australia
CATEGORIES:Active Ageing
END:VEVENT
BEGIN:VEVENT
DTSTART;TZID=Australia/Sydney:20260728T093000
DTEND;TZID=Australia/Sydney:20260728T103000
DTSTAMP:20260424T025227
CREATED:20241220T010410Z
LAST-MODIFIED:20251123T225952Z
UID:10110510-1785231000-1785234600@synergyhealthworks.com
SUMMARY:Active Ageing Level 1
DESCRIPTION:
URL:https://synergyhealthworks.com/event/active-ageing-level-1-4/2026-07-28/
LOCATION:Tumut\, Shop 10/95 Wynyard Street\, Tumut\, NSW\, 2720\, Australia
CATEGORIES:Active Ageing
END:VEVENT
BEGIN:VEVENT
DTSTART;TZID=Australia/Sydney:20260729T083000
DTEND;TZID=Australia/Sydney:20260729T093000
DTSTAMP:20260424T025227
CREATED:20241028T050839Z
LAST-MODIFIED:20251123T230028Z
UID:10109705-1785313800-1785317400@synergyhealthworks.com
SUMMARY:Active Ageing Level 2
DESCRIPTION:
URL:https://synergyhealthworks.com/event/active-ageing-level-2-3/2026-07-29/
LOCATION:Tumut\, Shop 10/95 Wynyard Street\, Tumut\, NSW\, 2720\, Australia
CATEGORIES:Active Ageing
END:VEVENT
BEGIN:VEVENT
DTSTART;TZID=Australia/Sydney:20260729T093000
DTEND;TZID=Australia/Sydney:20260729T103000
DTSTAMP:20260424T025227
CREATED:20241028T050956Z
LAST-MODIFIED:20251123T230111Z
UID:10068729-1785317400-1785321000@synergyhealthworks.com
SUMMARY:Active Ageing Level 2
DESCRIPTION:
URL:https://synergyhealthworks.com/event/active-ageing-level-2-4/2026-07-29/
LOCATION:Tumut\, Shop 10/95 Wynyard Street\, Tumut\, NSW\, 2720\, Australia
CATEGORIES:Active Ageing
END:VEVENT
BEGIN:VEVENT
DTSTART;TZID=Australia/Sydney:20260729T103000
DTEND;TZID=Australia/Sydney:20260729T113000
DTSTAMP:20260424T025227
CREATED:20241028T051106Z
LAST-MODIFIED:20251123T230148Z
UID:10109982-1785321000-1785324600@synergyhealthworks.com
SUMMARY:Active Ageing Level 2
DESCRIPTION:
URL:https://synergyhealthworks.com/event/active-ageing-level-1-2/2026-07-29/
LOCATION:Tumut\, Shop 10/95 Wynyard Street\, Tumut\, NSW\, 2720\, Australia
CATEGORIES:Active Ageing
END:VEVENT
BEGIN:VEVENT
DTSTART;TZID=Australia/Sydney:20260729T113000
DTEND;TZID=Australia/Sydney:20260729T123000
DTSTAMP:20260424T025227
CREATED:20241028T051308Z
LAST-MODIFIED:20251123T230251Z
UID:10110251-1785324600-1785328200@synergyhealthworks.com
SUMMARY:Active Ageing Level 2
DESCRIPTION:
URL:https://synergyhealthworks.com/event/active-ageing-level-2-5/2026-07-29/
LOCATION:Tumut\, Shop 10/95 Wynyard Street\, Tumut\, NSW\, 2720\, Australia
CATEGORIES:Active Ageing
END:VEVENT
BEGIN:VEVENT
DTSTART;TZID=Australia/Sydney:20260730T083000
DTEND;TZID=Australia/Sydney:20260730T093000
DTSTAMP:20260424T025227
CREATED:20241220T013734Z
LAST-MODIFIED:20251123T230349Z
UID:10111028-1785400200-1785403800@synergyhealthworks.com
SUMMARY:Active Ageing Level 2
DESCRIPTION:
URL:https://synergyhealthworks.com/event/active-ageing-level-2-6/2026-07-30/
LOCATION:Tumut\, Shop 10/95 Wynyard Street\, Tumut\, NSW\, 2720\, Australia
CATEGORIES:Active Ageing
END:VEVENT
BEGIN:VEVENT
DTSTART;TZID=Australia/Sydney:20260730T093000
DTEND;TZID=Australia/Sydney:20260730T103000
DTSTAMP:20260424T025227
CREATED:20241220T013930Z
LAST-MODIFIED:20251123T230452Z
UID:10111287-1785403800-1785407400@synergyhealthworks.com
SUMMARY:Active Ageing Level 2
DESCRIPTION:
URL:https://synergyhealthworks.com/event/active-ageing-level-2-7/2026-07-30/
LOCATION:Tumut\, Shop 10/95 Wynyard Street\, Tumut\, NSW\, 2720\, Australia
CATEGORIES:Active Ageing
END:VEVENT
BEGIN:VEVENT
DTSTART;TZID=Australia/Sydney:20260730T133000
DTEND;TZID=Australia/Sydney:20260730T143000
DTSTAMP:20260424T025227
CREATED:20241220T013710Z
LAST-MODIFIED:20251123T230524Z
UID:10110769-1785418200-1785421800@synergyhealthworks.com
SUMMARY:Active Ageing Level 1
DESCRIPTION:
URL:https://synergyhealthworks.com/event/active-ageing-level-1-5/2026-07-30/
LOCATION:Tumut\, Shop 10/95 Wynyard Street\, Tumut\, NSW\, 2720\, Australia
CATEGORIES:Active Ageing
END:VEVENT
BEGIN:VEVENT
DTSTART;TZID=Australia/Sydney:20260803T083000
DTEND;TZID=Australia/Sydney:20260803T093000
DTSTAMP:20260424T025227
CREATED:20241028T050434Z
LAST-MODIFIED:20251123T225656Z
UID:10109160-1785745800-1785749400@synergyhealthworks.com
SUMMARY:Active Ageing Level 2
DESCRIPTION:
URL:https://synergyhealthworks.com/event/active-ageing-level-2/2026-08-03/
LOCATION:Tumut\, Shop 10/95 Wynyard Street\, Tumut\, NSW\, 2720\, Australia
CATEGORIES:Active Ageing
END:VEVENT
BEGIN:VEVENT
DTSTART;TZID=Australia/Sydney:20260803T093000
DTEND;TZID=Australia/Sydney:20260803T103000
DTSTAMP:20260424T025227
CREATED:20241028T050603Z
LAST-MODIFIED:20251123T225830Z
UID:10067947-1785749400-1785753000@synergyhealthworks.com
SUMMARY:Active Ageing Level 2
DESCRIPTION:
URL:https://synergyhealthworks.com/event/active-ageing-level-1/2026-08-03/
LOCATION:Tumut\, Shop 10/95 Wynyard Street\, Tumut\, NSW\, 2720\, Australia
CATEGORIES:Active Ageing
END:VEVENT
BEGIN:VEVENT
DTSTART;TZID=Australia/Sydney:20260803T103000
DTEND;TZID=Australia/Sydney:20260803T113000
DTSTAMP:20260424T025227
CREATED:20241028T050721Z
LAST-MODIFIED:20251123T225903Z
UID:10109437-1785753000-1785756600@synergyhealthworks.com
SUMMARY:Active Ageing Level 2
DESCRIPTION:
URL:https://synergyhealthworks.com/event/active-ageing-level-2-2/2026-08-03/
LOCATION:Tumut\, Shop 10/95 Wynyard Street\, Tumut\, NSW\, 2720\, Australia
CATEGORIES:Active Ageing
END:VEVENT
BEGIN:VEVENT
DTSTART;TZID=Australia/Sydney:20260804T093000
DTEND;TZID=Australia/Sydney:20260804T103000
DTSTAMP:20260424T025227
CREATED:20241220T010410Z
LAST-MODIFIED:20251123T225952Z
UID:10110511-1785835800-1785839400@synergyhealthworks.com
SUMMARY:Active Ageing Level 1
DESCRIPTION:
URL:https://synergyhealthworks.com/event/active-ageing-level-1-4/2026-08-04/
LOCATION:Tumut\, Shop 10/95 Wynyard Street\, Tumut\, NSW\, 2720\, Australia
CATEGORIES:Active Ageing
END:VEVENT
BEGIN:VEVENT
DTSTART;TZID=Australia/Sydney:20260805T083000
DTEND;TZID=Australia/Sydney:20260805T093000
DTSTAMP:20260424T025227
CREATED:20241028T050839Z
LAST-MODIFIED:20251123T230028Z
UID:10109706-1785918600-1785922200@synergyhealthworks.com
SUMMARY:Active Ageing Level 2
DESCRIPTION:
URL:https://synergyhealthworks.com/event/active-ageing-level-2-3/2026-08-05/
LOCATION:Tumut\, Shop 10/95 Wynyard Street\, Tumut\, NSW\, 2720\, Australia
CATEGORIES:Active Ageing
END:VEVENT
BEGIN:VEVENT
DTSTART;TZID=Australia/Sydney:20260805T093000
DTEND;TZID=Australia/Sydney:20260805T103000
DTSTAMP:20260424T025227
CREATED:20241028T050956Z
LAST-MODIFIED:20251123T230111Z
UID:10068730-1785922200-1785925800@synergyhealthworks.com
SUMMARY:Active Ageing Level 2
DESCRIPTION:
URL:https://synergyhealthworks.com/event/active-ageing-level-2-4/2026-08-05/
LOCATION:Tumut\, Shop 10/95 Wynyard Street\, Tumut\, NSW\, 2720\, Australia
CATEGORIES:Active Ageing
END:VEVENT
BEGIN:VEVENT
DTSTART;TZID=Australia/Sydney:20260805T103000
DTEND;TZID=Australia/Sydney:20260805T113000
DTSTAMP:20260424T025227
CREATED:20241028T051106Z
LAST-MODIFIED:20251123T230148Z
UID:10109983-1785925800-1785929400@synergyhealthworks.com
SUMMARY:Active Ageing Level 2
DESCRIPTION:
URL:https://synergyhealthworks.com/event/active-ageing-level-1-2/2026-08-05/
LOCATION:Tumut\, Shop 10/95 Wynyard Street\, Tumut\, NSW\, 2720\, Australia
CATEGORIES:Active Ageing
END:VEVENT
BEGIN:VEVENT
DTSTART;TZID=Australia/Sydney:20260805T113000
DTEND;TZID=Australia/Sydney:20260805T123000
DTSTAMP:20260424T025227
CREATED:20241028T051308Z
LAST-MODIFIED:20251123T230251Z
UID:10110252-1785929400-1785933000@synergyhealthworks.com
SUMMARY:Active Ageing Level 2
DESCRIPTION:
URL:https://synergyhealthworks.com/event/active-ageing-level-2-5/2026-08-05/
LOCATION:Tumut\, Shop 10/95 Wynyard Street\, Tumut\, NSW\, 2720\, Australia
CATEGORIES:Active Ageing
END:VEVENT
BEGIN:VEVENT
DTSTART;TZID=Australia/Sydney:20260806T083000
DTEND;TZID=Australia/Sydney:20260806T093000
DTSTAMP:20260424T025227
CREATED:20241220T013734Z
LAST-MODIFIED:20251123T230349Z
UID:10111029-1786005000-1786008600@synergyhealthworks.com
SUMMARY:Active Ageing Level 2
DESCRIPTION:
URL:https://synergyhealthworks.com/event/active-ageing-level-2-6/2026-08-06/
LOCATION:Tumut\, Shop 10/95 Wynyard Street\, Tumut\, NSW\, 2720\, Australia
CATEGORIES:Active Ageing
END:VEVENT
BEGIN:VEVENT
DTSTART;TZID=Australia/Sydney:20260806T093000
DTEND;TZID=Australia/Sydney:20260806T103000
DTSTAMP:20260424T025227
CREATED:20241220T013930Z
LAST-MODIFIED:20251123T230452Z
UID:10111288-1786008600-1786012200@synergyhealthworks.com
SUMMARY:Active Ageing Level 2
DESCRIPTION:
URL:https://synergyhealthworks.com/event/active-ageing-level-2-7/2026-08-06/
LOCATION:Tumut\, Shop 10/95 Wynyard Street\, Tumut\, NSW\, 2720\, Australia
CATEGORIES:Active Ageing
END:VEVENT
BEGIN:VEVENT
DTSTART;TZID=Australia/Sydney:20260806T133000
DTEND;TZID=Australia/Sydney:20260806T143000
DTSTAMP:20260424T025227
CREATED:20241220T013710Z
LAST-MODIFIED:20251123T230524Z
UID:10110770-1786023000-1786026600@synergyhealthworks.com
SUMMARY:Active Ageing Level 1
DESCRIPTION:
URL:https://synergyhealthworks.com/event/active-ageing-level-1-5/2026-08-06/
LOCATION:Tumut\, Shop 10/95 Wynyard Street\, Tumut\, NSW\, 2720\, Australia
CATEGORIES:Active Ageing
END:VEVENT
BEGIN:VEVENT
DTSTART;TZID=Australia/Sydney:20260810T083000
DTEND;TZID=Australia/Sydney:20260810T093000
DTSTAMP:20260424T025227
CREATED:20241028T050434Z
LAST-MODIFIED:20251123T225656Z
UID:10109161-1786350600-1786354200@synergyhealthworks.com
SUMMARY:Active Ageing Level 2
DESCRIPTION:
URL:https://synergyhealthworks.com/event/active-ageing-level-2/2026-08-10/
LOCATION:Tumut\, Shop 10/95 Wynyard Street\, Tumut\, NSW\, 2720\, Australia
CATEGORIES:Active Ageing
END:VEVENT
BEGIN:VEVENT
DTSTART;TZID=Australia/Sydney:20260810T093000
DTEND;TZID=Australia/Sydney:20260810T103000
DTSTAMP:20260424T025227
CREATED:20241028T050603Z
LAST-MODIFIED:20251123T225830Z
UID:10067948-1786354200-1786357800@synergyhealthworks.com
SUMMARY:Active Ageing Level 2
DESCRIPTION:
URL:https://synergyhealthworks.com/event/active-ageing-level-1/2026-08-10/
LOCATION:Tumut\, Shop 10/95 Wynyard Street\, Tumut\, NSW\, 2720\, Australia
CATEGORIES:Active Ageing
END:VEVENT
BEGIN:VEVENT
DTSTART;TZID=Australia/Sydney:20260810T103000
DTEND;TZID=Australia/Sydney:20260810T113000
DTSTAMP:20260424T025227
CREATED:20241028T050721Z
LAST-MODIFIED:20251123T225903Z
UID:10109438-1786357800-1786361400@synergyhealthworks.com
SUMMARY:Active Ageing Level 2
DESCRIPTION:
URL:https://synergyhealthworks.com/event/active-ageing-level-2-2/2026-08-10/
LOCATION:Tumut\, Shop 10/95 Wynyard Street\, Tumut\, NSW\, 2720\, Australia
CATEGORIES:Active Ageing
END:VEVENT
BEGIN:VEVENT
DTSTART;TZID=Australia/Sydney:20260811T093000
DTEND;TZID=Australia/Sydney:20260811T103000
DTSTAMP:20260424T025227
CREATED:20241220T010410Z
LAST-MODIFIED:20251123T225952Z
UID:10110512-1786440600-1786444200@synergyhealthworks.com
SUMMARY:Active Ageing Level 1
DESCRIPTION:
URL:https://synergyhealthworks.com/event/active-ageing-level-1-4/2026-08-11/
LOCATION:Tumut\, Shop 10/95 Wynyard Street\, Tumut\, NSW\, 2720\, Australia
CATEGORIES:Active Ageing
END:VEVENT
BEGIN:VEVENT
DTSTART;TZID=Australia/Sydney:20260812T083000
DTEND;TZID=Australia/Sydney:20260812T093000
DTSTAMP:20260424T025227
CREATED:20241028T050839Z
LAST-MODIFIED:20251123T230028Z
UID:10109707-1786523400-1786527000@synergyhealthworks.com
SUMMARY:Active Ageing Level 2
DESCRIPTION:
URL:https://synergyhealthworks.com/event/active-ageing-level-2-3/2026-08-12/
LOCATION:Tumut\, Shop 10/95 Wynyard Street\, Tumut\, NSW\, 2720\, Australia
CATEGORIES:Active Ageing
END:VEVENT
BEGIN:VEVENT
DTSTART;TZID=Australia/Sydney:20260812T093000
DTEND;TZID=Australia/Sydney:20260812T103000
DTSTAMP:20260424T025227
CREATED:20241028T050956Z
LAST-MODIFIED:20251123T230111Z
UID:10068731-1786527000-1786530600@synergyhealthworks.com
SUMMARY:Active Ageing Level 2
DESCRIPTION:
URL:https://synergyhealthworks.com/event/active-ageing-level-2-4/2026-08-12/
LOCATION:Tumut\, Shop 10/95 Wynyard Street\, Tumut\, NSW\, 2720\, Australia
CATEGORIES:Active Ageing
END:VEVENT
BEGIN:VEVENT
DTSTART;TZID=Australia/Sydney:20260812T103000
DTEND;TZID=Australia/Sydney:20260812T113000
DTSTAMP:20260424T025227
CREATED:20241028T051106Z
LAST-MODIFIED:20251123T230148Z
UID:10109984-1786530600-1786534200@synergyhealthworks.com
SUMMARY:Active Ageing Level 2
DESCRIPTION:
URL:https://synergyhealthworks.com/event/active-ageing-level-1-2/2026-08-12/
LOCATION:Tumut\, Shop 10/95 Wynyard Street\, Tumut\, NSW\, 2720\, Australia
CATEGORIES:Active Ageing
END:VEVENT
BEGIN:VEVENT
DTSTART;TZID=Australia/Sydney:20260812T113000
DTEND;TZID=Australia/Sydney:20260812T123000
DTSTAMP:20260424T025227
CREATED:20241028T051308Z
LAST-MODIFIED:20251123T230251Z
UID:10110253-1786534200-1786537800@synergyhealthworks.com
SUMMARY:Active Ageing Level 2
DESCRIPTION:
URL:https://synergyhealthworks.com/event/active-ageing-level-2-5/2026-08-12/
LOCATION:Tumut\, Shop 10/95 Wynyard Street\, Tumut\, NSW\, 2720\, Australia
CATEGORIES:Active Ageing
END:VEVENT
BEGIN:VEVENT
DTSTART;TZID=Australia/Sydney:20260813T083000
DTEND;TZID=Australia/Sydney:20260813T093000
DTSTAMP:20260424T025227
CREATED:20241220T013734Z
LAST-MODIFIED:20251123T230349Z
UID:10111030-1786609800-1786613400@synergyhealthworks.com
SUMMARY:Active Ageing Level 2
DESCRIPTION:
URL:https://synergyhealthworks.com/event/active-ageing-level-2-6/2026-08-13/
LOCATION:Tumut\, Shop 10/95 Wynyard Street\, Tumut\, NSW\, 2720\, Australia
CATEGORIES:Active Ageing
END:VEVENT
END:VCALENDAR