BEGIN:VCALENDAR
VERSION:2.0
PRODID:-//Synergy Healthworks - ECPv6.15.20//NONSGML v1.0//EN
CALSCALE:GREGORIAN
METHOD:PUBLISH
X-ORIGINAL-URL:https://synergyhealthworks.com
X-WR-CALDESC:Events for Synergy Healthworks
REFRESH-INTERVAL;VALUE=DURATION:PT1H
X-Robots-Tag:noindex
X-PUBLISHED-TTL:PT1H
BEGIN:VTIMEZONE
TZID:Australia/Sydney
BEGIN:STANDARD
TZOFFSETFROM:+1100
TZOFFSETTO:+1000
TZNAME:AEST
DTSTART:20250405T160000
END:STANDARD
BEGIN:DAYLIGHT
TZOFFSETFROM:+1000
TZOFFSETTO:+1100
TZNAME:AEDT
DTSTART:20251004T160000
END:DAYLIGHT
BEGIN:STANDARD
TZOFFSETFROM:+1100
TZOFFSETTO:+1000
TZNAME:AEST
DTSTART:20260404T160000
END:STANDARD
BEGIN:DAYLIGHT
TZOFFSETFROM:+1000
TZOFFSETTO:+1100
TZNAME:AEDT
DTSTART:20261003T160000
END:DAYLIGHT
BEGIN:STANDARD
TZOFFSETFROM:+1100
TZOFFSETTO:+1000
TZNAME:AEST
DTSTART:20270403T160000
END:STANDARD
BEGIN:DAYLIGHT
TZOFFSETFROM:+1000
TZOFFSETTO:+1100
TZNAME:AEDT
DTSTART:20271002T160000
END:DAYLIGHT
END:VTIMEZONE
BEGIN:VEVENT
DTSTART;TZID=Australia/Sydney:20260709T133000
DTEND;TZID=Australia/Sydney:20260709T143000
DTSTAMP:20260423T234438
CREATED:20241220T013710Z
LAST-MODIFIED:20251123T230524Z
UID:10110766-1783603800-1783607400@synergyhealthworks.com
SUMMARY:Active Ageing Level 1
DESCRIPTION:
URL:https://synergyhealthworks.com/event/active-ageing-level-1-5/2026-07-09/
LOCATION:Tumut\, Shop 10/95 Wynyard Street\, Tumut\, NSW\, 2720\, Australia
CATEGORIES:Active Ageing
END:VEVENT
BEGIN:VEVENT
DTSTART;TZID=Australia/Sydney:20260713T083000
DTEND;TZID=Australia/Sydney:20260713T093000
DTSTAMP:20260423T234438
CREATED:20241028T050434Z
LAST-MODIFIED:20251123T225656Z
UID:10109157-1783931400-1783935000@synergyhealthworks.com
SUMMARY:Active Ageing Level 2
DESCRIPTION:
URL:https://synergyhealthworks.com/event/active-ageing-level-2/2026-07-13/
LOCATION:Tumut\, Shop 10/95 Wynyard Street\, Tumut\, NSW\, 2720\, Australia
CATEGORIES:Active Ageing
END:VEVENT
BEGIN:VEVENT
DTSTART;TZID=Australia/Sydney:20260713T093000
DTEND;TZID=Australia/Sydney:20260713T103000
DTSTAMP:20260423T234438
CREATED:20241028T050603Z
LAST-MODIFIED:20251123T225830Z
UID:10067944-1783935000-1783938600@synergyhealthworks.com
SUMMARY:Active Ageing Level 2
DESCRIPTION:
URL:https://synergyhealthworks.com/event/active-ageing-level-1/2026-07-13/
LOCATION:Tumut\, Shop 10/95 Wynyard Street\, Tumut\, NSW\, 2720\, Australia
CATEGORIES:Active Ageing
END:VEVENT
BEGIN:VEVENT
DTSTART;TZID=Australia/Sydney:20260713T103000
DTEND;TZID=Australia/Sydney:20260713T113000
DTSTAMP:20260423T234438
CREATED:20241028T050721Z
LAST-MODIFIED:20251123T225903Z
UID:10109434-1783938600-1783942200@synergyhealthworks.com
SUMMARY:Active Ageing Level 2
DESCRIPTION:
URL:https://synergyhealthworks.com/event/active-ageing-level-2-2/2026-07-13/
LOCATION:Tumut\, Shop 10/95 Wynyard Street\, Tumut\, NSW\, 2720\, Australia
CATEGORIES:Active Ageing
END:VEVENT
BEGIN:VEVENT
DTSTART;TZID=Australia/Sydney:20260714T093000
DTEND;TZID=Australia/Sydney:20260714T103000
DTSTAMP:20260423T234438
CREATED:20241220T010410Z
LAST-MODIFIED:20251123T225952Z
UID:10110508-1784021400-1784025000@synergyhealthworks.com
SUMMARY:Active Ageing Level 1
DESCRIPTION:
URL:https://synergyhealthworks.com/event/active-ageing-level-1-4/2026-07-14/
LOCATION:Tumut\, Shop 10/95 Wynyard Street\, Tumut\, NSW\, 2720\, Australia
CATEGORIES:Active Ageing
END:VEVENT
BEGIN:VEVENT
DTSTART;TZID=Australia/Sydney:20260715T083000
DTEND;TZID=Australia/Sydney:20260715T093000
DTSTAMP:20260423T234438
CREATED:20241028T050839Z
LAST-MODIFIED:20251123T230028Z
UID:10109703-1784104200-1784107800@synergyhealthworks.com
SUMMARY:Active Ageing Level 2
DESCRIPTION:
URL:https://synergyhealthworks.com/event/active-ageing-level-2-3/2026-07-15/
LOCATION:Tumut\, Shop 10/95 Wynyard Street\, Tumut\, NSW\, 2720\, Australia
CATEGORIES:Active Ageing
END:VEVENT
BEGIN:VEVENT
DTSTART;TZID=Australia/Sydney:20260715T093000
DTEND;TZID=Australia/Sydney:20260715T103000
DTSTAMP:20260423T234438
CREATED:20241028T050956Z
LAST-MODIFIED:20251123T230111Z
UID:10068727-1784107800-1784111400@synergyhealthworks.com
SUMMARY:Active Ageing Level 2
DESCRIPTION:
URL:https://synergyhealthworks.com/event/active-ageing-level-2-4/2026-07-15/
LOCATION:Tumut\, Shop 10/95 Wynyard Street\, Tumut\, NSW\, 2720\, Australia
CATEGORIES:Active Ageing
END:VEVENT
BEGIN:VEVENT
DTSTART;TZID=Australia/Sydney:20260715T103000
DTEND;TZID=Australia/Sydney:20260715T113000
DTSTAMP:20260423T234438
CREATED:20241028T051106Z
LAST-MODIFIED:20251123T230148Z
UID:10109980-1784111400-1784115000@synergyhealthworks.com
SUMMARY:Active Ageing Level 2
DESCRIPTION:
URL:https://synergyhealthworks.com/event/active-ageing-level-1-2/2026-07-15/
LOCATION:Tumut\, Shop 10/95 Wynyard Street\, Tumut\, NSW\, 2720\, Australia
CATEGORIES:Active Ageing
END:VEVENT
BEGIN:VEVENT
DTSTART;TZID=Australia/Sydney:20260715T113000
DTEND;TZID=Australia/Sydney:20260715T123000
DTSTAMP:20260423T234438
CREATED:20241028T051308Z
LAST-MODIFIED:20251123T230251Z
UID:10110249-1784115000-1784118600@synergyhealthworks.com
SUMMARY:Active Ageing Level 2
DESCRIPTION:
URL:https://synergyhealthworks.com/event/active-ageing-level-2-5/2026-07-15/
LOCATION:Tumut\, Shop 10/95 Wynyard Street\, Tumut\, NSW\, 2720\, Australia
CATEGORIES:Active Ageing
END:VEVENT
BEGIN:VEVENT
DTSTART;TZID=Australia/Sydney:20260716T083000
DTEND;TZID=Australia/Sydney:20260716T093000
DTSTAMP:20260423T234438
CREATED:20241220T013734Z
LAST-MODIFIED:20251123T230349Z
UID:10111026-1784190600-1784194200@synergyhealthworks.com
SUMMARY:Active Ageing Level 2
DESCRIPTION:
URL:https://synergyhealthworks.com/event/active-ageing-level-2-6/2026-07-16/
LOCATION:Tumut\, Shop 10/95 Wynyard Street\, Tumut\, NSW\, 2720\, Australia
CATEGORIES:Active Ageing
END:VEVENT
BEGIN:VEVENT
DTSTART;TZID=Australia/Sydney:20260716T093000
DTEND;TZID=Australia/Sydney:20260716T103000
DTSTAMP:20260423T234438
CREATED:20241220T013930Z
LAST-MODIFIED:20251123T230452Z
UID:10111285-1784194200-1784197800@synergyhealthworks.com
SUMMARY:Active Ageing Level 2
DESCRIPTION:
URL:https://synergyhealthworks.com/event/active-ageing-level-2-7/2026-07-16/
LOCATION:Tumut\, Shop 10/95 Wynyard Street\, Tumut\, NSW\, 2720\, Australia
CATEGORIES:Active Ageing
END:VEVENT
BEGIN:VEVENT
DTSTART;TZID=Australia/Sydney:20260716T133000
DTEND;TZID=Australia/Sydney:20260716T143000
DTSTAMP:20260423T234438
CREATED:20241220T013710Z
LAST-MODIFIED:20251123T230524Z
UID:10110767-1784208600-1784212200@synergyhealthworks.com
SUMMARY:Active Ageing Level 1
DESCRIPTION:
URL:https://synergyhealthworks.com/event/active-ageing-level-1-5/2026-07-16/
LOCATION:Tumut\, Shop 10/95 Wynyard Street\, Tumut\, NSW\, 2720\, Australia
CATEGORIES:Active Ageing
END:VEVENT
BEGIN:VEVENT
DTSTART;TZID=Australia/Sydney:20260720T083000
DTEND;TZID=Australia/Sydney:20260720T093000
DTSTAMP:20260423T234438
CREATED:20241028T050434Z
LAST-MODIFIED:20251123T225656Z
UID:10109158-1784536200-1784539800@synergyhealthworks.com
SUMMARY:Active Ageing Level 2
DESCRIPTION:
URL:https://synergyhealthworks.com/event/active-ageing-level-2/2026-07-20/
LOCATION:Tumut\, Shop 10/95 Wynyard Street\, Tumut\, NSW\, 2720\, Australia
CATEGORIES:Active Ageing
END:VEVENT
BEGIN:VEVENT
DTSTART;TZID=Australia/Sydney:20260720T093000
DTEND;TZID=Australia/Sydney:20260720T103000
DTSTAMP:20260423T234438
CREATED:20241028T050603Z
LAST-MODIFIED:20251123T225830Z
UID:10067945-1784539800-1784543400@synergyhealthworks.com
SUMMARY:Active Ageing Level 2
DESCRIPTION:
URL:https://synergyhealthworks.com/event/active-ageing-level-1/2026-07-20/
LOCATION:Tumut\, Shop 10/95 Wynyard Street\, Tumut\, NSW\, 2720\, Australia
CATEGORIES:Active Ageing
END:VEVENT
BEGIN:VEVENT
DTSTART;TZID=Australia/Sydney:20260720T103000
DTEND;TZID=Australia/Sydney:20260720T113000
DTSTAMP:20260423T234438
CREATED:20241028T050721Z
LAST-MODIFIED:20251123T225903Z
UID:10109435-1784543400-1784547000@synergyhealthworks.com
SUMMARY:Active Ageing Level 2
DESCRIPTION:
URL:https://synergyhealthworks.com/event/active-ageing-level-2-2/2026-07-20/
LOCATION:Tumut\, Shop 10/95 Wynyard Street\, Tumut\, NSW\, 2720\, Australia
CATEGORIES:Active Ageing
END:VEVENT
BEGIN:VEVENT
DTSTART;TZID=Australia/Sydney:20260721T093000
DTEND;TZID=Australia/Sydney:20260721T103000
DTSTAMP:20260423T234438
CREATED:20241220T010410Z
LAST-MODIFIED:20251123T225952Z
UID:10110509-1784626200-1784629800@synergyhealthworks.com
SUMMARY:Active Ageing Level 1
DESCRIPTION:
URL:https://synergyhealthworks.com/event/active-ageing-level-1-4/2026-07-21/
LOCATION:Tumut\, Shop 10/95 Wynyard Street\, Tumut\, NSW\, 2720\, Australia
CATEGORIES:Active Ageing
END:VEVENT
BEGIN:VEVENT
DTSTART;TZID=Australia/Sydney:20260722T083000
DTEND;TZID=Australia/Sydney:20260722T093000
DTSTAMP:20260423T234438
CREATED:20241028T050839Z
LAST-MODIFIED:20251123T230028Z
UID:10109704-1784709000-1784712600@synergyhealthworks.com
SUMMARY:Active Ageing Level 2
DESCRIPTION:
URL:https://synergyhealthworks.com/event/active-ageing-level-2-3/2026-07-22/
LOCATION:Tumut\, Shop 10/95 Wynyard Street\, Tumut\, NSW\, 2720\, Australia
CATEGORIES:Active Ageing
END:VEVENT
BEGIN:VEVENT
DTSTART;TZID=Australia/Sydney:20260722T093000
DTEND;TZID=Australia/Sydney:20260722T103000
DTSTAMP:20260423T234438
CREATED:20241028T050956Z
LAST-MODIFIED:20251123T230111Z
UID:10068728-1784712600-1784716200@synergyhealthworks.com
SUMMARY:Active Ageing Level 2
DESCRIPTION:
URL:https://synergyhealthworks.com/event/active-ageing-level-2-4/2026-07-22/
LOCATION:Tumut\, Shop 10/95 Wynyard Street\, Tumut\, NSW\, 2720\, Australia
CATEGORIES:Active Ageing
END:VEVENT
BEGIN:VEVENT
DTSTART;TZID=Australia/Sydney:20260722T103000
DTEND;TZID=Australia/Sydney:20260722T113000
DTSTAMP:20260423T234438
CREATED:20241028T051106Z
LAST-MODIFIED:20251123T230148Z
UID:10109981-1784716200-1784719800@synergyhealthworks.com
SUMMARY:Active Ageing Level 2
DESCRIPTION:
URL:https://synergyhealthworks.com/event/active-ageing-level-1-2/2026-07-22/
LOCATION:Tumut\, Shop 10/95 Wynyard Street\, Tumut\, NSW\, 2720\, Australia
CATEGORIES:Active Ageing
END:VEVENT
BEGIN:VEVENT
DTSTART;TZID=Australia/Sydney:20260722T113000
DTEND;TZID=Australia/Sydney:20260722T123000
DTSTAMP:20260423T234438
CREATED:20241028T051308Z
LAST-MODIFIED:20251123T230251Z
UID:10110250-1784719800-1784723400@synergyhealthworks.com
SUMMARY:Active Ageing Level 2
DESCRIPTION:
URL:https://synergyhealthworks.com/event/active-ageing-level-2-5/2026-07-22/
LOCATION:Tumut\, Shop 10/95 Wynyard Street\, Tumut\, NSW\, 2720\, Australia
CATEGORIES:Active Ageing
END:VEVENT
BEGIN:VEVENT
DTSTART;TZID=Australia/Sydney:20260723T083000
DTEND;TZID=Australia/Sydney:20260723T093000
DTSTAMP:20260423T234438
CREATED:20241220T013734Z
LAST-MODIFIED:20251123T230349Z
UID:10111027-1784795400-1784799000@synergyhealthworks.com
SUMMARY:Active Ageing Level 2
DESCRIPTION:
URL:https://synergyhealthworks.com/event/active-ageing-level-2-6/2026-07-23/
LOCATION:Tumut\, Shop 10/95 Wynyard Street\, Tumut\, NSW\, 2720\, Australia
CATEGORIES:Active Ageing
END:VEVENT
BEGIN:VEVENT
DTSTART;TZID=Australia/Sydney:20260723T093000
DTEND;TZID=Australia/Sydney:20260723T103000
DTSTAMP:20260423T234438
CREATED:20241220T013930Z
LAST-MODIFIED:20251123T230452Z
UID:10111286-1784799000-1784802600@synergyhealthworks.com
SUMMARY:Active Ageing Level 2
DESCRIPTION:
URL:https://synergyhealthworks.com/event/active-ageing-level-2-7/2026-07-23/
LOCATION:Tumut\, Shop 10/95 Wynyard Street\, Tumut\, NSW\, 2720\, Australia
CATEGORIES:Active Ageing
END:VEVENT
BEGIN:VEVENT
DTSTART;TZID=Australia/Sydney:20260723T133000
DTEND;TZID=Australia/Sydney:20260723T143000
DTSTAMP:20260423T234438
CREATED:20241220T013710Z
LAST-MODIFIED:20251123T230524Z
UID:10110768-1784813400-1784817000@synergyhealthworks.com
SUMMARY:Active Ageing Level 1
DESCRIPTION:
URL:https://synergyhealthworks.com/event/active-ageing-level-1-5/2026-07-23/
LOCATION:Tumut\, Shop 10/95 Wynyard Street\, Tumut\, NSW\, 2720\, Australia
CATEGORIES:Active Ageing
END:VEVENT
BEGIN:VEVENT
DTSTART;TZID=Australia/Sydney:20260727T083000
DTEND;TZID=Australia/Sydney:20260727T093000
DTSTAMP:20260423T234438
CREATED:20241028T050434Z
LAST-MODIFIED:20251123T225656Z
UID:10109159-1785141000-1785144600@synergyhealthworks.com
SUMMARY:Active Ageing Level 2
DESCRIPTION:
URL:https://synergyhealthworks.com/event/active-ageing-level-2/2026-07-27/
LOCATION:Tumut\, Shop 10/95 Wynyard Street\, Tumut\, NSW\, 2720\, Australia
CATEGORIES:Active Ageing
END:VEVENT
BEGIN:VEVENT
DTSTART;TZID=Australia/Sydney:20260727T093000
DTEND;TZID=Australia/Sydney:20260727T103000
DTSTAMP:20260423T234438
CREATED:20241028T050603Z
LAST-MODIFIED:20251123T225830Z
UID:10067946-1785144600-1785148200@synergyhealthworks.com
SUMMARY:Active Ageing Level 2
DESCRIPTION:
URL:https://synergyhealthworks.com/event/active-ageing-level-1/2026-07-27/
LOCATION:Tumut\, Shop 10/95 Wynyard Street\, Tumut\, NSW\, 2720\, Australia
CATEGORIES:Active Ageing
END:VEVENT
BEGIN:VEVENT
DTSTART;TZID=Australia/Sydney:20260727T103000
DTEND;TZID=Australia/Sydney:20260727T113000
DTSTAMP:20260423T234438
CREATED:20241028T050721Z
LAST-MODIFIED:20251123T225903Z
UID:10109436-1785148200-1785151800@synergyhealthworks.com
SUMMARY:Active Ageing Level 2
DESCRIPTION:
URL:https://synergyhealthworks.com/event/active-ageing-level-2-2/2026-07-27/
LOCATION:Tumut\, Shop 10/95 Wynyard Street\, Tumut\, NSW\, 2720\, Australia
CATEGORIES:Active Ageing
END:VEVENT
BEGIN:VEVENT
DTSTART;TZID=Australia/Sydney:20260728T093000
DTEND;TZID=Australia/Sydney:20260728T103000
DTSTAMP:20260423T234438
CREATED:20241220T010410Z
LAST-MODIFIED:20251123T225952Z
UID:10110510-1785231000-1785234600@synergyhealthworks.com
SUMMARY:Active Ageing Level 1
DESCRIPTION:
URL:https://synergyhealthworks.com/event/active-ageing-level-1-4/2026-07-28/
LOCATION:Tumut\, Shop 10/95 Wynyard Street\, Tumut\, NSW\, 2720\, Australia
CATEGORIES:Active Ageing
END:VEVENT
BEGIN:VEVENT
DTSTART;TZID=Australia/Sydney:20260729T083000
DTEND;TZID=Australia/Sydney:20260729T093000
DTSTAMP:20260423T234438
CREATED:20241028T050839Z
LAST-MODIFIED:20251123T230028Z
UID:10109705-1785313800-1785317400@synergyhealthworks.com
SUMMARY:Active Ageing Level 2
DESCRIPTION:
URL:https://synergyhealthworks.com/event/active-ageing-level-2-3/2026-07-29/
LOCATION:Tumut\, Shop 10/95 Wynyard Street\, Tumut\, NSW\, 2720\, Australia
CATEGORIES:Active Ageing
END:VEVENT
BEGIN:VEVENT
DTSTART;TZID=Australia/Sydney:20260729T093000
DTEND;TZID=Australia/Sydney:20260729T103000
DTSTAMP:20260423T234438
CREATED:20241028T050956Z
LAST-MODIFIED:20251123T230111Z
UID:10068729-1785317400-1785321000@synergyhealthworks.com
SUMMARY:Active Ageing Level 2
DESCRIPTION:
URL:https://synergyhealthworks.com/event/active-ageing-level-2-4/2026-07-29/
LOCATION:Tumut\, Shop 10/95 Wynyard Street\, Tumut\, NSW\, 2720\, Australia
CATEGORIES:Active Ageing
END:VEVENT
BEGIN:VEVENT
DTSTART;TZID=Australia/Sydney:20260729T103000
DTEND;TZID=Australia/Sydney:20260729T113000
DTSTAMP:20260423T234438
CREATED:20241028T051106Z
LAST-MODIFIED:20251123T230148Z
UID:10109982-1785321000-1785324600@synergyhealthworks.com
SUMMARY:Active Ageing Level 2
DESCRIPTION:
URL:https://synergyhealthworks.com/event/active-ageing-level-1-2/2026-07-29/
LOCATION:Tumut\, Shop 10/95 Wynyard Street\, Tumut\, NSW\, 2720\, Australia
CATEGORIES:Active Ageing
END:VEVENT
END:VCALENDAR