BEGIN:VCALENDAR
VERSION:2.0
PRODID:-//Synergy Healthworks - ECPv6.15.20//NONSGML v1.0//EN
CALSCALE:GREGORIAN
METHOD:PUBLISH
X-ORIGINAL-URL:https://synergyhealthworks.com
X-WR-CALDESC:Events for Synergy Healthworks
REFRESH-INTERVAL;VALUE=DURATION:PT1H
X-Robots-Tag:noindex
X-PUBLISHED-TTL:PT1H
BEGIN:VTIMEZONE
TZID:Australia/Sydney
BEGIN:STANDARD
TZOFFSETFROM:+1100
TZOFFSETTO:+1000
TZNAME:AEST
DTSTART:20250405T160000
END:STANDARD
BEGIN:DAYLIGHT
TZOFFSETFROM:+1000
TZOFFSETTO:+1100
TZNAME:AEDT
DTSTART:20251004T160000
END:DAYLIGHT
BEGIN:STANDARD
TZOFFSETFROM:+1100
TZOFFSETTO:+1000
TZNAME:AEST
DTSTART:20260404T160000
END:STANDARD
BEGIN:DAYLIGHT
TZOFFSETFROM:+1000
TZOFFSETTO:+1100
TZNAME:AEDT
DTSTART:20261003T160000
END:DAYLIGHT
BEGIN:STANDARD
TZOFFSETFROM:+1100
TZOFFSETTO:+1000
TZNAME:AEST
DTSTART:20270403T160000
END:STANDARD
BEGIN:DAYLIGHT
TZOFFSETFROM:+1000
TZOFFSETTO:+1100
TZNAME:AEDT
DTSTART:20271002T160000
END:DAYLIGHT
END:VTIMEZONE
BEGIN:VEVENT
DTSTART;TZID=Australia/Sydney:20260730T093000
DTEND;TZID=Australia/Sydney:20260730T094500
DTSTAMP:20260424T095528
CREATED:20250901T032458Z
LAST-MODIFIED:20250909T053220Z
UID:10123149-1785403800-1785404700@synergyhealthworks.com
SUMMARY:Clinical Reformer (kids and babies welcome)
DESCRIPTION:
URL:https://synergyhealthworks.com/event/clinical-reformer-kids-and-babies-welcome/2026-07-30/
LOCATION:Gundagai\, 114 Sheridan Street\, Gundagai\, NSW\, 2722\, Australia
CATEGORIES:Clinical Reformer
END:VEVENT
BEGIN:VEVENT
DTSTART;TZID=Australia/Sydney:20260730T120000
DTEND;TZID=Australia/Sydney:20260730T124500
DTSTAMP:20260424T095528
CREATED:20250901T032555Z
LAST-MODIFIED:20250909T053149Z
UID:10123729-1785412800-1785415500@synergyhealthworks.com
SUMMARY:Clinical Reformer (kids and babies welcome)
DESCRIPTION:
URL:https://synergyhealthworks.com/event/clinical-reformer-kids-and-babies-welcome-2/2026-07-30/
LOCATION:Gundagai\, 114 Sheridan Street\, Gundagai\, NSW\, 2722\, Australia
CATEGORIES:Clinical Reformer
END:VEVENT
BEGIN:VEVENT
DTSTART;TZID=Australia/Sydney:20260803T120000
DTEND;TZID=Australia/Sydney:20260803T124500
DTSTAMP:20260424T095528
CREATED:20250829T044037Z
LAST-MODIFIED:20250829T044037Z
UID:10122280-1785758400-1785761100@synergyhealthworks.com
SUMMARY:Strength and Conditioning Class
DESCRIPTION:
URL:https://synergyhealthworks.com/event/strength-and-conditioning-class-3/2026-08-03/
LOCATION:Wagga Wagga | Fitness Hub\, 1/21-25 Forsyth Street\, Wagga Wagga\, NSW\, 2650\, Australia
CATEGORIES:Strength and Conditioning
END:VEVENT
BEGIN:VEVENT
DTSTART;TZID=Australia/Sydney:20260803T130000
DTEND;TZID=Australia/Sydney:20260803T134500
DTSTAMP:20260424T095528
CREATED:20251112T001650Z
LAST-MODIFIED:20251112T001650Z
UID:10127412-1785762000-1785764700@synergyhealthworks.com
SUMMARY:Strength and Conditioning Class
DESCRIPTION:
URL:https://synergyhealthworks.com/event/strength-and-conditioning-class-5/2026-08-03/
LOCATION:Wagga Wagga | Fitness Hub\, 1/21-25 Forsyth Street\, Wagga Wagga\, NSW\, 2650\, Australia
CATEGORIES:Strength and Conditioning
END:VEVENT
BEGIN:VEVENT
DTSTART;TZID=Australia/Sydney:20260803T163000
DTEND;TZID=Australia/Sydney:20260803T171500
DTSTAMP:20260424T095528
CREATED:20250502T051402Z
LAST-MODIFIED:20250502T051402Z
UID:10116549-1785774600-1785777300@synergyhealthworks.com
SUMMARY:Women’s Pregnancy Strength Class
DESCRIPTION:
URL:https://synergyhealthworks.com/event/womens-pregnancy-strength-class/2026-08-03/
LOCATION:Wagga Wagga | Fitness Hub\, 1/21-25 Forsyth Street\, Wagga Wagga\, NSW\, 2650\, Australia
CATEGORIES:Women’s Pregnancy Strength Class
END:VEVENT
BEGIN:VEVENT
DTSTART;TZID=Australia/Sydney:20260804T093000
DTEND;TZID=Australia/Sydney:20260804T094500
DTSTAMP:20260424T095528
CREATED:20241204T020912Z
LAST-MODIFIED:20250901T032148Z
UID:10122570-1785835800-1785836700@synergyhealthworks.com
SUMMARY:Clinical Reformer
DESCRIPTION:
URL:https://synergyhealthworks.com/event/semi-private-reformer-16/2026-08-04/
LOCATION:Wagga Wagga | Reformer Studio\, 221 Kincaid Street\, Wagga Wagga\, NSW\, 2650\, Australia
CATEGORIES:Clinical Reformer
END:VEVENT
BEGIN:VEVENT
DTSTART;TZID=Australia/Sydney:20260804T103000
DTEND;TZID=Australia/Sydney:20260804T111500
DTSTAMP:20260424T095528
CREATED:20241204T012734Z
LAST-MODIFIED:20250129T031606Z
UID:10096549-1785839400-1785842100@synergyhealthworks.com
SUMMARY:Clinical Reformer
DESCRIPTION:
URL:https://synergyhealthworks.com/event/clinical-reformer-41/2026-08-04/
LOCATION:Wagga Wagga | Reformer Studio\, 221 Kincaid Street\, Wagga Wagga\, NSW\, 2650\, Australia
CATEGORIES:Clinical Reformer
END:VEVENT
BEGIN:VEVENT
DTSTART;TZID=Australia/Sydney:20260806T093000
DTEND;TZID=Australia/Sydney:20260806T094500
DTSTAMP:20260424T095528
CREATED:20250901T032458Z
LAST-MODIFIED:20250909T053220Z
UID:10123150-1786008600-1786009500@synergyhealthworks.com
SUMMARY:Clinical Reformer (kids and babies welcome)
DESCRIPTION:
URL:https://synergyhealthworks.com/event/clinical-reformer-kids-and-babies-welcome/2026-08-06/
LOCATION:Gundagai\, 114 Sheridan Street\, Gundagai\, NSW\, 2722\, Australia
CATEGORIES:Clinical Reformer
END:VEVENT
BEGIN:VEVENT
DTSTART;TZID=Australia/Sydney:20260806T120000
DTEND;TZID=Australia/Sydney:20260806T124500
DTSTAMP:20260424T095528
CREATED:20250901T032555Z
LAST-MODIFIED:20250909T053149Z
UID:10123730-1786017600-1786020300@synergyhealthworks.com
SUMMARY:Clinical Reformer (kids and babies welcome)
DESCRIPTION:
URL:https://synergyhealthworks.com/event/clinical-reformer-kids-and-babies-welcome-2/2026-08-06/
LOCATION:Gundagai\, 114 Sheridan Street\, Gundagai\, NSW\, 2722\, Australia
CATEGORIES:Clinical Reformer
END:VEVENT
BEGIN:VEVENT
DTSTART;TZID=Australia/Sydney:20260810T120000
DTEND;TZID=Australia/Sydney:20260810T124500
DTSTAMP:20260424T095528
CREATED:20250829T044037Z
LAST-MODIFIED:20250829T044037Z
UID:10122281-1786363200-1786365900@synergyhealthworks.com
SUMMARY:Strength and Conditioning Class
DESCRIPTION:
URL:https://synergyhealthworks.com/event/strength-and-conditioning-class-3/2026-08-10/
LOCATION:Wagga Wagga | Fitness Hub\, 1/21-25 Forsyth Street\, Wagga Wagga\, NSW\, 2650\, Australia
CATEGORIES:Strength and Conditioning
END:VEVENT
BEGIN:VEVENT
DTSTART;TZID=Australia/Sydney:20260810T130000
DTEND;TZID=Australia/Sydney:20260810T134500
DTSTAMP:20260424T095528
CREATED:20251112T001650Z
LAST-MODIFIED:20251112T001650Z
UID:10127413-1786366800-1786369500@synergyhealthworks.com
SUMMARY:Strength and Conditioning Class
DESCRIPTION:
URL:https://synergyhealthworks.com/event/strength-and-conditioning-class-5/2026-08-10/
LOCATION:Wagga Wagga | Fitness Hub\, 1/21-25 Forsyth Street\, Wagga Wagga\, NSW\, 2650\, Australia
CATEGORIES:Strength and Conditioning
END:VEVENT
BEGIN:VEVENT
DTSTART;TZID=Australia/Sydney:20260810T163000
DTEND;TZID=Australia/Sydney:20260810T171500
DTSTAMP:20260424T095528
CREATED:20250502T051402Z
LAST-MODIFIED:20250502T051402Z
UID:10116550-1786379400-1786382100@synergyhealthworks.com
SUMMARY:Women’s Pregnancy Strength Class
DESCRIPTION:
URL:https://synergyhealthworks.com/event/womens-pregnancy-strength-class/2026-08-10/
LOCATION:Wagga Wagga | Fitness Hub\, 1/21-25 Forsyth Street\, Wagga Wagga\, NSW\, 2650\, Australia
CATEGORIES:Women’s Pregnancy Strength Class
END:VEVENT
BEGIN:VEVENT
DTSTART;TZID=Australia/Sydney:20260811T093000
DTEND;TZID=Australia/Sydney:20260811T094500
DTSTAMP:20260424T095528
CREATED:20241204T020912Z
LAST-MODIFIED:20250901T032148Z
UID:10122571-1786440600-1786441500@synergyhealthworks.com
SUMMARY:Clinical Reformer
DESCRIPTION:
URL:https://synergyhealthworks.com/event/semi-private-reformer-16/2026-08-11/
LOCATION:Wagga Wagga | Reformer Studio\, 221 Kincaid Street\, Wagga Wagga\, NSW\, 2650\, Australia
CATEGORIES:Clinical Reformer
END:VEVENT
BEGIN:VEVENT
DTSTART;TZID=Australia/Sydney:20260811T103000
DTEND;TZID=Australia/Sydney:20260811T111500
DTSTAMP:20260424T095528
CREATED:20241204T012734Z
LAST-MODIFIED:20250129T031606Z
UID:10096550-1786444200-1786446900@synergyhealthworks.com
SUMMARY:Clinical Reformer
DESCRIPTION:
URL:https://synergyhealthworks.com/event/clinical-reformer-41/2026-08-11/
LOCATION:Wagga Wagga | Reformer Studio\, 221 Kincaid Street\, Wagga Wagga\, NSW\, 2650\, Australia
CATEGORIES:Clinical Reformer
END:VEVENT
BEGIN:VEVENT
DTSTART;TZID=Australia/Sydney:20260813T093000
DTEND;TZID=Australia/Sydney:20260813T094500
DTSTAMP:20260424T095528
CREATED:20250901T032458Z
LAST-MODIFIED:20250909T053220Z
UID:10123151-1786613400-1786614300@synergyhealthworks.com
SUMMARY:Clinical Reformer (kids and babies welcome)
DESCRIPTION:
URL:https://synergyhealthworks.com/event/clinical-reformer-kids-and-babies-welcome/2026-08-13/
LOCATION:Gundagai\, 114 Sheridan Street\, Gundagai\, NSW\, 2722\, Australia
CATEGORIES:Clinical Reformer
END:VEVENT
BEGIN:VEVENT
DTSTART;TZID=Australia/Sydney:20260813T120000
DTEND;TZID=Australia/Sydney:20260813T124500
DTSTAMP:20260424T095528
CREATED:20250901T032555Z
LAST-MODIFIED:20250909T053149Z
UID:10123731-1786622400-1786625100@synergyhealthworks.com
SUMMARY:Clinical Reformer (kids and babies welcome)
DESCRIPTION:
URL:https://synergyhealthworks.com/event/clinical-reformer-kids-and-babies-welcome-2/2026-08-13/
LOCATION:Gundagai\, 114 Sheridan Street\, Gundagai\, NSW\, 2722\, Australia
CATEGORIES:Clinical Reformer
END:VEVENT
BEGIN:VEVENT
DTSTART;TZID=Australia/Sydney:20260817T120000
DTEND;TZID=Australia/Sydney:20260817T124500
DTSTAMP:20260424T095528
CREATED:20250829T044037Z
LAST-MODIFIED:20250829T044037Z
UID:10122282-1786968000-1786970700@synergyhealthworks.com
SUMMARY:Strength and Conditioning Class
DESCRIPTION:
URL:https://synergyhealthworks.com/event/strength-and-conditioning-class-3/2026-08-17/
LOCATION:Wagga Wagga | Fitness Hub\, 1/21-25 Forsyth Street\, Wagga Wagga\, NSW\, 2650\, Australia
CATEGORIES:Strength and Conditioning
END:VEVENT
BEGIN:VEVENT
DTSTART;TZID=Australia/Sydney:20260817T130000
DTEND;TZID=Australia/Sydney:20260817T134500
DTSTAMP:20260424T095528
CREATED:20251112T001650Z
LAST-MODIFIED:20251112T001650Z
UID:10127414-1786971600-1786974300@synergyhealthworks.com
SUMMARY:Strength and Conditioning Class
DESCRIPTION:
URL:https://synergyhealthworks.com/event/strength-and-conditioning-class-5/2026-08-17/
LOCATION:Wagga Wagga | Fitness Hub\, 1/21-25 Forsyth Street\, Wagga Wagga\, NSW\, 2650\, Australia
CATEGORIES:Strength and Conditioning
END:VEVENT
BEGIN:VEVENT
DTSTART;TZID=Australia/Sydney:20260817T163000
DTEND;TZID=Australia/Sydney:20260817T171500
DTSTAMP:20260424T095528
CREATED:20250502T051402Z
LAST-MODIFIED:20250502T051402Z
UID:10116551-1786984200-1786986900@synergyhealthworks.com
SUMMARY:Women’s Pregnancy Strength Class
DESCRIPTION:
URL:https://synergyhealthworks.com/event/womens-pregnancy-strength-class/2026-08-17/
LOCATION:Wagga Wagga | Fitness Hub\, 1/21-25 Forsyth Street\, Wagga Wagga\, NSW\, 2650\, Australia
CATEGORIES:Women’s Pregnancy Strength Class
END:VEVENT
BEGIN:VEVENT
DTSTART;TZID=Australia/Sydney:20260818T093000
DTEND;TZID=Australia/Sydney:20260818T094500
DTSTAMP:20260424T095528
CREATED:20241204T020912Z
LAST-MODIFIED:20250901T032148Z
UID:10122572-1787045400-1787046300@synergyhealthworks.com
SUMMARY:Clinical Reformer
DESCRIPTION:
URL:https://synergyhealthworks.com/event/semi-private-reformer-16/2026-08-18/
LOCATION:Wagga Wagga | Reformer Studio\, 221 Kincaid Street\, Wagga Wagga\, NSW\, 2650\, Australia
CATEGORIES:Clinical Reformer
END:VEVENT
BEGIN:VEVENT
DTSTART;TZID=Australia/Sydney:20260818T103000
DTEND;TZID=Australia/Sydney:20260818T111500
DTSTAMP:20260424T095528
CREATED:20241204T012734Z
LAST-MODIFIED:20250129T031606Z
UID:10096551-1787049000-1787051700@synergyhealthworks.com
SUMMARY:Clinical Reformer
DESCRIPTION:
URL:https://synergyhealthworks.com/event/clinical-reformer-41/2026-08-18/
LOCATION:Wagga Wagga | Reformer Studio\, 221 Kincaid Street\, Wagga Wagga\, NSW\, 2650\, Australia
CATEGORIES:Clinical Reformer
END:VEVENT
BEGIN:VEVENT
DTSTART;TZID=Australia/Sydney:20260820T093000
DTEND;TZID=Australia/Sydney:20260820T094500
DTSTAMP:20260424T095528
CREATED:20250901T032458Z
LAST-MODIFIED:20250909T053220Z
UID:10123152-1787218200-1787219100@synergyhealthworks.com
SUMMARY:Clinical Reformer (kids and babies welcome)
DESCRIPTION:
URL:https://synergyhealthworks.com/event/clinical-reformer-kids-and-babies-welcome/2026-08-20/
LOCATION:Gundagai\, 114 Sheridan Street\, Gundagai\, NSW\, 2722\, Australia
CATEGORIES:Clinical Reformer
END:VEVENT
BEGIN:VEVENT
DTSTART;TZID=Australia/Sydney:20260820T120000
DTEND;TZID=Australia/Sydney:20260820T124500
DTSTAMP:20260424T095528
CREATED:20250901T032555Z
LAST-MODIFIED:20250909T053149Z
UID:10123732-1787227200-1787229900@synergyhealthworks.com
SUMMARY:Clinical Reformer (kids and babies welcome)
DESCRIPTION:
URL:https://synergyhealthworks.com/event/clinical-reformer-kids-and-babies-welcome-2/2026-08-20/
LOCATION:Gundagai\, 114 Sheridan Street\, Gundagai\, NSW\, 2722\, Australia
CATEGORIES:Clinical Reformer
END:VEVENT
BEGIN:VEVENT
DTSTART;TZID=Australia/Sydney:20260824T120000
DTEND;TZID=Australia/Sydney:20260824T124500
DTSTAMP:20260424T095528
CREATED:20250829T044037Z
LAST-MODIFIED:20250829T044037Z
UID:10122283-1787572800-1787575500@synergyhealthworks.com
SUMMARY:Strength and Conditioning Class
DESCRIPTION:
URL:https://synergyhealthworks.com/event/strength-and-conditioning-class-3/2026-08-24/
LOCATION:Wagga Wagga | Fitness Hub\, 1/21-25 Forsyth Street\, Wagga Wagga\, NSW\, 2650\, Australia
CATEGORIES:Strength and Conditioning
END:VEVENT
BEGIN:VEVENT
DTSTART;TZID=Australia/Sydney:20260824T130000
DTEND;TZID=Australia/Sydney:20260824T134500
DTSTAMP:20260424T095528
CREATED:20251112T001650Z
LAST-MODIFIED:20251112T001650Z
UID:10127415-1787576400-1787579100@synergyhealthworks.com
SUMMARY:Strength and Conditioning Class
DESCRIPTION:
URL:https://synergyhealthworks.com/event/strength-and-conditioning-class-5/2026-08-24/
LOCATION:Wagga Wagga | Fitness Hub\, 1/21-25 Forsyth Street\, Wagga Wagga\, NSW\, 2650\, Australia
CATEGORIES:Strength and Conditioning
END:VEVENT
BEGIN:VEVENT
DTSTART;TZID=Australia/Sydney:20260824T163000
DTEND;TZID=Australia/Sydney:20260824T171500
DTSTAMP:20260424T095528
CREATED:20250502T051402Z
LAST-MODIFIED:20250502T051402Z
UID:10116552-1787589000-1787591700@synergyhealthworks.com
SUMMARY:Women’s Pregnancy Strength Class
DESCRIPTION:
URL:https://synergyhealthworks.com/event/womens-pregnancy-strength-class/2026-08-24/
LOCATION:Wagga Wagga | Fitness Hub\, 1/21-25 Forsyth Street\, Wagga Wagga\, NSW\, 2650\, Australia
CATEGORIES:Women’s Pregnancy Strength Class
END:VEVENT
BEGIN:VEVENT
DTSTART;TZID=Australia/Sydney:20260825T093000
DTEND;TZID=Australia/Sydney:20260825T094500
DTSTAMP:20260424T095528
CREATED:20241204T020912Z
LAST-MODIFIED:20250901T032148Z
UID:10122573-1787650200-1787651100@synergyhealthworks.com
SUMMARY:Clinical Reformer
DESCRIPTION:
URL:https://synergyhealthworks.com/event/semi-private-reformer-16/2026-08-25/
LOCATION:Wagga Wagga | Reformer Studio\, 221 Kincaid Street\, Wagga Wagga\, NSW\, 2650\, Australia
CATEGORIES:Clinical Reformer
END:VEVENT
BEGIN:VEVENT
DTSTART;TZID=Australia/Sydney:20260825T103000
DTEND;TZID=Australia/Sydney:20260825T111500
DTSTAMP:20260424T095528
CREATED:20241204T012734Z
LAST-MODIFIED:20250129T031606Z
UID:10096552-1787653800-1787656500@synergyhealthworks.com
SUMMARY:Clinical Reformer
DESCRIPTION:
URL:https://synergyhealthworks.com/event/clinical-reformer-41/2026-08-25/
LOCATION:Wagga Wagga | Reformer Studio\, 221 Kincaid Street\, Wagga Wagga\, NSW\, 2650\, Australia
CATEGORIES:Clinical Reformer
END:VEVENT
BEGIN:VEVENT
DTSTART;TZID=Australia/Sydney:20260827T093000
DTEND;TZID=Australia/Sydney:20260827T094500
DTSTAMP:20260424T095528
CREATED:20250901T032458Z
LAST-MODIFIED:20250909T053220Z
UID:10123153-1787823000-1787823900@synergyhealthworks.com
SUMMARY:Clinical Reformer (kids and babies welcome)
DESCRIPTION:
URL:https://synergyhealthworks.com/event/clinical-reformer-kids-and-babies-welcome/2026-08-27/
LOCATION:Gundagai\, 114 Sheridan Street\, Gundagai\, NSW\, 2722\, Australia
CATEGORIES:Clinical Reformer
END:VEVENT
BEGIN:VEVENT
DTSTART;TZID=Australia/Sydney:20260827T120000
DTEND;TZID=Australia/Sydney:20260827T124500
DTSTAMP:20260424T095528
CREATED:20250901T032555Z
LAST-MODIFIED:20250909T053149Z
UID:10123733-1787832000-1787834700@synergyhealthworks.com
SUMMARY:Clinical Reformer (kids and babies welcome)
DESCRIPTION:
URL:https://synergyhealthworks.com/event/clinical-reformer-kids-and-babies-welcome-2/2026-08-27/
LOCATION:Gundagai\, 114 Sheridan Street\, Gundagai\, NSW\, 2722\, Australia
CATEGORIES:Clinical Reformer
END:VEVENT
END:VCALENDAR