BEGIN:VCALENDAR
VERSION:2.0
PRODID:-//Synergy Healthworks - ECPv6.15.20//NONSGML v1.0//EN
CALSCALE:GREGORIAN
METHOD:PUBLISH
X-ORIGINAL-URL:https://synergyhealthworks.com
X-WR-CALDESC:Events for Synergy Healthworks
REFRESH-INTERVAL;VALUE=DURATION:PT1H
X-Robots-Tag:noindex
X-PUBLISHED-TTL:PT1H
BEGIN:VTIMEZONE
TZID:Australia/Sydney
BEGIN:STANDARD
TZOFFSETFROM:+1100
TZOFFSETTO:+1000
TZNAME:AEST
DTSTART:20250405T160000
END:STANDARD
BEGIN:DAYLIGHT
TZOFFSETFROM:+1000
TZOFFSETTO:+1100
TZNAME:AEDT
DTSTART:20251004T160000
END:DAYLIGHT
BEGIN:STANDARD
TZOFFSETFROM:+1100
TZOFFSETTO:+1000
TZNAME:AEST
DTSTART:20260404T160000
END:STANDARD
BEGIN:DAYLIGHT
TZOFFSETFROM:+1000
TZOFFSETTO:+1100
TZNAME:AEDT
DTSTART:20261003T160000
END:DAYLIGHT
BEGIN:STANDARD
TZOFFSETFROM:+1100
TZOFFSETTO:+1000
TZNAME:AEST
DTSTART:20270403T160000
END:STANDARD
BEGIN:DAYLIGHT
TZOFFSETFROM:+1000
TZOFFSETTO:+1100
TZNAME:AEDT
DTSTART:20271002T160000
END:DAYLIGHT
END:VTIMEZONE
BEGIN:VEVENT
DTSTART;TZID=Australia/Sydney:20260623T103000
DTEND;TZID=Australia/Sydney:20260623T111500
DTSTAMP:20260424T043628
CREATED:20241204T012734Z
LAST-MODIFIED:20250129T031606Z
UID:10096543-1782210600-1782213300@synergyhealthworks.com
SUMMARY:Clinical Reformer
DESCRIPTION:
URL:https://synergyhealthworks.com/event/clinical-reformer-41/2026-06-23/
LOCATION:Wagga Wagga | Reformer Studio\, 221 Kincaid Street\, Wagga Wagga\, NSW\, 2650\, Australia
CATEGORIES:Clinical Reformer
END:VEVENT
BEGIN:VEVENT
DTSTART;TZID=Australia/Sydney:20260625T093000
DTEND;TZID=Australia/Sydney:20260625T094500
DTSTAMP:20260424T043628
CREATED:20250901T032458Z
LAST-MODIFIED:20250909T053220Z
UID:10123144-1782379800-1782380700@synergyhealthworks.com
SUMMARY:Clinical Reformer (kids and babies welcome)
DESCRIPTION:
URL:https://synergyhealthworks.com/event/clinical-reformer-kids-and-babies-welcome/2026-06-25/
LOCATION:Gundagai\, 114 Sheridan Street\, Gundagai\, NSW\, 2722\, Australia
CATEGORIES:Clinical Reformer
END:VEVENT
BEGIN:VEVENT
DTSTART;TZID=Australia/Sydney:20260625T120000
DTEND;TZID=Australia/Sydney:20260625T124500
DTSTAMP:20260424T043628
CREATED:20250901T032555Z
LAST-MODIFIED:20250909T053149Z
UID:10123724-1782388800-1782391500@synergyhealthworks.com
SUMMARY:Clinical Reformer (kids and babies welcome)
DESCRIPTION:
URL:https://synergyhealthworks.com/event/clinical-reformer-kids-and-babies-welcome-2/2026-06-25/
LOCATION:Gundagai\, 114 Sheridan Street\, Gundagai\, NSW\, 2722\, Australia
CATEGORIES:Clinical Reformer
END:VEVENT
BEGIN:VEVENT
DTSTART;TZID=Australia/Sydney:20260629T120000
DTEND;TZID=Australia/Sydney:20260629T124500
DTSTAMP:20260424T043628
CREATED:20250829T044037Z
LAST-MODIFIED:20250829T044037Z
UID:10122275-1782734400-1782737100@synergyhealthworks.com
SUMMARY:Strength and Conditioning Class
DESCRIPTION:
URL:https://synergyhealthworks.com/event/strength-and-conditioning-class-3/2026-06-29/
LOCATION:Wagga Wagga | Fitness Hub\, 1/21-25 Forsyth Street\, Wagga Wagga\, NSW\, 2650\, Australia
CATEGORIES:Strength and Conditioning
END:VEVENT
BEGIN:VEVENT
DTSTART;TZID=Australia/Sydney:20260629T130000
DTEND;TZID=Australia/Sydney:20260629T134500
DTSTAMP:20260424T043628
CREATED:20251112T001650Z
LAST-MODIFIED:20251112T001650Z
UID:10127407-1782738000-1782740700@synergyhealthworks.com
SUMMARY:Strength and Conditioning Class
DESCRIPTION:
URL:https://synergyhealthworks.com/event/strength-and-conditioning-class-5/2026-06-29/
LOCATION:Wagga Wagga | Fitness Hub\, 1/21-25 Forsyth Street\, Wagga Wagga\, NSW\, 2650\, Australia
CATEGORIES:Strength and Conditioning
END:VEVENT
BEGIN:VEVENT
DTSTART;TZID=Australia/Sydney:20260629T163000
DTEND;TZID=Australia/Sydney:20260629T171500
DTSTAMP:20260424T043628
CREATED:20250502T051402Z
LAST-MODIFIED:20250502T051402Z
UID:10116544-1782750600-1782753300@synergyhealthworks.com
SUMMARY:Women’s Pregnancy Strength Class
DESCRIPTION:
URL:https://synergyhealthworks.com/event/womens-pregnancy-strength-class/2026-06-29/
LOCATION:Wagga Wagga | Fitness Hub\, 1/21-25 Forsyth Street\, Wagga Wagga\, NSW\, 2650\, Australia
CATEGORIES:Women’s Pregnancy Strength Class
END:VEVENT
BEGIN:VEVENT
DTSTART;TZID=Australia/Sydney:20260630T093000
DTEND;TZID=Australia/Sydney:20260630T094500
DTSTAMP:20260424T043628
CREATED:20241204T020912Z
LAST-MODIFIED:20250901T032148Z
UID:10122565-1782811800-1782812700@synergyhealthworks.com
SUMMARY:Clinical Reformer
DESCRIPTION:
URL:https://synergyhealthworks.com/event/semi-private-reformer-16/2026-06-30/
LOCATION:Wagga Wagga | Reformer Studio\, 221 Kincaid Street\, Wagga Wagga\, NSW\, 2650\, Australia
CATEGORIES:Clinical Reformer
END:VEVENT
BEGIN:VEVENT
DTSTART;TZID=Australia/Sydney:20260630T103000
DTEND;TZID=Australia/Sydney:20260630T111500
DTSTAMP:20260424T043628
CREATED:20241204T012734Z
LAST-MODIFIED:20250129T031606Z
UID:10096544-1782815400-1782818100@synergyhealthworks.com
SUMMARY:Clinical Reformer
DESCRIPTION:
URL:https://synergyhealthworks.com/event/clinical-reformer-41/2026-06-30/
LOCATION:Wagga Wagga | Reformer Studio\, 221 Kincaid Street\, Wagga Wagga\, NSW\, 2650\, Australia
CATEGORIES:Clinical Reformer
END:VEVENT
BEGIN:VEVENT
DTSTART;TZID=Australia/Sydney:20260702T093000
DTEND;TZID=Australia/Sydney:20260702T094500
DTSTAMP:20260424T043628
CREATED:20250901T032458Z
LAST-MODIFIED:20250909T053220Z
UID:10123145-1782984600-1782985500@synergyhealthworks.com
SUMMARY:Clinical Reformer (kids and babies welcome)
DESCRIPTION:
URL:https://synergyhealthworks.com/event/clinical-reformer-kids-and-babies-welcome/2026-07-02/
LOCATION:Gundagai\, 114 Sheridan Street\, Gundagai\, NSW\, 2722\, Australia
CATEGORIES:Clinical Reformer
END:VEVENT
BEGIN:VEVENT
DTSTART;TZID=Australia/Sydney:20260702T120000
DTEND;TZID=Australia/Sydney:20260702T124500
DTSTAMP:20260424T043628
CREATED:20250901T032555Z
LAST-MODIFIED:20250909T053149Z
UID:10123725-1782993600-1782996300@synergyhealthworks.com
SUMMARY:Clinical Reformer (kids and babies welcome)
DESCRIPTION:
URL:https://synergyhealthworks.com/event/clinical-reformer-kids-and-babies-welcome-2/2026-07-02/
LOCATION:Gundagai\, 114 Sheridan Street\, Gundagai\, NSW\, 2722\, Australia
CATEGORIES:Clinical Reformer
END:VEVENT
BEGIN:VEVENT
DTSTART;TZID=Australia/Sydney:20260706T120000
DTEND;TZID=Australia/Sydney:20260706T124500
DTSTAMP:20260424T043628
CREATED:20250829T044037Z
LAST-MODIFIED:20250829T044037Z
UID:10122276-1783339200-1783341900@synergyhealthworks.com
SUMMARY:Strength and Conditioning Class
DESCRIPTION:
URL:https://synergyhealthworks.com/event/strength-and-conditioning-class-3/2026-07-06/
LOCATION:Wagga Wagga | Fitness Hub\, 1/21-25 Forsyth Street\, Wagga Wagga\, NSW\, 2650\, Australia
CATEGORIES:Strength and Conditioning
END:VEVENT
BEGIN:VEVENT
DTSTART;TZID=Australia/Sydney:20260706T130000
DTEND;TZID=Australia/Sydney:20260706T134500
DTSTAMP:20260424T043628
CREATED:20251112T001650Z
LAST-MODIFIED:20251112T001650Z
UID:10127408-1783342800-1783345500@synergyhealthworks.com
SUMMARY:Strength and Conditioning Class
DESCRIPTION:
URL:https://synergyhealthworks.com/event/strength-and-conditioning-class-5/2026-07-06/
LOCATION:Wagga Wagga | Fitness Hub\, 1/21-25 Forsyth Street\, Wagga Wagga\, NSW\, 2650\, Australia
CATEGORIES:Strength and Conditioning
END:VEVENT
BEGIN:VEVENT
DTSTART;TZID=Australia/Sydney:20260706T163000
DTEND;TZID=Australia/Sydney:20260706T171500
DTSTAMP:20260424T043628
CREATED:20250502T051402Z
LAST-MODIFIED:20250502T051402Z
UID:10116545-1783355400-1783358100@synergyhealthworks.com
SUMMARY:Women’s Pregnancy Strength Class
DESCRIPTION:
URL:https://synergyhealthworks.com/event/womens-pregnancy-strength-class/2026-07-06/
LOCATION:Wagga Wagga | Fitness Hub\, 1/21-25 Forsyth Street\, Wagga Wagga\, NSW\, 2650\, Australia
CATEGORIES:Women’s Pregnancy Strength Class
END:VEVENT
BEGIN:VEVENT
DTSTART;TZID=Australia/Sydney:20260707T093000
DTEND;TZID=Australia/Sydney:20260707T094500
DTSTAMP:20260424T043628
CREATED:20241204T020912Z
LAST-MODIFIED:20250901T032148Z
UID:10122566-1783416600-1783417500@synergyhealthworks.com
SUMMARY:Clinical Reformer
DESCRIPTION:
URL:https://synergyhealthworks.com/event/semi-private-reformer-16/2026-07-07/
LOCATION:Wagga Wagga | Reformer Studio\, 221 Kincaid Street\, Wagga Wagga\, NSW\, 2650\, Australia
CATEGORIES:Clinical Reformer
END:VEVENT
BEGIN:VEVENT
DTSTART;TZID=Australia/Sydney:20260707T103000
DTEND;TZID=Australia/Sydney:20260707T111500
DTSTAMP:20260424T043628
CREATED:20241204T012734Z
LAST-MODIFIED:20250129T031606Z
UID:10096545-1783420200-1783422900@synergyhealthworks.com
SUMMARY:Clinical Reformer
DESCRIPTION:
URL:https://synergyhealthworks.com/event/clinical-reformer-41/2026-07-07/
LOCATION:Wagga Wagga | Reformer Studio\, 221 Kincaid Street\, Wagga Wagga\, NSW\, 2650\, Australia
CATEGORIES:Clinical Reformer
END:VEVENT
BEGIN:VEVENT
DTSTART;TZID=Australia/Sydney:20260709T093000
DTEND;TZID=Australia/Sydney:20260709T094500
DTSTAMP:20260424T043628
CREATED:20250901T032458Z
LAST-MODIFIED:20250909T053220Z
UID:10123146-1783589400-1783590300@synergyhealthworks.com
SUMMARY:Clinical Reformer (kids and babies welcome)
DESCRIPTION:
URL:https://synergyhealthworks.com/event/clinical-reformer-kids-and-babies-welcome/2026-07-09/
LOCATION:Gundagai\, 114 Sheridan Street\, Gundagai\, NSW\, 2722\, Australia
CATEGORIES:Clinical Reformer
END:VEVENT
BEGIN:VEVENT
DTSTART;TZID=Australia/Sydney:20260709T120000
DTEND;TZID=Australia/Sydney:20260709T124500
DTSTAMP:20260424T043628
CREATED:20250901T032555Z
LAST-MODIFIED:20250909T053149Z
UID:10123726-1783598400-1783601100@synergyhealthworks.com
SUMMARY:Clinical Reformer (kids and babies welcome)
DESCRIPTION:
URL:https://synergyhealthworks.com/event/clinical-reformer-kids-and-babies-welcome-2/2026-07-09/
LOCATION:Gundagai\, 114 Sheridan Street\, Gundagai\, NSW\, 2722\, Australia
CATEGORIES:Clinical Reformer
END:VEVENT
BEGIN:VEVENT
DTSTART;TZID=Australia/Sydney:20260713T120000
DTEND;TZID=Australia/Sydney:20260713T124500
DTSTAMP:20260424T043628
CREATED:20250829T044037Z
LAST-MODIFIED:20250829T044037Z
UID:10122277-1783944000-1783946700@synergyhealthworks.com
SUMMARY:Strength and Conditioning Class
DESCRIPTION:
URL:https://synergyhealthworks.com/event/strength-and-conditioning-class-3/2026-07-13/
LOCATION:Wagga Wagga | Fitness Hub\, 1/21-25 Forsyth Street\, Wagga Wagga\, NSW\, 2650\, Australia
CATEGORIES:Strength and Conditioning
END:VEVENT
BEGIN:VEVENT
DTSTART;TZID=Australia/Sydney:20260713T130000
DTEND;TZID=Australia/Sydney:20260713T134500
DTSTAMP:20260424T043628
CREATED:20251112T001650Z
LAST-MODIFIED:20251112T001650Z
UID:10127409-1783947600-1783950300@synergyhealthworks.com
SUMMARY:Strength and Conditioning Class
DESCRIPTION:
URL:https://synergyhealthworks.com/event/strength-and-conditioning-class-5/2026-07-13/
LOCATION:Wagga Wagga | Fitness Hub\, 1/21-25 Forsyth Street\, Wagga Wagga\, NSW\, 2650\, Australia
CATEGORIES:Strength and Conditioning
END:VEVENT
BEGIN:VEVENT
DTSTART;TZID=Australia/Sydney:20260713T163000
DTEND;TZID=Australia/Sydney:20260713T171500
DTSTAMP:20260424T043628
CREATED:20250502T051402Z
LAST-MODIFIED:20250502T051402Z
UID:10116546-1783960200-1783962900@synergyhealthworks.com
SUMMARY:Women’s Pregnancy Strength Class
DESCRIPTION:
URL:https://synergyhealthworks.com/event/womens-pregnancy-strength-class/2026-07-13/
LOCATION:Wagga Wagga | Fitness Hub\, 1/21-25 Forsyth Street\, Wagga Wagga\, NSW\, 2650\, Australia
CATEGORIES:Women’s Pregnancy Strength Class
END:VEVENT
BEGIN:VEVENT
DTSTART;TZID=Australia/Sydney:20260714T093000
DTEND;TZID=Australia/Sydney:20260714T094500
DTSTAMP:20260424T043628
CREATED:20241204T020912Z
LAST-MODIFIED:20250901T032148Z
UID:10122567-1784021400-1784022300@synergyhealthworks.com
SUMMARY:Clinical Reformer
DESCRIPTION:
URL:https://synergyhealthworks.com/event/semi-private-reformer-16/2026-07-14/
LOCATION:Wagga Wagga | Reformer Studio\, 221 Kincaid Street\, Wagga Wagga\, NSW\, 2650\, Australia
CATEGORIES:Clinical Reformer
END:VEVENT
BEGIN:VEVENT
DTSTART;TZID=Australia/Sydney:20260714T103000
DTEND;TZID=Australia/Sydney:20260714T111500
DTSTAMP:20260424T043628
CREATED:20241204T012734Z
LAST-MODIFIED:20250129T031606Z
UID:10096546-1784025000-1784027700@synergyhealthworks.com
SUMMARY:Clinical Reformer
DESCRIPTION:
URL:https://synergyhealthworks.com/event/clinical-reformer-41/2026-07-14/
LOCATION:Wagga Wagga | Reformer Studio\, 221 Kincaid Street\, Wagga Wagga\, NSW\, 2650\, Australia
CATEGORIES:Clinical Reformer
END:VEVENT
BEGIN:VEVENT
DTSTART;TZID=Australia/Sydney:20260716T093000
DTEND;TZID=Australia/Sydney:20260716T094500
DTSTAMP:20260424T043628
CREATED:20250901T032458Z
LAST-MODIFIED:20250909T053220Z
UID:10123147-1784194200-1784195100@synergyhealthworks.com
SUMMARY:Clinical Reformer (kids and babies welcome)
DESCRIPTION:
URL:https://synergyhealthworks.com/event/clinical-reformer-kids-and-babies-welcome/2026-07-16/
LOCATION:Gundagai\, 114 Sheridan Street\, Gundagai\, NSW\, 2722\, Australia
CATEGORIES:Clinical Reformer
END:VEVENT
BEGIN:VEVENT
DTSTART;TZID=Australia/Sydney:20260716T120000
DTEND;TZID=Australia/Sydney:20260716T124500
DTSTAMP:20260424T043628
CREATED:20250901T032555Z
LAST-MODIFIED:20250909T053149Z
UID:10123727-1784203200-1784205900@synergyhealthworks.com
SUMMARY:Clinical Reformer (kids and babies welcome)
DESCRIPTION:
URL:https://synergyhealthworks.com/event/clinical-reformer-kids-and-babies-welcome-2/2026-07-16/
LOCATION:Gundagai\, 114 Sheridan Street\, Gundagai\, NSW\, 2722\, Australia
CATEGORIES:Clinical Reformer
END:VEVENT
BEGIN:VEVENT
DTSTART;TZID=Australia/Sydney:20260720T120000
DTEND;TZID=Australia/Sydney:20260720T124500
DTSTAMP:20260424T043628
CREATED:20250829T044037Z
LAST-MODIFIED:20250829T044037Z
UID:10122278-1784548800-1784551500@synergyhealthworks.com
SUMMARY:Strength and Conditioning Class
DESCRIPTION:
URL:https://synergyhealthworks.com/event/strength-and-conditioning-class-3/2026-07-20/
LOCATION:Wagga Wagga | Fitness Hub\, 1/21-25 Forsyth Street\, Wagga Wagga\, NSW\, 2650\, Australia
CATEGORIES:Strength and Conditioning
END:VEVENT
BEGIN:VEVENT
DTSTART;TZID=Australia/Sydney:20260720T130000
DTEND;TZID=Australia/Sydney:20260720T134500
DTSTAMP:20260424T043628
CREATED:20251112T001650Z
LAST-MODIFIED:20251112T001650Z
UID:10127410-1784552400-1784555100@synergyhealthworks.com
SUMMARY:Strength and Conditioning Class
DESCRIPTION:
URL:https://synergyhealthworks.com/event/strength-and-conditioning-class-5/2026-07-20/
LOCATION:Wagga Wagga | Fitness Hub\, 1/21-25 Forsyth Street\, Wagga Wagga\, NSW\, 2650\, Australia
CATEGORIES:Strength and Conditioning
END:VEVENT
BEGIN:VEVENT
DTSTART;TZID=Australia/Sydney:20260720T163000
DTEND;TZID=Australia/Sydney:20260720T171500
DTSTAMP:20260424T043628
CREATED:20250502T051402Z
LAST-MODIFIED:20250502T051402Z
UID:10116547-1784565000-1784567700@synergyhealthworks.com
SUMMARY:Women’s Pregnancy Strength Class
DESCRIPTION:
URL:https://synergyhealthworks.com/event/womens-pregnancy-strength-class/2026-07-20/
LOCATION:Wagga Wagga | Fitness Hub\, 1/21-25 Forsyth Street\, Wagga Wagga\, NSW\, 2650\, Australia
CATEGORIES:Women’s Pregnancy Strength Class
END:VEVENT
BEGIN:VEVENT
DTSTART;TZID=Australia/Sydney:20260721T093000
DTEND;TZID=Australia/Sydney:20260721T094500
DTSTAMP:20260424T043628
CREATED:20241204T020912Z
LAST-MODIFIED:20250901T032148Z
UID:10122568-1784626200-1784627100@synergyhealthworks.com
SUMMARY:Clinical Reformer
DESCRIPTION:
URL:https://synergyhealthworks.com/event/semi-private-reformer-16/2026-07-21/
LOCATION:Wagga Wagga | Reformer Studio\, 221 Kincaid Street\, Wagga Wagga\, NSW\, 2650\, Australia
CATEGORIES:Clinical Reformer
END:VEVENT
BEGIN:VEVENT
DTSTART;TZID=Australia/Sydney:20260721T103000
DTEND;TZID=Australia/Sydney:20260721T111500
DTSTAMP:20260424T043628
CREATED:20241204T012734Z
LAST-MODIFIED:20250129T031606Z
UID:10096547-1784629800-1784632500@synergyhealthworks.com
SUMMARY:Clinical Reformer
DESCRIPTION:
URL:https://synergyhealthworks.com/event/clinical-reformer-41/2026-07-21/
LOCATION:Wagga Wagga | Reformer Studio\, 221 Kincaid Street\, Wagga Wagga\, NSW\, 2650\, Australia
CATEGORIES:Clinical Reformer
END:VEVENT
BEGIN:VEVENT
DTSTART;TZID=Australia/Sydney:20260723T093000
DTEND;TZID=Australia/Sydney:20260723T094500
DTSTAMP:20260424T043628
CREATED:20250901T032458Z
LAST-MODIFIED:20250909T053220Z
UID:10123148-1784799000-1784799900@synergyhealthworks.com
SUMMARY:Clinical Reformer (kids and babies welcome)
DESCRIPTION:
URL:https://synergyhealthworks.com/event/clinical-reformer-kids-and-babies-welcome/2026-07-23/
LOCATION:Gundagai\, 114 Sheridan Street\, Gundagai\, NSW\, 2722\, Australia
CATEGORIES:Clinical Reformer
END:VEVENT
END:VCALENDAR