BEGIN:VCALENDAR
VERSION:2.0
PRODID:-//Synergy Healthworks - ECPv6.15.20//NONSGML v1.0//EN
CALSCALE:GREGORIAN
METHOD:PUBLISH
X-ORIGINAL-URL:https://synergyhealthworks.com
X-WR-CALDESC:Events for Synergy Healthworks
REFRESH-INTERVAL;VALUE=DURATION:PT1H
X-Robots-Tag:noindex
X-PUBLISHED-TTL:PT1H
BEGIN:VTIMEZONE
TZID:Australia/Sydney
BEGIN:STANDARD
TZOFFSETFROM:+1100
TZOFFSETTO:+1000
TZNAME:AEST
DTSTART:20250405T160000
END:STANDARD
BEGIN:DAYLIGHT
TZOFFSETFROM:+1000
TZOFFSETTO:+1100
TZNAME:AEDT
DTSTART:20251004T160000
END:DAYLIGHT
BEGIN:STANDARD
TZOFFSETFROM:+1100
TZOFFSETTO:+1000
TZNAME:AEST
DTSTART:20260404T160000
END:STANDARD
BEGIN:DAYLIGHT
TZOFFSETFROM:+1000
TZOFFSETTO:+1100
TZNAME:AEDT
DTSTART:20261003T160000
END:DAYLIGHT
BEGIN:STANDARD
TZOFFSETFROM:+1100
TZOFFSETTO:+1000
TZNAME:AEST
DTSTART:20270403T160000
END:STANDARD
BEGIN:DAYLIGHT
TZOFFSETFROM:+1000
TZOFFSETTO:+1100
TZNAME:AEDT
DTSTART:20271002T160000
END:DAYLIGHT
END:VTIMEZONE
BEGIN:VEVENT
DTSTART;TZID=Australia/Sydney:20260601T130000
DTEND;TZID=Australia/Sydney:20260601T134500
DTSTAMP:20260424T011430
CREATED:20251112T001650Z
LAST-MODIFIED:20251112T001650Z
UID:10127403-1780318800-1780321500@synergyhealthworks.com
SUMMARY:Strength and Conditioning Class
DESCRIPTION:
URL:https://synergyhealthworks.com/event/strength-and-conditioning-class-5/2026-06-01/
LOCATION:Wagga Wagga | Fitness Hub\, 1/21-25 Forsyth Street\, Wagga Wagga\, NSW\, 2650\, Australia
CATEGORIES:Strength and Conditioning
END:VEVENT
BEGIN:VEVENT
DTSTART;TZID=Australia/Sydney:20260601T163000
DTEND;TZID=Australia/Sydney:20260601T171500
DTSTAMP:20260424T011430
CREATED:20250502T051402Z
LAST-MODIFIED:20250502T051402Z
UID:10116540-1780331400-1780334100@synergyhealthworks.com
SUMMARY:Women’s Pregnancy Strength Class
DESCRIPTION:
URL:https://synergyhealthworks.com/event/womens-pregnancy-strength-class/2026-06-01/
LOCATION:Wagga Wagga | Fitness Hub\, 1/21-25 Forsyth Street\, Wagga Wagga\, NSW\, 2650\, Australia
CATEGORIES:Women’s Pregnancy Strength Class
END:VEVENT
BEGIN:VEVENT
DTSTART;TZID=Australia/Sydney:20260602T093000
DTEND;TZID=Australia/Sydney:20260602T094500
DTSTAMP:20260424T011430
CREATED:20241204T020912Z
LAST-MODIFIED:20250901T032148Z
UID:10122561-1780392600-1780393500@synergyhealthworks.com
SUMMARY:Clinical Reformer
DESCRIPTION:
URL:https://synergyhealthworks.com/event/semi-private-reformer-16/2026-06-02/
LOCATION:Wagga Wagga | Reformer Studio\, 221 Kincaid Street\, Wagga Wagga\, NSW\, 2650\, Australia
CATEGORIES:Clinical Reformer
END:VEVENT
BEGIN:VEVENT
DTSTART;TZID=Australia/Sydney:20260602T103000
DTEND;TZID=Australia/Sydney:20260602T111500
DTSTAMP:20260424T011430
CREATED:20241204T012734Z
LAST-MODIFIED:20250129T031606Z
UID:10096540-1780396200-1780398900@synergyhealthworks.com
SUMMARY:Clinical Reformer
DESCRIPTION:
URL:https://synergyhealthworks.com/event/clinical-reformer-41/2026-06-02/
LOCATION:Wagga Wagga | Reformer Studio\, 221 Kincaid Street\, Wagga Wagga\, NSW\, 2650\, Australia
CATEGORIES:Clinical Reformer
END:VEVENT
BEGIN:VEVENT
DTSTART;TZID=Australia/Sydney:20260604T093000
DTEND;TZID=Australia/Sydney:20260604T094500
DTSTAMP:20260424T011430
CREATED:20250901T032458Z
LAST-MODIFIED:20250909T053220Z
UID:10123141-1780565400-1780566300@synergyhealthworks.com
SUMMARY:Clinical Reformer (kids and babies welcome)
DESCRIPTION:
URL:https://synergyhealthworks.com/event/clinical-reformer-kids-and-babies-welcome/2026-06-04/
LOCATION:Gundagai\, 114 Sheridan Street\, Gundagai\, NSW\, 2722\, Australia
CATEGORIES:Clinical Reformer
END:VEVENT
BEGIN:VEVENT
DTSTART;TZID=Australia/Sydney:20260604T120000
DTEND;TZID=Australia/Sydney:20260604T124500
DTSTAMP:20260424T011430
CREATED:20250901T032555Z
LAST-MODIFIED:20250909T053149Z
UID:10123721-1780574400-1780577100@synergyhealthworks.com
SUMMARY:Clinical Reformer (kids and babies welcome)
DESCRIPTION:
URL:https://synergyhealthworks.com/event/clinical-reformer-kids-and-babies-welcome-2/2026-06-04/
LOCATION:Gundagai\, 114 Sheridan Street\, Gundagai\, NSW\, 2722\, Australia
CATEGORIES:Clinical Reformer
END:VEVENT
BEGIN:VEVENT
DTSTART;TZID=Australia/Sydney:20260608T120000
DTEND;TZID=Australia/Sydney:20260608T124500
DTSTAMP:20260424T011430
CREATED:20250829T044037Z
LAST-MODIFIED:20250829T044037Z
UID:10122272-1780920000-1780922700@synergyhealthworks.com
SUMMARY:Strength and Conditioning Class
DESCRIPTION:
URL:https://synergyhealthworks.com/event/strength-and-conditioning-class-3/2026-06-08/
LOCATION:Wagga Wagga | Fitness Hub\, 1/21-25 Forsyth Street\, Wagga Wagga\, NSW\, 2650\, Australia
CATEGORIES:Strength and Conditioning
END:VEVENT
BEGIN:VEVENT
DTSTART;TZID=Australia/Sydney:20260608T130000
DTEND;TZID=Australia/Sydney:20260608T134500
DTSTAMP:20260424T011430
CREATED:20251112T001650Z
LAST-MODIFIED:20251112T001650Z
UID:10127404-1780923600-1780926300@synergyhealthworks.com
SUMMARY:Strength and Conditioning Class
DESCRIPTION:
URL:https://synergyhealthworks.com/event/strength-and-conditioning-class-5/2026-06-08/
LOCATION:Wagga Wagga | Fitness Hub\, 1/21-25 Forsyth Street\, Wagga Wagga\, NSW\, 2650\, Australia
CATEGORIES:Strength and Conditioning
END:VEVENT
BEGIN:VEVENT
DTSTART;TZID=Australia/Sydney:20260608T163000
DTEND;TZID=Australia/Sydney:20260608T171500
DTSTAMP:20260424T011430
CREATED:20250502T051402Z
LAST-MODIFIED:20250502T051402Z
UID:10116541-1780936200-1780938900@synergyhealthworks.com
SUMMARY:Women’s Pregnancy Strength Class
DESCRIPTION:
URL:https://synergyhealthworks.com/event/womens-pregnancy-strength-class/2026-06-08/
LOCATION:Wagga Wagga | Fitness Hub\, 1/21-25 Forsyth Street\, Wagga Wagga\, NSW\, 2650\, Australia
CATEGORIES:Women’s Pregnancy Strength Class
END:VEVENT
BEGIN:VEVENT
DTSTART;TZID=Australia/Sydney:20260609T093000
DTEND;TZID=Australia/Sydney:20260609T094500
DTSTAMP:20260424T011430
CREATED:20241204T020912Z
LAST-MODIFIED:20250901T032148Z
UID:10122562-1780997400-1780998300@synergyhealthworks.com
SUMMARY:Clinical Reformer
DESCRIPTION:
URL:https://synergyhealthworks.com/event/semi-private-reformer-16/2026-06-09/
LOCATION:Wagga Wagga | Reformer Studio\, 221 Kincaid Street\, Wagga Wagga\, NSW\, 2650\, Australia
CATEGORIES:Clinical Reformer
END:VEVENT
BEGIN:VEVENT
DTSTART;TZID=Australia/Sydney:20260609T103000
DTEND;TZID=Australia/Sydney:20260609T111500
DTSTAMP:20260424T011430
CREATED:20241204T012734Z
LAST-MODIFIED:20250129T031606Z
UID:10096541-1781001000-1781003700@synergyhealthworks.com
SUMMARY:Clinical Reformer
DESCRIPTION:
URL:https://synergyhealthworks.com/event/clinical-reformer-41/2026-06-09/
LOCATION:Wagga Wagga | Reformer Studio\, 221 Kincaid Street\, Wagga Wagga\, NSW\, 2650\, Australia
CATEGORIES:Clinical Reformer
END:VEVENT
BEGIN:VEVENT
DTSTART;TZID=Australia/Sydney:20260611T093000
DTEND;TZID=Australia/Sydney:20260611T094500
DTSTAMP:20260424T011430
CREATED:20250901T032458Z
LAST-MODIFIED:20250909T053220Z
UID:10123142-1781170200-1781171100@synergyhealthworks.com
SUMMARY:Clinical Reformer (kids and babies welcome)
DESCRIPTION:
URL:https://synergyhealthworks.com/event/clinical-reformer-kids-and-babies-welcome/2026-06-11/
LOCATION:Gundagai\, 114 Sheridan Street\, Gundagai\, NSW\, 2722\, Australia
CATEGORIES:Clinical Reformer
END:VEVENT
BEGIN:VEVENT
DTSTART;TZID=Australia/Sydney:20260611T120000
DTEND;TZID=Australia/Sydney:20260611T124500
DTSTAMP:20260424T011430
CREATED:20250901T032555Z
LAST-MODIFIED:20250909T053149Z
UID:10123722-1781179200-1781181900@synergyhealthworks.com
SUMMARY:Clinical Reformer (kids and babies welcome)
DESCRIPTION:
URL:https://synergyhealthworks.com/event/clinical-reformer-kids-and-babies-welcome-2/2026-06-11/
LOCATION:Gundagai\, 114 Sheridan Street\, Gundagai\, NSW\, 2722\, Australia
CATEGORIES:Clinical Reformer
END:VEVENT
BEGIN:VEVENT
DTSTART;TZID=Australia/Sydney:20260615T120000
DTEND;TZID=Australia/Sydney:20260615T124500
DTSTAMP:20260424T011430
CREATED:20250829T044037Z
LAST-MODIFIED:20250829T044037Z
UID:10122273-1781524800-1781527500@synergyhealthworks.com
SUMMARY:Strength and Conditioning Class
DESCRIPTION:
URL:https://synergyhealthworks.com/event/strength-and-conditioning-class-3/2026-06-15/
LOCATION:Wagga Wagga | Fitness Hub\, 1/21-25 Forsyth Street\, Wagga Wagga\, NSW\, 2650\, Australia
CATEGORIES:Strength and Conditioning
END:VEVENT
BEGIN:VEVENT
DTSTART;TZID=Australia/Sydney:20260615T130000
DTEND;TZID=Australia/Sydney:20260615T134500
DTSTAMP:20260424T011430
CREATED:20251112T001650Z
LAST-MODIFIED:20251112T001650Z
UID:10127405-1781528400-1781531100@synergyhealthworks.com
SUMMARY:Strength and Conditioning Class
DESCRIPTION:
URL:https://synergyhealthworks.com/event/strength-and-conditioning-class-5/2026-06-15/
LOCATION:Wagga Wagga | Fitness Hub\, 1/21-25 Forsyth Street\, Wagga Wagga\, NSW\, 2650\, Australia
CATEGORIES:Strength and Conditioning
END:VEVENT
BEGIN:VEVENT
DTSTART;TZID=Australia/Sydney:20260615T163000
DTEND;TZID=Australia/Sydney:20260615T171500
DTSTAMP:20260424T011430
CREATED:20250502T051402Z
LAST-MODIFIED:20250502T051402Z
UID:10116542-1781541000-1781543700@synergyhealthworks.com
SUMMARY:Women’s Pregnancy Strength Class
DESCRIPTION:
URL:https://synergyhealthworks.com/event/womens-pregnancy-strength-class/2026-06-15/
LOCATION:Wagga Wagga | Fitness Hub\, 1/21-25 Forsyth Street\, Wagga Wagga\, NSW\, 2650\, Australia
CATEGORIES:Women’s Pregnancy Strength Class
END:VEVENT
BEGIN:VEVENT
DTSTART;TZID=Australia/Sydney:20260616T093000
DTEND;TZID=Australia/Sydney:20260616T094500
DTSTAMP:20260424T011430
CREATED:20241204T020912Z
LAST-MODIFIED:20250901T032148Z
UID:10122563-1781602200-1781603100@synergyhealthworks.com
SUMMARY:Clinical Reformer
DESCRIPTION:
URL:https://synergyhealthworks.com/event/semi-private-reformer-16/2026-06-16/
LOCATION:Wagga Wagga | Reformer Studio\, 221 Kincaid Street\, Wagga Wagga\, NSW\, 2650\, Australia
CATEGORIES:Clinical Reformer
END:VEVENT
BEGIN:VEVENT
DTSTART;TZID=Australia/Sydney:20260616T103000
DTEND;TZID=Australia/Sydney:20260616T111500
DTSTAMP:20260424T011430
CREATED:20241204T012734Z
LAST-MODIFIED:20250129T031606Z
UID:10096542-1781605800-1781608500@synergyhealthworks.com
SUMMARY:Clinical Reformer
DESCRIPTION:
URL:https://synergyhealthworks.com/event/clinical-reformer-41/2026-06-16/
LOCATION:Wagga Wagga | Reformer Studio\, 221 Kincaid Street\, Wagga Wagga\, NSW\, 2650\, Australia
CATEGORIES:Clinical Reformer
END:VEVENT
BEGIN:VEVENT
DTSTART;TZID=Australia/Sydney:20260618T093000
DTEND;TZID=Australia/Sydney:20260618T094500
DTSTAMP:20260424T011430
CREATED:20250901T032458Z
LAST-MODIFIED:20250909T053220Z
UID:10123143-1781775000-1781775900@synergyhealthworks.com
SUMMARY:Clinical Reformer (kids and babies welcome)
DESCRIPTION:
URL:https://synergyhealthworks.com/event/clinical-reformer-kids-and-babies-welcome/2026-06-18/
LOCATION:Gundagai\, 114 Sheridan Street\, Gundagai\, NSW\, 2722\, Australia
CATEGORIES:Clinical Reformer
END:VEVENT
BEGIN:VEVENT
DTSTART;TZID=Australia/Sydney:20260618T120000
DTEND;TZID=Australia/Sydney:20260618T124500
DTSTAMP:20260424T011430
CREATED:20250901T032555Z
LAST-MODIFIED:20250909T053149Z
UID:10123723-1781784000-1781786700@synergyhealthworks.com
SUMMARY:Clinical Reformer (kids and babies welcome)
DESCRIPTION:
URL:https://synergyhealthworks.com/event/clinical-reformer-kids-and-babies-welcome-2/2026-06-18/
LOCATION:Gundagai\, 114 Sheridan Street\, Gundagai\, NSW\, 2722\, Australia
CATEGORIES:Clinical Reformer
END:VEVENT
BEGIN:VEVENT
DTSTART;TZID=Australia/Sydney:20260622T120000
DTEND;TZID=Australia/Sydney:20260622T124500
DTSTAMP:20260424T011430
CREATED:20250829T044037Z
LAST-MODIFIED:20250829T044037Z
UID:10122274-1782129600-1782132300@synergyhealthworks.com
SUMMARY:Strength and Conditioning Class
DESCRIPTION:
URL:https://synergyhealthworks.com/event/strength-and-conditioning-class-3/2026-06-22/
LOCATION:Wagga Wagga | Fitness Hub\, 1/21-25 Forsyth Street\, Wagga Wagga\, NSW\, 2650\, Australia
CATEGORIES:Strength and Conditioning
END:VEVENT
BEGIN:VEVENT
DTSTART;TZID=Australia/Sydney:20260622T130000
DTEND;TZID=Australia/Sydney:20260622T134500
DTSTAMP:20260424T011430
CREATED:20251112T001650Z
LAST-MODIFIED:20251112T001650Z
UID:10127406-1782133200-1782135900@synergyhealthworks.com
SUMMARY:Strength and Conditioning Class
DESCRIPTION:
URL:https://synergyhealthworks.com/event/strength-and-conditioning-class-5/2026-06-22/
LOCATION:Wagga Wagga | Fitness Hub\, 1/21-25 Forsyth Street\, Wagga Wagga\, NSW\, 2650\, Australia
CATEGORIES:Strength and Conditioning
END:VEVENT
BEGIN:VEVENT
DTSTART;TZID=Australia/Sydney:20260622T163000
DTEND;TZID=Australia/Sydney:20260622T171500
DTSTAMP:20260424T011430
CREATED:20250502T051402Z
LAST-MODIFIED:20250502T051402Z
UID:10116543-1782145800-1782148500@synergyhealthworks.com
SUMMARY:Women’s Pregnancy Strength Class
DESCRIPTION:
URL:https://synergyhealthworks.com/event/womens-pregnancy-strength-class/2026-06-22/
LOCATION:Wagga Wagga | Fitness Hub\, 1/21-25 Forsyth Street\, Wagga Wagga\, NSW\, 2650\, Australia
CATEGORIES:Women’s Pregnancy Strength Class
END:VEVENT
BEGIN:VEVENT
DTSTART;TZID=Australia/Sydney:20260623T093000
DTEND;TZID=Australia/Sydney:20260623T094500
DTSTAMP:20260424T011430
CREATED:20241204T020912Z
LAST-MODIFIED:20250901T032148Z
UID:10122564-1782207000-1782207900@synergyhealthworks.com
SUMMARY:Clinical Reformer
DESCRIPTION:
URL:https://synergyhealthworks.com/event/semi-private-reformer-16/2026-06-23/
LOCATION:Wagga Wagga | Reformer Studio\, 221 Kincaid Street\, Wagga Wagga\, NSW\, 2650\, Australia
CATEGORIES:Clinical Reformer
END:VEVENT
BEGIN:VEVENT
DTSTART;TZID=Australia/Sydney:20260623T103000
DTEND;TZID=Australia/Sydney:20260623T111500
DTSTAMP:20260424T011430
CREATED:20241204T012734Z
LAST-MODIFIED:20250129T031606Z
UID:10096543-1782210600-1782213300@synergyhealthworks.com
SUMMARY:Clinical Reformer
DESCRIPTION:
URL:https://synergyhealthworks.com/event/clinical-reformer-41/2026-06-23/
LOCATION:Wagga Wagga | Reformer Studio\, 221 Kincaid Street\, Wagga Wagga\, NSW\, 2650\, Australia
CATEGORIES:Clinical Reformer
END:VEVENT
BEGIN:VEVENT
DTSTART;TZID=Australia/Sydney:20260625T093000
DTEND;TZID=Australia/Sydney:20260625T094500
DTSTAMP:20260424T011430
CREATED:20250901T032458Z
LAST-MODIFIED:20250909T053220Z
UID:10123144-1782379800-1782380700@synergyhealthworks.com
SUMMARY:Clinical Reformer (kids and babies welcome)
DESCRIPTION:
URL:https://synergyhealthworks.com/event/clinical-reformer-kids-and-babies-welcome/2026-06-25/
LOCATION:Gundagai\, 114 Sheridan Street\, Gundagai\, NSW\, 2722\, Australia
CATEGORIES:Clinical Reformer
END:VEVENT
BEGIN:VEVENT
DTSTART;TZID=Australia/Sydney:20260625T120000
DTEND;TZID=Australia/Sydney:20260625T124500
DTSTAMP:20260424T011430
CREATED:20250901T032555Z
LAST-MODIFIED:20250909T053149Z
UID:10123724-1782388800-1782391500@synergyhealthworks.com
SUMMARY:Clinical Reformer (kids and babies welcome)
DESCRIPTION:
URL:https://synergyhealthworks.com/event/clinical-reformer-kids-and-babies-welcome-2/2026-06-25/
LOCATION:Gundagai\, 114 Sheridan Street\, Gundagai\, NSW\, 2722\, Australia
CATEGORIES:Clinical Reformer
END:VEVENT
BEGIN:VEVENT
DTSTART;TZID=Australia/Sydney:20260629T120000
DTEND;TZID=Australia/Sydney:20260629T124500
DTSTAMP:20260424T011430
CREATED:20250829T044037Z
LAST-MODIFIED:20250829T044037Z
UID:10122275-1782734400-1782737100@synergyhealthworks.com
SUMMARY:Strength and Conditioning Class
DESCRIPTION:
URL:https://synergyhealthworks.com/event/strength-and-conditioning-class-3/2026-06-29/
LOCATION:Wagga Wagga | Fitness Hub\, 1/21-25 Forsyth Street\, Wagga Wagga\, NSW\, 2650\, Australia
CATEGORIES:Strength and Conditioning
END:VEVENT
BEGIN:VEVENT
DTSTART;TZID=Australia/Sydney:20260629T130000
DTEND;TZID=Australia/Sydney:20260629T134500
DTSTAMP:20260424T011430
CREATED:20251112T001650Z
LAST-MODIFIED:20251112T001650Z
UID:10127407-1782738000-1782740700@synergyhealthworks.com
SUMMARY:Strength and Conditioning Class
DESCRIPTION:
URL:https://synergyhealthworks.com/event/strength-and-conditioning-class-5/2026-06-29/
LOCATION:Wagga Wagga | Fitness Hub\, 1/21-25 Forsyth Street\, Wagga Wagga\, NSW\, 2650\, Australia
CATEGORIES:Strength and Conditioning
END:VEVENT
BEGIN:VEVENT
DTSTART;TZID=Australia/Sydney:20260629T163000
DTEND;TZID=Australia/Sydney:20260629T171500
DTSTAMP:20260424T011430
CREATED:20250502T051402Z
LAST-MODIFIED:20250502T051402Z
UID:10116544-1782750600-1782753300@synergyhealthworks.com
SUMMARY:Women’s Pregnancy Strength Class
DESCRIPTION:
URL:https://synergyhealthworks.com/event/womens-pregnancy-strength-class/2026-06-29/
LOCATION:Wagga Wagga | Fitness Hub\, 1/21-25 Forsyth Street\, Wagga Wagga\, NSW\, 2650\, Australia
CATEGORIES:Women’s Pregnancy Strength Class
END:VEVENT
END:VCALENDAR