BEGIN:VCALENDAR
VERSION:2.0
PRODID:-//Synergy Healthworks - ECPv6.15.20//NONSGML v1.0//EN
CALSCALE:GREGORIAN
METHOD:PUBLISH
X-WR-CALNAME:Synergy Healthworks
X-ORIGINAL-URL:https://synergyhealthworks.com
X-WR-CALDESC:Events for Synergy Healthworks
REFRESH-INTERVAL;VALUE=DURATION:PT1H
X-Robots-Tag:noindex
X-PUBLISHED-TTL:PT1H
BEGIN:VTIMEZONE
TZID:Australia/Sydney
BEGIN:STANDARD
TZOFFSETFROM:+1100
TZOFFSETTO:+1000
TZNAME:AEST
DTSTART:20260404T160000
END:STANDARD
BEGIN:DAYLIGHT
TZOFFSETFROM:+1000
TZOFFSETTO:+1100
TZNAME:AEDT
DTSTART:20261003T160000
END:DAYLIGHT
BEGIN:STANDARD
TZOFFSETFROM:+1100
TZOFFSETTO:+1000
TZNAME:AEST
DTSTART:20270403T160000
END:STANDARD
BEGIN:DAYLIGHT
TZOFFSETFROM:+1000
TZOFFSETTO:+1100
TZNAME:AEDT
DTSTART:20271002T160000
END:DAYLIGHT
BEGIN:STANDARD
TZOFFSETFROM:+1100
TZOFFSETTO:+1000
TZNAME:AEST
DTSTART:20280401T160000
END:STANDARD
BEGIN:DAYLIGHT
TZOFFSETFROM:+1000
TZOFFSETTO:+1100
TZNAME:AEDT
DTSTART:20280930T160000
END:DAYLIGHT
END:VTIMEZONE
BEGIN:VEVENT
DTSTART;TZID=Australia/Sydney:20270713T093000
DTEND;TZID=Australia/Sydney:20270713T094500
DTSTAMP:20260426T111932
CREATED:20241204T020912Z
LAST-MODIFIED:20250901T032148Z
UID:10122619-1815471000-1815471900@synergyhealthworks.com
SUMMARY:Clinical Reformer
DESCRIPTION:
URL:https://synergyhealthworks.com/event/semi-private-reformer-16/2027-07-13/
LOCATION:Wagga Wagga | Reformer Studio\, 221 Kincaid Street\, Wagga Wagga\, NSW\, 2650\, Australia
CATEGORIES:Clinical Reformer
END:VEVENT
BEGIN:VEVENT
DTSTART;TZID=Australia/Sydney:20270713T103000
DTEND;TZID=Australia/Sydney:20270713T111500
DTSTAMP:20260426T111932
CREATED:20241204T012734Z
LAST-MODIFIED:20250129T031606Z
UID:10096598-1815474600-1815477300@synergyhealthworks.com
SUMMARY:Clinical Reformer
DESCRIPTION:
URL:https://synergyhealthworks.com/event/clinical-reformer-41/2027-07-13/
LOCATION:Wagga Wagga | Reformer Studio\, 221 Kincaid Street\, Wagga Wagga\, NSW\, 2650\, Australia
CATEGORIES:Clinical Reformer
END:VEVENT
BEGIN:VEVENT
DTSTART;TZID=Australia/Sydney:20270715T093000
DTEND;TZID=Australia/Sydney:20270715T094500
DTSTAMP:20260426T111932
CREATED:20250901T032458Z
LAST-MODIFIED:20250909T053220Z
UID:10123199-1815643800-1815644700@synergyhealthworks.com
SUMMARY:Clinical Reformer (kids and babies welcome)
DESCRIPTION:
URL:https://synergyhealthworks.com/event/clinical-reformer-kids-and-babies-welcome/2027-07-15/
LOCATION:Gundagai\, 114 Sheridan Street\, Gundagai\, NSW\, 2722\, Australia
CATEGORIES:Clinical Reformer
END:VEVENT
BEGIN:VEVENT
DTSTART;TZID=Australia/Sydney:20270715T120000
DTEND;TZID=Australia/Sydney:20270715T124500
DTSTAMP:20260426T111932
CREATED:20250901T032555Z
LAST-MODIFIED:20250909T053149Z
UID:10123779-1815652800-1815655500@synergyhealthworks.com
SUMMARY:Clinical Reformer (kids and babies welcome)
DESCRIPTION:
URL:https://synergyhealthworks.com/event/clinical-reformer-kids-and-babies-welcome-2/2027-07-15/
LOCATION:Gundagai\, 114 Sheridan Street\, Gundagai\, NSW\, 2722\, Australia
CATEGORIES:Clinical Reformer
END:VEVENT
BEGIN:VEVENT
DTSTART;TZID=Australia/Sydney:20270719T120000
DTEND;TZID=Australia/Sydney:20270719T124500
DTSTAMP:20260426T111932
CREATED:20250829T044037Z
LAST-MODIFIED:20250829T044037Z
UID:10122330-1815998400-1816001100@synergyhealthworks.com
SUMMARY:Strength and Conditioning Class
DESCRIPTION:
URL:https://synergyhealthworks.com/event/strength-and-conditioning-class-3/2027-07-19/
LOCATION:Wagga Wagga | Fitness Hub\, 1/21-25 Forsyth Street\, Wagga Wagga\, NSW\, 2650\, Australia
CATEGORIES:Strength and Conditioning
END:VEVENT
BEGIN:VEVENT
DTSTART;TZID=Australia/Sydney:20270719T130000
DTEND;TZID=Australia/Sydney:20270719T134500
DTSTAMP:20260426T111932
CREATED:20251112T001650Z
LAST-MODIFIED:20251112T001650Z
UID:10127462-1816002000-1816004700@synergyhealthworks.com
SUMMARY:Strength and Conditioning Class
DESCRIPTION:
URL:https://synergyhealthworks.com/event/strength-and-conditioning-class-5/2027-07-19/
LOCATION:Wagga Wagga | Fitness Hub\, 1/21-25 Forsyth Street\, Wagga Wagga\, NSW\, 2650\, Australia
CATEGORIES:Strength and Conditioning
END:VEVENT
BEGIN:VEVENT
DTSTART;TZID=Australia/Sydney:20270719T163000
DTEND;TZID=Australia/Sydney:20270719T171500
DTSTAMP:20260426T111932
CREATED:20250502T051402Z
LAST-MODIFIED:20250502T051402Z
UID:10116599-1816014600-1816017300@synergyhealthworks.com
SUMMARY:Women’s Pregnancy Strength Class
DESCRIPTION:
URL:https://synergyhealthworks.com/event/womens-pregnancy-strength-class/2027-07-19/
LOCATION:Wagga Wagga | Fitness Hub\, 1/21-25 Forsyth Street\, Wagga Wagga\, NSW\, 2650\, Australia
CATEGORIES:Women’s Pregnancy Strength Class
END:VEVENT
BEGIN:VEVENT
DTSTART;TZID=Australia/Sydney:20270720T093000
DTEND;TZID=Australia/Sydney:20270720T094500
DTSTAMP:20260426T111932
CREATED:20241204T020912Z
LAST-MODIFIED:20250901T032148Z
UID:10122620-1816075800-1816076700@synergyhealthworks.com
SUMMARY:Clinical Reformer
DESCRIPTION:
URL:https://synergyhealthworks.com/event/semi-private-reformer-16/2027-07-20/
LOCATION:Wagga Wagga | Reformer Studio\, 221 Kincaid Street\, Wagga Wagga\, NSW\, 2650\, Australia
CATEGORIES:Clinical Reformer
END:VEVENT
BEGIN:VEVENT
DTSTART;TZID=Australia/Sydney:20270720T103000
DTEND;TZID=Australia/Sydney:20270720T111500
DTSTAMP:20260426T111932
CREATED:20241204T012734Z
LAST-MODIFIED:20250129T031606Z
UID:10096599-1816079400-1816082100@synergyhealthworks.com
SUMMARY:Clinical Reformer
DESCRIPTION:
URL:https://synergyhealthworks.com/event/clinical-reformer-41/2027-07-20/
LOCATION:Wagga Wagga | Reformer Studio\, 221 Kincaid Street\, Wagga Wagga\, NSW\, 2650\, Australia
CATEGORIES:Clinical Reformer
END:VEVENT
BEGIN:VEVENT
DTSTART;TZID=Australia/Sydney:20270722T093000
DTEND;TZID=Australia/Sydney:20270722T094500
DTSTAMP:20260426T111932
CREATED:20250901T032458Z
LAST-MODIFIED:20250909T053220Z
UID:10123200-1816248600-1816249500@synergyhealthworks.com
SUMMARY:Clinical Reformer (kids and babies welcome)
DESCRIPTION:
URL:https://synergyhealthworks.com/event/clinical-reformer-kids-and-babies-welcome/2027-07-22/
LOCATION:Gundagai\, 114 Sheridan Street\, Gundagai\, NSW\, 2722\, Australia
CATEGORIES:Clinical Reformer
END:VEVENT
BEGIN:VEVENT
DTSTART;TZID=Australia/Sydney:20270722T120000
DTEND;TZID=Australia/Sydney:20270722T124500
DTSTAMP:20260426T111932
CREATED:20250901T032555Z
LAST-MODIFIED:20250909T053149Z
UID:10123780-1816257600-1816260300@synergyhealthworks.com
SUMMARY:Clinical Reformer (kids and babies welcome)
DESCRIPTION:
URL:https://synergyhealthworks.com/event/clinical-reformer-kids-and-babies-welcome-2/2027-07-22/
LOCATION:Gundagai\, 114 Sheridan Street\, Gundagai\, NSW\, 2722\, Australia
CATEGORIES:Clinical Reformer
END:VEVENT
BEGIN:VEVENT
DTSTART;TZID=Australia/Sydney:20270726T120000
DTEND;TZID=Australia/Sydney:20270726T124500
DTSTAMP:20260426T111932
CREATED:20250829T044037Z
LAST-MODIFIED:20250829T044037Z
UID:10122331-1816603200-1816605900@synergyhealthworks.com
SUMMARY:Strength and Conditioning Class
DESCRIPTION:
URL:https://synergyhealthworks.com/event/strength-and-conditioning-class-3/2027-07-26/
LOCATION:Wagga Wagga | Fitness Hub\, 1/21-25 Forsyth Street\, Wagga Wagga\, NSW\, 2650\, Australia
CATEGORIES:Strength and Conditioning
END:VEVENT
BEGIN:VEVENT
DTSTART;TZID=Australia/Sydney:20270726T130000
DTEND;TZID=Australia/Sydney:20270726T134500
DTSTAMP:20260426T111932
CREATED:20251112T001650Z
LAST-MODIFIED:20251112T001650Z
UID:10127463-1816606800-1816609500@synergyhealthworks.com
SUMMARY:Strength and Conditioning Class
DESCRIPTION:
URL:https://synergyhealthworks.com/event/strength-and-conditioning-class-5/2027-07-26/
LOCATION:Wagga Wagga | Fitness Hub\, 1/21-25 Forsyth Street\, Wagga Wagga\, NSW\, 2650\, Australia
CATEGORIES:Strength and Conditioning
END:VEVENT
BEGIN:VEVENT
DTSTART;TZID=Australia/Sydney:20270726T163000
DTEND;TZID=Australia/Sydney:20270726T171500
DTSTAMP:20260426T111932
CREATED:20250502T051402Z
LAST-MODIFIED:20250502T051402Z
UID:10116600-1816619400-1816622100@synergyhealthworks.com
SUMMARY:Women’s Pregnancy Strength Class
DESCRIPTION:
URL:https://synergyhealthworks.com/event/womens-pregnancy-strength-class/2027-07-26/
LOCATION:Wagga Wagga | Fitness Hub\, 1/21-25 Forsyth Street\, Wagga Wagga\, NSW\, 2650\, Australia
CATEGORIES:Women’s Pregnancy Strength Class
END:VEVENT
BEGIN:VEVENT
DTSTART;TZID=Australia/Sydney:20270727T093000
DTEND;TZID=Australia/Sydney:20270727T094500
DTSTAMP:20260426T111932
CREATED:20241204T020912Z
LAST-MODIFIED:20250901T032148Z
UID:10122621-1816680600-1816681500@synergyhealthworks.com
SUMMARY:Clinical Reformer
DESCRIPTION:
URL:https://synergyhealthworks.com/event/semi-private-reformer-16/2027-07-27/
LOCATION:Wagga Wagga | Reformer Studio\, 221 Kincaid Street\, Wagga Wagga\, NSW\, 2650\, Australia
CATEGORIES:Clinical Reformer
END:VEVENT
BEGIN:VEVENT
DTSTART;TZID=Australia/Sydney:20270727T103000
DTEND;TZID=Australia/Sydney:20270727T111500
DTSTAMP:20260426T111932
CREATED:20241204T012734Z
LAST-MODIFIED:20250129T031606Z
UID:10096600-1816684200-1816686900@synergyhealthworks.com
SUMMARY:Clinical Reformer
DESCRIPTION:
URL:https://synergyhealthworks.com/event/clinical-reformer-41/2027-07-27/
LOCATION:Wagga Wagga | Reformer Studio\, 221 Kincaid Street\, Wagga Wagga\, NSW\, 2650\, Australia
CATEGORIES:Clinical Reformer
END:VEVENT
BEGIN:VEVENT
DTSTART;TZID=Australia/Sydney:20270729T093000
DTEND;TZID=Australia/Sydney:20270729T094500
DTSTAMP:20260426T111932
CREATED:20250901T032458Z
LAST-MODIFIED:20250909T053220Z
UID:10123201-1816853400-1816854300@synergyhealthworks.com
SUMMARY:Clinical Reformer (kids and babies welcome)
DESCRIPTION:
URL:https://synergyhealthworks.com/event/clinical-reformer-kids-and-babies-welcome/2027-07-29/
LOCATION:Gundagai\, 114 Sheridan Street\, Gundagai\, NSW\, 2722\, Australia
CATEGORIES:Clinical Reformer
END:VEVENT
BEGIN:VEVENT
DTSTART;TZID=Australia/Sydney:20270729T120000
DTEND;TZID=Australia/Sydney:20270729T124500
DTSTAMP:20260426T111932
CREATED:20250901T032555Z
LAST-MODIFIED:20250909T053149Z
UID:10123781-1816862400-1816865100@synergyhealthworks.com
SUMMARY:Clinical Reformer (kids and babies welcome)
DESCRIPTION:
URL:https://synergyhealthworks.com/event/clinical-reformer-kids-and-babies-welcome-2/2027-07-29/
LOCATION:Gundagai\, 114 Sheridan Street\, Gundagai\, NSW\, 2722\, Australia
CATEGORIES:Clinical Reformer
END:VEVENT
BEGIN:VEVENT
DTSTART;TZID=Australia/Sydney:20270802T120000
DTEND;TZID=Australia/Sydney:20270802T124500
DTSTAMP:20260426T111932
CREATED:20250829T044037Z
LAST-MODIFIED:20250829T044037Z
UID:10122332-1817208000-1817210700@synergyhealthworks.com
SUMMARY:Strength and Conditioning Class
DESCRIPTION:
URL:https://synergyhealthworks.com/event/strength-and-conditioning-class-3/2027-08-02/
LOCATION:Wagga Wagga | Fitness Hub\, 1/21-25 Forsyth Street\, Wagga Wagga\, NSW\, 2650\, Australia
CATEGORIES:Strength and Conditioning
END:VEVENT
BEGIN:VEVENT
DTSTART;TZID=Australia/Sydney:20270802T130000
DTEND;TZID=Australia/Sydney:20270802T134500
DTSTAMP:20260426T111932
CREATED:20251112T001650Z
LAST-MODIFIED:20251112T001650Z
UID:10127464-1817211600-1817214300@synergyhealthworks.com
SUMMARY:Strength and Conditioning Class
DESCRIPTION:
URL:https://synergyhealthworks.com/event/strength-and-conditioning-class-5/2027-08-02/
LOCATION:Wagga Wagga | Fitness Hub\, 1/21-25 Forsyth Street\, Wagga Wagga\, NSW\, 2650\, Australia
CATEGORIES:Strength and Conditioning
END:VEVENT
BEGIN:VEVENT
DTSTART;TZID=Australia/Sydney:20270802T163000
DTEND;TZID=Australia/Sydney:20270802T171500
DTSTAMP:20260426T111932
CREATED:20250502T051402Z
LAST-MODIFIED:20250502T051402Z
UID:10116601-1817224200-1817226900@synergyhealthworks.com
SUMMARY:Women’s Pregnancy Strength Class
DESCRIPTION:
URL:https://synergyhealthworks.com/event/womens-pregnancy-strength-class/2027-08-02/
LOCATION:Wagga Wagga | Fitness Hub\, 1/21-25 Forsyth Street\, Wagga Wagga\, NSW\, 2650\, Australia
CATEGORIES:Women’s Pregnancy Strength Class
END:VEVENT
BEGIN:VEVENT
DTSTART;TZID=Australia/Sydney:20270803T093000
DTEND;TZID=Australia/Sydney:20270803T094500
DTSTAMP:20260426T111932
CREATED:20241204T020912Z
LAST-MODIFIED:20250901T032148Z
UID:10122622-1817285400-1817286300@synergyhealthworks.com
SUMMARY:Clinical Reformer
DESCRIPTION:
URL:https://synergyhealthworks.com/event/semi-private-reformer-16/2027-08-03/
LOCATION:Wagga Wagga | Reformer Studio\, 221 Kincaid Street\, Wagga Wagga\, NSW\, 2650\, Australia
CATEGORIES:Clinical Reformer
END:VEVENT
BEGIN:VEVENT
DTSTART;TZID=Australia/Sydney:20270803T103000
DTEND;TZID=Australia/Sydney:20270803T111500
DTSTAMP:20260426T111932
CREATED:20241204T012734Z
LAST-MODIFIED:20250129T031606Z
UID:10096601-1817289000-1817291700@synergyhealthworks.com
SUMMARY:Clinical Reformer
DESCRIPTION:
URL:https://synergyhealthworks.com/event/clinical-reformer-41/2027-08-03/
LOCATION:Wagga Wagga | Reformer Studio\, 221 Kincaid Street\, Wagga Wagga\, NSW\, 2650\, Australia
CATEGORIES:Clinical Reformer
END:VEVENT
BEGIN:VEVENT
DTSTART;TZID=Australia/Sydney:20270805T093000
DTEND;TZID=Australia/Sydney:20270805T094500
DTSTAMP:20260426T111932
CREATED:20250901T032458Z
LAST-MODIFIED:20250909T053220Z
UID:10123202-1817458200-1817459100@synergyhealthworks.com
SUMMARY:Clinical Reformer (kids and babies welcome)
DESCRIPTION:
URL:https://synergyhealthworks.com/event/clinical-reformer-kids-and-babies-welcome/2027-08-05/
LOCATION:Gundagai\, 114 Sheridan Street\, Gundagai\, NSW\, 2722\, Australia
CATEGORIES:Clinical Reformer
END:VEVENT
BEGIN:VEVENT
DTSTART;TZID=Australia/Sydney:20270805T120000
DTEND;TZID=Australia/Sydney:20270805T124500
DTSTAMP:20260426T111932
CREATED:20250901T032555Z
LAST-MODIFIED:20250909T053149Z
UID:10123782-1817467200-1817469900@synergyhealthworks.com
SUMMARY:Clinical Reformer (kids and babies welcome)
DESCRIPTION:
URL:https://synergyhealthworks.com/event/clinical-reformer-kids-and-babies-welcome-2/2027-08-05/
LOCATION:Gundagai\, 114 Sheridan Street\, Gundagai\, NSW\, 2722\, Australia
CATEGORIES:Clinical Reformer
END:VEVENT
BEGIN:VEVENT
DTSTART;TZID=Australia/Sydney:20270809T120000
DTEND;TZID=Australia/Sydney:20270809T124500
DTSTAMP:20260426T111932
CREATED:20250829T044037Z
LAST-MODIFIED:20250829T044037Z
UID:10122333-1817812800-1817815500@synergyhealthworks.com
SUMMARY:Strength and Conditioning Class
DESCRIPTION:
URL:https://synergyhealthworks.com/event/strength-and-conditioning-class-3/2027-08-09/
LOCATION:Wagga Wagga | Fitness Hub\, 1/21-25 Forsyth Street\, Wagga Wagga\, NSW\, 2650\, Australia
CATEGORIES:Strength and Conditioning
END:VEVENT
BEGIN:VEVENT
DTSTART;TZID=Australia/Sydney:20270809T130000
DTEND;TZID=Australia/Sydney:20270809T134500
DTSTAMP:20260426T111932
CREATED:20251112T001650Z
LAST-MODIFIED:20251112T001650Z
UID:10127465-1817816400-1817819100@synergyhealthworks.com
SUMMARY:Strength and Conditioning Class
DESCRIPTION:
URL:https://synergyhealthworks.com/event/strength-and-conditioning-class-5/2027-08-09/
LOCATION:Wagga Wagga | Fitness Hub\, 1/21-25 Forsyth Street\, Wagga Wagga\, NSW\, 2650\, Australia
CATEGORIES:Strength and Conditioning
END:VEVENT
BEGIN:VEVENT
DTSTART;TZID=Australia/Sydney:20270809T163000
DTEND;TZID=Australia/Sydney:20270809T171500
DTSTAMP:20260426T111932
CREATED:20250502T051402Z
LAST-MODIFIED:20250502T051402Z
UID:10116602-1817829000-1817831700@synergyhealthworks.com
SUMMARY:Women’s Pregnancy Strength Class
DESCRIPTION:
URL:https://synergyhealthworks.com/event/womens-pregnancy-strength-class/2027-08-09/
LOCATION:Wagga Wagga | Fitness Hub\, 1/21-25 Forsyth Street\, Wagga Wagga\, NSW\, 2650\, Australia
CATEGORIES:Women’s Pregnancy Strength Class
END:VEVENT
BEGIN:VEVENT
DTSTART;TZID=Australia/Sydney:20270810T093000
DTEND;TZID=Australia/Sydney:20270810T094500
DTSTAMP:20260426T111932
CREATED:20241204T020912Z
LAST-MODIFIED:20250901T032148Z
UID:10122623-1817890200-1817891100@synergyhealthworks.com
SUMMARY:Clinical Reformer
DESCRIPTION:
URL:https://synergyhealthworks.com/event/semi-private-reformer-16/2027-08-10/
LOCATION:Wagga Wagga | Reformer Studio\, 221 Kincaid Street\, Wagga Wagga\, NSW\, 2650\, Australia
CATEGORIES:Clinical Reformer
END:VEVENT
BEGIN:VEVENT
DTSTART;TZID=Australia/Sydney:20270810T103000
DTEND;TZID=Australia/Sydney:20270810T111500
DTSTAMP:20260426T111932
CREATED:20241204T012734Z
LAST-MODIFIED:20250129T031606Z
UID:10096602-1817893800-1817896500@synergyhealthworks.com
SUMMARY:Clinical Reformer
DESCRIPTION:
URL:https://synergyhealthworks.com/event/clinical-reformer-41/2027-08-10/
LOCATION:Wagga Wagga | Reformer Studio\, 221 Kincaid Street\, Wagga Wagga\, NSW\, 2650\, Australia
CATEGORIES:Clinical Reformer
END:VEVENT
END:VCALENDAR