BEGIN:VCALENDAR
VERSION:2.0
PRODID:-//Synergy Healthworks - ECPv6.15.20//NONSGML v1.0//EN
CALSCALE:GREGORIAN
METHOD:PUBLISH
X-WR-CALNAME:Synergy Healthworks
X-ORIGINAL-URL:https://synergyhealthworks.com
X-WR-CALDESC:Events for Synergy Healthworks
REFRESH-INTERVAL;VALUE=DURATION:PT1H
X-Robots-Tag:noindex
X-PUBLISHED-TTL:PT1H
BEGIN:VTIMEZONE
TZID:Australia/Sydney
BEGIN:STANDARD
TZOFFSETFROM:+1100
TZOFFSETTO:+1000
TZNAME:AEST
DTSTART:20260404T160000
END:STANDARD
BEGIN:DAYLIGHT
TZOFFSETFROM:+1000
TZOFFSETTO:+1100
TZNAME:AEDT
DTSTART:20261003T160000
END:DAYLIGHT
BEGIN:STANDARD
TZOFFSETFROM:+1100
TZOFFSETTO:+1000
TZNAME:AEST
DTSTART:20270403T160000
END:STANDARD
BEGIN:DAYLIGHT
TZOFFSETFROM:+1000
TZOFFSETTO:+1100
TZNAME:AEDT
DTSTART:20271002T160000
END:DAYLIGHT
BEGIN:STANDARD
TZOFFSETFROM:+1100
TZOFFSETTO:+1000
TZNAME:AEST
DTSTART:20280401T160000
END:STANDARD
BEGIN:DAYLIGHT
TZOFFSETFROM:+1000
TZOFFSETTO:+1100
TZNAME:AEDT
DTSTART:20280930T160000
END:DAYLIGHT
END:VTIMEZONE
BEGIN:VEVENT
DTSTART;TZID=Australia/Sydney:20270621T120000
DTEND;TZID=Australia/Sydney:20270621T124500
DTSTAMP:20260426T073800
CREATED:20250829T044037Z
LAST-MODIFIED:20250829T044037Z
UID:10122326-1813579200-1813581900@synergyhealthworks.com
SUMMARY:Strength and Conditioning Class
DESCRIPTION:
URL:https://synergyhealthworks.com/event/strength-and-conditioning-class-3/2027-06-21/
LOCATION:Wagga Wagga | Fitness Hub\, 1/21-25 Forsyth Street\, Wagga Wagga\, NSW\, 2650\, Australia
CATEGORIES:Strength and Conditioning
END:VEVENT
BEGIN:VEVENT
DTSTART;TZID=Australia/Sydney:20270621T130000
DTEND;TZID=Australia/Sydney:20270621T134500
DTSTAMP:20260426T073800
CREATED:20251112T001650Z
LAST-MODIFIED:20251112T001650Z
UID:10127458-1813582800-1813585500@synergyhealthworks.com
SUMMARY:Strength and Conditioning Class
DESCRIPTION:
URL:https://synergyhealthworks.com/event/strength-and-conditioning-class-5/2027-06-21/
LOCATION:Wagga Wagga | Fitness Hub\, 1/21-25 Forsyth Street\, Wagga Wagga\, NSW\, 2650\, Australia
CATEGORIES:Strength and Conditioning
END:VEVENT
BEGIN:VEVENT
DTSTART;TZID=Australia/Sydney:20270621T163000
DTEND;TZID=Australia/Sydney:20270621T171500
DTSTAMP:20260426T073800
CREATED:20250502T051402Z
LAST-MODIFIED:20250502T051402Z
UID:10116595-1813595400-1813598100@synergyhealthworks.com
SUMMARY:Women’s Pregnancy Strength Class
DESCRIPTION:
URL:https://synergyhealthworks.com/event/womens-pregnancy-strength-class/2027-06-21/
LOCATION:Wagga Wagga | Fitness Hub\, 1/21-25 Forsyth Street\, Wagga Wagga\, NSW\, 2650\, Australia
CATEGORIES:Women’s Pregnancy Strength Class
END:VEVENT
BEGIN:VEVENT
DTSTART;TZID=Australia/Sydney:20270622T093000
DTEND;TZID=Australia/Sydney:20270622T094500
DTSTAMP:20260426T073800
CREATED:20241204T020912Z
LAST-MODIFIED:20250901T032148Z
UID:10122616-1813656600-1813657500@synergyhealthworks.com
SUMMARY:Clinical Reformer
DESCRIPTION:
URL:https://synergyhealthworks.com/event/semi-private-reformer-16/2027-06-22/
LOCATION:Wagga Wagga | Reformer Studio\, 221 Kincaid Street\, Wagga Wagga\, NSW\, 2650\, Australia
CATEGORIES:Clinical Reformer
END:VEVENT
BEGIN:VEVENT
DTSTART;TZID=Australia/Sydney:20270622T103000
DTEND;TZID=Australia/Sydney:20270622T111500
DTSTAMP:20260426T073800
CREATED:20241204T012734Z
LAST-MODIFIED:20250129T031606Z
UID:10096595-1813660200-1813662900@synergyhealthworks.com
SUMMARY:Clinical Reformer
DESCRIPTION:
URL:https://synergyhealthworks.com/event/clinical-reformer-41/2027-06-22/
LOCATION:Wagga Wagga | Reformer Studio\, 221 Kincaid Street\, Wagga Wagga\, NSW\, 2650\, Australia
CATEGORIES:Clinical Reformer
END:VEVENT
BEGIN:VEVENT
DTSTART;TZID=Australia/Sydney:20270624T093000
DTEND;TZID=Australia/Sydney:20270624T094500
DTSTAMP:20260426T073800
CREATED:20250901T032458Z
LAST-MODIFIED:20250909T053220Z
UID:10123196-1813829400-1813830300@synergyhealthworks.com
SUMMARY:Clinical Reformer (kids and babies welcome)
DESCRIPTION:
URL:https://synergyhealthworks.com/event/clinical-reformer-kids-and-babies-welcome/2027-06-24/
LOCATION:Gundagai\, 114 Sheridan Street\, Gundagai\, NSW\, 2722\, Australia
CATEGORIES:Clinical Reformer
END:VEVENT
BEGIN:VEVENT
DTSTART;TZID=Australia/Sydney:20270624T120000
DTEND;TZID=Australia/Sydney:20270624T124500
DTSTAMP:20260426T073800
CREATED:20250901T032555Z
LAST-MODIFIED:20250909T053149Z
UID:10123776-1813838400-1813841100@synergyhealthworks.com
SUMMARY:Clinical Reformer (kids and babies welcome)
DESCRIPTION:
URL:https://synergyhealthworks.com/event/clinical-reformer-kids-and-babies-welcome-2/2027-06-24/
LOCATION:Gundagai\, 114 Sheridan Street\, Gundagai\, NSW\, 2722\, Australia
CATEGORIES:Clinical Reformer
END:VEVENT
BEGIN:VEVENT
DTSTART;TZID=Australia/Sydney:20270628T120000
DTEND;TZID=Australia/Sydney:20270628T124500
DTSTAMP:20260426T073800
CREATED:20250829T044037Z
LAST-MODIFIED:20250829T044037Z
UID:10122327-1814184000-1814186700@synergyhealthworks.com
SUMMARY:Strength and Conditioning Class
DESCRIPTION:
URL:https://synergyhealthworks.com/event/strength-and-conditioning-class-3/2027-06-28/
LOCATION:Wagga Wagga | Fitness Hub\, 1/21-25 Forsyth Street\, Wagga Wagga\, NSW\, 2650\, Australia
CATEGORIES:Strength and Conditioning
END:VEVENT
BEGIN:VEVENT
DTSTART;TZID=Australia/Sydney:20270628T130000
DTEND;TZID=Australia/Sydney:20270628T134500
DTSTAMP:20260426T073800
CREATED:20251112T001650Z
LAST-MODIFIED:20251112T001650Z
UID:10127459-1814187600-1814190300@synergyhealthworks.com
SUMMARY:Strength and Conditioning Class
DESCRIPTION:
URL:https://synergyhealthworks.com/event/strength-and-conditioning-class-5/2027-06-28/
LOCATION:Wagga Wagga | Fitness Hub\, 1/21-25 Forsyth Street\, Wagga Wagga\, NSW\, 2650\, Australia
CATEGORIES:Strength and Conditioning
END:VEVENT
BEGIN:VEVENT
DTSTART;TZID=Australia/Sydney:20270628T163000
DTEND;TZID=Australia/Sydney:20270628T171500
DTSTAMP:20260426T073800
CREATED:20250502T051402Z
LAST-MODIFIED:20250502T051402Z
UID:10116596-1814200200-1814202900@synergyhealthworks.com
SUMMARY:Women’s Pregnancy Strength Class
DESCRIPTION:
URL:https://synergyhealthworks.com/event/womens-pregnancy-strength-class/2027-06-28/
LOCATION:Wagga Wagga | Fitness Hub\, 1/21-25 Forsyth Street\, Wagga Wagga\, NSW\, 2650\, Australia
CATEGORIES:Women’s Pregnancy Strength Class
END:VEVENT
BEGIN:VEVENT
DTSTART;TZID=Australia/Sydney:20270629T093000
DTEND;TZID=Australia/Sydney:20270629T094500
DTSTAMP:20260426T073800
CREATED:20241204T020912Z
LAST-MODIFIED:20250901T032148Z
UID:10122617-1814261400-1814262300@synergyhealthworks.com
SUMMARY:Clinical Reformer
DESCRIPTION:
URL:https://synergyhealthworks.com/event/semi-private-reformer-16/2027-06-29/
LOCATION:Wagga Wagga | Reformer Studio\, 221 Kincaid Street\, Wagga Wagga\, NSW\, 2650\, Australia
CATEGORIES:Clinical Reformer
END:VEVENT
BEGIN:VEVENT
DTSTART;TZID=Australia/Sydney:20270629T103000
DTEND;TZID=Australia/Sydney:20270629T111500
DTSTAMP:20260426T073800
CREATED:20241204T012734Z
LAST-MODIFIED:20250129T031606Z
UID:10096596-1814265000-1814267700@synergyhealthworks.com
SUMMARY:Clinical Reformer
DESCRIPTION:
URL:https://synergyhealthworks.com/event/clinical-reformer-41/2027-06-29/
LOCATION:Wagga Wagga | Reformer Studio\, 221 Kincaid Street\, Wagga Wagga\, NSW\, 2650\, Australia
CATEGORIES:Clinical Reformer
END:VEVENT
BEGIN:VEVENT
DTSTART;TZID=Australia/Sydney:20270701T093000
DTEND;TZID=Australia/Sydney:20270701T094500
DTSTAMP:20260426T073800
CREATED:20250901T032458Z
LAST-MODIFIED:20250909T053220Z
UID:10123197-1814434200-1814435100@synergyhealthworks.com
SUMMARY:Clinical Reformer (kids and babies welcome)
DESCRIPTION:
URL:https://synergyhealthworks.com/event/clinical-reformer-kids-and-babies-welcome/2027-07-01/
LOCATION:Gundagai\, 114 Sheridan Street\, Gundagai\, NSW\, 2722\, Australia
CATEGORIES:Clinical Reformer
END:VEVENT
BEGIN:VEVENT
DTSTART;TZID=Australia/Sydney:20270701T120000
DTEND;TZID=Australia/Sydney:20270701T124500
DTSTAMP:20260426T073800
CREATED:20250901T032555Z
LAST-MODIFIED:20250909T053149Z
UID:10123777-1814443200-1814445900@synergyhealthworks.com
SUMMARY:Clinical Reformer (kids and babies welcome)
DESCRIPTION:
URL:https://synergyhealthworks.com/event/clinical-reformer-kids-and-babies-welcome-2/2027-07-01/
LOCATION:Gundagai\, 114 Sheridan Street\, Gundagai\, NSW\, 2722\, Australia
CATEGORIES:Clinical Reformer
END:VEVENT
BEGIN:VEVENT
DTSTART;TZID=Australia/Sydney:20270705T120000
DTEND;TZID=Australia/Sydney:20270705T124500
DTSTAMP:20260426T073800
CREATED:20250829T044037Z
LAST-MODIFIED:20250829T044037Z
UID:10122328-1814788800-1814791500@synergyhealthworks.com
SUMMARY:Strength and Conditioning Class
DESCRIPTION:
URL:https://synergyhealthworks.com/event/strength-and-conditioning-class-3/2027-07-05/
LOCATION:Wagga Wagga | Fitness Hub\, 1/21-25 Forsyth Street\, Wagga Wagga\, NSW\, 2650\, Australia
CATEGORIES:Strength and Conditioning
END:VEVENT
BEGIN:VEVENT
DTSTART;TZID=Australia/Sydney:20270705T130000
DTEND;TZID=Australia/Sydney:20270705T134500
DTSTAMP:20260426T073800
CREATED:20251112T001650Z
LAST-MODIFIED:20251112T001650Z
UID:10127460-1814792400-1814795100@synergyhealthworks.com
SUMMARY:Strength and Conditioning Class
DESCRIPTION:
URL:https://synergyhealthworks.com/event/strength-and-conditioning-class-5/2027-07-05/
LOCATION:Wagga Wagga | Fitness Hub\, 1/21-25 Forsyth Street\, Wagga Wagga\, NSW\, 2650\, Australia
CATEGORIES:Strength and Conditioning
END:VEVENT
BEGIN:VEVENT
DTSTART;TZID=Australia/Sydney:20270705T163000
DTEND;TZID=Australia/Sydney:20270705T171500
DTSTAMP:20260426T073800
CREATED:20250502T051402Z
LAST-MODIFIED:20250502T051402Z
UID:10116597-1814805000-1814807700@synergyhealthworks.com
SUMMARY:Women’s Pregnancy Strength Class
DESCRIPTION:
URL:https://synergyhealthworks.com/event/womens-pregnancy-strength-class/2027-07-05/
LOCATION:Wagga Wagga | Fitness Hub\, 1/21-25 Forsyth Street\, Wagga Wagga\, NSW\, 2650\, Australia
CATEGORIES:Women’s Pregnancy Strength Class
END:VEVENT
BEGIN:VEVENT
DTSTART;TZID=Australia/Sydney:20270706T093000
DTEND;TZID=Australia/Sydney:20270706T094500
DTSTAMP:20260426T073800
CREATED:20241204T020912Z
LAST-MODIFIED:20250901T032148Z
UID:10122618-1814866200-1814867100@synergyhealthworks.com
SUMMARY:Clinical Reformer
DESCRIPTION:
URL:https://synergyhealthworks.com/event/semi-private-reformer-16/2027-07-06/
LOCATION:Wagga Wagga | Reformer Studio\, 221 Kincaid Street\, Wagga Wagga\, NSW\, 2650\, Australia
CATEGORIES:Clinical Reformer
END:VEVENT
BEGIN:VEVENT
DTSTART;TZID=Australia/Sydney:20270706T103000
DTEND;TZID=Australia/Sydney:20270706T111500
DTSTAMP:20260426T073800
CREATED:20241204T012734Z
LAST-MODIFIED:20250129T031606Z
UID:10096597-1814869800-1814872500@synergyhealthworks.com
SUMMARY:Clinical Reformer
DESCRIPTION:
URL:https://synergyhealthworks.com/event/clinical-reformer-41/2027-07-06/
LOCATION:Wagga Wagga | Reformer Studio\, 221 Kincaid Street\, Wagga Wagga\, NSW\, 2650\, Australia
CATEGORIES:Clinical Reformer
END:VEVENT
BEGIN:VEVENT
DTSTART;TZID=Australia/Sydney:20270708T093000
DTEND;TZID=Australia/Sydney:20270708T094500
DTSTAMP:20260426T073800
CREATED:20250901T032458Z
LAST-MODIFIED:20250909T053220Z
UID:10123198-1815039000-1815039900@synergyhealthworks.com
SUMMARY:Clinical Reformer (kids and babies welcome)
DESCRIPTION:
URL:https://synergyhealthworks.com/event/clinical-reformer-kids-and-babies-welcome/2027-07-08/
LOCATION:Gundagai\, 114 Sheridan Street\, Gundagai\, NSW\, 2722\, Australia
CATEGORIES:Clinical Reformer
END:VEVENT
BEGIN:VEVENT
DTSTART;TZID=Australia/Sydney:20270708T120000
DTEND;TZID=Australia/Sydney:20270708T124500
DTSTAMP:20260426T073800
CREATED:20250901T032555Z
LAST-MODIFIED:20250909T053149Z
UID:10123778-1815048000-1815050700@synergyhealthworks.com
SUMMARY:Clinical Reformer (kids and babies welcome)
DESCRIPTION:
URL:https://synergyhealthworks.com/event/clinical-reformer-kids-and-babies-welcome-2/2027-07-08/
LOCATION:Gundagai\, 114 Sheridan Street\, Gundagai\, NSW\, 2722\, Australia
CATEGORIES:Clinical Reformer
END:VEVENT
BEGIN:VEVENT
DTSTART;TZID=Australia/Sydney:20270712T120000
DTEND;TZID=Australia/Sydney:20270712T124500
DTSTAMP:20260426T073800
CREATED:20250829T044037Z
LAST-MODIFIED:20250829T044037Z
UID:10122329-1815393600-1815396300@synergyhealthworks.com
SUMMARY:Strength and Conditioning Class
DESCRIPTION:
URL:https://synergyhealthworks.com/event/strength-and-conditioning-class-3/2027-07-12/
LOCATION:Wagga Wagga | Fitness Hub\, 1/21-25 Forsyth Street\, Wagga Wagga\, NSW\, 2650\, Australia
CATEGORIES:Strength and Conditioning
END:VEVENT
BEGIN:VEVENT
DTSTART;TZID=Australia/Sydney:20270712T130000
DTEND;TZID=Australia/Sydney:20270712T134500
DTSTAMP:20260426T073800
CREATED:20251112T001650Z
LAST-MODIFIED:20251112T001650Z
UID:10127461-1815397200-1815399900@synergyhealthworks.com
SUMMARY:Strength and Conditioning Class
DESCRIPTION:
URL:https://synergyhealthworks.com/event/strength-and-conditioning-class-5/2027-07-12/
LOCATION:Wagga Wagga | Fitness Hub\, 1/21-25 Forsyth Street\, Wagga Wagga\, NSW\, 2650\, Australia
CATEGORIES:Strength and Conditioning
END:VEVENT
BEGIN:VEVENT
DTSTART;TZID=Australia/Sydney:20270712T163000
DTEND;TZID=Australia/Sydney:20270712T171500
DTSTAMP:20260426T073800
CREATED:20250502T051402Z
LAST-MODIFIED:20250502T051402Z
UID:10116598-1815409800-1815412500@synergyhealthworks.com
SUMMARY:Women’s Pregnancy Strength Class
DESCRIPTION:
URL:https://synergyhealthworks.com/event/womens-pregnancy-strength-class/2027-07-12/
LOCATION:Wagga Wagga | Fitness Hub\, 1/21-25 Forsyth Street\, Wagga Wagga\, NSW\, 2650\, Australia
CATEGORIES:Women’s Pregnancy Strength Class
END:VEVENT
BEGIN:VEVENT
DTSTART;TZID=Australia/Sydney:20270713T093000
DTEND;TZID=Australia/Sydney:20270713T094500
DTSTAMP:20260426T073800
CREATED:20241204T020912Z
LAST-MODIFIED:20250901T032148Z
UID:10122619-1815471000-1815471900@synergyhealthworks.com
SUMMARY:Clinical Reformer
DESCRIPTION:
URL:https://synergyhealthworks.com/event/semi-private-reformer-16/2027-07-13/
LOCATION:Wagga Wagga | Reformer Studio\, 221 Kincaid Street\, Wagga Wagga\, NSW\, 2650\, Australia
CATEGORIES:Clinical Reformer
END:VEVENT
BEGIN:VEVENT
DTSTART;TZID=Australia/Sydney:20270713T103000
DTEND;TZID=Australia/Sydney:20270713T111500
DTSTAMP:20260426T073800
CREATED:20241204T012734Z
LAST-MODIFIED:20250129T031606Z
UID:10096598-1815474600-1815477300@synergyhealthworks.com
SUMMARY:Clinical Reformer
DESCRIPTION:
URL:https://synergyhealthworks.com/event/clinical-reformer-41/2027-07-13/
LOCATION:Wagga Wagga | Reformer Studio\, 221 Kincaid Street\, Wagga Wagga\, NSW\, 2650\, Australia
CATEGORIES:Clinical Reformer
END:VEVENT
BEGIN:VEVENT
DTSTART;TZID=Australia/Sydney:20270715T093000
DTEND;TZID=Australia/Sydney:20270715T094500
DTSTAMP:20260426T073800
CREATED:20250901T032458Z
LAST-MODIFIED:20250909T053220Z
UID:10123199-1815643800-1815644700@synergyhealthworks.com
SUMMARY:Clinical Reformer (kids and babies welcome)
DESCRIPTION:
URL:https://synergyhealthworks.com/event/clinical-reformer-kids-and-babies-welcome/2027-07-15/
LOCATION:Gundagai\, 114 Sheridan Street\, Gundagai\, NSW\, 2722\, Australia
CATEGORIES:Clinical Reformer
END:VEVENT
BEGIN:VEVENT
DTSTART;TZID=Australia/Sydney:20270715T120000
DTEND;TZID=Australia/Sydney:20270715T124500
DTSTAMP:20260426T073800
CREATED:20250901T032555Z
LAST-MODIFIED:20250909T053149Z
UID:10123779-1815652800-1815655500@synergyhealthworks.com
SUMMARY:Clinical Reformer (kids and babies welcome)
DESCRIPTION:
URL:https://synergyhealthworks.com/event/clinical-reformer-kids-and-babies-welcome-2/2027-07-15/
LOCATION:Gundagai\, 114 Sheridan Street\, Gundagai\, NSW\, 2722\, Australia
CATEGORIES:Clinical Reformer
END:VEVENT
BEGIN:VEVENT
DTSTART;TZID=Australia/Sydney:20270719T120000
DTEND;TZID=Australia/Sydney:20270719T124500
DTSTAMP:20260426T073800
CREATED:20250829T044037Z
LAST-MODIFIED:20250829T044037Z
UID:10122330-1815998400-1816001100@synergyhealthworks.com
SUMMARY:Strength and Conditioning Class
DESCRIPTION:
URL:https://synergyhealthworks.com/event/strength-and-conditioning-class-3/2027-07-19/
LOCATION:Wagga Wagga | Fitness Hub\, 1/21-25 Forsyth Street\, Wagga Wagga\, NSW\, 2650\, Australia
CATEGORIES:Strength and Conditioning
END:VEVENT
BEGIN:VEVENT
DTSTART;TZID=Australia/Sydney:20270719T130000
DTEND;TZID=Australia/Sydney:20270719T134500
DTSTAMP:20260426T073800
CREATED:20251112T001650Z
LAST-MODIFIED:20251112T001650Z
UID:10127462-1816002000-1816004700@synergyhealthworks.com
SUMMARY:Strength and Conditioning Class
DESCRIPTION:
URL:https://synergyhealthworks.com/event/strength-and-conditioning-class-5/2027-07-19/
LOCATION:Wagga Wagga | Fitness Hub\, 1/21-25 Forsyth Street\, Wagga Wagga\, NSW\, 2650\, Australia
CATEGORIES:Strength and Conditioning
END:VEVENT
END:VCALENDAR