BEGIN:VCALENDAR
VERSION:2.0
PRODID:-//Synergy Healthworks - ECPv6.15.20//NONSGML v1.0//EN
CALSCALE:GREGORIAN
METHOD:PUBLISH
X-WR-CALNAME:Synergy Healthworks
X-ORIGINAL-URL:https://synergyhealthworks.com
X-WR-CALDESC:Events for Synergy Healthworks
REFRESH-INTERVAL;VALUE=DURATION:PT1H
X-Robots-Tag:noindex
X-PUBLISHED-TTL:PT1H
BEGIN:VTIMEZONE
TZID:Australia/Sydney
BEGIN:STANDARD
TZOFFSETFROM:+1100
TZOFFSETTO:+1000
TZNAME:AEST
DTSTART:20260404T160000
END:STANDARD
BEGIN:DAYLIGHT
TZOFFSETFROM:+1000
TZOFFSETTO:+1100
TZNAME:AEDT
DTSTART:20261003T160000
END:DAYLIGHT
BEGIN:STANDARD
TZOFFSETFROM:+1100
TZOFFSETTO:+1000
TZNAME:AEST
DTSTART:20270403T160000
END:STANDARD
BEGIN:DAYLIGHT
TZOFFSETFROM:+1000
TZOFFSETTO:+1100
TZNAME:AEDT
DTSTART:20271002T160000
END:DAYLIGHT
BEGIN:STANDARD
TZOFFSETFROM:+1100
TZOFFSETTO:+1000
TZNAME:AEST
DTSTART:20280401T160000
END:STANDARD
BEGIN:DAYLIGHT
TZOFFSETFROM:+1000
TZOFFSETTO:+1100
TZNAME:AEDT
DTSTART:20280930T160000
END:DAYLIGHT
END:VTIMEZONE
BEGIN:VEVENT
DTSTART;TZID=Australia/Sydney:20270420T093000
DTEND;TZID=Australia/Sydney:20270420T094500
DTSTAMP:20260425T224547
CREATED:20241204T020912Z
LAST-MODIFIED:20250901T032148Z
UID:10122607-1808213400-1808214300@synergyhealthworks.com
SUMMARY:Clinical Reformer
DESCRIPTION:
URL:https://synergyhealthworks.com/event/semi-private-reformer-16/2027-04-20/
LOCATION:Wagga Wagga | Reformer Studio\, 221 Kincaid Street\, Wagga Wagga\, NSW\, 2650\, Australia
CATEGORIES:Clinical Reformer
END:VEVENT
BEGIN:VEVENT
DTSTART;TZID=Australia/Sydney:20270420T103000
DTEND;TZID=Australia/Sydney:20270420T111500
DTSTAMP:20260425T224547
CREATED:20241204T012734Z
LAST-MODIFIED:20250129T031606Z
UID:10096586-1808217000-1808219700@synergyhealthworks.com
SUMMARY:Clinical Reformer
DESCRIPTION:
URL:https://synergyhealthworks.com/event/clinical-reformer-41/2027-04-20/
LOCATION:Wagga Wagga | Reformer Studio\, 221 Kincaid Street\, Wagga Wagga\, NSW\, 2650\, Australia
CATEGORIES:Clinical Reformer
END:VEVENT
BEGIN:VEVENT
DTSTART;TZID=Australia/Sydney:20270422T093000
DTEND;TZID=Australia/Sydney:20270422T094500
DTSTAMP:20260425T224547
CREATED:20250901T032458Z
LAST-MODIFIED:20250909T053220Z
UID:10123187-1808386200-1808387100@synergyhealthworks.com
SUMMARY:Clinical Reformer (kids and babies welcome)
DESCRIPTION:
URL:https://synergyhealthworks.com/event/clinical-reformer-kids-and-babies-welcome/2027-04-22/
LOCATION:Gundagai\, 114 Sheridan Street\, Gundagai\, NSW\, 2722\, Australia
CATEGORIES:Clinical Reformer
END:VEVENT
BEGIN:VEVENT
DTSTART;TZID=Australia/Sydney:20270422T120000
DTEND;TZID=Australia/Sydney:20270422T124500
DTSTAMP:20260425T224547
CREATED:20250901T032555Z
LAST-MODIFIED:20250909T053149Z
UID:10123767-1808395200-1808397900@synergyhealthworks.com
SUMMARY:Clinical Reformer (kids and babies welcome)
DESCRIPTION:
URL:https://synergyhealthworks.com/event/clinical-reformer-kids-and-babies-welcome-2/2027-04-22/
LOCATION:Gundagai\, 114 Sheridan Street\, Gundagai\, NSW\, 2722\, Australia
CATEGORIES:Clinical Reformer
END:VEVENT
BEGIN:VEVENT
DTSTART;TZID=Australia/Sydney:20270426T120000
DTEND;TZID=Australia/Sydney:20270426T124500
DTSTAMP:20260425T224547
CREATED:20250829T044037Z
LAST-MODIFIED:20250829T044037Z
UID:10122318-1808740800-1808743500@synergyhealthworks.com
SUMMARY:Strength and Conditioning Class
DESCRIPTION:
URL:https://synergyhealthworks.com/event/strength-and-conditioning-class-3/2027-04-26/
LOCATION:Wagga Wagga | Fitness Hub\, 1/21-25 Forsyth Street\, Wagga Wagga\, NSW\, 2650\, Australia
CATEGORIES:Strength and Conditioning
END:VEVENT
BEGIN:VEVENT
DTSTART;TZID=Australia/Sydney:20270426T130000
DTEND;TZID=Australia/Sydney:20270426T134500
DTSTAMP:20260425T224547
CREATED:20251112T001650Z
LAST-MODIFIED:20251112T001650Z
UID:10127450-1808744400-1808747100@synergyhealthworks.com
SUMMARY:Strength and Conditioning Class
DESCRIPTION:
URL:https://synergyhealthworks.com/event/strength-and-conditioning-class-5/2027-04-26/
LOCATION:Wagga Wagga | Fitness Hub\, 1/21-25 Forsyth Street\, Wagga Wagga\, NSW\, 2650\, Australia
CATEGORIES:Strength and Conditioning
END:VEVENT
BEGIN:VEVENT
DTSTART;TZID=Australia/Sydney:20270426T163000
DTEND;TZID=Australia/Sydney:20270426T171500
DTSTAMP:20260425T224547
CREATED:20250502T051402Z
LAST-MODIFIED:20250502T051402Z
UID:10116587-1808757000-1808759700@synergyhealthworks.com
SUMMARY:Women’s Pregnancy Strength Class
DESCRIPTION:
URL:https://synergyhealthworks.com/event/womens-pregnancy-strength-class/2027-04-26/
LOCATION:Wagga Wagga | Fitness Hub\, 1/21-25 Forsyth Street\, Wagga Wagga\, NSW\, 2650\, Australia
CATEGORIES:Women’s Pregnancy Strength Class
END:VEVENT
BEGIN:VEVENT
DTSTART;TZID=Australia/Sydney:20270427T093000
DTEND;TZID=Australia/Sydney:20270427T094500
DTSTAMP:20260425T224547
CREATED:20241204T020912Z
LAST-MODIFIED:20250901T032148Z
UID:10122608-1808818200-1808819100@synergyhealthworks.com
SUMMARY:Clinical Reformer
DESCRIPTION:
URL:https://synergyhealthworks.com/event/semi-private-reformer-16/2027-04-27/
LOCATION:Wagga Wagga | Reformer Studio\, 221 Kincaid Street\, Wagga Wagga\, NSW\, 2650\, Australia
CATEGORIES:Clinical Reformer
END:VEVENT
BEGIN:VEVENT
DTSTART;TZID=Australia/Sydney:20270427T103000
DTEND;TZID=Australia/Sydney:20270427T111500
DTSTAMP:20260425T224547
CREATED:20241204T012734Z
LAST-MODIFIED:20250129T031606Z
UID:10096587-1808821800-1808824500@synergyhealthworks.com
SUMMARY:Clinical Reformer
DESCRIPTION:
URL:https://synergyhealthworks.com/event/clinical-reformer-41/2027-04-27/
LOCATION:Wagga Wagga | Reformer Studio\, 221 Kincaid Street\, Wagga Wagga\, NSW\, 2650\, Australia
CATEGORIES:Clinical Reformer
END:VEVENT
BEGIN:VEVENT
DTSTART;TZID=Australia/Sydney:20270429T093000
DTEND;TZID=Australia/Sydney:20270429T094500
DTSTAMP:20260425T224547
CREATED:20250901T032458Z
LAST-MODIFIED:20250909T053220Z
UID:10123188-1808991000-1808991900@synergyhealthworks.com
SUMMARY:Clinical Reformer (kids and babies welcome)
DESCRIPTION:
URL:https://synergyhealthworks.com/event/clinical-reformer-kids-and-babies-welcome/2027-04-29/
LOCATION:Gundagai\, 114 Sheridan Street\, Gundagai\, NSW\, 2722\, Australia
CATEGORIES:Clinical Reformer
END:VEVENT
BEGIN:VEVENT
DTSTART;TZID=Australia/Sydney:20270429T120000
DTEND;TZID=Australia/Sydney:20270429T124500
DTSTAMP:20260425T224547
CREATED:20250901T032555Z
LAST-MODIFIED:20250909T053149Z
UID:10123768-1809000000-1809002700@synergyhealthworks.com
SUMMARY:Clinical Reformer (kids and babies welcome)
DESCRIPTION:
URL:https://synergyhealthworks.com/event/clinical-reformer-kids-and-babies-welcome-2/2027-04-29/
LOCATION:Gundagai\, 114 Sheridan Street\, Gundagai\, NSW\, 2722\, Australia
CATEGORIES:Clinical Reformer
END:VEVENT
BEGIN:VEVENT
DTSTART;TZID=Australia/Sydney:20270503T120000
DTEND;TZID=Australia/Sydney:20270503T124500
DTSTAMP:20260425T224547
CREATED:20250829T044037Z
LAST-MODIFIED:20250829T044037Z
UID:10122319-1809345600-1809348300@synergyhealthworks.com
SUMMARY:Strength and Conditioning Class
DESCRIPTION:
URL:https://synergyhealthworks.com/event/strength-and-conditioning-class-3/2027-05-03/
LOCATION:Wagga Wagga | Fitness Hub\, 1/21-25 Forsyth Street\, Wagga Wagga\, NSW\, 2650\, Australia
CATEGORIES:Strength and Conditioning
END:VEVENT
BEGIN:VEVENT
DTSTART;TZID=Australia/Sydney:20270503T130000
DTEND;TZID=Australia/Sydney:20270503T134500
DTSTAMP:20260425T224547
CREATED:20251112T001650Z
LAST-MODIFIED:20251112T001650Z
UID:10127451-1809349200-1809351900@synergyhealthworks.com
SUMMARY:Strength and Conditioning Class
DESCRIPTION:
URL:https://synergyhealthworks.com/event/strength-and-conditioning-class-5/2027-05-03/
LOCATION:Wagga Wagga | Fitness Hub\, 1/21-25 Forsyth Street\, Wagga Wagga\, NSW\, 2650\, Australia
CATEGORIES:Strength and Conditioning
END:VEVENT
BEGIN:VEVENT
DTSTART;TZID=Australia/Sydney:20270503T163000
DTEND;TZID=Australia/Sydney:20270503T171500
DTSTAMP:20260425T224547
CREATED:20250502T051402Z
LAST-MODIFIED:20250502T051402Z
UID:10116588-1809361800-1809364500@synergyhealthworks.com
SUMMARY:Women’s Pregnancy Strength Class
DESCRIPTION:
URL:https://synergyhealthworks.com/event/womens-pregnancy-strength-class/2027-05-03/
LOCATION:Wagga Wagga | Fitness Hub\, 1/21-25 Forsyth Street\, Wagga Wagga\, NSW\, 2650\, Australia
CATEGORIES:Women’s Pregnancy Strength Class
END:VEVENT
BEGIN:VEVENT
DTSTART;TZID=Australia/Sydney:20270504T093000
DTEND;TZID=Australia/Sydney:20270504T094500
DTSTAMP:20260425T224547
CREATED:20241204T020912Z
LAST-MODIFIED:20250901T032148Z
UID:10122609-1809423000-1809423900@synergyhealthworks.com
SUMMARY:Clinical Reformer
DESCRIPTION:
URL:https://synergyhealthworks.com/event/semi-private-reformer-16/2027-05-04/
LOCATION:Wagga Wagga | Reformer Studio\, 221 Kincaid Street\, Wagga Wagga\, NSW\, 2650\, Australia
CATEGORIES:Clinical Reformer
END:VEVENT
BEGIN:VEVENT
DTSTART;TZID=Australia/Sydney:20270504T103000
DTEND;TZID=Australia/Sydney:20270504T111500
DTSTAMP:20260425T224547
CREATED:20241204T012734Z
LAST-MODIFIED:20250129T031606Z
UID:10096588-1809426600-1809429300@synergyhealthworks.com
SUMMARY:Clinical Reformer
DESCRIPTION:
URL:https://synergyhealthworks.com/event/clinical-reformer-41/2027-05-04/
LOCATION:Wagga Wagga | Reformer Studio\, 221 Kincaid Street\, Wagga Wagga\, NSW\, 2650\, Australia
CATEGORIES:Clinical Reformer
END:VEVENT
BEGIN:VEVENT
DTSTART;TZID=Australia/Sydney:20270506T093000
DTEND;TZID=Australia/Sydney:20270506T094500
DTSTAMP:20260425T224547
CREATED:20250901T032458Z
LAST-MODIFIED:20250909T053220Z
UID:10123189-1809595800-1809596700@synergyhealthworks.com
SUMMARY:Clinical Reformer (kids and babies welcome)
DESCRIPTION:
URL:https://synergyhealthworks.com/event/clinical-reformer-kids-and-babies-welcome/2027-05-06/
LOCATION:Gundagai\, 114 Sheridan Street\, Gundagai\, NSW\, 2722\, Australia
CATEGORIES:Clinical Reformer
END:VEVENT
BEGIN:VEVENT
DTSTART;TZID=Australia/Sydney:20270506T120000
DTEND;TZID=Australia/Sydney:20270506T124500
DTSTAMP:20260425T224547
CREATED:20250901T032555Z
LAST-MODIFIED:20250909T053149Z
UID:10123769-1809604800-1809607500@synergyhealthworks.com
SUMMARY:Clinical Reformer (kids and babies welcome)
DESCRIPTION:
URL:https://synergyhealthworks.com/event/clinical-reformer-kids-and-babies-welcome-2/2027-05-06/
LOCATION:Gundagai\, 114 Sheridan Street\, Gundagai\, NSW\, 2722\, Australia
CATEGORIES:Clinical Reformer
END:VEVENT
BEGIN:VEVENT
DTSTART;TZID=Australia/Sydney:20270510T120000
DTEND;TZID=Australia/Sydney:20270510T124500
DTSTAMP:20260425T224547
CREATED:20250829T044037Z
LAST-MODIFIED:20250829T044037Z
UID:10122320-1809950400-1809953100@synergyhealthworks.com
SUMMARY:Strength and Conditioning Class
DESCRIPTION:
URL:https://synergyhealthworks.com/event/strength-and-conditioning-class-3/2027-05-10/
LOCATION:Wagga Wagga | Fitness Hub\, 1/21-25 Forsyth Street\, Wagga Wagga\, NSW\, 2650\, Australia
CATEGORIES:Strength and Conditioning
END:VEVENT
BEGIN:VEVENT
DTSTART;TZID=Australia/Sydney:20270510T130000
DTEND;TZID=Australia/Sydney:20270510T134500
DTSTAMP:20260425T224547
CREATED:20251112T001650Z
LAST-MODIFIED:20251112T001650Z
UID:10127452-1809954000-1809956700@synergyhealthworks.com
SUMMARY:Strength and Conditioning Class
DESCRIPTION:
URL:https://synergyhealthworks.com/event/strength-and-conditioning-class-5/2027-05-10/
LOCATION:Wagga Wagga | Fitness Hub\, 1/21-25 Forsyth Street\, Wagga Wagga\, NSW\, 2650\, Australia
CATEGORIES:Strength and Conditioning
END:VEVENT
BEGIN:VEVENT
DTSTART;TZID=Australia/Sydney:20270510T163000
DTEND;TZID=Australia/Sydney:20270510T171500
DTSTAMP:20260425T224547
CREATED:20250502T051402Z
LAST-MODIFIED:20250502T051402Z
UID:10116589-1809966600-1809969300@synergyhealthworks.com
SUMMARY:Women’s Pregnancy Strength Class
DESCRIPTION:
URL:https://synergyhealthworks.com/event/womens-pregnancy-strength-class/2027-05-10/
LOCATION:Wagga Wagga | Fitness Hub\, 1/21-25 Forsyth Street\, Wagga Wagga\, NSW\, 2650\, Australia
CATEGORIES:Women’s Pregnancy Strength Class
END:VEVENT
BEGIN:VEVENT
DTSTART;TZID=Australia/Sydney:20270511T093000
DTEND;TZID=Australia/Sydney:20270511T094500
DTSTAMP:20260425T224547
CREATED:20241204T020912Z
LAST-MODIFIED:20250901T032148Z
UID:10122610-1810027800-1810028700@synergyhealthworks.com
SUMMARY:Clinical Reformer
DESCRIPTION:
URL:https://synergyhealthworks.com/event/semi-private-reformer-16/2027-05-11/
LOCATION:Wagga Wagga | Reformer Studio\, 221 Kincaid Street\, Wagga Wagga\, NSW\, 2650\, Australia
CATEGORIES:Clinical Reformer
END:VEVENT
BEGIN:VEVENT
DTSTART;TZID=Australia/Sydney:20270511T103000
DTEND;TZID=Australia/Sydney:20270511T111500
DTSTAMP:20260425T224547
CREATED:20241204T012734Z
LAST-MODIFIED:20250129T031606Z
UID:10096589-1810031400-1810034100@synergyhealthworks.com
SUMMARY:Clinical Reformer
DESCRIPTION:
URL:https://synergyhealthworks.com/event/clinical-reformer-41/2027-05-11/
LOCATION:Wagga Wagga | Reformer Studio\, 221 Kincaid Street\, Wagga Wagga\, NSW\, 2650\, Australia
CATEGORIES:Clinical Reformer
END:VEVENT
BEGIN:VEVENT
DTSTART;TZID=Australia/Sydney:20270513T093000
DTEND;TZID=Australia/Sydney:20270513T094500
DTSTAMP:20260425T224547
CREATED:20250901T032458Z
LAST-MODIFIED:20250909T053220Z
UID:10123190-1810200600-1810201500@synergyhealthworks.com
SUMMARY:Clinical Reformer (kids and babies welcome)
DESCRIPTION:
URL:https://synergyhealthworks.com/event/clinical-reformer-kids-and-babies-welcome/2027-05-13/
LOCATION:Gundagai\, 114 Sheridan Street\, Gundagai\, NSW\, 2722\, Australia
CATEGORIES:Clinical Reformer
END:VEVENT
BEGIN:VEVENT
DTSTART;TZID=Australia/Sydney:20270513T120000
DTEND;TZID=Australia/Sydney:20270513T124500
DTSTAMP:20260425T224547
CREATED:20250901T032555Z
LAST-MODIFIED:20250909T053149Z
UID:10123770-1810209600-1810212300@synergyhealthworks.com
SUMMARY:Clinical Reformer (kids and babies welcome)
DESCRIPTION:
URL:https://synergyhealthworks.com/event/clinical-reformer-kids-and-babies-welcome-2/2027-05-13/
LOCATION:Gundagai\, 114 Sheridan Street\, Gundagai\, NSW\, 2722\, Australia
CATEGORIES:Clinical Reformer
END:VEVENT
BEGIN:VEVENT
DTSTART;TZID=Australia/Sydney:20270517T120000
DTEND;TZID=Australia/Sydney:20270517T124500
DTSTAMP:20260425T224547
CREATED:20250829T044037Z
LAST-MODIFIED:20250829T044037Z
UID:10122321-1810555200-1810557900@synergyhealthworks.com
SUMMARY:Strength and Conditioning Class
DESCRIPTION:
URL:https://synergyhealthworks.com/event/strength-and-conditioning-class-3/2027-05-17/
LOCATION:Wagga Wagga | Fitness Hub\, 1/21-25 Forsyth Street\, Wagga Wagga\, NSW\, 2650\, Australia
CATEGORIES:Strength and Conditioning
END:VEVENT
BEGIN:VEVENT
DTSTART;TZID=Australia/Sydney:20270517T130000
DTEND;TZID=Australia/Sydney:20270517T134500
DTSTAMP:20260425T224547
CREATED:20251112T001650Z
LAST-MODIFIED:20251112T001650Z
UID:10127453-1810558800-1810561500@synergyhealthworks.com
SUMMARY:Strength and Conditioning Class
DESCRIPTION:
URL:https://synergyhealthworks.com/event/strength-and-conditioning-class-5/2027-05-17/
LOCATION:Wagga Wagga | Fitness Hub\, 1/21-25 Forsyth Street\, Wagga Wagga\, NSW\, 2650\, Australia
CATEGORIES:Strength and Conditioning
END:VEVENT
BEGIN:VEVENT
DTSTART;TZID=Australia/Sydney:20270517T163000
DTEND;TZID=Australia/Sydney:20270517T171500
DTSTAMP:20260425T224547
CREATED:20250502T051402Z
LAST-MODIFIED:20250502T051402Z
UID:10116590-1810571400-1810574100@synergyhealthworks.com
SUMMARY:Women’s Pregnancy Strength Class
DESCRIPTION:
URL:https://synergyhealthworks.com/event/womens-pregnancy-strength-class/2027-05-17/
LOCATION:Wagga Wagga | Fitness Hub\, 1/21-25 Forsyth Street\, Wagga Wagga\, NSW\, 2650\, Australia
CATEGORIES:Women’s Pregnancy Strength Class
END:VEVENT
BEGIN:VEVENT
DTSTART;TZID=Australia/Sydney:20270518T093000
DTEND;TZID=Australia/Sydney:20270518T094500
DTSTAMP:20260425T224547
CREATED:20241204T020912Z
LAST-MODIFIED:20250901T032148Z
UID:10122611-1810632600-1810633500@synergyhealthworks.com
SUMMARY:Clinical Reformer
DESCRIPTION:
URL:https://synergyhealthworks.com/event/semi-private-reformer-16/2027-05-18/
LOCATION:Wagga Wagga | Reformer Studio\, 221 Kincaid Street\, Wagga Wagga\, NSW\, 2650\, Australia
CATEGORIES:Clinical Reformer
END:VEVENT
BEGIN:VEVENT
DTSTART;TZID=Australia/Sydney:20270518T103000
DTEND;TZID=Australia/Sydney:20270518T111500
DTSTAMP:20260425T224547
CREATED:20241204T012734Z
LAST-MODIFIED:20250129T031606Z
UID:10096590-1810636200-1810638900@synergyhealthworks.com
SUMMARY:Clinical Reformer
DESCRIPTION:
URL:https://synergyhealthworks.com/event/clinical-reformer-41/2027-05-18/
LOCATION:Wagga Wagga | Reformer Studio\, 221 Kincaid Street\, Wagga Wagga\, NSW\, 2650\, Australia
CATEGORIES:Clinical Reformer
END:VEVENT
END:VCALENDAR