BEGIN:VCALENDAR
VERSION:2.0
PRODID:-//Synergy Healthworks - ECPv6.15.20//NONSGML v1.0//EN
CALSCALE:GREGORIAN
METHOD:PUBLISH
X-ORIGINAL-URL:https://synergyhealthworks.com
X-WR-CALDESC:Events for Synergy Healthworks
REFRESH-INTERVAL;VALUE=DURATION:PT1H
X-Robots-Tag:noindex
X-PUBLISHED-TTL:PT1H
BEGIN:VTIMEZONE
TZID:Australia/Sydney
BEGIN:STANDARD
TZOFFSETFROM:+1100
TZOFFSETTO:+1000
TZNAME:AEST
DTSTART:20260404T160000
END:STANDARD
BEGIN:DAYLIGHT
TZOFFSETFROM:+1000
TZOFFSETTO:+1100
TZNAME:AEDT
DTSTART:20261003T160000
END:DAYLIGHT
BEGIN:STANDARD
TZOFFSETFROM:+1100
TZOFFSETTO:+1000
TZNAME:AEST
DTSTART:20270403T160000
END:STANDARD
BEGIN:DAYLIGHT
TZOFFSETFROM:+1000
TZOFFSETTO:+1100
TZNAME:AEDT
DTSTART:20271002T160000
END:DAYLIGHT
BEGIN:STANDARD
TZOFFSETFROM:+1100
TZOFFSETTO:+1000
TZNAME:AEST
DTSTART:20280401T160000
END:STANDARD
BEGIN:DAYLIGHT
TZOFFSETFROM:+1000
TZOFFSETTO:+1100
TZNAME:AEDT
DTSTART:20280930T160000
END:DAYLIGHT
END:VTIMEZONE
BEGIN:VEVENT
DTSTART;TZID=Australia/Sydney:20270104T120000
DTEND;TZID=Australia/Sydney:20270104T124500
DTSTAMP:20260425T072530
CREATED:20250829T044037Z
LAST-MODIFIED:20250829T044037Z
UID:10122302-1799064000-1799066700@synergyhealthworks.com
SUMMARY:Strength and Conditioning Class
DESCRIPTION:
URL:https://synergyhealthworks.com/event/strength-and-conditioning-class-3/2027-01-04/
LOCATION:Wagga Wagga | Fitness Hub\, 1/21-25 Forsyth Street\, Wagga Wagga\, NSW\, 2650\, Australia
CATEGORIES:Strength and Conditioning
END:VEVENT
BEGIN:VEVENT
DTSTART;TZID=Australia/Sydney:20270104T130000
DTEND;TZID=Australia/Sydney:20270104T134500
DTSTAMP:20260425T072530
CREATED:20251112T001650Z
LAST-MODIFIED:20251112T001650Z
UID:10127434-1799067600-1799070300@synergyhealthworks.com
SUMMARY:Strength and Conditioning Class
DESCRIPTION:
URL:https://synergyhealthworks.com/event/strength-and-conditioning-class-5/2027-01-04/
LOCATION:Wagga Wagga | Fitness Hub\, 1/21-25 Forsyth Street\, Wagga Wagga\, NSW\, 2650\, Australia
CATEGORIES:Strength and Conditioning
END:VEVENT
BEGIN:VEVENT
DTSTART;TZID=Australia/Sydney:20270104T163000
DTEND;TZID=Australia/Sydney:20270104T171500
DTSTAMP:20260425T072530
CREATED:20250502T051402Z
LAST-MODIFIED:20250502T051402Z
UID:10116571-1799080200-1799082900@synergyhealthworks.com
SUMMARY:Women’s Pregnancy Strength Class
DESCRIPTION:
URL:https://synergyhealthworks.com/event/womens-pregnancy-strength-class/2027-01-04/
LOCATION:Wagga Wagga | Fitness Hub\, 1/21-25 Forsyth Street\, Wagga Wagga\, NSW\, 2650\, Australia
CATEGORIES:Women’s Pregnancy Strength Class
END:VEVENT
BEGIN:VEVENT
DTSTART;TZID=Australia/Sydney:20270105T093000
DTEND;TZID=Australia/Sydney:20270105T094500
DTSTAMP:20260425T072530
CREATED:20241204T020912Z
LAST-MODIFIED:20250901T032148Z
UID:10122592-1799141400-1799142300@synergyhealthworks.com
SUMMARY:Clinical Reformer
DESCRIPTION:
URL:https://synergyhealthworks.com/event/semi-private-reformer-16/2027-01-05/
LOCATION:Wagga Wagga | Reformer Studio\, 221 Kincaid Street\, Wagga Wagga\, NSW\, 2650\, Australia
CATEGORIES:Clinical Reformer
END:VEVENT
BEGIN:VEVENT
DTSTART;TZID=Australia/Sydney:20270105T103000
DTEND;TZID=Australia/Sydney:20270105T111500
DTSTAMP:20260425T072530
CREATED:20241204T012734Z
LAST-MODIFIED:20250129T031606Z
UID:10096571-1799145000-1799147700@synergyhealthworks.com
SUMMARY:Clinical Reformer
DESCRIPTION:
URL:https://synergyhealthworks.com/event/clinical-reformer-41/2027-01-05/
LOCATION:Wagga Wagga | Reformer Studio\, 221 Kincaid Street\, Wagga Wagga\, NSW\, 2650\, Australia
CATEGORIES:Clinical Reformer
END:VEVENT
BEGIN:VEVENT
DTSTART;TZID=Australia/Sydney:20270107T093000
DTEND;TZID=Australia/Sydney:20270107T094500
DTSTAMP:20260425T072530
CREATED:20250901T032458Z
LAST-MODIFIED:20250909T053220Z
UID:10123172-1799314200-1799315100@synergyhealthworks.com
SUMMARY:Clinical Reformer (kids and babies welcome)
DESCRIPTION:
URL:https://synergyhealthworks.com/event/clinical-reformer-kids-and-babies-welcome/2027-01-07/
LOCATION:Gundagai\, 114 Sheridan Street\, Gundagai\, NSW\, 2722\, Australia
CATEGORIES:Clinical Reformer
END:VEVENT
BEGIN:VEVENT
DTSTART;TZID=Australia/Sydney:20270107T120000
DTEND;TZID=Australia/Sydney:20270107T124500
DTSTAMP:20260425T072530
CREATED:20250901T032555Z
LAST-MODIFIED:20250909T053149Z
UID:10123752-1799323200-1799325900@synergyhealthworks.com
SUMMARY:Clinical Reformer (kids and babies welcome)
DESCRIPTION:
URL:https://synergyhealthworks.com/event/clinical-reformer-kids-and-babies-welcome-2/2027-01-07/
LOCATION:Gundagai\, 114 Sheridan Street\, Gundagai\, NSW\, 2722\, Australia
CATEGORIES:Clinical Reformer
END:VEVENT
BEGIN:VEVENT
DTSTART;TZID=Australia/Sydney:20270111T120000
DTEND;TZID=Australia/Sydney:20270111T124500
DTSTAMP:20260425T072530
CREATED:20250829T044037Z
LAST-MODIFIED:20250829T044037Z
UID:10122303-1799668800-1799671500@synergyhealthworks.com
SUMMARY:Strength and Conditioning Class
DESCRIPTION:
URL:https://synergyhealthworks.com/event/strength-and-conditioning-class-3/2027-01-11/
LOCATION:Wagga Wagga | Fitness Hub\, 1/21-25 Forsyth Street\, Wagga Wagga\, NSW\, 2650\, Australia
CATEGORIES:Strength and Conditioning
END:VEVENT
BEGIN:VEVENT
DTSTART;TZID=Australia/Sydney:20270111T130000
DTEND;TZID=Australia/Sydney:20270111T134500
DTSTAMP:20260425T072530
CREATED:20251112T001650Z
LAST-MODIFIED:20251112T001650Z
UID:10127435-1799672400-1799675100@synergyhealthworks.com
SUMMARY:Strength and Conditioning Class
DESCRIPTION:
URL:https://synergyhealthworks.com/event/strength-and-conditioning-class-5/2027-01-11/
LOCATION:Wagga Wagga | Fitness Hub\, 1/21-25 Forsyth Street\, Wagga Wagga\, NSW\, 2650\, Australia
CATEGORIES:Strength and Conditioning
END:VEVENT
BEGIN:VEVENT
DTSTART;TZID=Australia/Sydney:20270111T163000
DTEND;TZID=Australia/Sydney:20270111T171500
DTSTAMP:20260425T072530
CREATED:20250502T051402Z
LAST-MODIFIED:20250502T051402Z
UID:10116572-1799685000-1799687700@synergyhealthworks.com
SUMMARY:Women’s Pregnancy Strength Class
DESCRIPTION:
URL:https://synergyhealthworks.com/event/womens-pregnancy-strength-class/2027-01-11/
LOCATION:Wagga Wagga | Fitness Hub\, 1/21-25 Forsyth Street\, Wagga Wagga\, NSW\, 2650\, Australia
CATEGORIES:Women’s Pregnancy Strength Class
END:VEVENT
BEGIN:VEVENT
DTSTART;TZID=Australia/Sydney:20270112T093000
DTEND;TZID=Australia/Sydney:20270112T094500
DTSTAMP:20260425T072530
CREATED:20241204T020912Z
LAST-MODIFIED:20250901T032148Z
UID:10122593-1799746200-1799747100@synergyhealthworks.com
SUMMARY:Clinical Reformer
DESCRIPTION:
URL:https://synergyhealthworks.com/event/semi-private-reformer-16/2027-01-12/
LOCATION:Wagga Wagga | Reformer Studio\, 221 Kincaid Street\, Wagga Wagga\, NSW\, 2650\, Australia
CATEGORIES:Clinical Reformer
END:VEVENT
BEGIN:VEVENT
DTSTART;TZID=Australia/Sydney:20270112T103000
DTEND;TZID=Australia/Sydney:20270112T111500
DTSTAMP:20260425T072530
CREATED:20241204T012734Z
LAST-MODIFIED:20250129T031606Z
UID:10096572-1799749800-1799752500@synergyhealthworks.com
SUMMARY:Clinical Reformer
DESCRIPTION:
URL:https://synergyhealthworks.com/event/clinical-reformer-41/2027-01-12/
LOCATION:Wagga Wagga | Reformer Studio\, 221 Kincaid Street\, Wagga Wagga\, NSW\, 2650\, Australia
CATEGORIES:Clinical Reformer
END:VEVENT
BEGIN:VEVENT
DTSTART;TZID=Australia/Sydney:20270114T093000
DTEND;TZID=Australia/Sydney:20270114T094500
DTSTAMP:20260425T072530
CREATED:20250901T032458Z
LAST-MODIFIED:20250909T053220Z
UID:10123173-1799919000-1799919900@synergyhealthworks.com
SUMMARY:Clinical Reformer (kids and babies welcome)
DESCRIPTION:
URL:https://synergyhealthworks.com/event/clinical-reformer-kids-and-babies-welcome/2027-01-14/
LOCATION:Gundagai\, 114 Sheridan Street\, Gundagai\, NSW\, 2722\, Australia
CATEGORIES:Clinical Reformer
END:VEVENT
BEGIN:VEVENT
DTSTART;TZID=Australia/Sydney:20270114T120000
DTEND;TZID=Australia/Sydney:20270114T124500
DTSTAMP:20260425T072530
CREATED:20250901T032555Z
LAST-MODIFIED:20250909T053149Z
UID:10123753-1799928000-1799930700@synergyhealthworks.com
SUMMARY:Clinical Reformer (kids and babies welcome)
DESCRIPTION:
URL:https://synergyhealthworks.com/event/clinical-reformer-kids-and-babies-welcome-2/2027-01-14/
LOCATION:Gundagai\, 114 Sheridan Street\, Gundagai\, NSW\, 2722\, Australia
CATEGORIES:Clinical Reformer
END:VEVENT
BEGIN:VEVENT
DTSTART;TZID=Australia/Sydney:20270118T120000
DTEND;TZID=Australia/Sydney:20270118T124500
DTSTAMP:20260425T072530
CREATED:20250829T044037Z
LAST-MODIFIED:20250829T044037Z
UID:10122304-1800273600-1800276300@synergyhealthworks.com
SUMMARY:Strength and Conditioning Class
DESCRIPTION:
URL:https://synergyhealthworks.com/event/strength-and-conditioning-class-3/2027-01-18/
LOCATION:Wagga Wagga | Fitness Hub\, 1/21-25 Forsyth Street\, Wagga Wagga\, NSW\, 2650\, Australia
CATEGORIES:Strength and Conditioning
END:VEVENT
BEGIN:VEVENT
DTSTART;TZID=Australia/Sydney:20270118T130000
DTEND;TZID=Australia/Sydney:20270118T134500
DTSTAMP:20260425T072530
CREATED:20251112T001650Z
LAST-MODIFIED:20251112T001650Z
UID:10127436-1800277200-1800279900@synergyhealthworks.com
SUMMARY:Strength and Conditioning Class
DESCRIPTION:
URL:https://synergyhealthworks.com/event/strength-and-conditioning-class-5/2027-01-18/
LOCATION:Wagga Wagga | Fitness Hub\, 1/21-25 Forsyth Street\, Wagga Wagga\, NSW\, 2650\, Australia
CATEGORIES:Strength and Conditioning
END:VEVENT
BEGIN:VEVENT
DTSTART;TZID=Australia/Sydney:20270118T163000
DTEND;TZID=Australia/Sydney:20270118T171500
DTSTAMP:20260425T072530
CREATED:20250502T051402Z
LAST-MODIFIED:20250502T051402Z
UID:10116573-1800289800-1800292500@synergyhealthworks.com
SUMMARY:Women’s Pregnancy Strength Class
DESCRIPTION:
URL:https://synergyhealthworks.com/event/womens-pregnancy-strength-class/2027-01-18/
LOCATION:Wagga Wagga | Fitness Hub\, 1/21-25 Forsyth Street\, Wagga Wagga\, NSW\, 2650\, Australia
CATEGORIES:Women’s Pregnancy Strength Class
END:VEVENT
BEGIN:VEVENT
DTSTART;TZID=Australia/Sydney:20270119T093000
DTEND;TZID=Australia/Sydney:20270119T094500
DTSTAMP:20260425T072530
CREATED:20241204T020912Z
LAST-MODIFIED:20250901T032148Z
UID:10122594-1800351000-1800351900@synergyhealthworks.com
SUMMARY:Clinical Reformer
DESCRIPTION:
URL:https://synergyhealthworks.com/event/semi-private-reformer-16/2027-01-19/
LOCATION:Wagga Wagga | Reformer Studio\, 221 Kincaid Street\, Wagga Wagga\, NSW\, 2650\, Australia
CATEGORIES:Clinical Reformer
END:VEVENT
BEGIN:VEVENT
DTSTART;TZID=Australia/Sydney:20270119T103000
DTEND;TZID=Australia/Sydney:20270119T111500
DTSTAMP:20260425T072530
CREATED:20241204T012734Z
LAST-MODIFIED:20250129T031606Z
UID:10096573-1800354600-1800357300@synergyhealthworks.com
SUMMARY:Clinical Reformer
DESCRIPTION:
URL:https://synergyhealthworks.com/event/clinical-reformer-41/2027-01-19/
LOCATION:Wagga Wagga | Reformer Studio\, 221 Kincaid Street\, Wagga Wagga\, NSW\, 2650\, Australia
CATEGORIES:Clinical Reformer
END:VEVENT
BEGIN:VEVENT
DTSTART;TZID=Australia/Sydney:20270121T093000
DTEND;TZID=Australia/Sydney:20270121T094500
DTSTAMP:20260425T072530
CREATED:20250901T032458Z
LAST-MODIFIED:20250909T053220Z
UID:10123174-1800523800-1800524700@synergyhealthworks.com
SUMMARY:Clinical Reformer (kids and babies welcome)
DESCRIPTION:
URL:https://synergyhealthworks.com/event/clinical-reformer-kids-and-babies-welcome/2027-01-21/
LOCATION:Gundagai\, 114 Sheridan Street\, Gundagai\, NSW\, 2722\, Australia
CATEGORIES:Clinical Reformer
END:VEVENT
BEGIN:VEVENT
DTSTART;TZID=Australia/Sydney:20270121T120000
DTEND;TZID=Australia/Sydney:20270121T124500
DTSTAMP:20260425T072530
CREATED:20250901T032555Z
LAST-MODIFIED:20250909T053149Z
UID:10123754-1800532800-1800535500@synergyhealthworks.com
SUMMARY:Clinical Reformer (kids and babies welcome)
DESCRIPTION:
URL:https://synergyhealthworks.com/event/clinical-reformer-kids-and-babies-welcome-2/2027-01-21/
LOCATION:Gundagai\, 114 Sheridan Street\, Gundagai\, NSW\, 2722\, Australia
CATEGORIES:Clinical Reformer
END:VEVENT
BEGIN:VEVENT
DTSTART;TZID=Australia/Sydney:20270125T120000
DTEND;TZID=Australia/Sydney:20270125T124500
DTSTAMP:20260425T072530
CREATED:20250829T044037Z
LAST-MODIFIED:20250829T044037Z
UID:10122305-1800878400-1800881100@synergyhealthworks.com
SUMMARY:Strength and Conditioning Class
DESCRIPTION:
URL:https://synergyhealthworks.com/event/strength-and-conditioning-class-3/2027-01-25/
LOCATION:Wagga Wagga | Fitness Hub\, 1/21-25 Forsyth Street\, Wagga Wagga\, NSW\, 2650\, Australia
CATEGORIES:Strength and Conditioning
END:VEVENT
BEGIN:VEVENT
DTSTART;TZID=Australia/Sydney:20270125T130000
DTEND;TZID=Australia/Sydney:20270125T134500
DTSTAMP:20260425T072530
CREATED:20251112T001650Z
LAST-MODIFIED:20251112T001650Z
UID:10127437-1800882000-1800884700@synergyhealthworks.com
SUMMARY:Strength and Conditioning Class
DESCRIPTION:
URL:https://synergyhealthworks.com/event/strength-and-conditioning-class-5/2027-01-25/
LOCATION:Wagga Wagga | Fitness Hub\, 1/21-25 Forsyth Street\, Wagga Wagga\, NSW\, 2650\, Australia
CATEGORIES:Strength and Conditioning
END:VEVENT
BEGIN:VEVENT
DTSTART;TZID=Australia/Sydney:20270125T163000
DTEND;TZID=Australia/Sydney:20270125T171500
DTSTAMP:20260425T072530
CREATED:20250502T051402Z
LAST-MODIFIED:20250502T051402Z
UID:10116574-1800894600-1800897300@synergyhealthworks.com
SUMMARY:Women’s Pregnancy Strength Class
DESCRIPTION:
URL:https://synergyhealthworks.com/event/womens-pregnancy-strength-class/2027-01-25/
LOCATION:Wagga Wagga | Fitness Hub\, 1/21-25 Forsyth Street\, Wagga Wagga\, NSW\, 2650\, Australia
CATEGORIES:Women’s Pregnancy Strength Class
END:VEVENT
BEGIN:VEVENT
DTSTART;TZID=Australia/Sydney:20270126T093000
DTEND;TZID=Australia/Sydney:20270126T094500
DTSTAMP:20260425T072530
CREATED:20241204T020912Z
LAST-MODIFIED:20250901T032148Z
UID:10122595-1800955800-1800956700@synergyhealthworks.com
SUMMARY:Clinical Reformer
DESCRIPTION:
URL:https://synergyhealthworks.com/event/semi-private-reformer-16/2027-01-26/
LOCATION:Wagga Wagga | Reformer Studio\, 221 Kincaid Street\, Wagga Wagga\, NSW\, 2650\, Australia
CATEGORIES:Clinical Reformer
END:VEVENT
BEGIN:VEVENT
DTSTART;TZID=Australia/Sydney:20270126T103000
DTEND;TZID=Australia/Sydney:20270126T111500
DTSTAMP:20260425T072530
CREATED:20241204T012734Z
LAST-MODIFIED:20250129T031606Z
UID:10096574-1800959400-1800962100@synergyhealthworks.com
SUMMARY:Clinical Reformer
DESCRIPTION:
URL:https://synergyhealthworks.com/event/clinical-reformer-41/2027-01-26/
LOCATION:Wagga Wagga | Reformer Studio\, 221 Kincaid Street\, Wagga Wagga\, NSW\, 2650\, Australia
CATEGORIES:Clinical Reformer
END:VEVENT
BEGIN:VEVENT
DTSTART;TZID=Australia/Sydney:20270128T093000
DTEND;TZID=Australia/Sydney:20270128T094500
DTSTAMP:20260425T072530
CREATED:20250901T032458Z
LAST-MODIFIED:20250909T053220Z
UID:10123175-1801128600-1801129500@synergyhealthworks.com
SUMMARY:Clinical Reformer (kids and babies welcome)
DESCRIPTION:
URL:https://synergyhealthworks.com/event/clinical-reformer-kids-and-babies-welcome/2027-01-28/
LOCATION:Gundagai\, 114 Sheridan Street\, Gundagai\, NSW\, 2722\, Australia
CATEGORIES:Clinical Reformer
END:VEVENT
BEGIN:VEVENT
DTSTART;TZID=Australia/Sydney:20270128T120000
DTEND;TZID=Australia/Sydney:20270128T124500
DTSTAMP:20260425T072530
CREATED:20250901T032555Z
LAST-MODIFIED:20250909T053149Z
UID:10123755-1801137600-1801140300@synergyhealthworks.com
SUMMARY:Clinical Reformer (kids and babies welcome)
DESCRIPTION:
URL:https://synergyhealthworks.com/event/clinical-reformer-kids-and-babies-welcome-2/2027-01-28/
LOCATION:Gundagai\, 114 Sheridan Street\, Gundagai\, NSW\, 2722\, Australia
CATEGORIES:Clinical Reformer
END:VEVENT
BEGIN:VEVENT
DTSTART;TZID=Australia/Sydney:20270201T120000
DTEND;TZID=Australia/Sydney:20270201T124500
DTSTAMP:20260425T072530
CREATED:20250829T044037Z
LAST-MODIFIED:20250829T044037Z
UID:10122306-1801483200-1801485900@synergyhealthworks.com
SUMMARY:Strength and Conditioning Class
DESCRIPTION:
URL:https://synergyhealthworks.com/event/strength-and-conditioning-class-3/2027-02-01/
LOCATION:Wagga Wagga | Fitness Hub\, 1/21-25 Forsyth Street\, Wagga Wagga\, NSW\, 2650\, Australia
CATEGORIES:Strength and Conditioning
END:VEVENT
BEGIN:VEVENT
DTSTART;TZID=Australia/Sydney:20270201T130000
DTEND;TZID=Australia/Sydney:20270201T134500
DTSTAMP:20260425T072530
CREATED:20251112T001650Z
LAST-MODIFIED:20251112T001650Z
UID:10127438-1801486800-1801489500@synergyhealthworks.com
SUMMARY:Strength and Conditioning Class
DESCRIPTION:
URL:https://synergyhealthworks.com/event/strength-and-conditioning-class-5/2027-02-01/
LOCATION:Wagga Wagga | Fitness Hub\, 1/21-25 Forsyth Street\, Wagga Wagga\, NSW\, 2650\, Australia
CATEGORIES:Strength and Conditioning
END:VEVENT
END:VCALENDAR