BEGIN:VCALENDAR
VERSION:2.0
PRODID:-//Synergy Healthworks - ECPv6.15.20//NONSGML v1.0//EN
CALSCALE:GREGORIAN
METHOD:PUBLISH
X-WR-CALNAME:Synergy Healthworks
X-ORIGINAL-URL:https://synergyhealthworks.com
X-WR-CALDESC:Events for Synergy Healthworks
REFRESH-INTERVAL;VALUE=DURATION:PT1H
X-Robots-Tag:noindex
X-PUBLISHED-TTL:PT1H
BEGIN:VTIMEZONE
TZID:Australia/Sydney
BEGIN:STANDARD
TZOFFSETFROM:+1100
TZOFFSETTO:+1000
TZNAME:AEST
DTSTART:20250405T160000
END:STANDARD
BEGIN:DAYLIGHT
TZOFFSETFROM:+1000
TZOFFSETTO:+1100
TZNAME:AEDT
DTSTART:20251004T160000
END:DAYLIGHT
BEGIN:STANDARD
TZOFFSETFROM:+1100
TZOFFSETTO:+1000
TZNAME:AEST
DTSTART:20260404T160000
END:STANDARD
BEGIN:DAYLIGHT
TZOFFSETFROM:+1000
TZOFFSETTO:+1100
TZNAME:AEDT
DTSTART:20261003T160000
END:DAYLIGHT
BEGIN:STANDARD
TZOFFSETFROM:+1100
TZOFFSETTO:+1000
TZNAME:AEST
DTSTART:20270403T160000
END:STANDARD
BEGIN:DAYLIGHT
TZOFFSETFROM:+1000
TZOFFSETTO:+1100
TZNAME:AEDT
DTSTART:20271002T160000
END:DAYLIGHT
BEGIN:STANDARD
TZOFFSETFROM:+1100
TZOFFSETTO:+1000
TZNAME:AEST
DTSTART:20280401T160000
END:STANDARD
BEGIN:DAYLIGHT
TZOFFSETFROM:+1000
TZOFFSETTO:+1100
TZNAME:AEDT
DTSTART:20280930T160000
END:DAYLIGHT
END:VTIMEZONE
BEGIN:VEVENT
DTSTART;TZID=Australia/Sydney:20261208T103000
DTEND;TZID=Australia/Sydney:20261208T111500
DTSTAMP:20260425T041904
CREATED:20241204T012734Z
LAST-MODIFIED:20250129T031606Z
UID:10096567-1796725800-1796728500@synergyhealthworks.com
SUMMARY:Clinical Reformer
DESCRIPTION:
URL:https://synergyhealthworks.com/event/clinical-reformer-41/2026-12-08/
LOCATION:Wagga Wagga | Reformer Studio\, 221 Kincaid Street\, Wagga Wagga\, NSW\, 2650\, Australia
CATEGORIES:Clinical Reformer
END:VEVENT
BEGIN:VEVENT
DTSTART;TZID=Australia/Sydney:20261210T093000
DTEND;TZID=Australia/Sydney:20261210T094500
DTSTAMP:20260425T041904
CREATED:20250901T032458Z
LAST-MODIFIED:20250909T053220Z
UID:10123168-1796895000-1796895900@synergyhealthworks.com
SUMMARY:Clinical Reformer (kids and babies welcome)
DESCRIPTION:
URL:https://synergyhealthworks.com/event/clinical-reformer-kids-and-babies-welcome/2026-12-10/
LOCATION:Gundagai\, 114 Sheridan Street\, Gundagai\, NSW\, 2722\, Australia
CATEGORIES:Clinical Reformer
END:VEVENT
BEGIN:VEVENT
DTSTART;TZID=Australia/Sydney:20261210T120000
DTEND;TZID=Australia/Sydney:20261210T124500
DTSTAMP:20260425T041904
CREATED:20250901T032555Z
LAST-MODIFIED:20250909T053149Z
UID:10123748-1796904000-1796906700@synergyhealthworks.com
SUMMARY:Clinical Reformer (kids and babies welcome)
DESCRIPTION:
URL:https://synergyhealthworks.com/event/clinical-reformer-kids-and-babies-welcome-2/2026-12-10/
LOCATION:Gundagai\, 114 Sheridan Street\, Gundagai\, NSW\, 2722\, Australia
CATEGORIES:Clinical Reformer
END:VEVENT
BEGIN:VEVENT
DTSTART;TZID=Australia/Sydney:20261214T120000
DTEND;TZID=Australia/Sydney:20261214T124500
DTSTAMP:20260425T041904
CREATED:20250829T044037Z
LAST-MODIFIED:20250829T044037Z
UID:10122299-1797249600-1797252300@synergyhealthworks.com
SUMMARY:Strength and Conditioning Class
DESCRIPTION:
URL:https://synergyhealthworks.com/event/strength-and-conditioning-class-3/2026-12-14/
LOCATION:Wagga Wagga | Fitness Hub\, 1/21-25 Forsyth Street\, Wagga Wagga\, NSW\, 2650\, Australia
CATEGORIES:Strength and Conditioning
END:VEVENT
BEGIN:VEVENT
DTSTART;TZID=Australia/Sydney:20261214T130000
DTEND;TZID=Australia/Sydney:20261214T134500
DTSTAMP:20260425T041904
CREATED:20251112T001650Z
LAST-MODIFIED:20251112T001650Z
UID:10127431-1797253200-1797255900@synergyhealthworks.com
SUMMARY:Strength and Conditioning Class
DESCRIPTION:
URL:https://synergyhealthworks.com/event/strength-and-conditioning-class-5/2026-12-14/
LOCATION:Wagga Wagga | Fitness Hub\, 1/21-25 Forsyth Street\, Wagga Wagga\, NSW\, 2650\, Australia
CATEGORIES:Strength and Conditioning
END:VEVENT
BEGIN:VEVENT
DTSTART;TZID=Australia/Sydney:20261214T163000
DTEND;TZID=Australia/Sydney:20261214T171500
DTSTAMP:20260425T041904
CREATED:20250502T051402Z
LAST-MODIFIED:20250502T051402Z
UID:10116568-1797265800-1797268500@synergyhealthworks.com
SUMMARY:Women’s Pregnancy Strength Class
DESCRIPTION:
URL:https://synergyhealthworks.com/event/womens-pregnancy-strength-class/2026-12-14/
LOCATION:Wagga Wagga | Fitness Hub\, 1/21-25 Forsyth Street\, Wagga Wagga\, NSW\, 2650\, Australia
CATEGORIES:Women’s Pregnancy Strength Class
END:VEVENT
BEGIN:VEVENT
DTSTART;TZID=Australia/Sydney:20261215T093000
DTEND;TZID=Australia/Sydney:20261215T094500
DTSTAMP:20260425T041904
CREATED:20241204T020912Z
LAST-MODIFIED:20250901T032148Z
UID:10122589-1797327000-1797327900@synergyhealthworks.com
SUMMARY:Clinical Reformer
DESCRIPTION:
URL:https://synergyhealthworks.com/event/semi-private-reformer-16/2026-12-15/
LOCATION:Wagga Wagga | Reformer Studio\, 221 Kincaid Street\, Wagga Wagga\, NSW\, 2650\, Australia
CATEGORIES:Clinical Reformer
END:VEVENT
BEGIN:VEVENT
DTSTART;TZID=Australia/Sydney:20261215T103000
DTEND;TZID=Australia/Sydney:20261215T111500
DTSTAMP:20260425T041904
CREATED:20241204T012734Z
LAST-MODIFIED:20250129T031606Z
UID:10096568-1797330600-1797333300@synergyhealthworks.com
SUMMARY:Clinical Reformer
DESCRIPTION:
URL:https://synergyhealthworks.com/event/clinical-reformer-41/2026-12-15/
LOCATION:Wagga Wagga | Reformer Studio\, 221 Kincaid Street\, Wagga Wagga\, NSW\, 2650\, Australia
CATEGORIES:Clinical Reformer
END:VEVENT
BEGIN:VEVENT
DTSTART;TZID=Australia/Sydney:20261217T093000
DTEND;TZID=Australia/Sydney:20261217T094500
DTSTAMP:20260425T041904
CREATED:20250901T032458Z
LAST-MODIFIED:20250909T053220Z
UID:10123169-1797499800-1797500700@synergyhealthworks.com
SUMMARY:Clinical Reformer (kids and babies welcome)
DESCRIPTION:
URL:https://synergyhealthworks.com/event/clinical-reformer-kids-and-babies-welcome/2026-12-17/
LOCATION:Gundagai\, 114 Sheridan Street\, Gundagai\, NSW\, 2722\, Australia
CATEGORIES:Clinical Reformer
END:VEVENT
BEGIN:VEVENT
DTSTART;TZID=Australia/Sydney:20261217T120000
DTEND;TZID=Australia/Sydney:20261217T124500
DTSTAMP:20260425T041904
CREATED:20250901T032555Z
LAST-MODIFIED:20250909T053149Z
UID:10123749-1797508800-1797511500@synergyhealthworks.com
SUMMARY:Clinical Reformer (kids and babies welcome)
DESCRIPTION:
URL:https://synergyhealthworks.com/event/clinical-reformer-kids-and-babies-welcome-2/2026-12-17/
LOCATION:Gundagai\, 114 Sheridan Street\, Gundagai\, NSW\, 2722\, Australia
CATEGORIES:Clinical Reformer
END:VEVENT
BEGIN:VEVENT
DTSTART;TZID=Australia/Sydney:20261221T120000
DTEND;TZID=Australia/Sydney:20261221T124500
DTSTAMP:20260425T041904
CREATED:20250829T044037Z
LAST-MODIFIED:20250829T044037Z
UID:10122300-1797854400-1797857100@synergyhealthworks.com
SUMMARY:Strength and Conditioning Class
DESCRIPTION:
URL:https://synergyhealthworks.com/event/strength-and-conditioning-class-3/2026-12-21/
LOCATION:Wagga Wagga | Fitness Hub\, 1/21-25 Forsyth Street\, Wagga Wagga\, NSW\, 2650\, Australia
CATEGORIES:Strength and Conditioning
END:VEVENT
BEGIN:VEVENT
DTSTART;TZID=Australia/Sydney:20261221T130000
DTEND;TZID=Australia/Sydney:20261221T134500
DTSTAMP:20260425T041904
CREATED:20251112T001650Z
LAST-MODIFIED:20251112T001650Z
UID:10127432-1797858000-1797860700@synergyhealthworks.com
SUMMARY:Strength and Conditioning Class
DESCRIPTION:
URL:https://synergyhealthworks.com/event/strength-and-conditioning-class-5/2026-12-21/
LOCATION:Wagga Wagga | Fitness Hub\, 1/21-25 Forsyth Street\, Wagga Wagga\, NSW\, 2650\, Australia
CATEGORIES:Strength and Conditioning
END:VEVENT
BEGIN:VEVENT
DTSTART;TZID=Australia/Sydney:20261221T163000
DTEND;TZID=Australia/Sydney:20261221T171500
DTSTAMP:20260425T041904
CREATED:20250502T051402Z
LAST-MODIFIED:20250502T051402Z
UID:10116569-1797870600-1797873300@synergyhealthworks.com
SUMMARY:Women’s Pregnancy Strength Class
DESCRIPTION:
URL:https://synergyhealthworks.com/event/womens-pregnancy-strength-class/2026-12-21/
LOCATION:Wagga Wagga | Fitness Hub\, 1/21-25 Forsyth Street\, Wagga Wagga\, NSW\, 2650\, Australia
CATEGORIES:Women’s Pregnancy Strength Class
END:VEVENT
BEGIN:VEVENT
DTSTART;TZID=Australia/Sydney:20261222T093000
DTEND;TZID=Australia/Sydney:20261222T094500
DTSTAMP:20260425T041904
CREATED:20241204T020912Z
LAST-MODIFIED:20250901T032148Z
UID:10122590-1797931800-1797932700@synergyhealthworks.com
SUMMARY:Clinical Reformer
DESCRIPTION:
URL:https://synergyhealthworks.com/event/semi-private-reformer-16/2026-12-22/
LOCATION:Wagga Wagga | Reformer Studio\, 221 Kincaid Street\, Wagga Wagga\, NSW\, 2650\, Australia
CATEGORIES:Clinical Reformer
END:VEVENT
BEGIN:VEVENT
DTSTART;TZID=Australia/Sydney:20261222T103000
DTEND;TZID=Australia/Sydney:20261222T111500
DTSTAMP:20260425T041904
CREATED:20241204T012734Z
LAST-MODIFIED:20250129T031606Z
UID:10096569-1797935400-1797938100@synergyhealthworks.com
SUMMARY:Clinical Reformer
DESCRIPTION:
URL:https://synergyhealthworks.com/event/clinical-reformer-41/2026-12-22/
LOCATION:Wagga Wagga | Reformer Studio\, 221 Kincaid Street\, Wagga Wagga\, NSW\, 2650\, Australia
CATEGORIES:Clinical Reformer
END:VEVENT
BEGIN:VEVENT
DTSTART;TZID=Australia/Sydney:20261224T093000
DTEND;TZID=Australia/Sydney:20261224T094500
DTSTAMP:20260425T041904
CREATED:20250901T032458Z
LAST-MODIFIED:20250909T053220Z
UID:10123170-1798104600-1798105500@synergyhealthworks.com
SUMMARY:Clinical Reformer (kids and babies welcome)
DESCRIPTION:
URL:https://synergyhealthworks.com/event/clinical-reformer-kids-and-babies-welcome/2026-12-24/
LOCATION:Gundagai\, 114 Sheridan Street\, Gundagai\, NSW\, 2722\, Australia
CATEGORIES:Clinical Reformer
END:VEVENT
BEGIN:VEVENT
DTSTART;TZID=Australia/Sydney:20261224T120000
DTEND;TZID=Australia/Sydney:20261224T124500
DTSTAMP:20260425T041904
CREATED:20250901T032555Z
LAST-MODIFIED:20250909T053149Z
UID:10123750-1798113600-1798116300@synergyhealthworks.com
SUMMARY:Clinical Reformer (kids and babies welcome)
DESCRIPTION:
URL:https://synergyhealthworks.com/event/clinical-reformer-kids-and-babies-welcome-2/2026-12-24/
LOCATION:Gundagai\, 114 Sheridan Street\, Gundagai\, NSW\, 2722\, Australia
CATEGORIES:Clinical Reformer
END:VEVENT
BEGIN:VEVENT
DTSTART;TZID=Australia/Sydney:20261228T120000
DTEND;TZID=Australia/Sydney:20261228T124500
DTSTAMP:20260425T041904
CREATED:20250829T044037Z
LAST-MODIFIED:20250829T044037Z
UID:10122301-1798459200-1798461900@synergyhealthworks.com
SUMMARY:Strength and Conditioning Class
DESCRIPTION:
URL:https://synergyhealthworks.com/event/strength-and-conditioning-class-3/2026-12-28/
LOCATION:Wagga Wagga | Fitness Hub\, 1/21-25 Forsyth Street\, Wagga Wagga\, NSW\, 2650\, Australia
CATEGORIES:Strength and Conditioning
END:VEVENT
BEGIN:VEVENT
DTSTART;TZID=Australia/Sydney:20261228T130000
DTEND;TZID=Australia/Sydney:20261228T134500
DTSTAMP:20260425T041904
CREATED:20251112T001650Z
LAST-MODIFIED:20251112T001650Z
UID:10127433-1798462800-1798465500@synergyhealthworks.com
SUMMARY:Strength and Conditioning Class
DESCRIPTION:
URL:https://synergyhealthworks.com/event/strength-and-conditioning-class-5/2026-12-28/
LOCATION:Wagga Wagga | Fitness Hub\, 1/21-25 Forsyth Street\, Wagga Wagga\, NSW\, 2650\, Australia
CATEGORIES:Strength and Conditioning
END:VEVENT
BEGIN:VEVENT
DTSTART;TZID=Australia/Sydney:20261228T163000
DTEND;TZID=Australia/Sydney:20261228T171500
DTSTAMP:20260425T041904
CREATED:20250502T051402Z
LAST-MODIFIED:20250502T051402Z
UID:10116570-1798475400-1798478100@synergyhealthworks.com
SUMMARY:Women’s Pregnancy Strength Class
DESCRIPTION:
URL:https://synergyhealthworks.com/event/womens-pregnancy-strength-class/2026-12-28/
LOCATION:Wagga Wagga | Fitness Hub\, 1/21-25 Forsyth Street\, Wagga Wagga\, NSW\, 2650\, Australia
CATEGORIES:Women’s Pregnancy Strength Class
END:VEVENT
BEGIN:VEVENT
DTSTART;TZID=Australia/Sydney:20261229T093000
DTEND;TZID=Australia/Sydney:20261229T094500
DTSTAMP:20260425T041904
CREATED:20241204T020912Z
LAST-MODIFIED:20250901T032148Z
UID:10122591-1798536600-1798537500@synergyhealthworks.com
SUMMARY:Clinical Reformer
DESCRIPTION:
URL:https://synergyhealthworks.com/event/semi-private-reformer-16/2026-12-29/
LOCATION:Wagga Wagga | Reformer Studio\, 221 Kincaid Street\, Wagga Wagga\, NSW\, 2650\, Australia
CATEGORIES:Clinical Reformer
END:VEVENT
BEGIN:VEVENT
DTSTART;TZID=Australia/Sydney:20261229T103000
DTEND;TZID=Australia/Sydney:20261229T111500
DTSTAMP:20260425T041904
CREATED:20241204T012734Z
LAST-MODIFIED:20250129T031606Z
UID:10096570-1798540200-1798542900@synergyhealthworks.com
SUMMARY:Clinical Reformer
DESCRIPTION:
URL:https://synergyhealthworks.com/event/clinical-reformer-41/2026-12-29/
LOCATION:Wagga Wagga | Reformer Studio\, 221 Kincaid Street\, Wagga Wagga\, NSW\, 2650\, Australia
CATEGORIES:Clinical Reformer
END:VEVENT
BEGIN:VEVENT
DTSTART;TZID=Australia/Sydney:20261231T093000
DTEND;TZID=Australia/Sydney:20261231T094500
DTSTAMP:20260425T041904
CREATED:20250901T032458Z
LAST-MODIFIED:20250909T053220Z
UID:10123171-1798709400-1798710300@synergyhealthworks.com
SUMMARY:Clinical Reformer (kids and babies welcome)
DESCRIPTION:
URL:https://synergyhealthworks.com/event/clinical-reformer-kids-and-babies-welcome/2026-12-31/
LOCATION:Gundagai\, 114 Sheridan Street\, Gundagai\, NSW\, 2722\, Australia
CATEGORIES:Clinical Reformer
END:VEVENT
BEGIN:VEVENT
DTSTART;TZID=Australia/Sydney:20261231T120000
DTEND;TZID=Australia/Sydney:20261231T124500
DTSTAMP:20260425T041904
CREATED:20250901T032555Z
LAST-MODIFIED:20250909T053149Z
UID:10123751-1798718400-1798721100@synergyhealthworks.com
SUMMARY:Clinical Reformer (kids and babies welcome)
DESCRIPTION:
URL:https://synergyhealthworks.com/event/clinical-reformer-kids-and-babies-welcome-2/2026-12-31/
LOCATION:Gundagai\, 114 Sheridan Street\, Gundagai\, NSW\, 2722\, Australia
CATEGORIES:Clinical Reformer
END:VEVENT
BEGIN:VEVENT
DTSTART;TZID=Australia/Sydney:20270104T120000
DTEND;TZID=Australia/Sydney:20270104T124500
DTSTAMP:20260425T041904
CREATED:20250829T044037Z
LAST-MODIFIED:20250829T044037Z
UID:10122302-1799064000-1799066700@synergyhealthworks.com
SUMMARY:Strength and Conditioning Class
DESCRIPTION:
URL:https://synergyhealthworks.com/event/strength-and-conditioning-class-3/2027-01-04/
LOCATION:Wagga Wagga | Fitness Hub\, 1/21-25 Forsyth Street\, Wagga Wagga\, NSW\, 2650\, Australia
CATEGORIES:Strength and Conditioning
END:VEVENT
BEGIN:VEVENT
DTSTART;TZID=Australia/Sydney:20270104T130000
DTEND;TZID=Australia/Sydney:20270104T134500
DTSTAMP:20260425T041904
CREATED:20251112T001650Z
LAST-MODIFIED:20251112T001650Z
UID:10127434-1799067600-1799070300@synergyhealthworks.com
SUMMARY:Strength and Conditioning Class
DESCRIPTION:
URL:https://synergyhealthworks.com/event/strength-and-conditioning-class-5/2027-01-04/
LOCATION:Wagga Wagga | Fitness Hub\, 1/21-25 Forsyth Street\, Wagga Wagga\, NSW\, 2650\, Australia
CATEGORIES:Strength and Conditioning
END:VEVENT
BEGIN:VEVENT
DTSTART;TZID=Australia/Sydney:20270104T163000
DTEND;TZID=Australia/Sydney:20270104T171500
DTSTAMP:20260425T041904
CREATED:20250502T051402Z
LAST-MODIFIED:20250502T051402Z
UID:10116571-1799080200-1799082900@synergyhealthworks.com
SUMMARY:Women’s Pregnancy Strength Class
DESCRIPTION:
URL:https://synergyhealthworks.com/event/womens-pregnancy-strength-class/2027-01-04/
LOCATION:Wagga Wagga | Fitness Hub\, 1/21-25 Forsyth Street\, Wagga Wagga\, NSW\, 2650\, Australia
CATEGORIES:Women’s Pregnancy Strength Class
END:VEVENT
BEGIN:VEVENT
DTSTART;TZID=Australia/Sydney:20270105T093000
DTEND;TZID=Australia/Sydney:20270105T094500
DTSTAMP:20260425T041904
CREATED:20241204T020912Z
LAST-MODIFIED:20250901T032148Z
UID:10122592-1799141400-1799142300@synergyhealthworks.com
SUMMARY:Clinical Reformer
DESCRIPTION:
URL:https://synergyhealthworks.com/event/semi-private-reformer-16/2027-01-05/
LOCATION:Wagga Wagga | Reformer Studio\, 221 Kincaid Street\, Wagga Wagga\, NSW\, 2650\, Australia
CATEGORIES:Clinical Reformer
END:VEVENT
BEGIN:VEVENT
DTSTART;TZID=Australia/Sydney:20270105T103000
DTEND;TZID=Australia/Sydney:20270105T111500
DTSTAMP:20260425T041904
CREATED:20241204T012734Z
LAST-MODIFIED:20250129T031606Z
UID:10096571-1799145000-1799147700@synergyhealthworks.com
SUMMARY:Clinical Reformer
DESCRIPTION:
URL:https://synergyhealthworks.com/event/clinical-reformer-41/2027-01-05/
LOCATION:Wagga Wagga | Reformer Studio\, 221 Kincaid Street\, Wagga Wagga\, NSW\, 2650\, Australia
CATEGORIES:Clinical Reformer
END:VEVENT
BEGIN:VEVENT
DTSTART;TZID=Australia/Sydney:20270107T093000
DTEND;TZID=Australia/Sydney:20270107T094500
DTSTAMP:20260425T041904
CREATED:20250901T032458Z
LAST-MODIFIED:20250909T053220Z
UID:10123172-1799314200-1799315100@synergyhealthworks.com
SUMMARY:Clinical Reformer (kids and babies welcome)
DESCRIPTION:
URL:https://synergyhealthworks.com/event/clinical-reformer-kids-and-babies-welcome/2027-01-07/
LOCATION:Gundagai\, 114 Sheridan Street\, Gundagai\, NSW\, 2722\, Australia
CATEGORIES:Clinical Reformer
END:VEVENT
END:VCALENDAR