BEGIN:VCALENDAR
VERSION:2.0
PRODID:-//Synergy Healthworks - ECPv6.15.20//NONSGML v1.0//EN
CALSCALE:GREGORIAN
METHOD:PUBLISH
X-WR-CALNAME:Synergy Healthworks
X-ORIGINAL-URL:https://synergyhealthworks.com
X-WR-CALDESC:Events for Synergy Healthworks
REFRESH-INTERVAL;VALUE=DURATION:PT1H
X-Robots-Tag:noindex
X-PUBLISHED-TTL:PT1H
BEGIN:VTIMEZONE
TZID:Australia/Sydney
BEGIN:STANDARD
TZOFFSETFROM:+1100
TZOFFSETTO:+1000
TZNAME:AEST
DTSTART:20250405T160000
END:STANDARD
BEGIN:DAYLIGHT
TZOFFSETFROM:+1000
TZOFFSETTO:+1100
TZNAME:AEDT
DTSTART:20251004T160000
END:DAYLIGHT
BEGIN:STANDARD
TZOFFSETFROM:+1100
TZOFFSETTO:+1000
TZNAME:AEST
DTSTART:20260404T160000
END:STANDARD
BEGIN:DAYLIGHT
TZOFFSETFROM:+1000
TZOFFSETTO:+1100
TZNAME:AEDT
DTSTART:20261003T160000
END:DAYLIGHT
BEGIN:STANDARD
TZOFFSETFROM:+1100
TZOFFSETTO:+1000
TZNAME:AEST
DTSTART:20270403T160000
END:STANDARD
BEGIN:DAYLIGHT
TZOFFSETFROM:+1000
TZOFFSETTO:+1100
TZNAME:AEDT
DTSTART:20271002T160000
END:DAYLIGHT
END:VTIMEZONE
BEGIN:VEVENT
DTSTART;TZID=Australia/Sydney:20261116T130000
DTEND;TZID=Australia/Sydney:20261116T134500
DTSTAMP:20260425T010520
CREATED:20251112T001650Z
LAST-MODIFIED:20251112T001650Z
UID:10127427-1794834000-1794836700@synergyhealthworks.com
SUMMARY:Strength and Conditioning Class
DESCRIPTION:
URL:https://synergyhealthworks.com/event/strength-and-conditioning-class-5/2026-11-16/
LOCATION:Wagga Wagga | Fitness Hub\, 1/21-25 Forsyth Street\, Wagga Wagga\, NSW\, 2650\, Australia
CATEGORIES:Strength and Conditioning
END:VEVENT
BEGIN:VEVENT
DTSTART;TZID=Australia/Sydney:20261116T163000
DTEND;TZID=Australia/Sydney:20261116T171500
DTSTAMP:20260425T010520
CREATED:20250502T051402Z
LAST-MODIFIED:20250502T051402Z
UID:10116564-1794846600-1794849300@synergyhealthworks.com
SUMMARY:Women’s Pregnancy Strength Class
DESCRIPTION:
URL:https://synergyhealthworks.com/event/womens-pregnancy-strength-class/2026-11-16/
LOCATION:Wagga Wagga | Fitness Hub\, 1/21-25 Forsyth Street\, Wagga Wagga\, NSW\, 2650\, Australia
CATEGORIES:Women’s Pregnancy Strength Class
END:VEVENT
BEGIN:VEVENT
DTSTART;TZID=Australia/Sydney:20261117T093000
DTEND;TZID=Australia/Sydney:20261117T094500
DTSTAMP:20260425T010520
CREATED:20241204T020912Z
LAST-MODIFIED:20250901T032148Z
UID:10122585-1794907800-1794908700@synergyhealthworks.com
SUMMARY:Clinical Reformer
DESCRIPTION:
URL:https://synergyhealthworks.com/event/semi-private-reformer-16/2026-11-17/
LOCATION:Wagga Wagga | Reformer Studio\, 221 Kincaid Street\, Wagga Wagga\, NSW\, 2650\, Australia
CATEGORIES:Clinical Reformer
END:VEVENT
BEGIN:VEVENT
DTSTART;TZID=Australia/Sydney:20261117T103000
DTEND;TZID=Australia/Sydney:20261117T111500
DTSTAMP:20260425T010520
CREATED:20241204T012734Z
LAST-MODIFIED:20250129T031606Z
UID:10096564-1794911400-1794914100@synergyhealthworks.com
SUMMARY:Clinical Reformer
DESCRIPTION:
URL:https://synergyhealthworks.com/event/clinical-reformer-41/2026-11-17/
LOCATION:Wagga Wagga | Reformer Studio\, 221 Kincaid Street\, Wagga Wagga\, NSW\, 2650\, Australia
CATEGORIES:Clinical Reformer
END:VEVENT
BEGIN:VEVENT
DTSTART;TZID=Australia/Sydney:20261119T093000
DTEND;TZID=Australia/Sydney:20261119T094500
DTSTAMP:20260425T010520
CREATED:20250901T032458Z
LAST-MODIFIED:20250909T053220Z
UID:10123165-1795080600-1795081500@synergyhealthworks.com
SUMMARY:Clinical Reformer (kids and babies welcome)
DESCRIPTION:
URL:https://synergyhealthworks.com/event/clinical-reformer-kids-and-babies-welcome/2026-11-19/
LOCATION:Gundagai\, 114 Sheridan Street\, Gundagai\, NSW\, 2722\, Australia
CATEGORIES:Clinical Reformer
END:VEVENT
BEGIN:VEVENT
DTSTART;TZID=Australia/Sydney:20261119T120000
DTEND;TZID=Australia/Sydney:20261119T124500
DTSTAMP:20260425T010520
CREATED:20250901T032555Z
LAST-MODIFIED:20250909T053149Z
UID:10123745-1795089600-1795092300@synergyhealthworks.com
SUMMARY:Clinical Reformer (kids and babies welcome)
DESCRIPTION:
URL:https://synergyhealthworks.com/event/clinical-reformer-kids-and-babies-welcome-2/2026-11-19/
LOCATION:Gundagai\, 114 Sheridan Street\, Gundagai\, NSW\, 2722\, Australia
CATEGORIES:Clinical Reformer
END:VEVENT
BEGIN:VEVENT
DTSTART;TZID=Australia/Sydney:20261123T120000
DTEND;TZID=Australia/Sydney:20261123T124500
DTSTAMP:20260425T010520
CREATED:20250829T044037Z
LAST-MODIFIED:20250829T044037Z
UID:10122296-1795435200-1795437900@synergyhealthworks.com
SUMMARY:Strength and Conditioning Class
DESCRIPTION:
URL:https://synergyhealthworks.com/event/strength-and-conditioning-class-3/2026-11-23/
LOCATION:Wagga Wagga | Fitness Hub\, 1/21-25 Forsyth Street\, Wagga Wagga\, NSW\, 2650\, Australia
CATEGORIES:Strength and Conditioning
END:VEVENT
BEGIN:VEVENT
DTSTART;TZID=Australia/Sydney:20261123T130000
DTEND;TZID=Australia/Sydney:20261123T134500
DTSTAMP:20260425T010520
CREATED:20251112T001650Z
LAST-MODIFIED:20251112T001650Z
UID:10127428-1795438800-1795441500@synergyhealthworks.com
SUMMARY:Strength and Conditioning Class
DESCRIPTION:
URL:https://synergyhealthworks.com/event/strength-and-conditioning-class-5/2026-11-23/
LOCATION:Wagga Wagga | Fitness Hub\, 1/21-25 Forsyth Street\, Wagga Wagga\, NSW\, 2650\, Australia
CATEGORIES:Strength and Conditioning
END:VEVENT
BEGIN:VEVENT
DTSTART;TZID=Australia/Sydney:20261123T163000
DTEND;TZID=Australia/Sydney:20261123T171500
DTSTAMP:20260425T010520
CREATED:20250502T051402Z
LAST-MODIFIED:20250502T051402Z
UID:10116565-1795451400-1795454100@synergyhealthworks.com
SUMMARY:Women’s Pregnancy Strength Class
DESCRIPTION:
URL:https://synergyhealthworks.com/event/womens-pregnancy-strength-class/2026-11-23/
LOCATION:Wagga Wagga | Fitness Hub\, 1/21-25 Forsyth Street\, Wagga Wagga\, NSW\, 2650\, Australia
CATEGORIES:Women’s Pregnancy Strength Class
END:VEVENT
BEGIN:VEVENT
DTSTART;TZID=Australia/Sydney:20261124T093000
DTEND;TZID=Australia/Sydney:20261124T094500
DTSTAMP:20260425T010520
CREATED:20241204T020912Z
LAST-MODIFIED:20250901T032148Z
UID:10122586-1795512600-1795513500@synergyhealthworks.com
SUMMARY:Clinical Reformer
DESCRIPTION:
URL:https://synergyhealthworks.com/event/semi-private-reformer-16/2026-11-24/
LOCATION:Wagga Wagga | Reformer Studio\, 221 Kincaid Street\, Wagga Wagga\, NSW\, 2650\, Australia
CATEGORIES:Clinical Reformer
END:VEVENT
BEGIN:VEVENT
DTSTART;TZID=Australia/Sydney:20261124T103000
DTEND;TZID=Australia/Sydney:20261124T111500
DTSTAMP:20260425T010520
CREATED:20241204T012734Z
LAST-MODIFIED:20250129T031606Z
UID:10096565-1795516200-1795518900@synergyhealthworks.com
SUMMARY:Clinical Reformer
DESCRIPTION:
URL:https://synergyhealthworks.com/event/clinical-reformer-41/2026-11-24/
LOCATION:Wagga Wagga | Reformer Studio\, 221 Kincaid Street\, Wagga Wagga\, NSW\, 2650\, Australia
CATEGORIES:Clinical Reformer
END:VEVENT
BEGIN:VEVENT
DTSTART;TZID=Australia/Sydney:20261126T093000
DTEND;TZID=Australia/Sydney:20261126T094500
DTSTAMP:20260425T010520
CREATED:20250901T032458Z
LAST-MODIFIED:20250909T053220Z
UID:10123166-1795685400-1795686300@synergyhealthworks.com
SUMMARY:Clinical Reformer (kids and babies welcome)
DESCRIPTION:
URL:https://synergyhealthworks.com/event/clinical-reformer-kids-and-babies-welcome/2026-11-26/
LOCATION:Gundagai\, 114 Sheridan Street\, Gundagai\, NSW\, 2722\, Australia
CATEGORIES:Clinical Reformer
END:VEVENT
BEGIN:VEVENT
DTSTART;TZID=Australia/Sydney:20261126T120000
DTEND;TZID=Australia/Sydney:20261126T124500
DTSTAMP:20260425T010520
CREATED:20250901T032555Z
LAST-MODIFIED:20250909T053149Z
UID:10123746-1795694400-1795697100@synergyhealthworks.com
SUMMARY:Clinical Reformer (kids and babies welcome)
DESCRIPTION:
URL:https://synergyhealthworks.com/event/clinical-reformer-kids-and-babies-welcome-2/2026-11-26/
LOCATION:Gundagai\, 114 Sheridan Street\, Gundagai\, NSW\, 2722\, Australia
CATEGORIES:Clinical Reformer
END:VEVENT
BEGIN:VEVENT
DTSTART;TZID=Australia/Sydney:20261130T120000
DTEND;TZID=Australia/Sydney:20261130T124500
DTSTAMP:20260425T010520
CREATED:20250829T044037Z
LAST-MODIFIED:20250829T044037Z
UID:10122297-1796040000-1796042700@synergyhealthworks.com
SUMMARY:Strength and Conditioning Class
DESCRIPTION:
URL:https://synergyhealthworks.com/event/strength-and-conditioning-class-3/2026-11-30/
LOCATION:Wagga Wagga | Fitness Hub\, 1/21-25 Forsyth Street\, Wagga Wagga\, NSW\, 2650\, Australia
CATEGORIES:Strength and Conditioning
END:VEVENT
BEGIN:VEVENT
DTSTART;TZID=Australia/Sydney:20261130T130000
DTEND;TZID=Australia/Sydney:20261130T134500
DTSTAMP:20260425T010520
CREATED:20251112T001650Z
LAST-MODIFIED:20251112T001650Z
UID:10127429-1796043600-1796046300@synergyhealthworks.com
SUMMARY:Strength and Conditioning Class
DESCRIPTION:
URL:https://synergyhealthworks.com/event/strength-and-conditioning-class-5/2026-11-30/
LOCATION:Wagga Wagga | Fitness Hub\, 1/21-25 Forsyth Street\, Wagga Wagga\, NSW\, 2650\, Australia
CATEGORIES:Strength and Conditioning
END:VEVENT
BEGIN:VEVENT
DTSTART;TZID=Australia/Sydney:20261130T163000
DTEND;TZID=Australia/Sydney:20261130T171500
DTSTAMP:20260425T010520
CREATED:20250502T051402Z
LAST-MODIFIED:20250502T051402Z
UID:10116566-1796056200-1796058900@synergyhealthworks.com
SUMMARY:Women’s Pregnancy Strength Class
DESCRIPTION:
URL:https://synergyhealthworks.com/event/womens-pregnancy-strength-class/2026-11-30/
LOCATION:Wagga Wagga | Fitness Hub\, 1/21-25 Forsyth Street\, Wagga Wagga\, NSW\, 2650\, Australia
CATEGORIES:Women’s Pregnancy Strength Class
END:VEVENT
BEGIN:VEVENT
DTSTART;TZID=Australia/Sydney:20261201T093000
DTEND;TZID=Australia/Sydney:20261201T094500
DTSTAMP:20260425T010520
CREATED:20241204T020912Z
LAST-MODIFIED:20250901T032148Z
UID:10122587-1796117400-1796118300@synergyhealthworks.com
SUMMARY:Clinical Reformer
DESCRIPTION:
URL:https://synergyhealthworks.com/event/semi-private-reformer-16/2026-12-01/
LOCATION:Wagga Wagga | Reformer Studio\, 221 Kincaid Street\, Wagga Wagga\, NSW\, 2650\, Australia
CATEGORIES:Clinical Reformer
END:VEVENT
BEGIN:VEVENT
DTSTART;TZID=Australia/Sydney:20261201T103000
DTEND;TZID=Australia/Sydney:20261201T111500
DTSTAMP:20260425T010520
CREATED:20241204T012734Z
LAST-MODIFIED:20250129T031606Z
UID:10096566-1796121000-1796123700@synergyhealthworks.com
SUMMARY:Clinical Reformer
DESCRIPTION:
URL:https://synergyhealthworks.com/event/clinical-reformer-41/2026-12-01/
LOCATION:Wagga Wagga | Reformer Studio\, 221 Kincaid Street\, Wagga Wagga\, NSW\, 2650\, Australia
CATEGORIES:Clinical Reformer
END:VEVENT
BEGIN:VEVENT
DTSTART;TZID=Australia/Sydney:20261203T093000
DTEND;TZID=Australia/Sydney:20261203T094500
DTSTAMP:20260425T010520
CREATED:20250901T032458Z
LAST-MODIFIED:20250909T053220Z
UID:10123167-1796290200-1796291100@synergyhealthworks.com
SUMMARY:Clinical Reformer (kids and babies welcome)
DESCRIPTION:
URL:https://synergyhealthworks.com/event/clinical-reformer-kids-and-babies-welcome/2026-12-03/
LOCATION:Gundagai\, 114 Sheridan Street\, Gundagai\, NSW\, 2722\, Australia
CATEGORIES:Clinical Reformer
END:VEVENT
BEGIN:VEVENT
DTSTART;TZID=Australia/Sydney:20261203T120000
DTEND;TZID=Australia/Sydney:20261203T124500
DTSTAMP:20260425T010520
CREATED:20250901T032555Z
LAST-MODIFIED:20250909T053149Z
UID:10123747-1796299200-1796301900@synergyhealthworks.com
SUMMARY:Clinical Reformer (kids and babies welcome)
DESCRIPTION:
URL:https://synergyhealthworks.com/event/clinical-reformer-kids-and-babies-welcome-2/2026-12-03/
LOCATION:Gundagai\, 114 Sheridan Street\, Gundagai\, NSW\, 2722\, Australia
CATEGORIES:Clinical Reformer
END:VEVENT
BEGIN:VEVENT
DTSTART;TZID=Australia/Sydney:20261207T120000
DTEND;TZID=Australia/Sydney:20261207T124500
DTSTAMP:20260425T010520
CREATED:20250829T044037Z
LAST-MODIFIED:20250829T044037Z
UID:10122298-1796644800-1796647500@synergyhealthworks.com
SUMMARY:Strength and Conditioning Class
DESCRIPTION:
URL:https://synergyhealthworks.com/event/strength-and-conditioning-class-3/2026-12-07/
LOCATION:Wagga Wagga | Fitness Hub\, 1/21-25 Forsyth Street\, Wagga Wagga\, NSW\, 2650\, Australia
CATEGORIES:Strength and Conditioning
END:VEVENT
BEGIN:VEVENT
DTSTART;TZID=Australia/Sydney:20261207T130000
DTEND;TZID=Australia/Sydney:20261207T134500
DTSTAMP:20260425T010520
CREATED:20251112T001650Z
LAST-MODIFIED:20251112T001650Z
UID:10127430-1796648400-1796651100@synergyhealthworks.com
SUMMARY:Strength and Conditioning Class
DESCRIPTION:
URL:https://synergyhealthworks.com/event/strength-and-conditioning-class-5/2026-12-07/
LOCATION:Wagga Wagga | Fitness Hub\, 1/21-25 Forsyth Street\, Wagga Wagga\, NSW\, 2650\, Australia
CATEGORIES:Strength and Conditioning
END:VEVENT
BEGIN:VEVENT
DTSTART;TZID=Australia/Sydney:20261207T163000
DTEND;TZID=Australia/Sydney:20261207T171500
DTSTAMP:20260425T010520
CREATED:20250502T051402Z
LAST-MODIFIED:20250502T051402Z
UID:10116567-1796661000-1796663700@synergyhealthworks.com
SUMMARY:Women’s Pregnancy Strength Class
DESCRIPTION:
URL:https://synergyhealthworks.com/event/womens-pregnancy-strength-class/2026-12-07/
LOCATION:Wagga Wagga | Fitness Hub\, 1/21-25 Forsyth Street\, Wagga Wagga\, NSW\, 2650\, Australia
CATEGORIES:Women’s Pregnancy Strength Class
END:VEVENT
BEGIN:VEVENT
DTSTART;TZID=Australia/Sydney:20261208T093000
DTEND;TZID=Australia/Sydney:20261208T094500
DTSTAMP:20260425T010520
CREATED:20241204T020912Z
LAST-MODIFIED:20250901T032148Z
UID:10122588-1796722200-1796723100@synergyhealthworks.com
SUMMARY:Clinical Reformer
DESCRIPTION:
URL:https://synergyhealthworks.com/event/semi-private-reformer-16/2026-12-08/
LOCATION:Wagga Wagga | Reformer Studio\, 221 Kincaid Street\, Wagga Wagga\, NSW\, 2650\, Australia
CATEGORIES:Clinical Reformer
END:VEVENT
BEGIN:VEVENT
DTSTART;TZID=Australia/Sydney:20261208T103000
DTEND;TZID=Australia/Sydney:20261208T111500
DTSTAMP:20260425T010520
CREATED:20241204T012734Z
LAST-MODIFIED:20250129T031606Z
UID:10096567-1796725800-1796728500@synergyhealthworks.com
SUMMARY:Clinical Reformer
DESCRIPTION:
URL:https://synergyhealthworks.com/event/clinical-reformer-41/2026-12-08/
LOCATION:Wagga Wagga | Reformer Studio\, 221 Kincaid Street\, Wagga Wagga\, NSW\, 2650\, Australia
CATEGORIES:Clinical Reformer
END:VEVENT
BEGIN:VEVENT
DTSTART;TZID=Australia/Sydney:20261210T093000
DTEND;TZID=Australia/Sydney:20261210T094500
DTSTAMP:20260425T010520
CREATED:20250901T032458Z
LAST-MODIFIED:20250909T053220Z
UID:10123168-1796895000-1796895900@synergyhealthworks.com
SUMMARY:Clinical Reformer (kids and babies welcome)
DESCRIPTION:
URL:https://synergyhealthworks.com/event/clinical-reformer-kids-and-babies-welcome/2026-12-10/
LOCATION:Gundagai\, 114 Sheridan Street\, Gundagai\, NSW\, 2722\, Australia
CATEGORIES:Clinical Reformer
END:VEVENT
BEGIN:VEVENT
DTSTART;TZID=Australia/Sydney:20261210T120000
DTEND;TZID=Australia/Sydney:20261210T124500
DTSTAMP:20260425T010520
CREATED:20250901T032555Z
LAST-MODIFIED:20250909T053149Z
UID:10123748-1796904000-1796906700@synergyhealthworks.com
SUMMARY:Clinical Reformer (kids and babies welcome)
DESCRIPTION:
URL:https://synergyhealthworks.com/event/clinical-reformer-kids-and-babies-welcome-2/2026-12-10/
LOCATION:Gundagai\, 114 Sheridan Street\, Gundagai\, NSW\, 2722\, Australia
CATEGORIES:Clinical Reformer
END:VEVENT
BEGIN:VEVENT
DTSTART;TZID=Australia/Sydney:20261214T120000
DTEND;TZID=Australia/Sydney:20261214T124500
DTSTAMP:20260425T010520
CREATED:20250829T044037Z
LAST-MODIFIED:20250829T044037Z
UID:10122299-1797249600-1797252300@synergyhealthworks.com
SUMMARY:Strength and Conditioning Class
DESCRIPTION:
URL:https://synergyhealthworks.com/event/strength-and-conditioning-class-3/2026-12-14/
LOCATION:Wagga Wagga | Fitness Hub\, 1/21-25 Forsyth Street\, Wagga Wagga\, NSW\, 2650\, Australia
CATEGORIES:Strength and Conditioning
END:VEVENT
BEGIN:VEVENT
DTSTART;TZID=Australia/Sydney:20261214T130000
DTEND;TZID=Australia/Sydney:20261214T134500
DTSTAMP:20260425T010520
CREATED:20251112T001650Z
LAST-MODIFIED:20251112T001650Z
UID:10127431-1797253200-1797255900@synergyhealthworks.com
SUMMARY:Strength and Conditioning Class
DESCRIPTION:
URL:https://synergyhealthworks.com/event/strength-and-conditioning-class-5/2026-12-14/
LOCATION:Wagga Wagga | Fitness Hub\, 1/21-25 Forsyth Street\, Wagga Wagga\, NSW\, 2650\, Australia
CATEGORIES:Strength and Conditioning
END:VEVENT
BEGIN:VEVENT
DTSTART;TZID=Australia/Sydney:20261214T163000
DTEND;TZID=Australia/Sydney:20261214T171500
DTSTAMP:20260425T010520
CREATED:20250502T051402Z
LAST-MODIFIED:20250502T051402Z
UID:10116568-1797265800-1797268500@synergyhealthworks.com
SUMMARY:Women’s Pregnancy Strength Class
DESCRIPTION:
URL:https://synergyhealthworks.com/event/womens-pregnancy-strength-class/2026-12-14/
LOCATION:Wagga Wagga | Fitness Hub\, 1/21-25 Forsyth Street\, Wagga Wagga\, NSW\, 2650\, Australia
CATEGORIES:Women’s Pregnancy Strength Class
END:VEVENT
END:VCALENDAR