BEGIN:VCALENDAR
VERSION:2.0
PRODID:-//Synergy Healthworks - ECPv6.15.20//NONSGML v1.0//EN
CALSCALE:GREGORIAN
METHOD:PUBLISH
X-ORIGINAL-URL:https://synergyhealthworks.com
X-WR-CALDESC:Events for Synergy Healthworks
REFRESH-INTERVAL;VALUE=DURATION:PT1H
X-Robots-Tag:noindex
X-PUBLISHED-TTL:PT1H
BEGIN:VTIMEZONE
TZID:Australia/Sydney
BEGIN:STANDARD
TZOFFSETFROM:+1100
TZOFFSETTO:+1000
TZNAME:AEST
DTSTART:20250405T160000
END:STANDARD
BEGIN:DAYLIGHT
TZOFFSETFROM:+1000
TZOFFSETTO:+1100
TZNAME:AEDT
DTSTART:20251004T160000
END:DAYLIGHT
BEGIN:STANDARD
TZOFFSETFROM:+1100
TZOFFSETTO:+1000
TZNAME:AEST
DTSTART:20260404T160000
END:STANDARD
BEGIN:DAYLIGHT
TZOFFSETFROM:+1000
TZOFFSETTO:+1100
TZNAME:AEDT
DTSTART:20261003T160000
END:DAYLIGHT
BEGIN:STANDARD
TZOFFSETFROM:+1100
TZOFFSETTO:+1000
TZNAME:AEST
DTSTART:20270403T160000
END:STANDARD
BEGIN:DAYLIGHT
TZOFFSETFROM:+1000
TZOFFSETTO:+1100
TZNAME:AEDT
DTSTART:20271002T160000
END:DAYLIGHT
END:VTIMEZONE
BEGIN:VEVENT
DTSTART;TZID=Australia/Sydney:20261012T120000
DTEND;TZID=Australia/Sydney:20261012T124500
DTSTAMP:20260424T200929
CREATED:20250829T044037Z
LAST-MODIFIED:20250829T044037Z
UID:10122290-1791806400-1791809100@synergyhealthworks.com
SUMMARY:Strength and Conditioning Class
DESCRIPTION:
URL:https://synergyhealthworks.com/event/strength-and-conditioning-class-3/2026-10-12/
LOCATION:Wagga Wagga | Fitness Hub\, 1/21-25 Forsyth Street\, Wagga Wagga\, NSW\, 2650\, Australia
CATEGORIES:Strength and Conditioning
END:VEVENT
BEGIN:VEVENT
DTSTART;TZID=Australia/Sydney:20261012T130000
DTEND;TZID=Australia/Sydney:20261012T134500
DTSTAMP:20260424T200929
CREATED:20251112T001650Z
LAST-MODIFIED:20251112T001650Z
UID:10127422-1791810000-1791812700@synergyhealthworks.com
SUMMARY:Strength and Conditioning Class
DESCRIPTION:
URL:https://synergyhealthworks.com/event/strength-and-conditioning-class-5/2026-10-12/
LOCATION:Wagga Wagga | Fitness Hub\, 1/21-25 Forsyth Street\, Wagga Wagga\, NSW\, 2650\, Australia
CATEGORIES:Strength and Conditioning
END:VEVENT
BEGIN:VEVENT
DTSTART;TZID=Australia/Sydney:20261012T163000
DTEND;TZID=Australia/Sydney:20261012T171500
DTSTAMP:20260424T200929
CREATED:20250502T051402Z
LAST-MODIFIED:20250502T051402Z
UID:10116559-1791822600-1791825300@synergyhealthworks.com
SUMMARY:Women’s Pregnancy Strength Class
DESCRIPTION:
URL:https://synergyhealthworks.com/event/womens-pregnancy-strength-class/2026-10-12/
LOCATION:Wagga Wagga | Fitness Hub\, 1/21-25 Forsyth Street\, Wagga Wagga\, NSW\, 2650\, Australia
CATEGORIES:Women’s Pregnancy Strength Class
END:VEVENT
BEGIN:VEVENT
DTSTART;TZID=Australia/Sydney:20261013T093000
DTEND;TZID=Australia/Sydney:20261013T094500
DTSTAMP:20260424T200929
CREATED:20241204T020912Z
LAST-MODIFIED:20250901T032148Z
UID:10122580-1791883800-1791884700@synergyhealthworks.com
SUMMARY:Clinical Reformer
DESCRIPTION:
URL:https://synergyhealthworks.com/event/semi-private-reformer-16/2026-10-13/
LOCATION:Wagga Wagga | Reformer Studio\, 221 Kincaid Street\, Wagga Wagga\, NSW\, 2650\, Australia
CATEGORIES:Clinical Reformer
END:VEVENT
BEGIN:VEVENT
DTSTART;TZID=Australia/Sydney:20261013T103000
DTEND;TZID=Australia/Sydney:20261013T111500
DTSTAMP:20260424T200929
CREATED:20241204T012734Z
LAST-MODIFIED:20250129T031606Z
UID:10096559-1791887400-1791890100@synergyhealthworks.com
SUMMARY:Clinical Reformer
DESCRIPTION:
URL:https://synergyhealthworks.com/event/clinical-reformer-41/2026-10-13/
LOCATION:Wagga Wagga | Reformer Studio\, 221 Kincaid Street\, Wagga Wagga\, NSW\, 2650\, Australia
CATEGORIES:Clinical Reformer
END:VEVENT
BEGIN:VEVENT
DTSTART;TZID=Australia/Sydney:20261015T093000
DTEND;TZID=Australia/Sydney:20261015T094500
DTSTAMP:20260424T200929
CREATED:20250901T032458Z
LAST-MODIFIED:20250909T053220Z
UID:10123160-1792056600-1792057500@synergyhealthworks.com
SUMMARY:Clinical Reformer (kids and babies welcome)
DESCRIPTION:
URL:https://synergyhealthworks.com/event/clinical-reformer-kids-and-babies-welcome/2026-10-15/
LOCATION:Gundagai\, 114 Sheridan Street\, Gundagai\, NSW\, 2722\, Australia
CATEGORIES:Clinical Reformer
END:VEVENT
BEGIN:VEVENT
DTSTART;TZID=Australia/Sydney:20261015T120000
DTEND;TZID=Australia/Sydney:20261015T124500
DTSTAMP:20260424T200929
CREATED:20250901T032555Z
LAST-MODIFIED:20250909T053149Z
UID:10123740-1792065600-1792068300@synergyhealthworks.com
SUMMARY:Clinical Reformer (kids and babies welcome)
DESCRIPTION:
URL:https://synergyhealthworks.com/event/clinical-reformer-kids-and-babies-welcome-2/2026-10-15/
LOCATION:Gundagai\, 114 Sheridan Street\, Gundagai\, NSW\, 2722\, Australia
CATEGORIES:Clinical Reformer
END:VEVENT
BEGIN:VEVENT
DTSTART;TZID=Australia/Sydney:20261019T120000
DTEND;TZID=Australia/Sydney:20261019T124500
DTSTAMP:20260424T200929
CREATED:20250829T044037Z
LAST-MODIFIED:20250829T044037Z
UID:10122291-1792411200-1792413900@synergyhealthworks.com
SUMMARY:Strength and Conditioning Class
DESCRIPTION:
URL:https://synergyhealthworks.com/event/strength-and-conditioning-class-3/2026-10-19/
LOCATION:Wagga Wagga | Fitness Hub\, 1/21-25 Forsyth Street\, Wagga Wagga\, NSW\, 2650\, Australia
CATEGORIES:Strength and Conditioning
END:VEVENT
BEGIN:VEVENT
DTSTART;TZID=Australia/Sydney:20261019T130000
DTEND;TZID=Australia/Sydney:20261019T134500
DTSTAMP:20260424T200929
CREATED:20251112T001650Z
LAST-MODIFIED:20251112T001650Z
UID:10127423-1792414800-1792417500@synergyhealthworks.com
SUMMARY:Strength and Conditioning Class
DESCRIPTION:
URL:https://synergyhealthworks.com/event/strength-and-conditioning-class-5/2026-10-19/
LOCATION:Wagga Wagga | Fitness Hub\, 1/21-25 Forsyth Street\, Wagga Wagga\, NSW\, 2650\, Australia
CATEGORIES:Strength and Conditioning
END:VEVENT
BEGIN:VEVENT
DTSTART;TZID=Australia/Sydney:20261019T163000
DTEND;TZID=Australia/Sydney:20261019T171500
DTSTAMP:20260424T200929
CREATED:20250502T051402Z
LAST-MODIFIED:20250502T051402Z
UID:10116560-1792427400-1792430100@synergyhealthworks.com
SUMMARY:Women’s Pregnancy Strength Class
DESCRIPTION:
URL:https://synergyhealthworks.com/event/womens-pregnancy-strength-class/2026-10-19/
LOCATION:Wagga Wagga | Fitness Hub\, 1/21-25 Forsyth Street\, Wagga Wagga\, NSW\, 2650\, Australia
CATEGORIES:Women’s Pregnancy Strength Class
END:VEVENT
BEGIN:VEVENT
DTSTART;TZID=Australia/Sydney:20261020T093000
DTEND;TZID=Australia/Sydney:20261020T094500
DTSTAMP:20260424T200929
CREATED:20241204T020912Z
LAST-MODIFIED:20250901T032148Z
UID:10122581-1792488600-1792489500@synergyhealthworks.com
SUMMARY:Clinical Reformer
DESCRIPTION:
URL:https://synergyhealthworks.com/event/semi-private-reformer-16/2026-10-20/
LOCATION:Wagga Wagga | Reformer Studio\, 221 Kincaid Street\, Wagga Wagga\, NSW\, 2650\, Australia
CATEGORIES:Clinical Reformer
END:VEVENT
BEGIN:VEVENT
DTSTART;TZID=Australia/Sydney:20261020T103000
DTEND;TZID=Australia/Sydney:20261020T111500
DTSTAMP:20260424T200929
CREATED:20241204T012734Z
LAST-MODIFIED:20250129T031606Z
UID:10096560-1792492200-1792494900@synergyhealthworks.com
SUMMARY:Clinical Reformer
DESCRIPTION:
URL:https://synergyhealthworks.com/event/clinical-reformer-41/2026-10-20/
LOCATION:Wagga Wagga | Reformer Studio\, 221 Kincaid Street\, Wagga Wagga\, NSW\, 2650\, Australia
CATEGORIES:Clinical Reformer
END:VEVENT
BEGIN:VEVENT
DTSTART;TZID=Australia/Sydney:20261022T093000
DTEND;TZID=Australia/Sydney:20261022T094500
DTSTAMP:20260424T200929
CREATED:20250901T032458Z
LAST-MODIFIED:20250909T053220Z
UID:10123161-1792661400-1792662300@synergyhealthworks.com
SUMMARY:Clinical Reformer (kids and babies welcome)
DESCRIPTION:
URL:https://synergyhealthworks.com/event/clinical-reformer-kids-and-babies-welcome/2026-10-22/
LOCATION:Gundagai\, 114 Sheridan Street\, Gundagai\, NSW\, 2722\, Australia
CATEGORIES:Clinical Reformer
END:VEVENT
BEGIN:VEVENT
DTSTART;TZID=Australia/Sydney:20261022T120000
DTEND;TZID=Australia/Sydney:20261022T124500
DTSTAMP:20260424T200929
CREATED:20250901T032555Z
LAST-MODIFIED:20250909T053149Z
UID:10123741-1792670400-1792673100@synergyhealthworks.com
SUMMARY:Clinical Reformer (kids and babies welcome)
DESCRIPTION:
URL:https://synergyhealthworks.com/event/clinical-reformer-kids-and-babies-welcome-2/2026-10-22/
LOCATION:Gundagai\, 114 Sheridan Street\, Gundagai\, NSW\, 2722\, Australia
CATEGORIES:Clinical Reformer
END:VEVENT
BEGIN:VEVENT
DTSTART;TZID=Australia/Sydney:20261026T120000
DTEND;TZID=Australia/Sydney:20261026T124500
DTSTAMP:20260424T200929
CREATED:20250829T044037Z
LAST-MODIFIED:20250829T044037Z
UID:10122292-1793016000-1793018700@synergyhealthworks.com
SUMMARY:Strength and Conditioning Class
DESCRIPTION:
URL:https://synergyhealthworks.com/event/strength-and-conditioning-class-3/2026-10-26/
LOCATION:Wagga Wagga | Fitness Hub\, 1/21-25 Forsyth Street\, Wagga Wagga\, NSW\, 2650\, Australia
CATEGORIES:Strength and Conditioning
END:VEVENT
BEGIN:VEVENT
DTSTART;TZID=Australia/Sydney:20261026T130000
DTEND;TZID=Australia/Sydney:20261026T134500
DTSTAMP:20260424T200929
CREATED:20251112T001650Z
LAST-MODIFIED:20251112T001650Z
UID:10127424-1793019600-1793022300@synergyhealthworks.com
SUMMARY:Strength and Conditioning Class
DESCRIPTION:
URL:https://synergyhealthworks.com/event/strength-and-conditioning-class-5/2026-10-26/
LOCATION:Wagga Wagga | Fitness Hub\, 1/21-25 Forsyth Street\, Wagga Wagga\, NSW\, 2650\, Australia
CATEGORIES:Strength and Conditioning
END:VEVENT
BEGIN:VEVENT
DTSTART;TZID=Australia/Sydney:20261026T163000
DTEND;TZID=Australia/Sydney:20261026T171500
DTSTAMP:20260424T200929
CREATED:20250502T051402Z
LAST-MODIFIED:20250502T051402Z
UID:10116561-1793032200-1793034900@synergyhealthworks.com
SUMMARY:Women’s Pregnancy Strength Class
DESCRIPTION:
URL:https://synergyhealthworks.com/event/womens-pregnancy-strength-class/2026-10-26/
LOCATION:Wagga Wagga | Fitness Hub\, 1/21-25 Forsyth Street\, Wagga Wagga\, NSW\, 2650\, Australia
CATEGORIES:Women’s Pregnancy Strength Class
END:VEVENT
BEGIN:VEVENT
DTSTART;TZID=Australia/Sydney:20261027T093000
DTEND;TZID=Australia/Sydney:20261027T094500
DTSTAMP:20260424T200929
CREATED:20241204T020912Z
LAST-MODIFIED:20250901T032148Z
UID:10122582-1793093400-1793094300@synergyhealthworks.com
SUMMARY:Clinical Reformer
DESCRIPTION:
URL:https://synergyhealthworks.com/event/semi-private-reformer-16/2026-10-27/
LOCATION:Wagga Wagga | Reformer Studio\, 221 Kincaid Street\, Wagga Wagga\, NSW\, 2650\, Australia
CATEGORIES:Clinical Reformer
END:VEVENT
BEGIN:VEVENT
DTSTART;TZID=Australia/Sydney:20261027T103000
DTEND;TZID=Australia/Sydney:20261027T111500
DTSTAMP:20260424T200929
CREATED:20241204T012734Z
LAST-MODIFIED:20250129T031606Z
UID:10096561-1793097000-1793099700@synergyhealthworks.com
SUMMARY:Clinical Reformer
DESCRIPTION:
URL:https://synergyhealthworks.com/event/clinical-reformer-41/2026-10-27/
LOCATION:Wagga Wagga | Reformer Studio\, 221 Kincaid Street\, Wagga Wagga\, NSW\, 2650\, Australia
CATEGORIES:Clinical Reformer
END:VEVENT
BEGIN:VEVENT
DTSTART;TZID=Australia/Sydney:20261029T093000
DTEND;TZID=Australia/Sydney:20261029T094500
DTSTAMP:20260424T200929
CREATED:20250901T032458Z
LAST-MODIFIED:20250909T053220Z
UID:10123162-1793266200-1793267100@synergyhealthworks.com
SUMMARY:Clinical Reformer (kids and babies welcome)
DESCRIPTION:
URL:https://synergyhealthworks.com/event/clinical-reformer-kids-and-babies-welcome/2026-10-29/
LOCATION:Gundagai\, 114 Sheridan Street\, Gundagai\, NSW\, 2722\, Australia
CATEGORIES:Clinical Reformer
END:VEVENT
BEGIN:VEVENT
DTSTART;TZID=Australia/Sydney:20261029T120000
DTEND;TZID=Australia/Sydney:20261029T124500
DTSTAMP:20260424T200929
CREATED:20250901T032555Z
LAST-MODIFIED:20250909T053149Z
UID:10123742-1793275200-1793277900@synergyhealthworks.com
SUMMARY:Clinical Reformer (kids and babies welcome)
DESCRIPTION:
URL:https://synergyhealthworks.com/event/clinical-reformer-kids-and-babies-welcome-2/2026-10-29/
LOCATION:Gundagai\, 114 Sheridan Street\, Gundagai\, NSW\, 2722\, Australia
CATEGORIES:Clinical Reformer
END:VEVENT
BEGIN:VEVENT
DTSTART;TZID=Australia/Sydney:20261102T120000
DTEND;TZID=Australia/Sydney:20261102T124500
DTSTAMP:20260424T200929
CREATED:20250829T044037Z
LAST-MODIFIED:20250829T044037Z
UID:10122293-1793620800-1793623500@synergyhealthworks.com
SUMMARY:Strength and Conditioning Class
DESCRIPTION:
URL:https://synergyhealthworks.com/event/strength-and-conditioning-class-3/2026-11-02/
LOCATION:Wagga Wagga | Fitness Hub\, 1/21-25 Forsyth Street\, Wagga Wagga\, NSW\, 2650\, Australia
CATEGORIES:Strength and Conditioning
END:VEVENT
BEGIN:VEVENT
DTSTART;TZID=Australia/Sydney:20261102T130000
DTEND;TZID=Australia/Sydney:20261102T134500
DTSTAMP:20260424T200929
CREATED:20251112T001650Z
LAST-MODIFIED:20251112T001650Z
UID:10127425-1793624400-1793627100@synergyhealthworks.com
SUMMARY:Strength and Conditioning Class
DESCRIPTION:
URL:https://synergyhealthworks.com/event/strength-and-conditioning-class-5/2026-11-02/
LOCATION:Wagga Wagga | Fitness Hub\, 1/21-25 Forsyth Street\, Wagga Wagga\, NSW\, 2650\, Australia
CATEGORIES:Strength and Conditioning
END:VEVENT
BEGIN:VEVENT
DTSTART;TZID=Australia/Sydney:20261102T163000
DTEND;TZID=Australia/Sydney:20261102T171500
DTSTAMP:20260424T200929
CREATED:20250502T051402Z
LAST-MODIFIED:20250502T051402Z
UID:10116562-1793637000-1793639700@synergyhealthworks.com
SUMMARY:Women’s Pregnancy Strength Class
DESCRIPTION:
URL:https://synergyhealthworks.com/event/womens-pregnancy-strength-class/2026-11-02/
LOCATION:Wagga Wagga | Fitness Hub\, 1/21-25 Forsyth Street\, Wagga Wagga\, NSW\, 2650\, Australia
CATEGORIES:Women’s Pregnancy Strength Class
END:VEVENT
BEGIN:VEVENT
DTSTART;TZID=Australia/Sydney:20261103T093000
DTEND;TZID=Australia/Sydney:20261103T094500
DTSTAMP:20260424T200929
CREATED:20241204T020912Z
LAST-MODIFIED:20250901T032148Z
UID:10122583-1793698200-1793699100@synergyhealthworks.com
SUMMARY:Clinical Reformer
DESCRIPTION:
URL:https://synergyhealthworks.com/event/semi-private-reformer-16/2026-11-03/
LOCATION:Wagga Wagga | Reformer Studio\, 221 Kincaid Street\, Wagga Wagga\, NSW\, 2650\, Australia
CATEGORIES:Clinical Reformer
END:VEVENT
BEGIN:VEVENT
DTSTART;TZID=Australia/Sydney:20261103T103000
DTEND;TZID=Australia/Sydney:20261103T111500
DTSTAMP:20260424T200929
CREATED:20241204T012734Z
LAST-MODIFIED:20250129T031606Z
UID:10096562-1793701800-1793704500@synergyhealthworks.com
SUMMARY:Clinical Reformer
DESCRIPTION:
URL:https://synergyhealthworks.com/event/clinical-reformer-41/2026-11-03/
LOCATION:Wagga Wagga | Reformer Studio\, 221 Kincaid Street\, Wagga Wagga\, NSW\, 2650\, Australia
CATEGORIES:Clinical Reformer
END:VEVENT
BEGIN:VEVENT
DTSTART;TZID=Australia/Sydney:20261105T093000
DTEND;TZID=Australia/Sydney:20261105T094500
DTSTAMP:20260424T200929
CREATED:20250901T032458Z
LAST-MODIFIED:20250909T053220Z
UID:10123163-1793871000-1793871900@synergyhealthworks.com
SUMMARY:Clinical Reformer (kids and babies welcome)
DESCRIPTION:
URL:https://synergyhealthworks.com/event/clinical-reformer-kids-and-babies-welcome/2026-11-05/
LOCATION:Gundagai\, 114 Sheridan Street\, Gundagai\, NSW\, 2722\, Australia
CATEGORIES:Clinical Reformer
END:VEVENT
BEGIN:VEVENT
DTSTART;TZID=Australia/Sydney:20261105T120000
DTEND;TZID=Australia/Sydney:20261105T124500
DTSTAMP:20260424T200929
CREATED:20250901T032555Z
LAST-MODIFIED:20250909T053149Z
UID:10123743-1793880000-1793882700@synergyhealthworks.com
SUMMARY:Clinical Reformer (kids and babies welcome)
DESCRIPTION:
URL:https://synergyhealthworks.com/event/clinical-reformer-kids-and-babies-welcome-2/2026-11-05/
LOCATION:Gundagai\, 114 Sheridan Street\, Gundagai\, NSW\, 2722\, Australia
CATEGORIES:Clinical Reformer
END:VEVENT
BEGIN:VEVENT
DTSTART;TZID=Australia/Sydney:20261109T120000
DTEND;TZID=Australia/Sydney:20261109T124500
DTSTAMP:20260424T200929
CREATED:20250829T044037Z
LAST-MODIFIED:20250829T044037Z
UID:10122294-1794225600-1794228300@synergyhealthworks.com
SUMMARY:Strength and Conditioning Class
DESCRIPTION:
URL:https://synergyhealthworks.com/event/strength-and-conditioning-class-3/2026-11-09/
LOCATION:Wagga Wagga | Fitness Hub\, 1/21-25 Forsyth Street\, Wagga Wagga\, NSW\, 2650\, Australia
CATEGORIES:Strength and Conditioning
END:VEVENT
BEGIN:VEVENT
DTSTART;TZID=Australia/Sydney:20261109T130000
DTEND;TZID=Australia/Sydney:20261109T134500
DTSTAMP:20260424T200929
CREATED:20251112T001650Z
LAST-MODIFIED:20251112T001650Z
UID:10127426-1794229200-1794231900@synergyhealthworks.com
SUMMARY:Strength and Conditioning Class
DESCRIPTION:
URL:https://synergyhealthworks.com/event/strength-and-conditioning-class-5/2026-11-09/
LOCATION:Wagga Wagga | Fitness Hub\, 1/21-25 Forsyth Street\, Wagga Wagga\, NSW\, 2650\, Australia
CATEGORIES:Strength and Conditioning
END:VEVENT
END:VCALENDAR