BEGIN:VCALENDAR
VERSION:2.0
PRODID:-//Synergy Healthworks - ECPv6.15.20//NONSGML v1.0//EN
CALSCALE:GREGORIAN
METHOD:PUBLISH
X-WR-CALNAME:Synergy Healthworks
X-ORIGINAL-URL:https://synergyhealthworks.com
X-WR-CALDESC:Events for Synergy Healthworks
REFRESH-INTERVAL;VALUE=DURATION:PT1H
X-Robots-Tag:noindex
X-PUBLISHED-TTL:PT1H
BEGIN:VTIMEZONE
TZID:Australia/Sydney
BEGIN:STANDARD
TZOFFSETFROM:+1100
TZOFFSETTO:+1000
TZNAME:AEST
DTSTART:20250405T160000
END:STANDARD
BEGIN:DAYLIGHT
TZOFFSETFROM:+1000
TZOFFSETTO:+1100
TZNAME:AEDT
DTSTART:20251004T160000
END:DAYLIGHT
BEGIN:STANDARD
TZOFFSETFROM:+1100
TZOFFSETTO:+1000
TZNAME:AEST
DTSTART:20260404T160000
END:STANDARD
BEGIN:DAYLIGHT
TZOFFSETFROM:+1000
TZOFFSETTO:+1100
TZNAME:AEDT
DTSTART:20261003T160000
END:DAYLIGHT
BEGIN:STANDARD
TZOFFSETFROM:+1100
TZOFFSETTO:+1000
TZNAME:AEST
DTSTART:20270403T160000
END:STANDARD
BEGIN:DAYLIGHT
TZOFFSETFROM:+1000
TZOFFSETTO:+1100
TZNAME:AEDT
DTSTART:20271002T160000
END:DAYLIGHT
END:VTIMEZONE
BEGIN:VEVENT
DTSTART;TZID=Australia/Sydney:20260903T120000
DTEND;TZID=Australia/Sydney:20260903T124500
DTSTAMP:20260424T150741
CREATED:20250901T032555Z
LAST-MODIFIED:20250909T053149Z
UID:10123734-1788436800-1788439500@synergyhealthworks.com
SUMMARY:Clinical Reformer (kids and babies welcome)
DESCRIPTION:
URL:https://synergyhealthworks.com/event/clinical-reformer-kids-and-babies-welcome-2/2026-09-03/
LOCATION:Gundagai\, 114 Sheridan Street\, Gundagai\, NSW\, 2722\, Australia
CATEGORIES:Clinical Reformer
END:VEVENT
BEGIN:VEVENT
DTSTART;TZID=Australia/Sydney:20260907T120000
DTEND;TZID=Australia/Sydney:20260907T124500
DTSTAMP:20260424T150741
CREATED:20250829T044037Z
LAST-MODIFIED:20250829T044037Z
UID:10122285-1788782400-1788785100@synergyhealthworks.com
SUMMARY:Strength and Conditioning Class
DESCRIPTION:
URL:https://synergyhealthworks.com/event/strength-and-conditioning-class-3/2026-09-07/
LOCATION:Wagga Wagga | Fitness Hub\, 1/21-25 Forsyth Street\, Wagga Wagga\, NSW\, 2650\, Australia
CATEGORIES:Strength and Conditioning
END:VEVENT
BEGIN:VEVENT
DTSTART;TZID=Australia/Sydney:20260907T130000
DTEND;TZID=Australia/Sydney:20260907T134500
DTSTAMP:20260424T150741
CREATED:20251112T001650Z
LAST-MODIFIED:20251112T001650Z
UID:10127417-1788786000-1788788700@synergyhealthworks.com
SUMMARY:Strength and Conditioning Class
DESCRIPTION:
URL:https://synergyhealthworks.com/event/strength-and-conditioning-class-5/2026-09-07/
LOCATION:Wagga Wagga | Fitness Hub\, 1/21-25 Forsyth Street\, Wagga Wagga\, NSW\, 2650\, Australia
CATEGORIES:Strength and Conditioning
END:VEVENT
BEGIN:VEVENT
DTSTART;TZID=Australia/Sydney:20260907T163000
DTEND;TZID=Australia/Sydney:20260907T171500
DTSTAMP:20260424T150741
CREATED:20250502T051402Z
LAST-MODIFIED:20250502T051402Z
UID:10116554-1788798600-1788801300@synergyhealthworks.com
SUMMARY:Women’s Pregnancy Strength Class
DESCRIPTION:
URL:https://synergyhealthworks.com/event/womens-pregnancy-strength-class/2026-09-07/
LOCATION:Wagga Wagga | Fitness Hub\, 1/21-25 Forsyth Street\, Wagga Wagga\, NSW\, 2650\, Australia
CATEGORIES:Women’s Pregnancy Strength Class
END:VEVENT
BEGIN:VEVENT
DTSTART;TZID=Australia/Sydney:20260908T093000
DTEND;TZID=Australia/Sydney:20260908T094500
DTSTAMP:20260424T150741
CREATED:20241204T020912Z
LAST-MODIFIED:20250901T032148Z
UID:10122575-1788859800-1788860700@synergyhealthworks.com
SUMMARY:Clinical Reformer
DESCRIPTION:
URL:https://synergyhealthworks.com/event/semi-private-reformer-16/2026-09-08/
LOCATION:Wagga Wagga | Reformer Studio\, 221 Kincaid Street\, Wagga Wagga\, NSW\, 2650\, Australia
CATEGORIES:Clinical Reformer
END:VEVENT
BEGIN:VEVENT
DTSTART;TZID=Australia/Sydney:20260908T103000
DTEND;TZID=Australia/Sydney:20260908T111500
DTSTAMP:20260424T150741
CREATED:20241204T012734Z
LAST-MODIFIED:20250129T031606Z
UID:10096554-1788863400-1788866100@synergyhealthworks.com
SUMMARY:Clinical Reformer
DESCRIPTION:
URL:https://synergyhealthworks.com/event/clinical-reformer-41/2026-09-08/
LOCATION:Wagga Wagga | Reformer Studio\, 221 Kincaid Street\, Wagga Wagga\, NSW\, 2650\, Australia
CATEGORIES:Clinical Reformer
END:VEVENT
BEGIN:VEVENT
DTSTART;TZID=Australia/Sydney:20260910T093000
DTEND;TZID=Australia/Sydney:20260910T094500
DTSTAMP:20260424T150741
CREATED:20250901T032458Z
LAST-MODIFIED:20250909T053220Z
UID:10123155-1789032600-1789033500@synergyhealthworks.com
SUMMARY:Clinical Reformer (kids and babies welcome)
DESCRIPTION:
URL:https://synergyhealthworks.com/event/clinical-reformer-kids-and-babies-welcome/2026-09-10/
LOCATION:Gundagai\, 114 Sheridan Street\, Gundagai\, NSW\, 2722\, Australia
CATEGORIES:Clinical Reformer
END:VEVENT
BEGIN:VEVENT
DTSTART;TZID=Australia/Sydney:20260910T120000
DTEND;TZID=Australia/Sydney:20260910T124500
DTSTAMP:20260424T150741
CREATED:20250901T032555Z
LAST-MODIFIED:20250909T053149Z
UID:10123735-1789041600-1789044300@synergyhealthworks.com
SUMMARY:Clinical Reformer (kids and babies welcome)
DESCRIPTION:
URL:https://synergyhealthworks.com/event/clinical-reformer-kids-and-babies-welcome-2/2026-09-10/
LOCATION:Gundagai\, 114 Sheridan Street\, Gundagai\, NSW\, 2722\, Australia
CATEGORIES:Clinical Reformer
END:VEVENT
BEGIN:VEVENT
DTSTART;TZID=Australia/Sydney:20260914T120000
DTEND;TZID=Australia/Sydney:20260914T124500
DTSTAMP:20260424T150741
CREATED:20250829T044037Z
LAST-MODIFIED:20250829T044037Z
UID:10122286-1789387200-1789389900@synergyhealthworks.com
SUMMARY:Strength and Conditioning Class
DESCRIPTION:
URL:https://synergyhealthworks.com/event/strength-and-conditioning-class-3/2026-09-14/
LOCATION:Wagga Wagga | Fitness Hub\, 1/21-25 Forsyth Street\, Wagga Wagga\, NSW\, 2650\, Australia
CATEGORIES:Strength and Conditioning
END:VEVENT
BEGIN:VEVENT
DTSTART;TZID=Australia/Sydney:20260914T130000
DTEND;TZID=Australia/Sydney:20260914T134500
DTSTAMP:20260424T150741
CREATED:20251112T001650Z
LAST-MODIFIED:20251112T001650Z
UID:10127418-1789390800-1789393500@synergyhealthworks.com
SUMMARY:Strength and Conditioning Class
DESCRIPTION:
URL:https://synergyhealthworks.com/event/strength-and-conditioning-class-5/2026-09-14/
LOCATION:Wagga Wagga | Fitness Hub\, 1/21-25 Forsyth Street\, Wagga Wagga\, NSW\, 2650\, Australia
CATEGORIES:Strength and Conditioning
END:VEVENT
BEGIN:VEVENT
DTSTART;TZID=Australia/Sydney:20260914T163000
DTEND;TZID=Australia/Sydney:20260914T171500
DTSTAMP:20260424T150741
CREATED:20250502T051402Z
LAST-MODIFIED:20250502T051402Z
UID:10116555-1789403400-1789406100@synergyhealthworks.com
SUMMARY:Women’s Pregnancy Strength Class
DESCRIPTION:
URL:https://synergyhealthworks.com/event/womens-pregnancy-strength-class/2026-09-14/
LOCATION:Wagga Wagga | Fitness Hub\, 1/21-25 Forsyth Street\, Wagga Wagga\, NSW\, 2650\, Australia
CATEGORIES:Women’s Pregnancy Strength Class
END:VEVENT
BEGIN:VEVENT
DTSTART;TZID=Australia/Sydney:20260915T093000
DTEND;TZID=Australia/Sydney:20260915T094500
DTSTAMP:20260424T150741
CREATED:20241204T020912Z
LAST-MODIFIED:20250901T032148Z
UID:10122576-1789464600-1789465500@synergyhealthworks.com
SUMMARY:Clinical Reformer
DESCRIPTION:
URL:https://synergyhealthworks.com/event/semi-private-reformer-16/2026-09-15/
LOCATION:Wagga Wagga | Reformer Studio\, 221 Kincaid Street\, Wagga Wagga\, NSW\, 2650\, Australia
CATEGORIES:Clinical Reformer
END:VEVENT
BEGIN:VEVENT
DTSTART;TZID=Australia/Sydney:20260915T103000
DTEND;TZID=Australia/Sydney:20260915T111500
DTSTAMP:20260424T150741
CREATED:20241204T012734Z
LAST-MODIFIED:20250129T031606Z
UID:10096555-1789468200-1789470900@synergyhealthworks.com
SUMMARY:Clinical Reformer
DESCRIPTION:
URL:https://synergyhealthworks.com/event/clinical-reformer-41/2026-09-15/
LOCATION:Wagga Wagga | Reformer Studio\, 221 Kincaid Street\, Wagga Wagga\, NSW\, 2650\, Australia
CATEGORIES:Clinical Reformer
END:VEVENT
BEGIN:VEVENT
DTSTART;TZID=Australia/Sydney:20260917T093000
DTEND;TZID=Australia/Sydney:20260917T094500
DTSTAMP:20260424T150741
CREATED:20250901T032458Z
LAST-MODIFIED:20250909T053220Z
UID:10123156-1789637400-1789638300@synergyhealthworks.com
SUMMARY:Clinical Reformer (kids and babies welcome)
DESCRIPTION:
URL:https://synergyhealthworks.com/event/clinical-reformer-kids-and-babies-welcome/2026-09-17/
LOCATION:Gundagai\, 114 Sheridan Street\, Gundagai\, NSW\, 2722\, Australia
CATEGORIES:Clinical Reformer
END:VEVENT
BEGIN:VEVENT
DTSTART;TZID=Australia/Sydney:20260917T120000
DTEND;TZID=Australia/Sydney:20260917T124500
DTSTAMP:20260424T150741
CREATED:20250901T032555Z
LAST-MODIFIED:20250909T053149Z
UID:10123736-1789646400-1789649100@synergyhealthworks.com
SUMMARY:Clinical Reformer (kids and babies welcome)
DESCRIPTION:
URL:https://synergyhealthworks.com/event/clinical-reformer-kids-and-babies-welcome-2/2026-09-17/
LOCATION:Gundagai\, 114 Sheridan Street\, Gundagai\, NSW\, 2722\, Australia
CATEGORIES:Clinical Reformer
END:VEVENT
BEGIN:VEVENT
DTSTART;TZID=Australia/Sydney:20260921T120000
DTEND;TZID=Australia/Sydney:20260921T124500
DTSTAMP:20260424T150741
CREATED:20250829T044037Z
LAST-MODIFIED:20250829T044037Z
UID:10122287-1789992000-1789994700@synergyhealthworks.com
SUMMARY:Strength and Conditioning Class
DESCRIPTION:
URL:https://synergyhealthworks.com/event/strength-and-conditioning-class-3/2026-09-21/
LOCATION:Wagga Wagga | Fitness Hub\, 1/21-25 Forsyth Street\, Wagga Wagga\, NSW\, 2650\, Australia
CATEGORIES:Strength and Conditioning
END:VEVENT
BEGIN:VEVENT
DTSTART;TZID=Australia/Sydney:20260921T130000
DTEND;TZID=Australia/Sydney:20260921T134500
DTSTAMP:20260424T150741
CREATED:20251112T001650Z
LAST-MODIFIED:20251112T001650Z
UID:10127419-1789995600-1789998300@synergyhealthworks.com
SUMMARY:Strength and Conditioning Class
DESCRIPTION:
URL:https://synergyhealthworks.com/event/strength-and-conditioning-class-5/2026-09-21/
LOCATION:Wagga Wagga | Fitness Hub\, 1/21-25 Forsyth Street\, Wagga Wagga\, NSW\, 2650\, Australia
CATEGORIES:Strength and Conditioning
END:VEVENT
BEGIN:VEVENT
DTSTART;TZID=Australia/Sydney:20260921T163000
DTEND;TZID=Australia/Sydney:20260921T171500
DTSTAMP:20260424T150741
CREATED:20250502T051402Z
LAST-MODIFIED:20250502T051402Z
UID:10116556-1790008200-1790010900@synergyhealthworks.com
SUMMARY:Women’s Pregnancy Strength Class
DESCRIPTION:
URL:https://synergyhealthworks.com/event/womens-pregnancy-strength-class/2026-09-21/
LOCATION:Wagga Wagga | Fitness Hub\, 1/21-25 Forsyth Street\, Wagga Wagga\, NSW\, 2650\, Australia
CATEGORIES:Women’s Pregnancy Strength Class
END:VEVENT
BEGIN:VEVENT
DTSTART;TZID=Australia/Sydney:20260922T093000
DTEND;TZID=Australia/Sydney:20260922T094500
DTSTAMP:20260424T150741
CREATED:20241204T020912Z
LAST-MODIFIED:20250901T032148Z
UID:10122577-1790069400-1790070300@synergyhealthworks.com
SUMMARY:Clinical Reformer
DESCRIPTION:
URL:https://synergyhealthworks.com/event/semi-private-reformer-16/2026-09-22/
LOCATION:Wagga Wagga | Reformer Studio\, 221 Kincaid Street\, Wagga Wagga\, NSW\, 2650\, Australia
CATEGORIES:Clinical Reformer
END:VEVENT
BEGIN:VEVENT
DTSTART;TZID=Australia/Sydney:20260922T103000
DTEND;TZID=Australia/Sydney:20260922T111500
DTSTAMP:20260424T150741
CREATED:20241204T012734Z
LAST-MODIFIED:20250129T031606Z
UID:10096556-1790073000-1790075700@synergyhealthworks.com
SUMMARY:Clinical Reformer
DESCRIPTION:
URL:https://synergyhealthworks.com/event/clinical-reformer-41/2026-09-22/
LOCATION:Wagga Wagga | Reformer Studio\, 221 Kincaid Street\, Wagga Wagga\, NSW\, 2650\, Australia
CATEGORIES:Clinical Reformer
END:VEVENT
BEGIN:VEVENT
DTSTART;TZID=Australia/Sydney:20260924T093000
DTEND;TZID=Australia/Sydney:20260924T094500
DTSTAMP:20260424T150741
CREATED:20250901T032458Z
LAST-MODIFIED:20250909T053220Z
UID:10123157-1790242200-1790243100@synergyhealthworks.com
SUMMARY:Clinical Reformer (kids and babies welcome)
DESCRIPTION:
URL:https://synergyhealthworks.com/event/clinical-reformer-kids-and-babies-welcome/2026-09-24/
LOCATION:Gundagai\, 114 Sheridan Street\, Gundagai\, NSW\, 2722\, Australia
CATEGORIES:Clinical Reformer
END:VEVENT
BEGIN:VEVENT
DTSTART;TZID=Australia/Sydney:20260924T120000
DTEND;TZID=Australia/Sydney:20260924T124500
DTSTAMP:20260424T150741
CREATED:20250901T032555Z
LAST-MODIFIED:20250909T053149Z
UID:10123737-1790251200-1790253900@synergyhealthworks.com
SUMMARY:Clinical Reformer (kids and babies welcome)
DESCRIPTION:
URL:https://synergyhealthworks.com/event/clinical-reformer-kids-and-babies-welcome-2/2026-09-24/
LOCATION:Gundagai\, 114 Sheridan Street\, Gundagai\, NSW\, 2722\, Australia
CATEGORIES:Clinical Reformer
END:VEVENT
BEGIN:VEVENT
DTSTART;TZID=Australia/Sydney:20260928T120000
DTEND;TZID=Australia/Sydney:20260928T124500
DTSTAMP:20260424T150741
CREATED:20250829T044037Z
LAST-MODIFIED:20250829T044037Z
UID:10122288-1790596800-1790599500@synergyhealthworks.com
SUMMARY:Strength and Conditioning Class
DESCRIPTION:
URL:https://synergyhealthworks.com/event/strength-and-conditioning-class-3/2026-09-28/
LOCATION:Wagga Wagga | Fitness Hub\, 1/21-25 Forsyth Street\, Wagga Wagga\, NSW\, 2650\, Australia
CATEGORIES:Strength and Conditioning
END:VEVENT
BEGIN:VEVENT
DTSTART;TZID=Australia/Sydney:20260928T130000
DTEND;TZID=Australia/Sydney:20260928T134500
DTSTAMP:20260424T150741
CREATED:20251112T001650Z
LAST-MODIFIED:20251112T001650Z
UID:10127420-1790600400-1790603100@synergyhealthworks.com
SUMMARY:Strength and Conditioning Class
DESCRIPTION:
URL:https://synergyhealthworks.com/event/strength-and-conditioning-class-5/2026-09-28/
LOCATION:Wagga Wagga | Fitness Hub\, 1/21-25 Forsyth Street\, Wagga Wagga\, NSW\, 2650\, Australia
CATEGORIES:Strength and Conditioning
END:VEVENT
BEGIN:VEVENT
DTSTART;TZID=Australia/Sydney:20260928T163000
DTEND;TZID=Australia/Sydney:20260928T171500
DTSTAMP:20260424T150741
CREATED:20250502T051402Z
LAST-MODIFIED:20250502T051402Z
UID:10116557-1790613000-1790615700@synergyhealthworks.com
SUMMARY:Women’s Pregnancy Strength Class
DESCRIPTION:
URL:https://synergyhealthworks.com/event/womens-pregnancy-strength-class/2026-09-28/
LOCATION:Wagga Wagga | Fitness Hub\, 1/21-25 Forsyth Street\, Wagga Wagga\, NSW\, 2650\, Australia
CATEGORIES:Women’s Pregnancy Strength Class
END:VEVENT
BEGIN:VEVENT
DTSTART;TZID=Australia/Sydney:20260929T093000
DTEND;TZID=Australia/Sydney:20260929T094500
DTSTAMP:20260424T150741
CREATED:20241204T020912Z
LAST-MODIFIED:20250901T032148Z
UID:10122578-1790674200-1790675100@synergyhealthworks.com
SUMMARY:Clinical Reformer
DESCRIPTION:
URL:https://synergyhealthworks.com/event/semi-private-reformer-16/2026-09-29/
LOCATION:Wagga Wagga | Reformer Studio\, 221 Kincaid Street\, Wagga Wagga\, NSW\, 2650\, Australia
CATEGORIES:Clinical Reformer
END:VEVENT
BEGIN:VEVENT
DTSTART;TZID=Australia/Sydney:20260929T103000
DTEND;TZID=Australia/Sydney:20260929T111500
DTSTAMP:20260424T150741
CREATED:20241204T012734Z
LAST-MODIFIED:20250129T031606Z
UID:10096557-1790677800-1790680500@synergyhealthworks.com
SUMMARY:Clinical Reformer
DESCRIPTION:
URL:https://synergyhealthworks.com/event/clinical-reformer-41/2026-09-29/
LOCATION:Wagga Wagga | Reformer Studio\, 221 Kincaid Street\, Wagga Wagga\, NSW\, 2650\, Australia
CATEGORIES:Clinical Reformer
END:VEVENT
BEGIN:VEVENT
DTSTART;TZID=Australia/Sydney:20261001T093000
DTEND;TZID=Australia/Sydney:20261001T094500
DTSTAMP:20260424T150741
CREATED:20250901T032458Z
LAST-MODIFIED:20250909T053220Z
UID:10123158-1790847000-1790847900@synergyhealthworks.com
SUMMARY:Clinical Reformer (kids and babies welcome)
DESCRIPTION:
URL:https://synergyhealthworks.com/event/clinical-reformer-kids-and-babies-welcome/2026-10-01/
LOCATION:Gundagai\, 114 Sheridan Street\, Gundagai\, NSW\, 2722\, Australia
CATEGORIES:Clinical Reformer
END:VEVENT
BEGIN:VEVENT
DTSTART;TZID=Australia/Sydney:20261001T120000
DTEND;TZID=Australia/Sydney:20261001T124500
DTSTAMP:20260424T150741
CREATED:20250901T032555Z
LAST-MODIFIED:20250909T053149Z
UID:10123738-1790856000-1790858700@synergyhealthworks.com
SUMMARY:Clinical Reformer (kids and babies welcome)
DESCRIPTION:
URL:https://synergyhealthworks.com/event/clinical-reformer-kids-and-babies-welcome-2/2026-10-01/
LOCATION:Gundagai\, 114 Sheridan Street\, Gundagai\, NSW\, 2722\, Australia
CATEGORIES:Clinical Reformer
END:VEVENT
BEGIN:VEVENT
DTSTART;TZID=Australia/Sydney:20261005T120000
DTEND;TZID=Australia/Sydney:20261005T124500
DTSTAMP:20260424T150741
CREATED:20250829T044037Z
LAST-MODIFIED:20250829T044037Z
UID:10122289-1791201600-1791204300@synergyhealthworks.com
SUMMARY:Strength and Conditioning Class
DESCRIPTION:
URL:https://synergyhealthworks.com/event/strength-and-conditioning-class-3/2026-10-05/
LOCATION:Wagga Wagga | Fitness Hub\, 1/21-25 Forsyth Street\, Wagga Wagga\, NSW\, 2650\, Australia
CATEGORIES:Strength and Conditioning
END:VEVENT
END:VCALENDAR