BEGIN:VCALENDAR
VERSION:2.0
PRODID:-//Synergy Healthworks - ECPv6.15.20//NONSGML v1.0//EN
CALSCALE:GREGORIAN
METHOD:PUBLISH
X-WR-CALNAME:Synergy Healthworks
X-ORIGINAL-URL:https://synergyhealthworks.com
X-WR-CALDESC:Events for Synergy Healthworks
REFRESH-INTERVAL;VALUE=DURATION:PT1H
X-Robots-Tag:noindex
X-PUBLISHED-TTL:PT1H
BEGIN:VTIMEZONE
TZID:Australia/Sydney
BEGIN:STANDARD
TZOFFSETFROM:+1100
TZOFFSETTO:+1000
TZNAME:AEST
DTSTART:20290331T160000
END:STANDARD
BEGIN:DAYLIGHT
TZOFFSETFROM:+1000
TZOFFSETTO:+1100
TZNAME:AEDT
DTSTART:20291006T160000
END:DAYLIGHT
BEGIN:STANDARD
TZOFFSETFROM:+1100
TZOFFSETTO:+1000
TZNAME:AEST
DTSTART:20300406T160000
END:STANDARD
BEGIN:DAYLIGHT
TZOFFSETFROM:+1000
TZOFFSETTO:+1100
TZNAME:AEDT
DTSTART:20301005T160000
END:DAYLIGHT
BEGIN:STANDARD
TZOFFSETFROM:+1100
TZOFFSETTO:+1000
TZNAME:AEST
DTSTART:20310405T160000
END:STANDARD
BEGIN:DAYLIGHT
TZOFFSETFROM:+1000
TZOFFSETTO:+1100
TZNAME:AEDT
DTSTART:20311004T160000
END:DAYLIGHT
END:VTIMEZONE
BEGIN:VEVENT
DTSTART;TZID=Australia/Sydney:20300618T103000
DTEND;TZID=Australia/Sydney:20300618T111500
DTSTAMP:20260426T141305
CREATED:20241204T010757Z
LAST-MODIFIED:20251123T223539Z
UID:10129912-1908009000-1908011700@synergyhealthworks.com
SUMMARY:Mums and Bubs Core Class
DESCRIPTION:
URL:https://synergyhealthworks.com/event/mums-and-bubs-core-class-5/2030-06-18/
LOCATION:Wagga Wagga | Mat Studio\, 221 Kincaid Street\, Wagga Wagga\, NSW\, 2650\, Australia
CATEGORIES:Mums and Bubs
END:VEVENT
BEGIN:VEVENT
DTSTART;TZID=Australia/Sydney:20300618T113000
DTEND;TZID=Australia/Sydney:20300618T121500
DTSTAMP:20260426T141305
CREATED:20241204T012809Z
LAST-MODIFIED:20251123T220437Z
UID:10127692-1908012600-1908015300@synergyhealthworks.com
SUMMARY:Gentle Reformer
DESCRIPTION:
URL:https://synergyhealthworks.com/event/clinical-reformer-42/2030-06-18/
LOCATION:Wagga Wagga | Reformer Studio\, 221 Kincaid Street\, Wagga Wagga\, NSW\, 2650\, Australia
CATEGORIES:Clinical Reformer
END:VEVENT
BEGIN:VEVENT
DTSTART;TZID=Australia/Sydney:20300618T123000
DTEND;TZID=Australia/Sydney:20300618T131500
DTSTAMP:20260426T141305
CREATED:20241204T012841Z
LAST-MODIFIED:20251123T220259Z
UID:10127734-1908016200-1908018900@synergyhealthworks.com
SUMMARY:Clinical Reformer
DESCRIPTION:
URL:https://synergyhealthworks.com/event/clinical-reformer-43/2030-06-18/
LOCATION:Wagga Wagga | Reformer Studio\, 221 Kincaid Street\, Wagga Wagga\, NSW\, 2650\, Australia
CATEGORIES:Clinical Reformer
END:VEVENT
BEGIN:VEVENT
DTSTART;TZID=Australia/Sydney:20300625T103000
DTEND;TZID=Australia/Sydney:20300625T111500
DTSTAMP:20260426T141305
CREATED:20241204T010757Z
LAST-MODIFIED:20251123T223539Z
UID:10129913-1908613800-1908616500@synergyhealthworks.com
SUMMARY:Mums and Bubs Core Class
DESCRIPTION:
URL:https://synergyhealthworks.com/event/mums-and-bubs-core-class-5/2030-06-25/
LOCATION:Wagga Wagga | Mat Studio\, 221 Kincaid Street\, Wagga Wagga\, NSW\, 2650\, Australia
CATEGORIES:Mums and Bubs
END:VEVENT
BEGIN:VEVENT
DTSTART;TZID=Australia/Sydney:20300625T113000
DTEND;TZID=Australia/Sydney:20300625T121500
DTSTAMP:20260426T141305
CREATED:20241204T012809Z
LAST-MODIFIED:20251123T220437Z
UID:10127693-1908617400-1908620100@synergyhealthworks.com
SUMMARY:Gentle Reformer
DESCRIPTION:
URL:https://synergyhealthworks.com/event/clinical-reformer-42/2030-06-25/
LOCATION:Wagga Wagga | Reformer Studio\, 221 Kincaid Street\, Wagga Wagga\, NSW\, 2650\, Australia
CATEGORIES:Clinical Reformer
END:VEVENT
BEGIN:VEVENT
DTSTART;TZID=Australia/Sydney:20300625T123000
DTEND;TZID=Australia/Sydney:20300625T131500
DTSTAMP:20260426T141305
CREATED:20241204T012841Z
LAST-MODIFIED:20251123T220259Z
UID:10127735-1908621000-1908623700@synergyhealthworks.com
SUMMARY:Clinical Reformer
DESCRIPTION:
URL:https://synergyhealthworks.com/event/clinical-reformer-43/2030-06-25/
LOCATION:Wagga Wagga | Reformer Studio\, 221 Kincaid Street\, Wagga Wagga\, NSW\, 2650\, Australia
CATEGORIES:Clinical Reformer
END:VEVENT
BEGIN:VEVENT
DTSTART;TZID=Australia/Sydney:20300702T103000
DTEND;TZID=Australia/Sydney:20300702T111500
DTSTAMP:20260426T141305
CREATED:20241204T010757Z
LAST-MODIFIED:20251123T223539Z
UID:10129914-1909218600-1909221300@synergyhealthworks.com
SUMMARY:Mums and Bubs Core Class
DESCRIPTION:
URL:https://synergyhealthworks.com/event/mums-and-bubs-core-class-5/2030-07-02/
LOCATION:Wagga Wagga | Mat Studio\, 221 Kincaid Street\, Wagga Wagga\, NSW\, 2650\, Australia
CATEGORIES:Mums and Bubs
END:VEVENT
BEGIN:VEVENT
DTSTART;TZID=Australia/Sydney:20300702T113000
DTEND;TZID=Australia/Sydney:20300702T121500
DTSTAMP:20260426T141305
CREATED:20241204T012809Z
LAST-MODIFIED:20251123T220437Z
UID:10127694-1909222200-1909224900@synergyhealthworks.com
SUMMARY:Gentle Reformer
DESCRIPTION:
URL:https://synergyhealthworks.com/event/clinical-reformer-42/2030-07-02/
LOCATION:Wagga Wagga | Reformer Studio\, 221 Kincaid Street\, Wagga Wagga\, NSW\, 2650\, Australia
CATEGORIES:Clinical Reformer
END:VEVENT
BEGIN:VEVENT
DTSTART;TZID=Australia/Sydney:20300702T123000
DTEND;TZID=Australia/Sydney:20300702T131500
DTSTAMP:20260426T141305
CREATED:20241204T012841Z
LAST-MODIFIED:20251123T220259Z
UID:10127736-1909225800-1909228500@synergyhealthworks.com
SUMMARY:Clinical Reformer
DESCRIPTION:
URL:https://synergyhealthworks.com/event/clinical-reformer-43/2030-07-02/
LOCATION:Wagga Wagga | Reformer Studio\, 221 Kincaid Street\, Wagga Wagga\, NSW\, 2650\, Australia
CATEGORIES:Clinical Reformer
END:VEVENT
BEGIN:VEVENT
DTSTART;TZID=Australia/Sydney:20300709T103000
DTEND;TZID=Australia/Sydney:20300709T111500
DTSTAMP:20260426T141305
CREATED:20241204T010757Z
LAST-MODIFIED:20251123T223539Z
UID:10129915-1909823400-1909826100@synergyhealthworks.com
SUMMARY:Mums and Bubs Core Class
DESCRIPTION:
URL:https://synergyhealthworks.com/event/mums-and-bubs-core-class-5/2030-07-09/
LOCATION:Wagga Wagga | Mat Studio\, 221 Kincaid Street\, Wagga Wagga\, NSW\, 2650\, Australia
CATEGORIES:Mums and Bubs
END:VEVENT
BEGIN:VEVENT
DTSTART;TZID=Australia/Sydney:20300709T113000
DTEND;TZID=Australia/Sydney:20300709T121500
DTSTAMP:20260426T141305
CREATED:20241204T012809Z
LAST-MODIFIED:20251123T220437Z
UID:10127695-1909827000-1909829700@synergyhealthworks.com
SUMMARY:Gentle Reformer
DESCRIPTION:
URL:https://synergyhealthworks.com/event/clinical-reformer-42/2030-07-09/
LOCATION:Wagga Wagga | Reformer Studio\, 221 Kincaid Street\, Wagga Wagga\, NSW\, 2650\, Australia
CATEGORIES:Clinical Reformer
END:VEVENT
BEGIN:VEVENT
DTSTART;TZID=Australia/Sydney:20300709T123000
DTEND;TZID=Australia/Sydney:20300709T131500
DTSTAMP:20260426T141305
CREATED:20241204T012841Z
LAST-MODIFIED:20251123T220259Z
UID:10127737-1909830600-1909833300@synergyhealthworks.com
SUMMARY:Clinical Reformer
DESCRIPTION:
URL:https://synergyhealthworks.com/event/clinical-reformer-43/2030-07-09/
LOCATION:Wagga Wagga | Reformer Studio\, 221 Kincaid Street\, Wagga Wagga\, NSW\, 2650\, Australia
CATEGORIES:Clinical Reformer
END:VEVENT
BEGIN:VEVENT
DTSTART;TZID=Australia/Sydney:20300716T103000
DTEND;TZID=Australia/Sydney:20300716T111500
DTSTAMP:20260426T141305
CREATED:20241204T010757Z
LAST-MODIFIED:20251123T223539Z
UID:10129916-1910428200-1910430900@synergyhealthworks.com
SUMMARY:Mums and Bubs Core Class
DESCRIPTION:
URL:https://synergyhealthworks.com/event/mums-and-bubs-core-class-5/2030-07-16/
LOCATION:Wagga Wagga | Mat Studio\, 221 Kincaid Street\, Wagga Wagga\, NSW\, 2650\, Australia
CATEGORIES:Mums and Bubs
END:VEVENT
BEGIN:VEVENT
DTSTART;TZID=Australia/Sydney:20300716T113000
DTEND;TZID=Australia/Sydney:20300716T121500
DTSTAMP:20260426T141305
CREATED:20241204T012809Z
LAST-MODIFIED:20251123T220437Z
UID:10127696-1910431800-1910434500@synergyhealthworks.com
SUMMARY:Gentle Reformer
DESCRIPTION:
URL:https://synergyhealthworks.com/event/clinical-reformer-42/2030-07-16/
LOCATION:Wagga Wagga | Reformer Studio\, 221 Kincaid Street\, Wagga Wagga\, NSW\, 2650\, Australia
CATEGORIES:Clinical Reformer
END:VEVENT
BEGIN:VEVENT
DTSTART;TZID=Australia/Sydney:20300716T123000
DTEND;TZID=Australia/Sydney:20300716T131500
DTSTAMP:20260426T141305
CREATED:20241204T012841Z
LAST-MODIFIED:20251123T220259Z
UID:10127738-1910435400-1910438100@synergyhealthworks.com
SUMMARY:Clinical Reformer
DESCRIPTION:
URL:https://synergyhealthworks.com/event/clinical-reformer-43/2030-07-16/
LOCATION:Wagga Wagga | Reformer Studio\, 221 Kincaid Street\, Wagga Wagga\, NSW\, 2650\, Australia
CATEGORIES:Clinical Reformer
END:VEVENT
BEGIN:VEVENT
DTSTART;TZID=Australia/Sydney:20300723T103000
DTEND;TZID=Australia/Sydney:20300723T111500
DTSTAMP:20260426T141305
CREATED:20241204T010757Z
LAST-MODIFIED:20251123T223539Z
UID:10129917-1911033000-1911035700@synergyhealthworks.com
SUMMARY:Mums and Bubs Core Class
DESCRIPTION:
URL:https://synergyhealthworks.com/event/mums-and-bubs-core-class-5/2030-07-23/
LOCATION:Wagga Wagga | Mat Studio\, 221 Kincaid Street\, Wagga Wagga\, NSW\, 2650\, Australia
CATEGORIES:Mums and Bubs
END:VEVENT
BEGIN:VEVENT
DTSTART;TZID=Australia/Sydney:20300723T113000
DTEND;TZID=Australia/Sydney:20300723T121500
DTSTAMP:20260426T141305
CREATED:20241204T012809Z
LAST-MODIFIED:20251123T220437Z
UID:10127697-1911036600-1911039300@synergyhealthworks.com
SUMMARY:Gentle Reformer
DESCRIPTION:
URL:https://synergyhealthworks.com/event/clinical-reformer-42/2030-07-23/
LOCATION:Wagga Wagga | Reformer Studio\, 221 Kincaid Street\, Wagga Wagga\, NSW\, 2650\, Australia
CATEGORIES:Clinical Reformer
END:VEVENT
BEGIN:VEVENT
DTSTART;TZID=Australia/Sydney:20300723T123000
DTEND;TZID=Australia/Sydney:20300723T131500
DTSTAMP:20260426T141305
CREATED:20241204T012841Z
LAST-MODIFIED:20251123T220259Z
UID:10127739-1911040200-1911042900@synergyhealthworks.com
SUMMARY:Clinical Reformer
DESCRIPTION:
URL:https://synergyhealthworks.com/event/clinical-reformer-43/2030-07-23/
LOCATION:Wagga Wagga | Reformer Studio\, 221 Kincaid Street\, Wagga Wagga\, NSW\, 2650\, Australia
CATEGORIES:Clinical Reformer
END:VEVENT
BEGIN:VEVENT
DTSTART;TZID=Australia/Sydney:20300730T103000
DTEND;TZID=Australia/Sydney:20300730T111500
DTSTAMP:20260426T141305
CREATED:20241204T010757Z
LAST-MODIFIED:20251123T223539Z
UID:10129918-1911637800-1911640500@synergyhealthworks.com
SUMMARY:Mums and Bubs Core Class
DESCRIPTION:
URL:https://synergyhealthworks.com/event/mums-and-bubs-core-class-5/2030-07-30/
LOCATION:Wagga Wagga | Mat Studio\, 221 Kincaid Street\, Wagga Wagga\, NSW\, 2650\, Australia
CATEGORIES:Mums and Bubs
END:VEVENT
BEGIN:VEVENT
DTSTART;TZID=Australia/Sydney:20300730T113000
DTEND;TZID=Australia/Sydney:20300730T121500
DTSTAMP:20260426T141305
CREATED:20241204T012809Z
LAST-MODIFIED:20251123T220437Z
UID:10127698-1911641400-1911644100@synergyhealthworks.com
SUMMARY:Gentle Reformer
DESCRIPTION:
URL:https://synergyhealthworks.com/event/clinical-reformer-42/2030-07-30/
LOCATION:Wagga Wagga | Reformer Studio\, 221 Kincaid Street\, Wagga Wagga\, NSW\, 2650\, Australia
CATEGORIES:Clinical Reformer
END:VEVENT
BEGIN:VEVENT
DTSTART;TZID=Australia/Sydney:20300730T123000
DTEND;TZID=Australia/Sydney:20300730T131500
DTSTAMP:20260426T141305
CREATED:20241204T012841Z
LAST-MODIFIED:20251123T220259Z
UID:10127740-1911645000-1911647700@synergyhealthworks.com
SUMMARY:Clinical Reformer
DESCRIPTION:
URL:https://synergyhealthworks.com/event/clinical-reformer-43/2030-07-30/
LOCATION:Wagga Wagga | Reformer Studio\, 221 Kincaid Street\, Wagga Wagga\, NSW\, 2650\, Australia
CATEGORIES:Clinical Reformer
END:VEVENT
BEGIN:VEVENT
DTSTART;TZID=Australia/Sydney:20300806T103000
DTEND;TZID=Australia/Sydney:20300806T111500
DTSTAMP:20260426T141305
CREATED:20241204T010757Z
LAST-MODIFIED:20251123T223539Z
UID:10129919-1912242600-1912245300@synergyhealthworks.com
SUMMARY:Mums and Bubs Core Class
DESCRIPTION:
URL:https://synergyhealthworks.com/event/mums-and-bubs-core-class-5/2030-08-06/
LOCATION:Wagga Wagga | Mat Studio\, 221 Kincaid Street\, Wagga Wagga\, NSW\, 2650\, Australia
CATEGORIES:Mums and Bubs
END:VEVENT
BEGIN:VEVENT
DTSTART;TZID=Australia/Sydney:20300806T113000
DTEND;TZID=Australia/Sydney:20300806T121500
DTSTAMP:20260426T141305
CREATED:20241204T012809Z
LAST-MODIFIED:20251123T220437Z
UID:10127699-1912246200-1912248900@synergyhealthworks.com
SUMMARY:Gentle Reformer
DESCRIPTION:
URL:https://synergyhealthworks.com/event/clinical-reformer-42/2030-08-06/
LOCATION:Wagga Wagga | Reformer Studio\, 221 Kincaid Street\, Wagga Wagga\, NSW\, 2650\, Australia
CATEGORIES:Clinical Reformer
END:VEVENT
BEGIN:VEVENT
DTSTART;TZID=Australia/Sydney:20300806T123000
DTEND;TZID=Australia/Sydney:20300806T131500
DTSTAMP:20260426T141305
CREATED:20241204T012841Z
LAST-MODIFIED:20251123T220259Z
UID:10127741-1912249800-1912252500@synergyhealthworks.com
SUMMARY:Clinical Reformer
DESCRIPTION:
URL:https://synergyhealthworks.com/event/clinical-reformer-43/2030-08-06/
LOCATION:Wagga Wagga | Reformer Studio\, 221 Kincaid Street\, Wagga Wagga\, NSW\, 2650\, Australia
CATEGORIES:Clinical Reformer
END:VEVENT
BEGIN:VEVENT
DTSTART;TZID=Australia/Sydney:20300813T103000
DTEND;TZID=Australia/Sydney:20300813T111500
DTSTAMP:20260426T141305
CREATED:20241204T010757Z
LAST-MODIFIED:20251123T223539Z
UID:10129920-1912847400-1912850100@synergyhealthworks.com
SUMMARY:Mums and Bubs Core Class
DESCRIPTION:
URL:https://synergyhealthworks.com/event/mums-and-bubs-core-class-5/2030-08-13/
LOCATION:Wagga Wagga | Mat Studio\, 221 Kincaid Street\, Wagga Wagga\, NSW\, 2650\, Australia
CATEGORIES:Mums and Bubs
END:VEVENT
BEGIN:VEVENT
DTSTART;TZID=Australia/Sydney:20300813T113000
DTEND;TZID=Australia/Sydney:20300813T121500
DTSTAMP:20260426T141305
CREATED:20241204T012809Z
LAST-MODIFIED:20251123T220437Z
UID:10127700-1912851000-1912853700@synergyhealthworks.com
SUMMARY:Gentle Reformer
DESCRIPTION:
URL:https://synergyhealthworks.com/event/clinical-reformer-42/2030-08-13/
LOCATION:Wagga Wagga | Reformer Studio\, 221 Kincaid Street\, Wagga Wagga\, NSW\, 2650\, Australia
CATEGORIES:Clinical Reformer
END:VEVENT
BEGIN:VEVENT
DTSTART;TZID=Australia/Sydney:20300813T123000
DTEND;TZID=Australia/Sydney:20300813T131500
DTSTAMP:20260426T141305
CREATED:20241204T012841Z
LAST-MODIFIED:20251123T220259Z
UID:10127742-1912854600-1912857300@synergyhealthworks.com
SUMMARY:Clinical Reformer
DESCRIPTION:
URL:https://synergyhealthworks.com/event/clinical-reformer-43/2030-08-13/
LOCATION:Wagga Wagga | Reformer Studio\, 221 Kincaid Street\, Wagga Wagga\, NSW\, 2650\, Australia
CATEGORIES:Clinical Reformer
END:VEVENT
BEGIN:VEVENT
DTSTART;TZID=Australia/Sydney:20300820T103000
DTEND;TZID=Australia/Sydney:20300820T111500
DTSTAMP:20260426T141305
CREATED:20241204T010757Z
LAST-MODIFIED:20251123T223539Z
UID:10129921-1913452200-1913454900@synergyhealthworks.com
SUMMARY:Mums and Bubs Core Class
DESCRIPTION:
URL:https://synergyhealthworks.com/event/mums-and-bubs-core-class-5/2030-08-20/
LOCATION:Wagga Wagga | Mat Studio\, 221 Kincaid Street\, Wagga Wagga\, NSW\, 2650\, Australia
CATEGORIES:Mums and Bubs
END:VEVENT
BEGIN:VEVENT
DTSTART;TZID=Australia/Sydney:20300820T113000
DTEND;TZID=Australia/Sydney:20300820T121500
DTSTAMP:20260426T141305
CREATED:20241204T012809Z
LAST-MODIFIED:20251123T220437Z
UID:10127701-1913455800-1913458500@synergyhealthworks.com
SUMMARY:Gentle Reformer
DESCRIPTION:
URL:https://synergyhealthworks.com/event/clinical-reformer-42/2030-08-20/
LOCATION:Wagga Wagga | Reformer Studio\, 221 Kincaid Street\, Wagga Wagga\, NSW\, 2650\, Australia
CATEGORIES:Clinical Reformer
END:VEVENT
BEGIN:VEVENT
DTSTART;TZID=Australia/Sydney:20300820T123000
DTEND;TZID=Australia/Sydney:20300820T131500
DTSTAMP:20260426T141305
CREATED:20241204T012841Z
LAST-MODIFIED:20251123T220259Z
UID:10127743-1913459400-1913462100@synergyhealthworks.com
SUMMARY:Clinical Reformer
DESCRIPTION:
URL:https://synergyhealthworks.com/event/clinical-reformer-43/2030-08-20/
LOCATION:Wagga Wagga | Reformer Studio\, 221 Kincaid Street\, Wagga Wagga\, NSW\, 2650\, Australia
CATEGORIES:Clinical Reformer
END:VEVENT
END:VCALENDAR