BEGIN:VCALENDAR
VERSION:2.0
PRODID:-//Synergy Healthworks - ECPv6.15.20//NONSGML v1.0//EN
CALSCALE:GREGORIAN
METHOD:PUBLISH
X-WR-CALNAME:Synergy Healthworks
X-ORIGINAL-URL:https://synergyhealthworks.com
X-WR-CALDESC:Events for Synergy Healthworks
REFRESH-INTERVAL;VALUE=DURATION:PT1H
X-Robots-Tag:noindex
X-PUBLISHED-TTL:PT1H
BEGIN:VTIMEZONE
TZID:Australia/Sydney
BEGIN:STANDARD
TZOFFSETFROM:+1100
TZOFFSETTO:+1000
TZNAME:AEST
DTSTART:20290331T160000
END:STANDARD
BEGIN:DAYLIGHT
TZOFFSETFROM:+1000
TZOFFSETTO:+1100
TZNAME:AEDT
DTSTART:20291006T160000
END:DAYLIGHT
BEGIN:STANDARD
TZOFFSETFROM:+1100
TZOFFSETTO:+1000
TZNAME:AEST
DTSTART:20300406T160000
END:STANDARD
BEGIN:DAYLIGHT
TZOFFSETFROM:+1000
TZOFFSETTO:+1100
TZNAME:AEDT
DTSTART:20301005T160000
END:DAYLIGHT
BEGIN:STANDARD
TZOFFSETFROM:+1100
TZOFFSETTO:+1000
TZNAME:AEST
DTSTART:20310405T160000
END:STANDARD
BEGIN:DAYLIGHT
TZOFFSETFROM:+1000
TZOFFSETTO:+1100
TZNAME:AEDT
DTSTART:20311004T160000
END:DAYLIGHT
END:VTIMEZONE
BEGIN:VEVENT
DTSTART;TZID=Australia/Sydney:20300423T103000
DTEND;TZID=Australia/Sydney:20300423T111500
DTSTAMP:20260426T101344
CREATED:20241204T010757Z
LAST-MODIFIED:20251123T223539Z
UID:10129904-1903170600-1903173300@synergyhealthworks.com
SUMMARY:Mums and Bubs Core Class
DESCRIPTION:
URL:https://synergyhealthworks.com/event/mums-and-bubs-core-class-5/2030-04-23/
LOCATION:Wagga Wagga | Mat Studio\, 221 Kincaid Street\, Wagga Wagga\, NSW\, 2650\, Australia
CATEGORIES:Mums and Bubs
END:VEVENT
BEGIN:VEVENT
DTSTART;TZID=Australia/Sydney:20300423T113000
DTEND;TZID=Australia/Sydney:20300423T121500
DTSTAMP:20260426T101344
CREATED:20241204T012809Z
LAST-MODIFIED:20251123T220437Z
UID:10127684-1903174200-1903176900@synergyhealthworks.com
SUMMARY:Gentle Reformer
DESCRIPTION:
URL:https://synergyhealthworks.com/event/clinical-reformer-42/2030-04-23/
LOCATION:Wagga Wagga | Reformer Studio\, 221 Kincaid Street\, Wagga Wagga\, NSW\, 2650\, Australia
CATEGORIES:Clinical Reformer
END:VEVENT
BEGIN:VEVENT
DTSTART;TZID=Australia/Sydney:20300423T123000
DTEND;TZID=Australia/Sydney:20300423T131500
DTSTAMP:20260426T101344
CREATED:20241204T012841Z
LAST-MODIFIED:20251123T220259Z
UID:10127726-1903177800-1903180500@synergyhealthworks.com
SUMMARY:Clinical Reformer
DESCRIPTION:
URL:https://synergyhealthworks.com/event/clinical-reformer-43/2030-04-23/
LOCATION:Wagga Wagga | Reformer Studio\, 221 Kincaid Street\, Wagga Wagga\, NSW\, 2650\, Australia
CATEGORIES:Clinical Reformer
END:VEVENT
BEGIN:VEVENT
DTSTART;TZID=Australia/Sydney:20300430T103000
DTEND;TZID=Australia/Sydney:20300430T111500
DTSTAMP:20260426T101344
CREATED:20241204T010757Z
LAST-MODIFIED:20251123T223539Z
UID:10129905-1903775400-1903778100@synergyhealthworks.com
SUMMARY:Mums and Bubs Core Class
DESCRIPTION:
URL:https://synergyhealthworks.com/event/mums-and-bubs-core-class-5/2030-04-30/
LOCATION:Wagga Wagga | Mat Studio\, 221 Kincaid Street\, Wagga Wagga\, NSW\, 2650\, Australia
CATEGORIES:Mums and Bubs
END:VEVENT
BEGIN:VEVENT
DTSTART;TZID=Australia/Sydney:20300430T113000
DTEND;TZID=Australia/Sydney:20300430T121500
DTSTAMP:20260426T101344
CREATED:20241204T012809Z
LAST-MODIFIED:20251123T220437Z
UID:10127685-1903779000-1903781700@synergyhealthworks.com
SUMMARY:Gentle Reformer
DESCRIPTION:
URL:https://synergyhealthworks.com/event/clinical-reformer-42/2030-04-30/
LOCATION:Wagga Wagga | Reformer Studio\, 221 Kincaid Street\, Wagga Wagga\, NSW\, 2650\, Australia
CATEGORIES:Clinical Reformer
END:VEVENT
BEGIN:VEVENT
DTSTART;TZID=Australia/Sydney:20300430T123000
DTEND;TZID=Australia/Sydney:20300430T131500
DTSTAMP:20260426T101344
CREATED:20241204T012841Z
LAST-MODIFIED:20251123T220259Z
UID:10127727-1903782600-1903785300@synergyhealthworks.com
SUMMARY:Clinical Reformer
DESCRIPTION:
URL:https://synergyhealthworks.com/event/clinical-reformer-43/2030-04-30/
LOCATION:Wagga Wagga | Reformer Studio\, 221 Kincaid Street\, Wagga Wagga\, NSW\, 2650\, Australia
CATEGORIES:Clinical Reformer
END:VEVENT
BEGIN:VEVENT
DTSTART;TZID=Australia/Sydney:20300507T103000
DTEND;TZID=Australia/Sydney:20300507T111500
DTSTAMP:20260426T101344
CREATED:20241204T010757Z
LAST-MODIFIED:20251123T223539Z
UID:10129906-1904380200-1904382900@synergyhealthworks.com
SUMMARY:Mums and Bubs Core Class
DESCRIPTION:
URL:https://synergyhealthworks.com/event/mums-and-bubs-core-class-5/2030-05-07/
LOCATION:Wagga Wagga | Mat Studio\, 221 Kincaid Street\, Wagga Wagga\, NSW\, 2650\, Australia
CATEGORIES:Mums and Bubs
END:VEVENT
BEGIN:VEVENT
DTSTART;TZID=Australia/Sydney:20300507T113000
DTEND;TZID=Australia/Sydney:20300507T121500
DTSTAMP:20260426T101344
CREATED:20241204T012809Z
LAST-MODIFIED:20251123T220437Z
UID:10127686-1904383800-1904386500@synergyhealthworks.com
SUMMARY:Gentle Reformer
DESCRIPTION:
URL:https://synergyhealthworks.com/event/clinical-reformer-42/2030-05-07/
LOCATION:Wagga Wagga | Reformer Studio\, 221 Kincaid Street\, Wagga Wagga\, NSW\, 2650\, Australia
CATEGORIES:Clinical Reformer
END:VEVENT
BEGIN:VEVENT
DTSTART;TZID=Australia/Sydney:20300507T123000
DTEND;TZID=Australia/Sydney:20300507T131500
DTSTAMP:20260426T101344
CREATED:20241204T012841Z
LAST-MODIFIED:20251123T220259Z
UID:10127728-1904387400-1904390100@synergyhealthworks.com
SUMMARY:Clinical Reformer
DESCRIPTION:
URL:https://synergyhealthworks.com/event/clinical-reformer-43/2030-05-07/
LOCATION:Wagga Wagga | Reformer Studio\, 221 Kincaid Street\, Wagga Wagga\, NSW\, 2650\, Australia
CATEGORIES:Clinical Reformer
END:VEVENT
BEGIN:VEVENT
DTSTART;TZID=Australia/Sydney:20300514T103000
DTEND;TZID=Australia/Sydney:20300514T111500
DTSTAMP:20260426T101344
CREATED:20241204T010757Z
LAST-MODIFIED:20251123T223539Z
UID:10129907-1904985000-1904987700@synergyhealthworks.com
SUMMARY:Mums and Bubs Core Class
DESCRIPTION:
URL:https://synergyhealthworks.com/event/mums-and-bubs-core-class-5/2030-05-14/
LOCATION:Wagga Wagga | Mat Studio\, 221 Kincaid Street\, Wagga Wagga\, NSW\, 2650\, Australia
CATEGORIES:Mums and Bubs
END:VEVENT
BEGIN:VEVENT
DTSTART;TZID=Australia/Sydney:20300514T113000
DTEND;TZID=Australia/Sydney:20300514T121500
DTSTAMP:20260426T101344
CREATED:20241204T012809Z
LAST-MODIFIED:20251123T220437Z
UID:10127687-1904988600-1904991300@synergyhealthworks.com
SUMMARY:Gentle Reformer
DESCRIPTION:
URL:https://synergyhealthworks.com/event/clinical-reformer-42/2030-05-14/
LOCATION:Wagga Wagga | Reformer Studio\, 221 Kincaid Street\, Wagga Wagga\, NSW\, 2650\, Australia
CATEGORIES:Clinical Reformer
END:VEVENT
BEGIN:VEVENT
DTSTART;TZID=Australia/Sydney:20300514T123000
DTEND;TZID=Australia/Sydney:20300514T131500
DTSTAMP:20260426T101344
CREATED:20241204T012841Z
LAST-MODIFIED:20251123T220259Z
UID:10127729-1904992200-1904994900@synergyhealthworks.com
SUMMARY:Clinical Reformer
DESCRIPTION:
URL:https://synergyhealthworks.com/event/clinical-reformer-43/2030-05-14/
LOCATION:Wagga Wagga | Reformer Studio\, 221 Kincaid Street\, Wagga Wagga\, NSW\, 2650\, Australia
CATEGORIES:Clinical Reformer
END:VEVENT
BEGIN:VEVENT
DTSTART;TZID=Australia/Sydney:20300521T103000
DTEND;TZID=Australia/Sydney:20300521T111500
DTSTAMP:20260426T101344
CREATED:20241204T010757Z
LAST-MODIFIED:20251123T223539Z
UID:10129908-1905589800-1905592500@synergyhealthworks.com
SUMMARY:Mums and Bubs Core Class
DESCRIPTION:
URL:https://synergyhealthworks.com/event/mums-and-bubs-core-class-5/2030-05-21/
LOCATION:Wagga Wagga | Mat Studio\, 221 Kincaid Street\, Wagga Wagga\, NSW\, 2650\, Australia
CATEGORIES:Mums and Bubs
END:VEVENT
BEGIN:VEVENT
DTSTART;TZID=Australia/Sydney:20300521T113000
DTEND;TZID=Australia/Sydney:20300521T121500
DTSTAMP:20260426T101344
CREATED:20241204T012809Z
LAST-MODIFIED:20251123T220437Z
UID:10127688-1905593400-1905596100@synergyhealthworks.com
SUMMARY:Gentle Reformer
DESCRIPTION:
URL:https://synergyhealthworks.com/event/clinical-reformer-42/2030-05-21/
LOCATION:Wagga Wagga | Reformer Studio\, 221 Kincaid Street\, Wagga Wagga\, NSW\, 2650\, Australia
CATEGORIES:Clinical Reformer
END:VEVENT
BEGIN:VEVENT
DTSTART;TZID=Australia/Sydney:20300521T123000
DTEND;TZID=Australia/Sydney:20300521T131500
DTSTAMP:20260426T101344
CREATED:20241204T012841Z
LAST-MODIFIED:20251123T220259Z
UID:10127730-1905597000-1905599700@synergyhealthworks.com
SUMMARY:Clinical Reformer
DESCRIPTION:
URL:https://synergyhealthworks.com/event/clinical-reformer-43/2030-05-21/
LOCATION:Wagga Wagga | Reformer Studio\, 221 Kincaid Street\, Wagga Wagga\, NSW\, 2650\, Australia
CATEGORIES:Clinical Reformer
END:VEVENT
BEGIN:VEVENT
DTSTART;TZID=Australia/Sydney:20300528T103000
DTEND;TZID=Australia/Sydney:20300528T111500
DTSTAMP:20260426T101344
CREATED:20241204T010757Z
LAST-MODIFIED:20251123T223539Z
UID:10129909-1906194600-1906197300@synergyhealthworks.com
SUMMARY:Mums and Bubs Core Class
DESCRIPTION:
URL:https://synergyhealthworks.com/event/mums-and-bubs-core-class-5/2030-05-28/
LOCATION:Wagga Wagga | Mat Studio\, 221 Kincaid Street\, Wagga Wagga\, NSW\, 2650\, Australia
CATEGORIES:Mums and Bubs
END:VEVENT
BEGIN:VEVENT
DTSTART;TZID=Australia/Sydney:20300528T113000
DTEND;TZID=Australia/Sydney:20300528T121500
DTSTAMP:20260426T101344
CREATED:20241204T012809Z
LAST-MODIFIED:20251123T220437Z
UID:10127689-1906198200-1906200900@synergyhealthworks.com
SUMMARY:Gentle Reformer
DESCRIPTION:
URL:https://synergyhealthworks.com/event/clinical-reformer-42/2030-05-28/
LOCATION:Wagga Wagga | Reformer Studio\, 221 Kincaid Street\, Wagga Wagga\, NSW\, 2650\, Australia
CATEGORIES:Clinical Reformer
END:VEVENT
BEGIN:VEVENT
DTSTART;TZID=Australia/Sydney:20300528T123000
DTEND;TZID=Australia/Sydney:20300528T131500
DTSTAMP:20260426T101344
CREATED:20241204T012841Z
LAST-MODIFIED:20251123T220259Z
UID:10127731-1906201800-1906204500@synergyhealthworks.com
SUMMARY:Clinical Reformer
DESCRIPTION:
URL:https://synergyhealthworks.com/event/clinical-reformer-43/2030-05-28/
LOCATION:Wagga Wagga | Reformer Studio\, 221 Kincaid Street\, Wagga Wagga\, NSW\, 2650\, Australia
CATEGORIES:Clinical Reformer
END:VEVENT
BEGIN:VEVENT
DTSTART;TZID=Australia/Sydney:20300604T103000
DTEND;TZID=Australia/Sydney:20300604T111500
DTSTAMP:20260426T101344
CREATED:20241204T010757Z
LAST-MODIFIED:20251123T223539Z
UID:10129910-1906799400-1906802100@synergyhealthworks.com
SUMMARY:Mums and Bubs Core Class
DESCRIPTION:
URL:https://synergyhealthworks.com/event/mums-and-bubs-core-class-5/2030-06-04/
LOCATION:Wagga Wagga | Mat Studio\, 221 Kincaid Street\, Wagga Wagga\, NSW\, 2650\, Australia
CATEGORIES:Mums and Bubs
END:VEVENT
BEGIN:VEVENT
DTSTART;TZID=Australia/Sydney:20300604T113000
DTEND;TZID=Australia/Sydney:20300604T121500
DTSTAMP:20260426T101344
CREATED:20241204T012809Z
LAST-MODIFIED:20251123T220437Z
UID:10127690-1906803000-1906805700@synergyhealthworks.com
SUMMARY:Gentle Reformer
DESCRIPTION:
URL:https://synergyhealthworks.com/event/clinical-reformer-42/2030-06-04/
LOCATION:Wagga Wagga | Reformer Studio\, 221 Kincaid Street\, Wagga Wagga\, NSW\, 2650\, Australia
CATEGORIES:Clinical Reformer
END:VEVENT
BEGIN:VEVENT
DTSTART;TZID=Australia/Sydney:20300604T123000
DTEND;TZID=Australia/Sydney:20300604T131500
DTSTAMP:20260426T101344
CREATED:20241204T012841Z
LAST-MODIFIED:20251123T220259Z
UID:10127732-1906806600-1906809300@synergyhealthworks.com
SUMMARY:Clinical Reformer
DESCRIPTION:
URL:https://synergyhealthworks.com/event/clinical-reformer-43/2030-06-04/
LOCATION:Wagga Wagga | Reformer Studio\, 221 Kincaid Street\, Wagga Wagga\, NSW\, 2650\, Australia
CATEGORIES:Clinical Reformer
END:VEVENT
BEGIN:VEVENT
DTSTART;TZID=Australia/Sydney:20300611T103000
DTEND;TZID=Australia/Sydney:20300611T111500
DTSTAMP:20260426T101344
CREATED:20241204T010757Z
LAST-MODIFIED:20251123T223539Z
UID:10129911-1907404200-1907406900@synergyhealthworks.com
SUMMARY:Mums and Bubs Core Class
DESCRIPTION:
URL:https://synergyhealthworks.com/event/mums-and-bubs-core-class-5/2030-06-11/
LOCATION:Wagga Wagga | Mat Studio\, 221 Kincaid Street\, Wagga Wagga\, NSW\, 2650\, Australia
CATEGORIES:Mums and Bubs
END:VEVENT
BEGIN:VEVENT
DTSTART;TZID=Australia/Sydney:20300611T113000
DTEND;TZID=Australia/Sydney:20300611T121500
DTSTAMP:20260426T101344
CREATED:20241204T012809Z
LAST-MODIFIED:20251123T220437Z
UID:10127691-1907407800-1907410500@synergyhealthworks.com
SUMMARY:Gentle Reformer
DESCRIPTION:
URL:https://synergyhealthworks.com/event/clinical-reformer-42/2030-06-11/
LOCATION:Wagga Wagga | Reformer Studio\, 221 Kincaid Street\, Wagga Wagga\, NSW\, 2650\, Australia
CATEGORIES:Clinical Reformer
END:VEVENT
BEGIN:VEVENT
DTSTART;TZID=Australia/Sydney:20300611T123000
DTEND;TZID=Australia/Sydney:20300611T131500
DTSTAMP:20260426T101344
CREATED:20241204T012841Z
LAST-MODIFIED:20251123T220259Z
UID:10127733-1907411400-1907414100@synergyhealthworks.com
SUMMARY:Clinical Reformer
DESCRIPTION:
URL:https://synergyhealthworks.com/event/clinical-reformer-43/2030-06-11/
LOCATION:Wagga Wagga | Reformer Studio\, 221 Kincaid Street\, Wagga Wagga\, NSW\, 2650\, Australia
CATEGORIES:Clinical Reformer
END:VEVENT
BEGIN:VEVENT
DTSTART;TZID=Australia/Sydney:20300618T103000
DTEND;TZID=Australia/Sydney:20300618T111500
DTSTAMP:20260426T101344
CREATED:20241204T010757Z
LAST-MODIFIED:20251123T223539Z
UID:10129912-1908009000-1908011700@synergyhealthworks.com
SUMMARY:Mums and Bubs Core Class
DESCRIPTION:
URL:https://synergyhealthworks.com/event/mums-and-bubs-core-class-5/2030-06-18/
LOCATION:Wagga Wagga | Mat Studio\, 221 Kincaid Street\, Wagga Wagga\, NSW\, 2650\, Australia
CATEGORIES:Mums and Bubs
END:VEVENT
BEGIN:VEVENT
DTSTART;TZID=Australia/Sydney:20300618T113000
DTEND;TZID=Australia/Sydney:20300618T121500
DTSTAMP:20260426T101344
CREATED:20241204T012809Z
LAST-MODIFIED:20251123T220437Z
UID:10127692-1908012600-1908015300@synergyhealthworks.com
SUMMARY:Gentle Reformer
DESCRIPTION:
URL:https://synergyhealthworks.com/event/clinical-reformer-42/2030-06-18/
LOCATION:Wagga Wagga | Reformer Studio\, 221 Kincaid Street\, Wagga Wagga\, NSW\, 2650\, Australia
CATEGORIES:Clinical Reformer
END:VEVENT
BEGIN:VEVENT
DTSTART;TZID=Australia/Sydney:20300618T123000
DTEND;TZID=Australia/Sydney:20300618T131500
DTSTAMP:20260426T101344
CREATED:20241204T012841Z
LAST-MODIFIED:20251123T220259Z
UID:10127734-1908016200-1908018900@synergyhealthworks.com
SUMMARY:Clinical Reformer
DESCRIPTION:
URL:https://synergyhealthworks.com/event/clinical-reformer-43/2030-06-18/
LOCATION:Wagga Wagga | Reformer Studio\, 221 Kincaid Street\, Wagga Wagga\, NSW\, 2650\, Australia
CATEGORIES:Clinical Reformer
END:VEVENT
BEGIN:VEVENT
DTSTART;TZID=Australia/Sydney:20300625T103000
DTEND;TZID=Australia/Sydney:20300625T111500
DTSTAMP:20260426T101344
CREATED:20241204T010757Z
LAST-MODIFIED:20251123T223539Z
UID:10129913-1908613800-1908616500@synergyhealthworks.com
SUMMARY:Mums and Bubs Core Class
DESCRIPTION:
URL:https://synergyhealthworks.com/event/mums-and-bubs-core-class-5/2030-06-25/
LOCATION:Wagga Wagga | Mat Studio\, 221 Kincaid Street\, Wagga Wagga\, NSW\, 2650\, Australia
CATEGORIES:Mums and Bubs
END:VEVENT
BEGIN:VEVENT
DTSTART;TZID=Australia/Sydney:20300625T113000
DTEND;TZID=Australia/Sydney:20300625T121500
DTSTAMP:20260426T101344
CREATED:20241204T012809Z
LAST-MODIFIED:20251123T220437Z
UID:10127693-1908617400-1908620100@synergyhealthworks.com
SUMMARY:Gentle Reformer
DESCRIPTION:
URL:https://synergyhealthworks.com/event/clinical-reformer-42/2030-06-25/
LOCATION:Wagga Wagga | Reformer Studio\, 221 Kincaid Street\, Wagga Wagga\, NSW\, 2650\, Australia
CATEGORIES:Clinical Reformer
END:VEVENT
BEGIN:VEVENT
DTSTART;TZID=Australia/Sydney:20300625T123000
DTEND;TZID=Australia/Sydney:20300625T131500
DTSTAMP:20260426T101344
CREATED:20241204T012841Z
LAST-MODIFIED:20251123T220259Z
UID:10127735-1908621000-1908623700@synergyhealthworks.com
SUMMARY:Clinical Reformer
DESCRIPTION:
URL:https://synergyhealthworks.com/event/clinical-reformer-43/2030-06-25/
LOCATION:Wagga Wagga | Reformer Studio\, 221 Kincaid Street\, Wagga Wagga\, NSW\, 2650\, Australia
CATEGORIES:Clinical Reformer
END:VEVENT
END:VCALENDAR