BEGIN:VCALENDAR
VERSION:2.0
PRODID:-//Synergy Healthworks - ECPv6.15.20//NONSGML v1.0//EN
CALSCALE:GREGORIAN
METHOD:PUBLISH
X-WR-CALNAME:Synergy Healthworks
X-ORIGINAL-URL:https://synergyhealthworks.com
X-WR-CALDESC:Events for Synergy Healthworks
REFRESH-INTERVAL;VALUE=DURATION:PT1H
X-Robots-Tag:noindex
X-PUBLISHED-TTL:PT1H
BEGIN:VTIMEZONE
TZID:Australia/Sydney
BEGIN:STANDARD
TZOFFSETFROM:+1100
TZOFFSETTO:+1000
TZNAME:AEST
DTSTART:20290331T160000
END:STANDARD
BEGIN:DAYLIGHT
TZOFFSETFROM:+1000
TZOFFSETTO:+1100
TZNAME:AEDT
DTSTART:20291006T160000
END:DAYLIGHT
BEGIN:STANDARD
TZOFFSETFROM:+1100
TZOFFSETTO:+1000
TZNAME:AEST
DTSTART:20300406T160000
END:STANDARD
BEGIN:DAYLIGHT
TZOFFSETFROM:+1000
TZOFFSETTO:+1100
TZNAME:AEDT
DTSTART:20301005T160000
END:DAYLIGHT
BEGIN:STANDARD
TZOFFSETFROM:+1100
TZOFFSETTO:+1000
TZNAME:AEST
DTSTART:20310405T160000
END:STANDARD
BEGIN:DAYLIGHT
TZOFFSETFROM:+1000
TZOFFSETTO:+1100
TZNAME:AEDT
DTSTART:20311004T160000
END:DAYLIGHT
END:VTIMEZONE
BEGIN:VEVENT
DTSTART;TZID=Australia/Sydney:20300226T103000
DTEND;TZID=Australia/Sydney:20300226T111500
DTSTAMP:20260426T061604
CREATED:20241204T010757Z
LAST-MODIFIED:20251123T223539Z
UID:10129896-1898332200-1898334900@synergyhealthworks.com
SUMMARY:Mums and Bubs Core Class
DESCRIPTION:
URL:https://synergyhealthworks.com/event/mums-and-bubs-core-class-5/2030-02-26/
LOCATION:Wagga Wagga | Mat Studio\, 221 Kincaid Street\, Wagga Wagga\, NSW\, 2650\, Australia
CATEGORIES:Mums and Bubs
END:VEVENT
BEGIN:VEVENT
DTSTART;TZID=Australia/Sydney:20300226T113000
DTEND;TZID=Australia/Sydney:20300226T121500
DTSTAMP:20260426T061604
CREATED:20241204T012809Z
LAST-MODIFIED:20251123T220437Z
UID:10127676-1898335800-1898338500@synergyhealthworks.com
SUMMARY:Gentle Reformer
DESCRIPTION:
URL:https://synergyhealthworks.com/event/clinical-reformer-42/2030-02-26/
LOCATION:Wagga Wagga | Reformer Studio\, 221 Kincaid Street\, Wagga Wagga\, NSW\, 2650\, Australia
CATEGORIES:Clinical Reformer
END:VEVENT
BEGIN:VEVENT
DTSTART;TZID=Australia/Sydney:20300226T123000
DTEND;TZID=Australia/Sydney:20300226T131500
DTSTAMP:20260426T061604
CREATED:20241204T012841Z
LAST-MODIFIED:20251123T220259Z
UID:10127718-1898339400-1898342100@synergyhealthworks.com
SUMMARY:Clinical Reformer
DESCRIPTION:
URL:https://synergyhealthworks.com/event/clinical-reformer-43/2030-02-26/
LOCATION:Wagga Wagga | Reformer Studio\, 221 Kincaid Street\, Wagga Wagga\, NSW\, 2650\, Australia
CATEGORIES:Clinical Reformer
END:VEVENT
BEGIN:VEVENT
DTSTART;TZID=Australia/Sydney:20300305T103000
DTEND;TZID=Australia/Sydney:20300305T111500
DTSTAMP:20260426T061604
CREATED:20241204T010757Z
LAST-MODIFIED:20251123T223539Z
UID:10129897-1898937000-1898939700@synergyhealthworks.com
SUMMARY:Mums and Bubs Core Class
DESCRIPTION:
URL:https://synergyhealthworks.com/event/mums-and-bubs-core-class-5/2030-03-05/
LOCATION:Wagga Wagga | Mat Studio\, 221 Kincaid Street\, Wagga Wagga\, NSW\, 2650\, Australia
CATEGORIES:Mums and Bubs
END:VEVENT
BEGIN:VEVENT
DTSTART;TZID=Australia/Sydney:20300305T113000
DTEND;TZID=Australia/Sydney:20300305T121500
DTSTAMP:20260426T061604
CREATED:20241204T012809Z
LAST-MODIFIED:20251123T220437Z
UID:10127677-1898940600-1898943300@synergyhealthworks.com
SUMMARY:Gentle Reformer
DESCRIPTION:
URL:https://synergyhealthworks.com/event/clinical-reformer-42/2030-03-05/
LOCATION:Wagga Wagga | Reformer Studio\, 221 Kincaid Street\, Wagga Wagga\, NSW\, 2650\, Australia
CATEGORIES:Clinical Reformer
END:VEVENT
BEGIN:VEVENT
DTSTART;TZID=Australia/Sydney:20300305T123000
DTEND;TZID=Australia/Sydney:20300305T131500
DTSTAMP:20260426T061604
CREATED:20241204T012841Z
LAST-MODIFIED:20251123T220259Z
UID:10127719-1898944200-1898946900@synergyhealthworks.com
SUMMARY:Clinical Reformer
DESCRIPTION:
URL:https://synergyhealthworks.com/event/clinical-reformer-43/2030-03-05/
LOCATION:Wagga Wagga | Reformer Studio\, 221 Kincaid Street\, Wagga Wagga\, NSW\, 2650\, Australia
CATEGORIES:Clinical Reformer
END:VEVENT
BEGIN:VEVENT
DTSTART;TZID=Australia/Sydney:20300312T103000
DTEND;TZID=Australia/Sydney:20300312T111500
DTSTAMP:20260426T061604
CREATED:20241204T010757Z
LAST-MODIFIED:20251123T223539Z
UID:10129898-1899541800-1899544500@synergyhealthworks.com
SUMMARY:Mums and Bubs Core Class
DESCRIPTION:
URL:https://synergyhealthworks.com/event/mums-and-bubs-core-class-5/2030-03-12/
LOCATION:Wagga Wagga | Mat Studio\, 221 Kincaid Street\, Wagga Wagga\, NSW\, 2650\, Australia
CATEGORIES:Mums and Bubs
END:VEVENT
BEGIN:VEVENT
DTSTART;TZID=Australia/Sydney:20300312T113000
DTEND;TZID=Australia/Sydney:20300312T121500
DTSTAMP:20260426T061604
CREATED:20241204T012809Z
LAST-MODIFIED:20251123T220437Z
UID:10127678-1899545400-1899548100@synergyhealthworks.com
SUMMARY:Gentle Reformer
DESCRIPTION:
URL:https://synergyhealthworks.com/event/clinical-reformer-42/2030-03-12/
LOCATION:Wagga Wagga | Reformer Studio\, 221 Kincaid Street\, Wagga Wagga\, NSW\, 2650\, Australia
CATEGORIES:Clinical Reformer
END:VEVENT
BEGIN:VEVENT
DTSTART;TZID=Australia/Sydney:20300312T123000
DTEND;TZID=Australia/Sydney:20300312T131500
DTSTAMP:20260426T061604
CREATED:20241204T012841Z
LAST-MODIFIED:20251123T220259Z
UID:10127720-1899549000-1899551700@synergyhealthworks.com
SUMMARY:Clinical Reformer
DESCRIPTION:
URL:https://synergyhealthworks.com/event/clinical-reformer-43/2030-03-12/
LOCATION:Wagga Wagga | Reformer Studio\, 221 Kincaid Street\, Wagga Wagga\, NSW\, 2650\, Australia
CATEGORIES:Clinical Reformer
END:VEVENT
BEGIN:VEVENT
DTSTART;TZID=Australia/Sydney:20300319T103000
DTEND;TZID=Australia/Sydney:20300319T111500
DTSTAMP:20260426T061604
CREATED:20241204T010757Z
LAST-MODIFIED:20251123T223539Z
UID:10129899-1900146600-1900149300@synergyhealthworks.com
SUMMARY:Mums and Bubs Core Class
DESCRIPTION:
URL:https://synergyhealthworks.com/event/mums-and-bubs-core-class-5/2030-03-19/
LOCATION:Wagga Wagga | Mat Studio\, 221 Kincaid Street\, Wagga Wagga\, NSW\, 2650\, Australia
CATEGORIES:Mums and Bubs
END:VEVENT
BEGIN:VEVENT
DTSTART;TZID=Australia/Sydney:20300319T113000
DTEND;TZID=Australia/Sydney:20300319T121500
DTSTAMP:20260426T061604
CREATED:20241204T012809Z
LAST-MODIFIED:20251123T220437Z
UID:10127679-1900150200-1900152900@synergyhealthworks.com
SUMMARY:Gentle Reformer
DESCRIPTION:
URL:https://synergyhealthworks.com/event/clinical-reformer-42/2030-03-19/
LOCATION:Wagga Wagga | Reformer Studio\, 221 Kincaid Street\, Wagga Wagga\, NSW\, 2650\, Australia
CATEGORIES:Clinical Reformer
END:VEVENT
BEGIN:VEVENT
DTSTART;TZID=Australia/Sydney:20300319T123000
DTEND;TZID=Australia/Sydney:20300319T131500
DTSTAMP:20260426T061604
CREATED:20241204T012841Z
LAST-MODIFIED:20251123T220259Z
UID:10127721-1900153800-1900156500@synergyhealthworks.com
SUMMARY:Clinical Reformer
DESCRIPTION:
URL:https://synergyhealthworks.com/event/clinical-reformer-43/2030-03-19/
LOCATION:Wagga Wagga | Reformer Studio\, 221 Kincaid Street\, Wagga Wagga\, NSW\, 2650\, Australia
CATEGORIES:Clinical Reformer
END:VEVENT
BEGIN:VEVENT
DTSTART;TZID=Australia/Sydney:20300326T103000
DTEND;TZID=Australia/Sydney:20300326T111500
DTSTAMP:20260426T061604
CREATED:20241204T010757Z
LAST-MODIFIED:20251123T223539Z
UID:10129900-1900751400-1900754100@synergyhealthworks.com
SUMMARY:Mums and Bubs Core Class
DESCRIPTION:
URL:https://synergyhealthworks.com/event/mums-and-bubs-core-class-5/2030-03-26/
LOCATION:Wagga Wagga | Mat Studio\, 221 Kincaid Street\, Wagga Wagga\, NSW\, 2650\, Australia
CATEGORIES:Mums and Bubs
END:VEVENT
BEGIN:VEVENT
DTSTART;TZID=Australia/Sydney:20300326T113000
DTEND;TZID=Australia/Sydney:20300326T121500
DTSTAMP:20260426T061604
CREATED:20241204T012809Z
LAST-MODIFIED:20251123T220437Z
UID:10127680-1900755000-1900757700@synergyhealthworks.com
SUMMARY:Gentle Reformer
DESCRIPTION:
URL:https://synergyhealthworks.com/event/clinical-reformer-42/2030-03-26/
LOCATION:Wagga Wagga | Reformer Studio\, 221 Kincaid Street\, Wagga Wagga\, NSW\, 2650\, Australia
CATEGORIES:Clinical Reformer
END:VEVENT
BEGIN:VEVENT
DTSTART;TZID=Australia/Sydney:20300326T123000
DTEND;TZID=Australia/Sydney:20300326T131500
DTSTAMP:20260426T061604
CREATED:20241204T012841Z
LAST-MODIFIED:20251123T220259Z
UID:10127722-1900758600-1900761300@synergyhealthworks.com
SUMMARY:Clinical Reformer
DESCRIPTION:
URL:https://synergyhealthworks.com/event/clinical-reformer-43/2030-03-26/
LOCATION:Wagga Wagga | Reformer Studio\, 221 Kincaid Street\, Wagga Wagga\, NSW\, 2650\, Australia
CATEGORIES:Clinical Reformer
END:VEVENT
BEGIN:VEVENT
DTSTART;TZID=Australia/Sydney:20300402T103000
DTEND;TZID=Australia/Sydney:20300402T111500
DTSTAMP:20260426T061604
CREATED:20241204T010757Z
LAST-MODIFIED:20251123T223539Z
UID:10129901-1901356200-1901358900@synergyhealthworks.com
SUMMARY:Mums and Bubs Core Class
DESCRIPTION:
URL:https://synergyhealthworks.com/event/mums-and-bubs-core-class-5/2030-04-02/
LOCATION:Wagga Wagga | Mat Studio\, 221 Kincaid Street\, Wagga Wagga\, NSW\, 2650\, Australia
CATEGORIES:Mums and Bubs
END:VEVENT
BEGIN:VEVENT
DTSTART;TZID=Australia/Sydney:20300402T113000
DTEND;TZID=Australia/Sydney:20300402T121500
DTSTAMP:20260426T061604
CREATED:20241204T012809Z
LAST-MODIFIED:20251123T220437Z
UID:10127681-1901359800-1901362500@synergyhealthworks.com
SUMMARY:Gentle Reformer
DESCRIPTION:
URL:https://synergyhealthworks.com/event/clinical-reformer-42/2030-04-02/
LOCATION:Wagga Wagga | Reformer Studio\, 221 Kincaid Street\, Wagga Wagga\, NSW\, 2650\, Australia
CATEGORIES:Clinical Reformer
END:VEVENT
BEGIN:VEVENT
DTSTART;TZID=Australia/Sydney:20300402T123000
DTEND;TZID=Australia/Sydney:20300402T131500
DTSTAMP:20260426T061604
CREATED:20241204T012841Z
LAST-MODIFIED:20251123T220259Z
UID:10127723-1901363400-1901366100@synergyhealthworks.com
SUMMARY:Clinical Reformer
DESCRIPTION:
URL:https://synergyhealthworks.com/event/clinical-reformer-43/2030-04-02/
LOCATION:Wagga Wagga | Reformer Studio\, 221 Kincaid Street\, Wagga Wagga\, NSW\, 2650\, Australia
CATEGORIES:Clinical Reformer
END:VEVENT
BEGIN:VEVENT
DTSTART;TZID=Australia/Sydney:20300409T103000
DTEND;TZID=Australia/Sydney:20300409T111500
DTSTAMP:20260426T061604
CREATED:20241204T010757Z
LAST-MODIFIED:20251123T223539Z
UID:10129902-1901961000-1901963700@synergyhealthworks.com
SUMMARY:Mums and Bubs Core Class
DESCRIPTION:
URL:https://synergyhealthworks.com/event/mums-and-bubs-core-class-5/2030-04-09/
LOCATION:Wagga Wagga | Mat Studio\, 221 Kincaid Street\, Wagga Wagga\, NSW\, 2650\, Australia
CATEGORIES:Mums and Bubs
END:VEVENT
BEGIN:VEVENT
DTSTART;TZID=Australia/Sydney:20300409T113000
DTEND;TZID=Australia/Sydney:20300409T121500
DTSTAMP:20260426T061604
CREATED:20241204T012809Z
LAST-MODIFIED:20251123T220437Z
UID:10127682-1901964600-1901967300@synergyhealthworks.com
SUMMARY:Gentle Reformer
DESCRIPTION:
URL:https://synergyhealthworks.com/event/clinical-reformer-42/2030-04-09/
LOCATION:Wagga Wagga | Reformer Studio\, 221 Kincaid Street\, Wagga Wagga\, NSW\, 2650\, Australia
CATEGORIES:Clinical Reformer
END:VEVENT
BEGIN:VEVENT
DTSTART;TZID=Australia/Sydney:20300409T123000
DTEND;TZID=Australia/Sydney:20300409T131500
DTSTAMP:20260426T061604
CREATED:20241204T012841Z
LAST-MODIFIED:20251123T220259Z
UID:10127724-1901968200-1901970900@synergyhealthworks.com
SUMMARY:Clinical Reformer
DESCRIPTION:
URL:https://synergyhealthworks.com/event/clinical-reformer-43/2030-04-09/
LOCATION:Wagga Wagga | Reformer Studio\, 221 Kincaid Street\, Wagga Wagga\, NSW\, 2650\, Australia
CATEGORIES:Clinical Reformer
END:VEVENT
BEGIN:VEVENT
DTSTART;TZID=Australia/Sydney:20300416T103000
DTEND;TZID=Australia/Sydney:20300416T111500
DTSTAMP:20260426T061604
CREATED:20241204T010757Z
LAST-MODIFIED:20251123T223539Z
UID:10129903-1902565800-1902568500@synergyhealthworks.com
SUMMARY:Mums and Bubs Core Class
DESCRIPTION:
URL:https://synergyhealthworks.com/event/mums-and-bubs-core-class-5/2030-04-16/
LOCATION:Wagga Wagga | Mat Studio\, 221 Kincaid Street\, Wagga Wagga\, NSW\, 2650\, Australia
CATEGORIES:Mums and Bubs
END:VEVENT
BEGIN:VEVENT
DTSTART;TZID=Australia/Sydney:20300416T113000
DTEND;TZID=Australia/Sydney:20300416T121500
DTSTAMP:20260426T061604
CREATED:20241204T012809Z
LAST-MODIFIED:20251123T220437Z
UID:10127683-1902569400-1902572100@synergyhealthworks.com
SUMMARY:Gentle Reformer
DESCRIPTION:
URL:https://synergyhealthworks.com/event/clinical-reformer-42/2030-04-16/
LOCATION:Wagga Wagga | Reformer Studio\, 221 Kincaid Street\, Wagga Wagga\, NSW\, 2650\, Australia
CATEGORIES:Clinical Reformer
END:VEVENT
BEGIN:VEVENT
DTSTART;TZID=Australia/Sydney:20300416T123000
DTEND;TZID=Australia/Sydney:20300416T131500
DTSTAMP:20260426T061604
CREATED:20241204T012841Z
LAST-MODIFIED:20251123T220259Z
UID:10127725-1902573000-1902575700@synergyhealthworks.com
SUMMARY:Clinical Reformer
DESCRIPTION:
URL:https://synergyhealthworks.com/event/clinical-reformer-43/2030-04-16/
LOCATION:Wagga Wagga | Reformer Studio\, 221 Kincaid Street\, Wagga Wagga\, NSW\, 2650\, Australia
CATEGORIES:Clinical Reformer
END:VEVENT
BEGIN:VEVENT
DTSTART;TZID=Australia/Sydney:20300423T103000
DTEND;TZID=Australia/Sydney:20300423T111500
DTSTAMP:20260426T061604
CREATED:20241204T010757Z
LAST-MODIFIED:20251123T223539Z
UID:10129904-1903170600-1903173300@synergyhealthworks.com
SUMMARY:Mums and Bubs Core Class
DESCRIPTION:
URL:https://synergyhealthworks.com/event/mums-and-bubs-core-class-5/2030-04-23/
LOCATION:Wagga Wagga | Mat Studio\, 221 Kincaid Street\, Wagga Wagga\, NSW\, 2650\, Australia
CATEGORIES:Mums and Bubs
END:VEVENT
BEGIN:VEVENT
DTSTART;TZID=Australia/Sydney:20300423T113000
DTEND;TZID=Australia/Sydney:20300423T121500
DTSTAMP:20260426T061604
CREATED:20241204T012809Z
LAST-MODIFIED:20251123T220437Z
UID:10127684-1903174200-1903176900@synergyhealthworks.com
SUMMARY:Gentle Reformer
DESCRIPTION:
URL:https://synergyhealthworks.com/event/clinical-reformer-42/2030-04-23/
LOCATION:Wagga Wagga | Reformer Studio\, 221 Kincaid Street\, Wagga Wagga\, NSW\, 2650\, Australia
CATEGORIES:Clinical Reformer
END:VEVENT
BEGIN:VEVENT
DTSTART;TZID=Australia/Sydney:20300423T123000
DTEND;TZID=Australia/Sydney:20300423T131500
DTSTAMP:20260426T061604
CREATED:20241204T012841Z
LAST-MODIFIED:20251123T220259Z
UID:10127726-1903177800-1903180500@synergyhealthworks.com
SUMMARY:Clinical Reformer
DESCRIPTION:
URL:https://synergyhealthworks.com/event/clinical-reformer-43/2030-04-23/
LOCATION:Wagga Wagga | Reformer Studio\, 221 Kincaid Street\, Wagga Wagga\, NSW\, 2650\, Australia
CATEGORIES:Clinical Reformer
END:VEVENT
BEGIN:VEVENT
DTSTART;TZID=Australia/Sydney:20300430T103000
DTEND;TZID=Australia/Sydney:20300430T111500
DTSTAMP:20260426T061604
CREATED:20241204T010757Z
LAST-MODIFIED:20251123T223539Z
UID:10129905-1903775400-1903778100@synergyhealthworks.com
SUMMARY:Mums and Bubs Core Class
DESCRIPTION:
URL:https://synergyhealthworks.com/event/mums-and-bubs-core-class-5/2030-04-30/
LOCATION:Wagga Wagga | Mat Studio\, 221 Kincaid Street\, Wagga Wagga\, NSW\, 2650\, Australia
CATEGORIES:Mums and Bubs
END:VEVENT
BEGIN:VEVENT
DTSTART;TZID=Australia/Sydney:20300430T113000
DTEND;TZID=Australia/Sydney:20300430T121500
DTSTAMP:20260426T061604
CREATED:20241204T012809Z
LAST-MODIFIED:20251123T220437Z
UID:10127685-1903779000-1903781700@synergyhealthworks.com
SUMMARY:Gentle Reformer
DESCRIPTION:
URL:https://synergyhealthworks.com/event/clinical-reformer-42/2030-04-30/
LOCATION:Wagga Wagga | Reformer Studio\, 221 Kincaid Street\, Wagga Wagga\, NSW\, 2650\, Australia
CATEGORIES:Clinical Reformer
END:VEVENT
BEGIN:VEVENT
DTSTART;TZID=Australia/Sydney:20300430T123000
DTEND;TZID=Australia/Sydney:20300430T131500
DTSTAMP:20260426T061604
CREATED:20241204T012841Z
LAST-MODIFIED:20251123T220259Z
UID:10127727-1903782600-1903785300@synergyhealthworks.com
SUMMARY:Clinical Reformer
DESCRIPTION:
URL:https://synergyhealthworks.com/event/clinical-reformer-43/2030-04-30/
LOCATION:Wagga Wagga | Reformer Studio\, 221 Kincaid Street\, Wagga Wagga\, NSW\, 2650\, Australia
CATEGORIES:Clinical Reformer
END:VEVENT
END:VCALENDAR