BEGIN:VCALENDAR
VERSION:2.0
PRODID:-//Synergy Healthworks - ECPv6.15.20//NONSGML v1.0//EN
CALSCALE:GREGORIAN
METHOD:PUBLISH
X-WR-CALNAME:Synergy Healthworks
X-ORIGINAL-URL:https://synergyhealthworks.com
X-WR-CALDESC:Events for Synergy Healthworks
REFRESH-INTERVAL;VALUE=DURATION:PT1H
X-Robots-Tag:noindex
X-PUBLISHED-TTL:PT1H
BEGIN:VTIMEZONE
TZID:Australia/Sydney
BEGIN:STANDARD
TZOFFSETFROM:+1100
TZOFFSETTO:+1000
TZNAME:AEST
DTSTART:20290331T160000
END:STANDARD
BEGIN:DAYLIGHT
TZOFFSETFROM:+1000
TZOFFSETTO:+1100
TZNAME:AEDT
DTSTART:20291006T160000
END:DAYLIGHT
BEGIN:STANDARD
TZOFFSETFROM:+1100
TZOFFSETTO:+1000
TZNAME:AEST
DTSTART:20300406T160000
END:STANDARD
BEGIN:DAYLIGHT
TZOFFSETFROM:+1000
TZOFFSETTO:+1100
TZNAME:AEDT
DTSTART:20301005T160000
END:DAYLIGHT
BEGIN:STANDARD
TZOFFSETFROM:+1100
TZOFFSETTO:+1000
TZNAME:AEST
DTSTART:20310405T160000
END:STANDARD
BEGIN:DAYLIGHT
TZOFFSETFROM:+1000
TZOFFSETTO:+1100
TZNAME:AEDT
DTSTART:20311004T160000
END:DAYLIGHT
END:VTIMEZONE
BEGIN:VEVENT
DTSTART;TZID=Australia/Sydney:20300101T103000
DTEND;TZID=Australia/Sydney:20300101T111500
DTSTAMP:20260426T023823
CREATED:20241204T010757Z
LAST-MODIFIED:20251123T223539Z
UID:10111657-1893493800-1893496500@synergyhealthworks.com
SUMMARY:Mums and Bubs Core Class
DESCRIPTION:
URL:https://synergyhealthworks.com/event/mums-and-bubs-core-class-5/2030-01-01/
LOCATION:Wagga Wagga | Mat Studio\, 221 Kincaid Street\, Wagga Wagga\, NSW\, 2650\, Australia
CATEGORIES:Mums and Bubs
END:VEVENT
BEGIN:VEVENT
DTSTART;TZID=Australia/Sydney:20300101T113000
DTEND;TZID=Australia/Sydney:20300101T121500
DTSTAMP:20260426T023823
CREATED:20241204T012809Z
LAST-MODIFIED:20251123T220437Z
UID:10111853-1893497400-1893500100@synergyhealthworks.com
SUMMARY:Gentle Reformer
DESCRIPTION:
URL:https://synergyhealthworks.com/event/clinical-reformer-42/2030-01-01/
LOCATION:Wagga Wagga | Reformer Studio\, 221 Kincaid Street\, Wagga Wagga\, NSW\, 2650\, Australia
CATEGORIES:Clinical Reformer
END:VEVENT
BEGIN:VEVENT
DTSTART;TZID=Australia/Sydney:20300101T123000
DTEND;TZID=Australia/Sydney:20300101T131500
DTSTAMP:20260426T023823
CREATED:20241204T012841Z
LAST-MODIFIED:20251123T220259Z
UID:10111860-1893501000-1893503700@synergyhealthworks.com
SUMMARY:Clinical Reformer
DESCRIPTION:
URL:https://synergyhealthworks.com/event/clinical-reformer-43/2030-01-01/
LOCATION:Wagga Wagga | Reformer Studio\, 221 Kincaid Street\, Wagga Wagga\, NSW\, 2650\, Australia
CATEGORIES:Clinical Reformer
END:VEVENT
BEGIN:VEVENT
DTSTART;TZID=Australia/Sydney:20300108T103000
DTEND;TZID=Australia/Sydney:20300108T111500
DTSTAMP:20260426T023823
CREATED:20241204T010757Z
LAST-MODIFIED:20251123T223539Z
UID:10111658-1894098600-1894101300@synergyhealthworks.com
SUMMARY:Mums and Bubs Core Class
DESCRIPTION:
URL:https://synergyhealthworks.com/event/mums-and-bubs-core-class-5/2030-01-08/
LOCATION:Wagga Wagga | Mat Studio\, 221 Kincaid Street\, Wagga Wagga\, NSW\, 2650\, Australia
CATEGORIES:Mums and Bubs
END:VEVENT
BEGIN:VEVENT
DTSTART;TZID=Australia/Sydney:20300108T113000
DTEND;TZID=Australia/Sydney:20300108T121500
DTSTAMP:20260426T023823
CREATED:20241204T012809Z
LAST-MODIFIED:20251123T220437Z
UID:10111854-1894102200-1894104900@synergyhealthworks.com
SUMMARY:Gentle Reformer
DESCRIPTION:
URL:https://synergyhealthworks.com/event/clinical-reformer-42/2030-01-08/
LOCATION:Wagga Wagga | Reformer Studio\, 221 Kincaid Street\, Wagga Wagga\, NSW\, 2650\, Australia
CATEGORIES:Clinical Reformer
END:VEVENT
BEGIN:VEVENT
DTSTART;TZID=Australia/Sydney:20300108T123000
DTEND;TZID=Australia/Sydney:20300108T131500
DTSTAMP:20260426T023823
CREATED:20241204T012841Z
LAST-MODIFIED:20251123T220259Z
UID:10111861-1894105800-1894108500@synergyhealthworks.com
SUMMARY:Clinical Reformer
DESCRIPTION:
URL:https://synergyhealthworks.com/event/clinical-reformer-43/2030-01-08/
LOCATION:Wagga Wagga | Reformer Studio\, 221 Kincaid Street\, Wagga Wagga\, NSW\, 2650\, Australia
CATEGORIES:Clinical Reformer
END:VEVENT
BEGIN:VEVENT
DTSTART;TZID=Australia/Sydney:20300115T103000
DTEND;TZID=Australia/Sydney:20300115T111500
DTSTAMP:20260426T023823
CREATED:20241204T010757Z
LAST-MODIFIED:20251123T223539Z
UID:10111659-1894703400-1894706100@synergyhealthworks.com
SUMMARY:Mums and Bubs Core Class
DESCRIPTION:
URL:https://synergyhealthworks.com/event/mums-and-bubs-core-class-5/2030-01-15/
LOCATION:Wagga Wagga | Mat Studio\, 221 Kincaid Street\, Wagga Wagga\, NSW\, 2650\, Australia
CATEGORIES:Mums and Bubs
END:VEVENT
BEGIN:VEVENT
DTSTART;TZID=Australia/Sydney:20300115T113000
DTEND;TZID=Australia/Sydney:20300115T121500
DTSTAMP:20260426T023823
CREATED:20241204T012809Z
LAST-MODIFIED:20251123T220437Z
UID:10111855-1894707000-1894709700@synergyhealthworks.com
SUMMARY:Gentle Reformer
DESCRIPTION:
URL:https://synergyhealthworks.com/event/clinical-reformer-42/2030-01-15/
LOCATION:Wagga Wagga | Reformer Studio\, 221 Kincaid Street\, Wagga Wagga\, NSW\, 2650\, Australia
CATEGORIES:Clinical Reformer
END:VEVENT
BEGIN:VEVENT
DTSTART;TZID=Australia/Sydney:20300115T123000
DTEND;TZID=Australia/Sydney:20300115T131500
DTSTAMP:20260426T023823
CREATED:20241204T012841Z
LAST-MODIFIED:20251123T220259Z
UID:10111862-1894710600-1894713300@synergyhealthworks.com
SUMMARY:Clinical Reformer
DESCRIPTION:
URL:https://synergyhealthworks.com/event/clinical-reformer-43/2030-01-15/
LOCATION:Wagga Wagga | Reformer Studio\, 221 Kincaid Street\, Wagga Wagga\, NSW\, 2650\, Australia
CATEGORIES:Clinical Reformer
END:VEVENT
BEGIN:VEVENT
DTSTART;TZID=Australia/Sydney:20300122T103000
DTEND;TZID=Australia/Sydney:20300122T111500
DTSTAMP:20260426T023823
CREATED:20241204T010757Z
LAST-MODIFIED:20251123T223539Z
UID:10111660-1895308200-1895310900@synergyhealthworks.com
SUMMARY:Mums and Bubs Core Class
DESCRIPTION:
URL:https://synergyhealthworks.com/event/mums-and-bubs-core-class-5/2030-01-22/
LOCATION:Wagga Wagga | Mat Studio\, 221 Kincaid Street\, Wagga Wagga\, NSW\, 2650\, Australia
CATEGORIES:Mums and Bubs
END:VEVENT
BEGIN:VEVENT
DTSTART;TZID=Australia/Sydney:20300122T113000
DTEND;TZID=Australia/Sydney:20300122T121500
DTSTAMP:20260426T023823
CREATED:20241204T012809Z
LAST-MODIFIED:20251123T220437Z
UID:10111856-1895311800-1895314500@synergyhealthworks.com
SUMMARY:Gentle Reformer
DESCRIPTION:
URL:https://synergyhealthworks.com/event/clinical-reformer-42/2030-01-22/
LOCATION:Wagga Wagga | Reformer Studio\, 221 Kincaid Street\, Wagga Wagga\, NSW\, 2650\, Australia
CATEGORIES:Clinical Reformer
END:VEVENT
BEGIN:VEVENT
DTSTART;TZID=Australia/Sydney:20300122T123000
DTEND;TZID=Australia/Sydney:20300122T131500
DTSTAMP:20260426T023823
CREATED:20241204T012841Z
LAST-MODIFIED:20251123T220259Z
UID:10111863-1895315400-1895318100@synergyhealthworks.com
SUMMARY:Clinical Reformer
DESCRIPTION:
URL:https://synergyhealthworks.com/event/clinical-reformer-43/2030-01-22/
LOCATION:Wagga Wagga | Reformer Studio\, 221 Kincaid Street\, Wagga Wagga\, NSW\, 2650\, Australia
CATEGORIES:Clinical Reformer
END:VEVENT
BEGIN:VEVENT
DTSTART;TZID=Australia/Sydney:20300129T103000
DTEND;TZID=Australia/Sydney:20300129T111500
DTSTAMP:20260426T023823
CREATED:20241204T010757Z
LAST-MODIFIED:20251123T223539Z
UID:10111661-1895913000-1895915700@synergyhealthworks.com
SUMMARY:Mums and Bubs Core Class
DESCRIPTION:
URL:https://synergyhealthworks.com/event/mums-and-bubs-core-class-5/2030-01-29/
LOCATION:Wagga Wagga | Mat Studio\, 221 Kincaid Street\, Wagga Wagga\, NSW\, 2650\, Australia
CATEGORIES:Mums and Bubs
END:VEVENT
BEGIN:VEVENT
DTSTART;TZID=Australia/Sydney:20300129T113000
DTEND;TZID=Australia/Sydney:20300129T121500
DTSTAMP:20260426T023823
CREATED:20241204T012809Z
LAST-MODIFIED:20251123T220437Z
UID:10111857-1895916600-1895919300@synergyhealthworks.com
SUMMARY:Gentle Reformer
DESCRIPTION:
URL:https://synergyhealthworks.com/event/clinical-reformer-42/2030-01-29/
LOCATION:Wagga Wagga | Reformer Studio\, 221 Kincaid Street\, Wagga Wagga\, NSW\, 2650\, Australia
CATEGORIES:Clinical Reformer
END:VEVENT
BEGIN:VEVENT
DTSTART;TZID=Australia/Sydney:20300129T123000
DTEND;TZID=Australia/Sydney:20300129T131500
DTSTAMP:20260426T023823
CREATED:20241204T012841Z
LAST-MODIFIED:20251123T220259Z
UID:10111864-1895920200-1895922900@synergyhealthworks.com
SUMMARY:Clinical Reformer
DESCRIPTION:
URL:https://synergyhealthworks.com/event/clinical-reformer-43/2030-01-29/
LOCATION:Wagga Wagga | Reformer Studio\, 221 Kincaid Street\, Wagga Wagga\, NSW\, 2650\, Australia
CATEGORIES:Clinical Reformer
END:VEVENT
BEGIN:VEVENT
DTSTART;TZID=Australia/Sydney:20300205T103000
DTEND;TZID=Australia/Sydney:20300205T111500
DTSTAMP:20260426T023823
CREATED:20241204T010757Z
LAST-MODIFIED:20251123T223539Z
UID:10129893-1896517800-1896520500@synergyhealthworks.com
SUMMARY:Mums and Bubs Core Class
DESCRIPTION:
URL:https://synergyhealthworks.com/event/mums-and-bubs-core-class-5/2030-02-05/
LOCATION:Wagga Wagga | Mat Studio\, 221 Kincaid Street\, Wagga Wagga\, NSW\, 2650\, Australia
CATEGORIES:Mums and Bubs
END:VEVENT
BEGIN:VEVENT
DTSTART;TZID=Australia/Sydney:20300205T113000
DTEND;TZID=Australia/Sydney:20300205T121500
DTSTAMP:20260426T023823
CREATED:20241204T012809Z
LAST-MODIFIED:20251123T220437Z
UID:10127673-1896521400-1896524100@synergyhealthworks.com
SUMMARY:Gentle Reformer
DESCRIPTION:
URL:https://synergyhealthworks.com/event/clinical-reformer-42/2030-02-05/
LOCATION:Wagga Wagga | Reformer Studio\, 221 Kincaid Street\, Wagga Wagga\, NSW\, 2650\, Australia
CATEGORIES:Clinical Reformer
END:VEVENT
BEGIN:VEVENT
DTSTART;TZID=Australia/Sydney:20300205T123000
DTEND;TZID=Australia/Sydney:20300205T131500
DTSTAMP:20260426T023823
CREATED:20241204T012841Z
LAST-MODIFIED:20251123T220259Z
UID:10127715-1896525000-1896527700@synergyhealthworks.com
SUMMARY:Clinical Reformer
DESCRIPTION:
URL:https://synergyhealthworks.com/event/clinical-reformer-43/2030-02-05/
LOCATION:Wagga Wagga | Reformer Studio\, 221 Kincaid Street\, Wagga Wagga\, NSW\, 2650\, Australia
CATEGORIES:Clinical Reformer
END:VEVENT
BEGIN:VEVENT
DTSTART;TZID=Australia/Sydney:20300212T103000
DTEND;TZID=Australia/Sydney:20300212T111500
DTSTAMP:20260426T023823
CREATED:20241204T010757Z
LAST-MODIFIED:20251123T223539Z
UID:10129894-1897122600-1897125300@synergyhealthworks.com
SUMMARY:Mums and Bubs Core Class
DESCRIPTION:
URL:https://synergyhealthworks.com/event/mums-and-bubs-core-class-5/2030-02-12/
LOCATION:Wagga Wagga | Mat Studio\, 221 Kincaid Street\, Wagga Wagga\, NSW\, 2650\, Australia
CATEGORIES:Mums and Bubs
END:VEVENT
BEGIN:VEVENT
DTSTART;TZID=Australia/Sydney:20300212T113000
DTEND;TZID=Australia/Sydney:20300212T121500
DTSTAMP:20260426T023823
CREATED:20241204T012809Z
LAST-MODIFIED:20251123T220437Z
UID:10127674-1897126200-1897128900@synergyhealthworks.com
SUMMARY:Gentle Reformer
DESCRIPTION:
URL:https://synergyhealthworks.com/event/clinical-reformer-42/2030-02-12/
LOCATION:Wagga Wagga | Reformer Studio\, 221 Kincaid Street\, Wagga Wagga\, NSW\, 2650\, Australia
CATEGORIES:Clinical Reformer
END:VEVENT
BEGIN:VEVENT
DTSTART;TZID=Australia/Sydney:20300212T123000
DTEND;TZID=Australia/Sydney:20300212T131500
DTSTAMP:20260426T023823
CREATED:20241204T012841Z
LAST-MODIFIED:20251123T220259Z
UID:10127716-1897129800-1897132500@synergyhealthworks.com
SUMMARY:Clinical Reformer
DESCRIPTION:
URL:https://synergyhealthworks.com/event/clinical-reformer-43/2030-02-12/
LOCATION:Wagga Wagga | Reformer Studio\, 221 Kincaid Street\, Wagga Wagga\, NSW\, 2650\, Australia
CATEGORIES:Clinical Reformer
END:VEVENT
BEGIN:VEVENT
DTSTART;TZID=Australia/Sydney:20300219T103000
DTEND;TZID=Australia/Sydney:20300219T111500
DTSTAMP:20260426T023823
CREATED:20241204T010757Z
LAST-MODIFIED:20251123T223539Z
UID:10129895-1897727400-1897730100@synergyhealthworks.com
SUMMARY:Mums and Bubs Core Class
DESCRIPTION:
URL:https://synergyhealthworks.com/event/mums-and-bubs-core-class-5/2030-02-19/
LOCATION:Wagga Wagga | Mat Studio\, 221 Kincaid Street\, Wagga Wagga\, NSW\, 2650\, Australia
CATEGORIES:Mums and Bubs
END:VEVENT
BEGIN:VEVENT
DTSTART;TZID=Australia/Sydney:20300219T113000
DTEND;TZID=Australia/Sydney:20300219T121500
DTSTAMP:20260426T023823
CREATED:20241204T012809Z
LAST-MODIFIED:20251123T220437Z
UID:10127675-1897731000-1897733700@synergyhealthworks.com
SUMMARY:Gentle Reformer
DESCRIPTION:
URL:https://synergyhealthworks.com/event/clinical-reformer-42/2030-02-19/
LOCATION:Wagga Wagga | Reformer Studio\, 221 Kincaid Street\, Wagga Wagga\, NSW\, 2650\, Australia
CATEGORIES:Clinical Reformer
END:VEVENT
BEGIN:VEVENT
DTSTART;TZID=Australia/Sydney:20300219T123000
DTEND;TZID=Australia/Sydney:20300219T131500
DTSTAMP:20260426T023823
CREATED:20241204T012841Z
LAST-MODIFIED:20251123T220259Z
UID:10127717-1897734600-1897737300@synergyhealthworks.com
SUMMARY:Clinical Reformer
DESCRIPTION:
URL:https://synergyhealthworks.com/event/clinical-reformer-43/2030-02-19/
LOCATION:Wagga Wagga | Reformer Studio\, 221 Kincaid Street\, Wagga Wagga\, NSW\, 2650\, Australia
CATEGORIES:Clinical Reformer
END:VEVENT
BEGIN:VEVENT
DTSTART;TZID=Australia/Sydney:20300226T103000
DTEND;TZID=Australia/Sydney:20300226T111500
DTSTAMP:20260426T023823
CREATED:20241204T010757Z
LAST-MODIFIED:20251123T223539Z
UID:10129896-1898332200-1898334900@synergyhealthworks.com
SUMMARY:Mums and Bubs Core Class
DESCRIPTION:
URL:https://synergyhealthworks.com/event/mums-and-bubs-core-class-5/2030-02-26/
LOCATION:Wagga Wagga | Mat Studio\, 221 Kincaid Street\, Wagga Wagga\, NSW\, 2650\, Australia
CATEGORIES:Mums and Bubs
END:VEVENT
BEGIN:VEVENT
DTSTART;TZID=Australia/Sydney:20300226T113000
DTEND;TZID=Australia/Sydney:20300226T121500
DTSTAMP:20260426T023823
CREATED:20241204T012809Z
LAST-MODIFIED:20251123T220437Z
UID:10127676-1898335800-1898338500@synergyhealthworks.com
SUMMARY:Gentle Reformer
DESCRIPTION:
URL:https://synergyhealthworks.com/event/clinical-reformer-42/2030-02-26/
LOCATION:Wagga Wagga | Reformer Studio\, 221 Kincaid Street\, Wagga Wagga\, NSW\, 2650\, Australia
CATEGORIES:Clinical Reformer
END:VEVENT
BEGIN:VEVENT
DTSTART;TZID=Australia/Sydney:20300226T123000
DTEND;TZID=Australia/Sydney:20300226T131500
DTSTAMP:20260426T023823
CREATED:20241204T012841Z
LAST-MODIFIED:20251123T220259Z
UID:10127718-1898339400-1898342100@synergyhealthworks.com
SUMMARY:Clinical Reformer
DESCRIPTION:
URL:https://synergyhealthworks.com/event/clinical-reformer-43/2030-02-26/
LOCATION:Wagga Wagga | Reformer Studio\, 221 Kincaid Street\, Wagga Wagga\, NSW\, 2650\, Australia
CATEGORIES:Clinical Reformer
END:VEVENT
BEGIN:VEVENT
DTSTART;TZID=Australia/Sydney:20300305T103000
DTEND;TZID=Australia/Sydney:20300305T111500
DTSTAMP:20260426T023823
CREATED:20241204T010757Z
LAST-MODIFIED:20251123T223539Z
UID:10129897-1898937000-1898939700@synergyhealthworks.com
SUMMARY:Mums and Bubs Core Class
DESCRIPTION:
URL:https://synergyhealthworks.com/event/mums-and-bubs-core-class-5/2030-03-05/
LOCATION:Wagga Wagga | Mat Studio\, 221 Kincaid Street\, Wagga Wagga\, NSW\, 2650\, Australia
CATEGORIES:Mums and Bubs
END:VEVENT
BEGIN:VEVENT
DTSTART;TZID=Australia/Sydney:20300305T113000
DTEND;TZID=Australia/Sydney:20300305T121500
DTSTAMP:20260426T023823
CREATED:20241204T012809Z
LAST-MODIFIED:20251123T220437Z
UID:10127677-1898940600-1898943300@synergyhealthworks.com
SUMMARY:Gentle Reformer
DESCRIPTION:
URL:https://synergyhealthworks.com/event/clinical-reformer-42/2030-03-05/
LOCATION:Wagga Wagga | Reformer Studio\, 221 Kincaid Street\, Wagga Wagga\, NSW\, 2650\, Australia
CATEGORIES:Clinical Reformer
END:VEVENT
BEGIN:VEVENT
DTSTART;TZID=Australia/Sydney:20300305T123000
DTEND;TZID=Australia/Sydney:20300305T131500
DTSTAMP:20260426T023823
CREATED:20241204T012841Z
LAST-MODIFIED:20251123T220259Z
UID:10127719-1898944200-1898946900@synergyhealthworks.com
SUMMARY:Clinical Reformer
DESCRIPTION:
URL:https://synergyhealthworks.com/event/clinical-reformer-43/2030-03-05/
LOCATION:Wagga Wagga | Reformer Studio\, 221 Kincaid Street\, Wagga Wagga\, NSW\, 2650\, Australia
CATEGORIES:Clinical Reformer
END:VEVENT
END:VCALENDAR