BEGIN:VCALENDAR
VERSION:2.0
PRODID:-//Synergy Healthworks - ECPv6.15.20//NONSGML v1.0//EN
CALSCALE:GREGORIAN
METHOD:PUBLISH
X-ORIGINAL-URL:https://synergyhealthworks.com
X-WR-CALDESC:Events for Synergy Healthworks
REFRESH-INTERVAL;VALUE=DURATION:PT1H
X-Robots-Tag:noindex
X-PUBLISHED-TTL:PT1H
BEGIN:VTIMEZONE
TZID:Australia/Sydney
BEGIN:STANDARD
TZOFFSETFROM:+1100
TZOFFSETTO:+1000
TZNAME:AEST
DTSTART:20280401T160000
END:STANDARD
BEGIN:DAYLIGHT
TZOFFSETFROM:+1000
TZOFFSETTO:+1100
TZNAME:AEDT
DTSTART:20280930T160000
END:DAYLIGHT
BEGIN:STANDARD
TZOFFSETFROM:+1100
TZOFFSETTO:+1000
TZNAME:AEST
DTSTART:20290331T160000
END:STANDARD
BEGIN:DAYLIGHT
TZOFFSETFROM:+1000
TZOFFSETTO:+1100
TZNAME:AEDT
DTSTART:20291006T160000
END:DAYLIGHT
BEGIN:STANDARD
TZOFFSETFROM:+1100
TZOFFSETTO:+1000
TZNAME:AEST
DTSTART:20300406T160000
END:STANDARD
BEGIN:DAYLIGHT
TZOFFSETFROM:+1000
TZOFFSETTO:+1100
TZNAME:AEDT
DTSTART:20301005T160000
END:DAYLIGHT
END:VTIMEZONE
BEGIN:VEVENT
DTSTART;TZID=Australia/Sydney:20291009T103000
DTEND;TZID=Australia/Sydney:20291009T111500
DTSTAMP:20260425T213529
CREATED:20241204T010757Z
LAST-MODIFIED:20251123T223539Z
UID:10090677-1886236200-1886238900@synergyhealthworks.com
SUMMARY:Mums and Bubs Core Class
DESCRIPTION:
URL:https://synergyhealthworks.com/event/mums-and-bubs-core-class-5/2029-10-09/
LOCATION:Wagga Wagga | Mat Studio\, 221 Kincaid Street\, Wagga Wagga\, NSW\, 2650\, Australia
CATEGORIES:Mums and Bubs
END:VEVENT
BEGIN:VEVENT
DTSTART;TZID=Australia/Sydney:20291009T113000
DTEND;TZID=Australia/Sydney:20291009T121500
DTSTAMP:20260425T213529
CREATED:20241204T012809Z
LAST-MODIFIED:20251123T220437Z
UID:10096967-1886239800-1886242500@synergyhealthworks.com
SUMMARY:Gentle Reformer
DESCRIPTION:
URL:https://synergyhealthworks.com/event/clinical-reformer-42/2029-10-09/
LOCATION:Wagga Wagga | Reformer Studio\, 221 Kincaid Street\, Wagga Wagga\, NSW\, 2650\, Australia
CATEGORIES:Clinical Reformer
END:VEVENT
BEGIN:VEVENT
DTSTART;TZID=Australia/Sydney:20291009T123000
DTEND;TZID=Australia/Sydney:20291009T131500
DTSTAMP:20260425T213529
CREATED:20241204T012841Z
LAST-MODIFIED:20251123T220259Z
UID:10097219-1886243400-1886246100@synergyhealthworks.com
SUMMARY:Clinical Reformer
DESCRIPTION:
URL:https://synergyhealthworks.com/event/clinical-reformer-43/2029-10-09/
LOCATION:Wagga Wagga | Reformer Studio\, 221 Kincaid Street\, Wagga Wagga\, NSW\, 2650\, Australia
CATEGORIES:Clinical Reformer
END:VEVENT
BEGIN:VEVENT
DTSTART;TZID=Australia/Sydney:20291016T103000
DTEND;TZID=Australia/Sydney:20291016T111500
DTSTAMP:20260425T213529
CREATED:20241204T010757Z
LAST-MODIFIED:20251123T223539Z
UID:10090678-1886841000-1886843700@synergyhealthworks.com
SUMMARY:Mums and Bubs Core Class
DESCRIPTION:
URL:https://synergyhealthworks.com/event/mums-and-bubs-core-class-5/2029-10-16/
LOCATION:Wagga Wagga | Mat Studio\, 221 Kincaid Street\, Wagga Wagga\, NSW\, 2650\, Australia
CATEGORIES:Mums and Bubs
END:VEVENT
BEGIN:VEVENT
DTSTART;TZID=Australia/Sydney:20291016T113000
DTEND;TZID=Australia/Sydney:20291016T121500
DTSTAMP:20260425T213529
CREATED:20241204T012809Z
LAST-MODIFIED:20251123T220437Z
UID:10096968-1886844600-1886847300@synergyhealthworks.com
SUMMARY:Gentle Reformer
DESCRIPTION:
URL:https://synergyhealthworks.com/event/clinical-reformer-42/2029-10-16/
LOCATION:Wagga Wagga | Reformer Studio\, 221 Kincaid Street\, Wagga Wagga\, NSW\, 2650\, Australia
CATEGORIES:Clinical Reformer
END:VEVENT
BEGIN:VEVENT
DTSTART;TZID=Australia/Sydney:20291016T123000
DTEND;TZID=Australia/Sydney:20291016T131500
DTSTAMP:20260425T213529
CREATED:20241204T012841Z
LAST-MODIFIED:20251123T220259Z
UID:10097220-1886848200-1886850900@synergyhealthworks.com
SUMMARY:Clinical Reformer
DESCRIPTION:
URL:https://synergyhealthworks.com/event/clinical-reformer-43/2029-10-16/
LOCATION:Wagga Wagga | Reformer Studio\, 221 Kincaid Street\, Wagga Wagga\, NSW\, 2650\, Australia
CATEGORIES:Clinical Reformer
END:VEVENT
BEGIN:VEVENT
DTSTART;TZID=Australia/Sydney:20291023T103000
DTEND;TZID=Australia/Sydney:20291023T111500
DTSTAMP:20260425T213529
CREATED:20241204T010757Z
LAST-MODIFIED:20251123T223539Z
UID:10090679-1887445800-1887448500@synergyhealthworks.com
SUMMARY:Mums and Bubs Core Class
DESCRIPTION:
URL:https://synergyhealthworks.com/event/mums-and-bubs-core-class-5/2029-10-23/
LOCATION:Wagga Wagga | Mat Studio\, 221 Kincaid Street\, Wagga Wagga\, NSW\, 2650\, Australia
CATEGORIES:Mums and Bubs
END:VEVENT
BEGIN:VEVENT
DTSTART;TZID=Australia/Sydney:20291023T113000
DTEND;TZID=Australia/Sydney:20291023T121500
DTSTAMP:20260425T213529
CREATED:20241204T012809Z
LAST-MODIFIED:20251123T220437Z
UID:10096969-1887449400-1887452100@synergyhealthworks.com
SUMMARY:Gentle Reformer
DESCRIPTION:
URL:https://synergyhealthworks.com/event/clinical-reformer-42/2029-10-23/
LOCATION:Wagga Wagga | Reformer Studio\, 221 Kincaid Street\, Wagga Wagga\, NSW\, 2650\, Australia
CATEGORIES:Clinical Reformer
END:VEVENT
BEGIN:VEVENT
DTSTART;TZID=Australia/Sydney:20291023T123000
DTEND;TZID=Australia/Sydney:20291023T131500
DTSTAMP:20260425T213529
CREATED:20241204T012841Z
LAST-MODIFIED:20251123T220259Z
UID:10097221-1887453000-1887455700@synergyhealthworks.com
SUMMARY:Clinical Reformer
DESCRIPTION:
URL:https://synergyhealthworks.com/event/clinical-reformer-43/2029-10-23/
LOCATION:Wagga Wagga | Reformer Studio\, 221 Kincaid Street\, Wagga Wagga\, NSW\, 2650\, Australia
CATEGORIES:Clinical Reformer
END:VEVENT
BEGIN:VEVENT
DTSTART;TZID=Australia/Sydney:20291030T103000
DTEND;TZID=Australia/Sydney:20291030T111500
DTSTAMP:20260425T213529
CREATED:20241204T010757Z
LAST-MODIFIED:20251123T223539Z
UID:10090680-1888050600-1888053300@synergyhealthworks.com
SUMMARY:Mums and Bubs Core Class
DESCRIPTION:
URL:https://synergyhealthworks.com/event/mums-and-bubs-core-class-5/2029-10-30/
LOCATION:Wagga Wagga | Mat Studio\, 221 Kincaid Street\, Wagga Wagga\, NSW\, 2650\, Australia
CATEGORIES:Mums and Bubs
END:VEVENT
BEGIN:VEVENT
DTSTART;TZID=Australia/Sydney:20291030T113000
DTEND;TZID=Australia/Sydney:20291030T121500
DTSTAMP:20260425T213529
CREATED:20241204T012809Z
LAST-MODIFIED:20251123T220437Z
UID:10096970-1888054200-1888056900@synergyhealthworks.com
SUMMARY:Gentle Reformer
DESCRIPTION:
URL:https://synergyhealthworks.com/event/clinical-reformer-42/2029-10-30/
LOCATION:Wagga Wagga | Reformer Studio\, 221 Kincaid Street\, Wagga Wagga\, NSW\, 2650\, Australia
CATEGORIES:Clinical Reformer
END:VEVENT
BEGIN:VEVENT
DTSTART;TZID=Australia/Sydney:20291030T123000
DTEND;TZID=Australia/Sydney:20291030T131500
DTSTAMP:20260425T213529
CREATED:20241204T012841Z
LAST-MODIFIED:20251123T220259Z
UID:10097222-1888057800-1888060500@synergyhealthworks.com
SUMMARY:Clinical Reformer
DESCRIPTION:
URL:https://synergyhealthworks.com/event/clinical-reformer-43/2029-10-30/
LOCATION:Wagga Wagga | Reformer Studio\, 221 Kincaid Street\, Wagga Wagga\, NSW\, 2650\, Australia
CATEGORIES:Clinical Reformer
END:VEVENT
BEGIN:VEVENT
DTSTART;TZID=Australia/Sydney:20291106T103000
DTEND;TZID=Australia/Sydney:20291106T111500
DTSTAMP:20260425T213529
CREATED:20241204T010757Z
LAST-MODIFIED:20251123T223539Z
UID:10090681-1888655400-1888658100@synergyhealthworks.com
SUMMARY:Mums and Bubs Core Class
DESCRIPTION:
URL:https://synergyhealthworks.com/event/mums-and-bubs-core-class-5/2029-11-06/
LOCATION:Wagga Wagga | Mat Studio\, 221 Kincaid Street\, Wagga Wagga\, NSW\, 2650\, Australia
CATEGORIES:Mums and Bubs
END:VEVENT
BEGIN:VEVENT
DTSTART;TZID=Australia/Sydney:20291106T113000
DTEND;TZID=Australia/Sydney:20291106T121500
DTSTAMP:20260425T213529
CREATED:20241204T012809Z
LAST-MODIFIED:20251123T220437Z
UID:10096971-1888659000-1888661700@synergyhealthworks.com
SUMMARY:Gentle Reformer
DESCRIPTION:
URL:https://synergyhealthworks.com/event/clinical-reformer-42/2029-11-06/
LOCATION:Wagga Wagga | Reformer Studio\, 221 Kincaid Street\, Wagga Wagga\, NSW\, 2650\, Australia
CATEGORIES:Clinical Reformer
END:VEVENT
BEGIN:VEVENT
DTSTART;TZID=Australia/Sydney:20291106T123000
DTEND;TZID=Australia/Sydney:20291106T131500
DTSTAMP:20260425T213529
CREATED:20241204T012841Z
LAST-MODIFIED:20251123T220259Z
UID:10097223-1888662600-1888665300@synergyhealthworks.com
SUMMARY:Clinical Reformer
DESCRIPTION:
URL:https://synergyhealthworks.com/event/clinical-reformer-43/2029-11-06/
LOCATION:Wagga Wagga | Reformer Studio\, 221 Kincaid Street\, Wagga Wagga\, NSW\, 2650\, Australia
CATEGORIES:Clinical Reformer
END:VEVENT
BEGIN:VEVENT
DTSTART;TZID=Australia/Sydney:20291113T103000
DTEND;TZID=Australia/Sydney:20291113T111500
DTSTAMP:20260425T213529
CREATED:20241204T010757Z
LAST-MODIFIED:20251123T223539Z
UID:10090682-1889260200-1889262900@synergyhealthworks.com
SUMMARY:Mums and Bubs Core Class
DESCRIPTION:
URL:https://synergyhealthworks.com/event/mums-and-bubs-core-class-5/2029-11-13/
LOCATION:Wagga Wagga | Mat Studio\, 221 Kincaid Street\, Wagga Wagga\, NSW\, 2650\, Australia
CATEGORIES:Mums and Bubs
END:VEVENT
BEGIN:VEVENT
DTSTART;TZID=Australia/Sydney:20291113T113000
DTEND;TZID=Australia/Sydney:20291113T121500
DTSTAMP:20260425T213529
CREATED:20241204T012809Z
LAST-MODIFIED:20251123T220437Z
UID:10096972-1889263800-1889266500@synergyhealthworks.com
SUMMARY:Gentle Reformer
DESCRIPTION:
URL:https://synergyhealthworks.com/event/clinical-reformer-42/2029-11-13/
LOCATION:Wagga Wagga | Reformer Studio\, 221 Kincaid Street\, Wagga Wagga\, NSW\, 2650\, Australia
CATEGORIES:Clinical Reformer
END:VEVENT
BEGIN:VEVENT
DTSTART;TZID=Australia/Sydney:20291113T123000
DTEND;TZID=Australia/Sydney:20291113T131500
DTSTAMP:20260425T213529
CREATED:20241204T012841Z
LAST-MODIFIED:20251123T220259Z
UID:10097224-1889267400-1889270100@synergyhealthworks.com
SUMMARY:Clinical Reformer
DESCRIPTION:
URL:https://synergyhealthworks.com/event/clinical-reformer-43/2029-11-13/
LOCATION:Wagga Wagga | Reformer Studio\, 221 Kincaid Street\, Wagga Wagga\, NSW\, 2650\, Australia
CATEGORIES:Clinical Reformer
END:VEVENT
BEGIN:VEVENT
DTSTART;TZID=Australia/Sydney:20291120T103000
DTEND;TZID=Australia/Sydney:20291120T111500
DTSTAMP:20260425T213529
CREATED:20241204T010757Z
LAST-MODIFIED:20251123T223539Z
UID:10090683-1889865000-1889867700@synergyhealthworks.com
SUMMARY:Mums and Bubs Core Class
DESCRIPTION:
URL:https://synergyhealthworks.com/event/mums-and-bubs-core-class-5/2029-11-20/
LOCATION:Wagga Wagga | Mat Studio\, 221 Kincaid Street\, Wagga Wagga\, NSW\, 2650\, Australia
CATEGORIES:Mums and Bubs
END:VEVENT
BEGIN:VEVENT
DTSTART;TZID=Australia/Sydney:20291120T113000
DTEND;TZID=Australia/Sydney:20291120T121500
DTSTAMP:20260425T213529
CREATED:20241204T012809Z
LAST-MODIFIED:20251123T220437Z
UID:10096973-1889868600-1889871300@synergyhealthworks.com
SUMMARY:Gentle Reformer
DESCRIPTION:
URL:https://synergyhealthworks.com/event/clinical-reformer-42/2029-11-20/
LOCATION:Wagga Wagga | Reformer Studio\, 221 Kincaid Street\, Wagga Wagga\, NSW\, 2650\, Australia
CATEGORIES:Clinical Reformer
END:VEVENT
BEGIN:VEVENT
DTSTART;TZID=Australia/Sydney:20291120T123000
DTEND;TZID=Australia/Sydney:20291120T131500
DTSTAMP:20260425T213529
CREATED:20241204T012841Z
LAST-MODIFIED:20251123T220259Z
UID:10097225-1889872200-1889874900@synergyhealthworks.com
SUMMARY:Clinical Reformer
DESCRIPTION:
URL:https://synergyhealthworks.com/event/clinical-reformer-43/2029-11-20/
LOCATION:Wagga Wagga | Reformer Studio\, 221 Kincaid Street\, Wagga Wagga\, NSW\, 2650\, Australia
CATEGORIES:Clinical Reformer
END:VEVENT
BEGIN:VEVENT
DTSTART;TZID=Australia/Sydney:20291127T103000
DTEND;TZID=Australia/Sydney:20291127T111500
DTSTAMP:20260425T213529
CREATED:20241204T010757Z
LAST-MODIFIED:20251123T223539Z
UID:10090684-1890469800-1890472500@synergyhealthworks.com
SUMMARY:Mums and Bubs Core Class
DESCRIPTION:
URL:https://synergyhealthworks.com/event/mums-and-bubs-core-class-5/2029-11-27/
LOCATION:Wagga Wagga | Mat Studio\, 221 Kincaid Street\, Wagga Wagga\, NSW\, 2650\, Australia
CATEGORIES:Mums and Bubs
END:VEVENT
BEGIN:VEVENT
DTSTART;TZID=Australia/Sydney:20291127T113000
DTEND;TZID=Australia/Sydney:20291127T121500
DTSTAMP:20260425T213529
CREATED:20241204T012809Z
LAST-MODIFIED:20251123T220437Z
UID:10096974-1890473400-1890476100@synergyhealthworks.com
SUMMARY:Gentle Reformer
DESCRIPTION:
URL:https://synergyhealthworks.com/event/clinical-reformer-42/2029-11-27/
LOCATION:Wagga Wagga | Reformer Studio\, 221 Kincaid Street\, Wagga Wagga\, NSW\, 2650\, Australia
CATEGORIES:Clinical Reformer
END:VEVENT
BEGIN:VEVENT
DTSTART;TZID=Australia/Sydney:20291127T123000
DTEND;TZID=Australia/Sydney:20291127T131500
DTSTAMP:20260425T213529
CREATED:20241204T012841Z
LAST-MODIFIED:20251123T220259Z
UID:10097226-1890477000-1890479700@synergyhealthworks.com
SUMMARY:Clinical Reformer
DESCRIPTION:
URL:https://synergyhealthworks.com/event/clinical-reformer-43/2029-11-27/
LOCATION:Wagga Wagga | Reformer Studio\, 221 Kincaid Street\, Wagga Wagga\, NSW\, 2650\, Australia
CATEGORIES:Clinical Reformer
END:VEVENT
BEGIN:VEVENT
DTSTART;TZID=Australia/Sydney:20291204T103000
DTEND;TZID=Australia/Sydney:20291204T111500
DTSTAMP:20260425T213529
CREATED:20241204T010757Z
LAST-MODIFIED:20251123T223539Z
UID:10090685-1891074600-1891077300@synergyhealthworks.com
SUMMARY:Mums and Bubs Core Class
DESCRIPTION:
URL:https://synergyhealthworks.com/event/mums-and-bubs-core-class-5/2029-12-04/
LOCATION:Wagga Wagga | Mat Studio\, 221 Kincaid Street\, Wagga Wagga\, NSW\, 2650\, Australia
CATEGORIES:Mums and Bubs
END:VEVENT
BEGIN:VEVENT
DTSTART;TZID=Australia/Sydney:20291204T113000
DTEND;TZID=Australia/Sydney:20291204T121500
DTSTAMP:20260425T213529
CREATED:20241204T012809Z
LAST-MODIFIED:20251123T220437Z
UID:10096975-1891078200-1891080900@synergyhealthworks.com
SUMMARY:Gentle Reformer
DESCRIPTION:
URL:https://synergyhealthworks.com/event/clinical-reformer-42/2029-12-04/
LOCATION:Wagga Wagga | Reformer Studio\, 221 Kincaid Street\, Wagga Wagga\, NSW\, 2650\, Australia
CATEGORIES:Clinical Reformer
END:VEVENT
BEGIN:VEVENT
DTSTART;TZID=Australia/Sydney:20291204T123000
DTEND;TZID=Australia/Sydney:20291204T131500
DTSTAMP:20260425T213529
CREATED:20241204T012841Z
LAST-MODIFIED:20251123T220259Z
UID:10097227-1891081800-1891084500@synergyhealthworks.com
SUMMARY:Clinical Reformer
DESCRIPTION:
URL:https://synergyhealthworks.com/event/clinical-reformer-43/2029-12-04/
LOCATION:Wagga Wagga | Reformer Studio\, 221 Kincaid Street\, Wagga Wagga\, NSW\, 2650\, Australia
CATEGORIES:Clinical Reformer
END:VEVENT
BEGIN:VEVENT
DTSTART;TZID=Australia/Sydney:20291211T103000
DTEND;TZID=Australia/Sydney:20291211T111500
DTSTAMP:20260425T213529
CREATED:20241204T010757Z
LAST-MODIFIED:20251123T223539Z
UID:10111654-1891679400-1891682100@synergyhealthworks.com
SUMMARY:Mums and Bubs Core Class
DESCRIPTION:
URL:https://synergyhealthworks.com/event/mums-and-bubs-core-class-5/2029-12-11/
LOCATION:Wagga Wagga | Mat Studio\, 221 Kincaid Street\, Wagga Wagga\, NSW\, 2650\, Australia
CATEGORIES:Mums and Bubs
END:VEVENT
BEGIN:VEVENT
DTSTART;TZID=Australia/Sydney:20291211T113000
DTEND;TZID=Australia/Sydney:20291211T121500
DTSTAMP:20260425T213529
CREATED:20241204T012809Z
LAST-MODIFIED:20251123T220437Z
UID:10109050-1891683000-1891685700@synergyhealthworks.com
SUMMARY:Gentle Reformer
DESCRIPTION:
URL:https://synergyhealthworks.com/event/clinical-reformer-42/2029-12-11/
LOCATION:Wagga Wagga | Reformer Studio\, 221 Kincaid Street\, Wagga Wagga\, NSW\, 2650\, Australia
CATEGORIES:Clinical Reformer
END:VEVENT
BEGIN:VEVENT
DTSTART;TZID=Australia/Sydney:20291211T123000
DTEND;TZID=Australia/Sydney:20291211T131500
DTSTAMP:20260425T213529
CREATED:20241204T012841Z
LAST-MODIFIED:20251123T220259Z
UID:10109051-1891686600-1891689300@synergyhealthworks.com
SUMMARY:Clinical Reformer
DESCRIPTION:
URL:https://synergyhealthworks.com/event/clinical-reformer-43/2029-12-11/
LOCATION:Wagga Wagga | Reformer Studio\, 221 Kincaid Street\, Wagga Wagga\, NSW\, 2650\, Australia
CATEGORIES:Clinical Reformer
END:VEVENT
END:VCALENDAR