BEGIN:VCALENDAR
VERSION:2.0
PRODID:-//Synergy Healthworks - ECPv6.15.20//NONSGML v1.0//EN
CALSCALE:GREGORIAN
METHOD:PUBLISH
X-WR-CALNAME:Synergy Healthworks
X-ORIGINAL-URL:https://synergyhealthworks.com
X-WR-CALDESC:Events for Synergy Healthworks
REFRESH-INTERVAL;VALUE=DURATION:PT1H
X-Robots-Tag:noindex
X-PUBLISHED-TTL:PT1H
BEGIN:VTIMEZONE
TZID:Australia/Sydney
BEGIN:STANDARD
TZOFFSETFROM:+1100
TZOFFSETTO:+1000
TZNAME:AEST
DTSTART:20280401T160000
END:STANDARD
BEGIN:DAYLIGHT
TZOFFSETFROM:+1000
TZOFFSETTO:+1100
TZNAME:AEDT
DTSTART:20280930T160000
END:DAYLIGHT
BEGIN:STANDARD
TZOFFSETFROM:+1100
TZOFFSETTO:+1000
TZNAME:AEST
DTSTART:20290331T160000
END:STANDARD
BEGIN:DAYLIGHT
TZOFFSETFROM:+1000
TZOFFSETTO:+1100
TZNAME:AEDT
DTSTART:20291006T160000
END:DAYLIGHT
BEGIN:STANDARD
TZOFFSETFROM:+1100
TZOFFSETTO:+1000
TZNAME:AEST
DTSTART:20300406T160000
END:STANDARD
BEGIN:DAYLIGHT
TZOFFSETFROM:+1000
TZOFFSETTO:+1100
TZNAME:AEDT
DTSTART:20301005T160000
END:DAYLIGHT
END:VTIMEZONE
BEGIN:VEVENT
DTSTART;TZID=Australia/Sydney:20290522T103000
DTEND;TZID=Australia/Sydney:20290522T111500
DTSTAMP:20260425T130846
CREATED:20241204T010757Z
LAST-MODIFIED:20251123T223539Z
UID:10090657-1874140200-1874142900@synergyhealthworks.com
SUMMARY:Mums and Bubs Core Class
DESCRIPTION:
URL:https://synergyhealthworks.com/event/mums-and-bubs-core-class-5/2029-05-22/
LOCATION:Wagga Wagga | Mat Studio\, 221 Kincaid Street\, Wagga Wagga\, NSW\, 2650\, Australia
CATEGORIES:Mums and Bubs
END:VEVENT
BEGIN:VEVENT
DTSTART;TZID=Australia/Sydney:20290522T113000
DTEND;TZID=Australia/Sydney:20290522T121500
DTSTAMP:20260425T130846
CREATED:20241204T012809Z
LAST-MODIFIED:20251123T220437Z
UID:10096947-1874143800-1874146500@synergyhealthworks.com
SUMMARY:Gentle Reformer
DESCRIPTION:
URL:https://synergyhealthworks.com/event/clinical-reformer-42/2029-05-22/
LOCATION:Wagga Wagga | Reformer Studio\, 221 Kincaid Street\, Wagga Wagga\, NSW\, 2650\, Australia
CATEGORIES:Clinical Reformer
END:VEVENT
BEGIN:VEVENT
DTSTART;TZID=Australia/Sydney:20290522T123000
DTEND;TZID=Australia/Sydney:20290522T131500
DTSTAMP:20260425T130846
CREATED:20241204T012841Z
LAST-MODIFIED:20251123T220259Z
UID:10097199-1874147400-1874150100@synergyhealthworks.com
SUMMARY:Clinical Reformer
DESCRIPTION:
URL:https://synergyhealthworks.com/event/clinical-reformer-43/2029-05-22/
LOCATION:Wagga Wagga | Reformer Studio\, 221 Kincaid Street\, Wagga Wagga\, NSW\, 2650\, Australia
CATEGORIES:Clinical Reformer
END:VEVENT
BEGIN:VEVENT
DTSTART;TZID=Australia/Sydney:20290529T103000
DTEND;TZID=Australia/Sydney:20290529T111500
DTSTAMP:20260425T130846
CREATED:20241204T010757Z
LAST-MODIFIED:20251123T223539Z
UID:10090658-1874745000-1874747700@synergyhealthworks.com
SUMMARY:Mums and Bubs Core Class
DESCRIPTION:
URL:https://synergyhealthworks.com/event/mums-and-bubs-core-class-5/2029-05-29/
LOCATION:Wagga Wagga | Mat Studio\, 221 Kincaid Street\, Wagga Wagga\, NSW\, 2650\, Australia
CATEGORIES:Mums and Bubs
END:VEVENT
BEGIN:VEVENT
DTSTART;TZID=Australia/Sydney:20290529T113000
DTEND;TZID=Australia/Sydney:20290529T121500
DTSTAMP:20260425T130846
CREATED:20241204T012809Z
LAST-MODIFIED:20251123T220437Z
UID:10096948-1874748600-1874751300@synergyhealthworks.com
SUMMARY:Gentle Reformer
DESCRIPTION:
URL:https://synergyhealthworks.com/event/clinical-reformer-42/2029-05-29/
LOCATION:Wagga Wagga | Reformer Studio\, 221 Kincaid Street\, Wagga Wagga\, NSW\, 2650\, Australia
CATEGORIES:Clinical Reformer
END:VEVENT
BEGIN:VEVENT
DTSTART;TZID=Australia/Sydney:20290529T123000
DTEND;TZID=Australia/Sydney:20290529T131500
DTSTAMP:20260425T130846
CREATED:20241204T012841Z
LAST-MODIFIED:20251123T220259Z
UID:10097200-1874752200-1874754900@synergyhealthworks.com
SUMMARY:Clinical Reformer
DESCRIPTION:
URL:https://synergyhealthworks.com/event/clinical-reformer-43/2029-05-29/
LOCATION:Wagga Wagga | Reformer Studio\, 221 Kincaid Street\, Wagga Wagga\, NSW\, 2650\, Australia
CATEGORIES:Clinical Reformer
END:VEVENT
BEGIN:VEVENT
DTSTART;TZID=Australia/Sydney:20290605T103000
DTEND;TZID=Australia/Sydney:20290605T111500
DTSTAMP:20260425T130846
CREATED:20241204T010757Z
LAST-MODIFIED:20251123T223539Z
UID:10090659-1875349800-1875352500@synergyhealthworks.com
SUMMARY:Mums and Bubs Core Class
DESCRIPTION:
URL:https://synergyhealthworks.com/event/mums-and-bubs-core-class-5/2029-06-05/
LOCATION:Wagga Wagga | Mat Studio\, 221 Kincaid Street\, Wagga Wagga\, NSW\, 2650\, Australia
CATEGORIES:Mums and Bubs
END:VEVENT
BEGIN:VEVENT
DTSTART;TZID=Australia/Sydney:20290605T113000
DTEND;TZID=Australia/Sydney:20290605T121500
DTSTAMP:20260425T130846
CREATED:20241204T012809Z
LAST-MODIFIED:20251123T220437Z
UID:10096949-1875353400-1875356100@synergyhealthworks.com
SUMMARY:Gentle Reformer
DESCRIPTION:
URL:https://synergyhealthworks.com/event/clinical-reformer-42/2029-06-05/
LOCATION:Wagga Wagga | Reformer Studio\, 221 Kincaid Street\, Wagga Wagga\, NSW\, 2650\, Australia
CATEGORIES:Clinical Reformer
END:VEVENT
BEGIN:VEVENT
DTSTART;TZID=Australia/Sydney:20290605T123000
DTEND;TZID=Australia/Sydney:20290605T131500
DTSTAMP:20260425T130846
CREATED:20241204T012841Z
LAST-MODIFIED:20251123T220259Z
UID:10097201-1875357000-1875359700@synergyhealthworks.com
SUMMARY:Clinical Reformer
DESCRIPTION:
URL:https://synergyhealthworks.com/event/clinical-reformer-43/2029-06-05/
LOCATION:Wagga Wagga | Reformer Studio\, 221 Kincaid Street\, Wagga Wagga\, NSW\, 2650\, Australia
CATEGORIES:Clinical Reformer
END:VEVENT
BEGIN:VEVENT
DTSTART;TZID=Australia/Sydney:20290612T103000
DTEND;TZID=Australia/Sydney:20290612T111500
DTSTAMP:20260425T130846
CREATED:20241204T010757Z
LAST-MODIFIED:20251123T223539Z
UID:10090660-1875954600-1875957300@synergyhealthworks.com
SUMMARY:Mums and Bubs Core Class
DESCRIPTION:
URL:https://synergyhealthworks.com/event/mums-and-bubs-core-class-5/2029-06-12/
LOCATION:Wagga Wagga | Mat Studio\, 221 Kincaid Street\, Wagga Wagga\, NSW\, 2650\, Australia
CATEGORIES:Mums and Bubs
END:VEVENT
BEGIN:VEVENT
DTSTART;TZID=Australia/Sydney:20290612T113000
DTEND;TZID=Australia/Sydney:20290612T121500
DTSTAMP:20260425T130846
CREATED:20241204T012809Z
LAST-MODIFIED:20251123T220437Z
UID:10096950-1875958200-1875960900@synergyhealthworks.com
SUMMARY:Gentle Reformer
DESCRIPTION:
URL:https://synergyhealthworks.com/event/clinical-reformer-42/2029-06-12/
LOCATION:Wagga Wagga | Reformer Studio\, 221 Kincaid Street\, Wagga Wagga\, NSW\, 2650\, Australia
CATEGORIES:Clinical Reformer
END:VEVENT
BEGIN:VEVENT
DTSTART;TZID=Australia/Sydney:20290612T123000
DTEND;TZID=Australia/Sydney:20290612T131500
DTSTAMP:20260425T130846
CREATED:20241204T012841Z
LAST-MODIFIED:20251123T220259Z
UID:10097202-1875961800-1875964500@synergyhealthworks.com
SUMMARY:Clinical Reformer
DESCRIPTION:
URL:https://synergyhealthworks.com/event/clinical-reformer-43/2029-06-12/
LOCATION:Wagga Wagga | Reformer Studio\, 221 Kincaid Street\, Wagga Wagga\, NSW\, 2650\, Australia
CATEGORIES:Clinical Reformer
END:VEVENT
BEGIN:VEVENT
DTSTART;TZID=Australia/Sydney:20290619T103000
DTEND;TZID=Australia/Sydney:20290619T111500
DTSTAMP:20260425T130846
CREATED:20241204T010757Z
LAST-MODIFIED:20251123T223539Z
UID:10090661-1876559400-1876562100@synergyhealthworks.com
SUMMARY:Mums and Bubs Core Class
DESCRIPTION:
URL:https://synergyhealthworks.com/event/mums-and-bubs-core-class-5/2029-06-19/
LOCATION:Wagga Wagga | Mat Studio\, 221 Kincaid Street\, Wagga Wagga\, NSW\, 2650\, Australia
CATEGORIES:Mums and Bubs
END:VEVENT
BEGIN:VEVENT
DTSTART;TZID=Australia/Sydney:20290619T113000
DTEND;TZID=Australia/Sydney:20290619T121500
DTSTAMP:20260425T130846
CREATED:20241204T012809Z
LAST-MODIFIED:20251123T220437Z
UID:10096951-1876563000-1876565700@synergyhealthworks.com
SUMMARY:Gentle Reformer
DESCRIPTION:
URL:https://synergyhealthworks.com/event/clinical-reformer-42/2029-06-19/
LOCATION:Wagga Wagga | Reformer Studio\, 221 Kincaid Street\, Wagga Wagga\, NSW\, 2650\, Australia
CATEGORIES:Clinical Reformer
END:VEVENT
BEGIN:VEVENT
DTSTART;TZID=Australia/Sydney:20290619T123000
DTEND;TZID=Australia/Sydney:20290619T131500
DTSTAMP:20260425T130846
CREATED:20241204T012841Z
LAST-MODIFIED:20251123T220259Z
UID:10097203-1876566600-1876569300@synergyhealthworks.com
SUMMARY:Clinical Reformer
DESCRIPTION:
URL:https://synergyhealthworks.com/event/clinical-reformer-43/2029-06-19/
LOCATION:Wagga Wagga | Reformer Studio\, 221 Kincaid Street\, Wagga Wagga\, NSW\, 2650\, Australia
CATEGORIES:Clinical Reformer
END:VEVENT
BEGIN:VEVENT
DTSTART;TZID=Australia/Sydney:20290626T103000
DTEND;TZID=Australia/Sydney:20290626T111500
DTSTAMP:20260425T130846
CREATED:20241204T010757Z
LAST-MODIFIED:20251123T223539Z
UID:10090662-1877164200-1877166900@synergyhealthworks.com
SUMMARY:Mums and Bubs Core Class
DESCRIPTION:
URL:https://synergyhealthworks.com/event/mums-and-bubs-core-class-5/2029-06-26/
LOCATION:Wagga Wagga | Mat Studio\, 221 Kincaid Street\, Wagga Wagga\, NSW\, 2650\, Australia
CATEGORIES:Mums and Bubs
END:VEVENT
BEGIN:VEVENT
DTSTART;TZID=Australia/Sydney:20290626T113000
DTEND;TZID=Australia/Sydney:20290626T121500
DTSTAMP:20260425T130846
CREATED:20241204T012809Z
LAST-MODIFIED:20251123T220437Z
UID:10096952-1877167800-1877170500@synergyhealthworks.com
SUMMARY:Gentle Reformer
DESCRIPTION:
URL:https://synergyhealthworks.com/event/clinical-reformer-42/2029-06-26/
LOCATION:Wagga Wagga | Reformer Studio\, 221 Kincaid Street\, Wagga Wagga\, NSW\, 2650\, Australia
CATEGORIES:Clinical Reformer
END:VEVENT
BEGIN:VEVENT
DTSTART;TZID=Australia/Sydney:20290626T123000
DTEND;TZID=Australia/Sydney:20290626T131500
DTSTAMP:20260425T130846
CREATED:20241204T012841Z
LAST-MODIFIED:20251123T220259Z
UID:10097204-1877171400-1877174100@synergyhealthworks.com
SUMMARY:Clinical Reformer
DESCRIPTION:
URL:https://synergyhealthworks.com/event/clinical-reformer-43/2029-06-26/
LOCATION:Wagga Wagga | Reformer Studio\, 221 Kincaid Street\, Wagga Wagga\, NSW\, 2650\, Australia
CATEGORIES:Clinical Reformer
END:VEVENT
BEGIN:VEVENT
DTSTART;TZID=Australia/Sydney:20290703T103000
DTEND;TZID=Australia/Sydney:20290703T111500
DTSTAMP:20260425T130846
CREATED:20241204T010757Z
LAST-MODIFIED:20251123T223539Z
UID:10090663-1877769000-1877771700@synergyhealthworks.com
SUMMARY:Mums and Bubs Core Class
DESCRIPTION:
URL:https://synergyhealthworks.com/event/mums-and-bubs-core-class-5/2029-07-03/
LOCATION:Wagga Wagga | Mat Studio\, 221 Kincaid Street\, Wagga Wagga\, NSW\, 2650\, Australia
CATEGORIES:Mums and Bubs
END:VEVENT
BEGIN:VEVENT
DTSTART;TZID=Australia/Sydney:20290703T113000
DTEND;TZID=Australia/Sydney:20290703T121500
DTSTAMP:20260425T130846
CREATED:20241204T012809Z
LAST-MODIFIED:20251123T220437Z
UID:10096953-1877772600-1877775300@synergyhealthworks.com
SUMMARY:Gentle Reformer
DESCRIPTION:
URL:https://synergyhealthworks.com/event/clinical-reformer-42/2029-07-03/
LOCATION:Wagga Wagga | Reformer Studio\, 221 Kincaid Street\, Wagga Wagga\, NSW\, 2650\, Australia
CATEGORIES:Clinical Reformer
END:VEVENT
BEGIN:VEVENT
DTSTART;TZID=Australia/Sydney:20290703T123000
DTEND;TZID=Australia/Sydney:20290703T131500
DTSTAMP:20260425T130846
CREATED:20241204T012841Z
LAST-MODIFIED:20251123T220259Z
UID:10097205-1877776200-1877778900@synergyhealthworks.com
SUMMARY:Clinical Reformer
DESCRIPTION:
URL:https://synergyhealthworks.com/event/clinical-reformer-43/2029-07-03/
LOCATION:Wagga Wagga | Reformer Studio\, 221 Kincaid Street\, Wagga Wagga\, NSW\, 2650\, Australia
CATEGORIES:Clinical Reformer
END:VEVENT
BEGIN:VEVENT
DTSTART;TZID=Australia/Sydney:20290710T103000
DTEND;TZID=Australia/Sydney:20290710T111500
DTSTAMP:20260425T130846
CREATED:20241204T010757Z
LAST-MODIFIED:20251123T223539Z
UID:10090664-1878373800-1878376500@synergyhealthworks.com
SUMMARY:Mums and Bubs Core Class
DESCRIPTION:
URL:https://synergyhealthworks.com/event/mums-and-bubs-core-class-5/2029-07-10/
LOCATION:Wagga Wagga | Mat Studio\, 221 Kincaid Street\, Wagga Wagga\, NSW\, 2650\, Australia
CATEGORIES:Mums and Bubs
END:VEVENT
BEGIN:VEVENT
DTSTART;TZID=Australia/Sydney:20290710T113000
DTEND;TZID=Australia/Sydney:20290710T121500
DTSTAMP:20260425T130846
CREATED:20241204T012809Z
LAST-MODIFIED:20251123T220437Z
UID:10096954-1878377400-1878380100@synergyhealthworks.com
SUMMARY:Gentle Reformer
DESCRIPTION:
URL:https://synergyhealthworks.com/event/clinical-reformer-42/2029-07-10/
LOCATION:Wagga Wagga | Reformer Studio\, 221 Kincaid Street\, Wagga Wagga\, NSW\, 2650\, Australia
CATEGORIES:Clinical Reformer
END:VEVENT
BEGIN:VEVENT
DTSTART;TZID=Australia/Sydney:20290710T123000
DTEND;TZID=Australia/Sydney:20290710T131500
DTSTAMP:20260425T130846
CREATED:20241204T012841Z
LAST-MODIFIED:20251123T220259Z
UID:10097206-1878381000-1878383700@synergyhealthworks.com
SUMMARY:Clinical Reformer
DESCRIPTION:
URL:https://synergyhealthworks.com/event/clinical-reformer-43/2029-07-10/
LOCATION:Wagga Wagga | Reformer Studio\, 221 Kincaid Street\, Wagga Wagga\, NSW\, 2650\, Australia
CATEGORIES:Clinical Reformer
END:VEVENT
BEGIN:VEVENT
DTSTART;TZID=Australia/Sydney:20290717T103000
DTEND;TZID=Australia/Sydney:20290717T111500
DTSTAMP:20260425T130846
CREATED:20241204T010757Z
LAST-MODIFIED:20251123T223539Z
UID:10090665-1878978600-1878981300@synergyhealthworks.com
SUMMARY:Mums and Bubs Core Class
DESCRIPTION:
URL:https://synergyhealthworks.com/event/mums-and-bubs-core-class-5/2029-07-17/
LOCATION:Wagga Wagga | Mat Studio\, 221 Kincaid Street\, Wagga Wagga\, NSW\, 2650\, Australia
CATEGORIES:Mums and Bubs
END:VEVENT
BEGIN:VEVENT
DTSTART;TZID=Australia/Sydney:20290717T113000
DTEND;TZID=Australia/Sydney:20290717T121500
DTSTAMP:20260425T130846
CREATED:20241204T012809Z
LAST-MODIFIED:20251123T220437Z
UID:10096955-1878982200-1878984900@synergyhealthworks.com
SUMMARY:Gentle Reformer
DESCRIPTION:
URL:https://synergyhealthworks.com/event/clinical-reformer-42/2029-07-17/
LOCATION:Wagga Wagga | Reformer Studio\, 221 Kincaid Street\, Wagga Wagga\, NSW\, 2650\, Australia
CATEGORIES:Clinical Reformer
END:VEVENT
BEGIN:VEVENT
DTSTART;TZID=Australia/Sydney:20290717T123000
DTEND;TZID=Australia/Sydney:20290717T131500
DTSTAMP:20260425T130846
CREATED:20241204T012841Z
LAST-MODIFIED:20251123T220259Z
UID:10097207-1878985800-1878988500@synergyhealthworks.com
SUMMARY:Clinical Reformer
DESCRIPTION:
URL:https://synergyhealthworks.com/event/clinical-reformer-43/2029-07-17/
LOCATION:Wagga Wagga | Reformer Studio\, 221 Kincaid Street\, Wagga Wagga\, NSW\, 2650\, Australia
CATEGORIES:Clinical Reformer
END:VEVENT
BEGIN:VEVENT
DTSTART;TZID=Australia/Sydney:20290724T103000
DTEND;TZID=Australia/Sydney:20290724T111500
DTSTAMP:20260425T130846
CREATED:20241204T010757Z
LAST-MODIFIED:20251123T223539Z
UID:10090666-1879583400-1879586100@synergyhealthworks.com
SUMMARY:Mums and Bubs Core Class
DESCRIPTION:
URL:https://synergyhealthworks.com/event/mums-and-bubs-core-class-5/2029-07-24/
LOCATION:Wagga Wagga | Mat Studio\, 221 Kincaid Street\, Wagga Wagga\, NSW\, 2650\, Australia
CATEGORIES:Mums and Bubs
END:VEVENT
BEGIN:VEVENT
DTSTART;TZID=Australia/Sydney:20290724T113000
DTEND;TZID=Australia/Sydney:20290724T121500
DTSTAMP:20260425T130846
CREATED:20241204T012809Z
LAST-MODIFIED:20251123T220437Z
UID:10096956-1879587000-1879589700@synergyhealthworks.com
SUMMARY:Gentle Reformer
DESCRIPTION:
URL:https://synergyhealthworks.com/event/clinical-reformer-42/2029-07-24/
LOCATION:Wagga Wagga | Reformer Studio\, 221 Kincaid Street\, Wagga Wagga\, NSW\, 2650\, Australia
CATEGORIES:Clinical Reformer
END:VEVENT
BEGIN:VEVENT
DTSTART;TZID=Australia/Sydney:20290724T123000
DTEND;TZID=Australia/Sydney:20290724T131500
DTSTAMP:20260425T130846
CREATED:20241204T012841Z
LAST-MODIFIED:20251123T220259Z
UID:10097208-1879590600-1879593300@synergyhealthworks.com
SUMMARY:Clinical Reformer
DESCRIPTION:
URL:https://synergyhealthworks.com/event/clinical-reformer-43/2029-07-24/
LOCATION:Wagga Wagga | Reformer Studio\, 221 Kincaid Street\, Wagga Wagga\, NSW\, 2650\, Australia
CATEGORIES:Clinical Reformer
END:VEVENT
END:VCALENDAR