BEGIN:VCALENDAR
VERSION:2.0
PRODID:-//Synergy Healthworks - ECPv6.15.20//NONSGML v1.0//EN
CALSCALE:GREGORIAN
METHOD:PUBLISH
X-WR-CALNAME:Synergy Healthworks
X-ORIGINAL-URL:https://synergyhealthworks.com
X-WR-CALDESC:Events for Synergy Healthworks
REFRESH-INTERVAL;VALUE=DURATION:PT1H
X-Robots-Tag:noindex
X-PUBLISHED-TTL:PT1H
BEGIN:VTIMEZONE
TZID:Australia/Sydney
BEGIN:STANDARD
TZOFFSETFROM:+1100
TZOFFSETTO:+1000
TZNAME:AEST
DTSTART:20280401T160000
END:STANDARD
BEGIN:DAYLIGHT
TZOFFSETFROM:+1000
TZOFFSETTO:+1100
TZNAME:AEDT
DTSTART:20280930T160000
END:DAYLIGHT
BEGIN:STANDARD
TZOFFSETFROM:+1100
TZOFFSETTO:+1000
TZNAME:AEST
DTSTART:20290331T160000
END:STANDARD
BEGIN:DAYLIGHT
TZOFFSETFROM:+1000
TZOFFSETTO:+1100
TZNAME:AEDT
DTSTART:20291006T160000
END:DAYLIGHT
BEGIN:STANDARD
TZOFFSETFROM:+1100
TZOFFSETTO:+1000
TZNAME:AEST
DTSTART:20300406T160000
END:STANDARD
BEGIN:DAYLIGHT
TZOFFSETFROM:+1000
TZOFFSETTO:+1100
TZNAME:AEDT
DTSTART:20301005T160000
END:DAYLIGHT
END:VTIMEZONE
BEGIN:VEVENT
DTSTART;TZID=Australia/Sydney:20290327T103000
DTEND;TZID=Australia/Sydney:20290327T111500
DTSTAMP:20260425T095712
CREATED:20241204T010757Z
LAST-MODIFIED:20251123T223539Z
UID:10090649-1869301800-1869304500@synergyhealthworks.com
SUMMARY:Mums and Bubs Core Class
DESCRIPTION:
URL:https://synergyhealthworks.com/event/mums-and-bubs-core-class-5/2029-03-27/
LOCATION:Wagga Wagga | Mat Studio\, 221 Kincaid Street\, Wagga Wagga\, NSW\, 2650\, Australia
CATEGORIES:Mums and Bubs
END:VEVENT
BEGIN:VEVENT
DTSTART;TZID=Australia/Sydney:20290327T113000
DTEND;TZID=Australia/Sydney:20290327T121500
DTSTAMP:20260425T095712
CREATED:20241204T012809Z
LAST-MODIFIED:20251123T220437Z
UID:10096939-1869305400-1869308100@synergyhealthworks.com
SUMMARY:Gentle Reformer
DESCRIPTION:
URL:https://synergyhealthworks.com/event/clinical-reformer-42/2029-03-27/
LOCATION:Wagga Wagga | Reformer Studio\, 221 Kincaid Street\, Wagga Wagga\, NSW\, 2650\, Australia
CATEGORIES:Clinical Reformer
END:VEVENT
BEGIN:VEVENT
DTSTART;TZID=Australia/Sydney:20290327T123000
DTEND;TZID=Australia/Sydney:20290327T131500
DTSTAMP:20260425T095712
CREATED:20241204T012841Z
LAST-MODIFIED:20251123T220259Z
UID:10097191-1869309000-1869311700@synergyhealthworks.com
SUMMARY:Clinical Reformer
DESCRIPTION:
URL:https://synergyhealthworks.com/event/clinical-reformer-43/2029-03-27/
LOCATION:Wagga Wagga | Reformer Studio\, 221 Kincaid Street\, Wagga Wagga\, NSW\, 2650\, Australia
CATEGORIES:Clinical Reformer
END:VEVENT
BEGIN:VEVENT
DTSTART;TZID=Australia/Sydney:20290403T103000
DTEND;TZID=Australia/Sydney:20290403T111500
DTSTAMP:20260425T095712
CREATED:20241204T010757Z
LAST-MODIFIED:20251123T223539Z
UID:10090650-1869906600-1869909300@synergyhealthworks.com
SUMMARY:Mums and Bubs Core Class
DESCRIPTION:
URL:https://synergyhealthworks.com/event/mums-and-bubs-core-class-5/2029-04-03/
LOCATION:Wagga Wagga | Mat Studio\, 221 Kincaid Street\, Wagga Wagga\, NSW\, 2650\, Australia
CATEGORIES:Mums and Bubs
END:VEVENT
BEGIN:VEVENT
DTSTART;TZID=Australia/Sydney:20290403T113000
DTEND;TZID=Australia/Sydney:20290403T121500
DTSTAMP:20260425T095712
CREATED:20241204T012809Z
LAST-MODIFIED:20251123T220437Z
UID:10096940-1869910200-1869912900@synergyhealthworks.com
SUMMARY:Gentle Reformer
DESCRIPTION:
URL:https://synergyhealthworks.com/event/clinical-reformer-42/2029-04-03/
LOCATION:Wagga Wagga | Reformer Studio\, 221 Kincaid Street\, Wagga Wagga\, NSW\, 2650\, Australia
CATEGORIES:Clinical Reformer
END:VEVENT
BEGIN:VEVENT
DTSTART;TZID=Australia/Sydney:20290403T123000
DTEND;TZID=Australia/Sydney:20290403T131500
DTSTAMP:20260425T095712
CREATED:20241204T012841Z
LAST-MODIFIED:20251123T220259Z
UID:10097192-1869913800-1869916500@synergyhealthworks.com
SUMMARY:Clinical Reformer
DESCRIPTION:
URL:https://synergyhealthworks.com/event/clinical-reformer-43/2029-04-03/
LOCATION:Wagga Wagga | Reformer Studio\, 221 Kincaid Street\, Wagga Wagga\, NSW\, 2650\, Australia
CATEGORIES:Clinical Reformer
END:VEVENT
BEGIN:VEVENT
DTSTART;TZID=Australia/Sydney:20290410T103000
DTEND;TZID=Australia/Sydney:20290410T111500
DTSTAMP:20260425T095712
CREATED:20241204T010757Z
LAST-MODIFIED:20251123T223539Z
UID:10090651-1870511400-1870514100@synergyhealthworks.com
SUMMARY:Mums and Bubs Core Class
DESCRIPTION:
URL:https://synergyhealthworks.com/event/mums-and-bubs-core-class-5/2029-04-10/
LOCATION:Wagga Wagga | Mat Studio\, 221 Kincaid Street\, Wagga Wagga\, NSW\, 2650\, Australia
CATEGORIES:Mums and Bubs
END:VEVENT
BEGIN:VEVENT
DTSTART;TZID=Australia/Sydney:20290410T113000
DTEND;TZID=Australia/Sydney:20290410T121500
DTSTAMP:20260425T095712
CREATED:20241204T012809Z
LAST-MODIFIED:20251123T220437Z
UID:10096941-1870515000-1870517700@synergyhealthworks.com
SUMMARY:Gentle Reformer
DESCRIPTION:
URL:https://synergyhealthworks.com/event/clinical-reformer-42/2029-04-10/
LOCATION:Wagga Wagga | Reformer Studio\, 221 Kincaid Street\, Wagga Wagga\, NSW\, 2650\, Australia
CATEGORIES:Clinical Reformer
END:VEVENT
BEGIN:VEVENT
DTSTART;TZID=Australia/Sydney:20290410T123000
DTEND;TZID=Australia/Sydney:20290410T131500
DTSTAMP:20260425T095712
CREATED:20241204T012841Z
LAST-MODIFIED:20251123T220259Z
UID:10097193-1870518600-1870521300@synergyhealthworks.com
SUMMARY:Clinical Reformer
DESCRIPTION:
URL:https://synergyhealthworks.com/event/clinical-reformer-43/2029-04-10/
LOCATION:Wagga Wagga | Reformer Studio\, 221 Kincaid Street\, Wagga Wagga\, NSW\, 2650\, Australia
CATEGORIES:Clinical Reformer
END:VEVENT
BEGIN:VEVENT
DTSTART;TZID=Australia/Sydney:20290417T103000
DTEND;TZID=Australia/Sydney:20290417T111500
DTSTAMP:20260425T095712
CREATED:20241204T010757Z
LAST-MODIFIED:20251123T223539Z
UID:10090652-1871116200-1871118900@synergyhealthworks.com
SUMMARY:Mums and Bubs Core Class
DESCRIPTION:
URL:https://synergyhealthworks.com/event/mums-and-bubs-core-class-5/2029-04-17/
LOCATION:Wagga Wagga | Mat Studio\, 221 Kincaid Street\, Wagga Wagga\, NSW\, 2650\, Australia
CATEGORIES:Mums and Bubs
END:VEVENT
BEGIN:VEVENT
DTSTART;TZID=Australia/Sydney:20290417T113000
DTEND;TZID=Australia/Sydney:20290417T121500
DTSTAMP:20260425T095712
CREATED:20241204T012809Z
LAST-MODIFIED:20251123T220437Z
UID:10096942-1871119800-1871122500@synergyhealthworks.com
SUMMARY:Gentle Reformer
DESCRIPTION:
URL:https://synergyhealthworks.com/event/clinical-reformer-42/2029-04-17/
LOCATION:Wagga Wagga | Reformer Studio\, 221 Kincaid Street\, Wagga Wagga\, NSW\, 2650\, Australia
CATEGORIES:Clinical Reformer
END:VEVENT
BEGIN:VEVENT
DTSTART;TZID=Australia/Sydney:20290417T123000
DTEND;TZID=Australia/Sydney:20290417T131500
DTSTAMP:20260425T095712
CREATED:20241204T012841Z
LAST-MODIFIED:20251123T220259Z
UID:10097194-1871123400-1871126100@synergyhealthworks.com
SUMMARY:Clinical Reformer
DESCRIPTION:
URL:https://synergyhealthworks.com/event/clinical-reformer-43/2029-04-17/
LOCATION:Wagga Wagga | Reformer Studio\, 221 Kincaid Street\, Wagga Wagga\, NSW\, 2650\, Australia
CATEGORIES:Clinical Reformer
END:VEVENT
BEGIN:VEVENT
DTSTART;TZID=Australia/Sydney:20290424T103000
DTEND;TZID=Australia/Sydney:20290424T111500
DTSTAMP:20260425T095712
CREATED:20241204T010757Z
LAST-MODIFIED:20251123T223539Z
UID:10090653-1871721000-1871723700@synergyhealthworks.com
SUMMARY:Mums and Bubs Core Class
DESCRIPTION:
URL:https://synergyhealthworks.com/event/mums-and-bubs-core-class-5/2029-04-24/
LOCATION:Wagga Wagga | Mat Studio\, 221 Kincaid Street\, Wagga Wagga\, NSW\, 2650\, Australia
CATEGORIES:Mums and Bubs
END:VEVENT
BEGIN:VEVENT
DTSTART;TZID=Australia/Sydney:20290424T113000
DTEND;TZID=Australia/Sydney:20290424T121500
DTSTAMP:20260425T095712
CREATED:20241204T012809Z
LAST-MODIFIED:20251123T220437Z
UID:10096943-1871724600-1871727300@synergyhealthworks.com
SUMMARY:Gentle Reformer
DESCRIPTION:
URL:https://synergyhealthworks.com/event/clinical-reformer-42/2029-04-24/
LOCATION:Wagga Wagga | Reformer Studio\, 221 Kincaid Street\, Wagga Wagga\, NSW\, 2650\, Australia
CATEGORIES:Clinical Reformer
END:VEVENT
BEGIN:VEVENT
DTSTART;TZID=Australia/Sydney:20290424T123000
DTEND;TZID=Australia/Sydney:20290424T131500
DTSTAMP:20260425T095712
CREATED:20241204T012841Z
LAST-MODIFIED:20251123T220259Z
UID:10097195-1871728200-1871730900@synergyhealthworks.com
SUMMARY:Clinical Reformer
DESCRIPTION:
URL:https://synergyhealthworks.com/event/clinical-reformer-43/2029-04-24/
LOCATION:Wagga Wagga | Reformer Studio\, 221 Kincaid Street\, Wagga Wagga\, NSW\, 2650\, Australia
CATEGORIES:Clinical Reformer
END:VEVENT
BEGIN:VEVENT
DTSTART;TZID=Australia/Sydney:20290501T103000
DTEND;TZID=Australia/Sydney:20290501T111500
DTSTAMP:20260425T095712
CREATED:20241204T010757Z
LAST-MODIFIED:20251123T223539Z
UID:10090654-1872325800-1872328500@synergyhealthworks.com
SUMMARY:Mums and Bubs Core Class
DESCRIPTION:
URL:https://synergyhealthworks.com/event/mums-and-bubs-core-class-5/2029-05-01/
LOCATION:Wagga Wagga | Mat Studio\, 221 Kincaid Street\, Wagga Wagga\, NSW\, 2650\, Australia
CATEGORIES:Mums and Bubs
END:VEVENT
BEGIN:VEVENT
DTSTART;TZID=Australia/Sydney:20290501T113000
DTEND;TZID=Australia/Sydney:20290501T121500
DTSTAMP:20260425T095712
CREATED:20241204T012809Z
LAST-MODIFIED:20251123T220437Z
UID:10096944-1872329400-1872332100@synergyhealthworks.com
SUMMARY:Gentle Reformer
DESCRIPTION:
URL:https://synergyhealthworks.com/event/clinical-reformer-42/2029-05-01/
LOCATION:Wagga Wagga | Reformer Studio\, 221 Kincaid Street\, Wagga Wagga\, NSW\, 2650\, Australia
CATEGORIES:Clinical Reformer
END:VEVENT
BEGIN:VEVENT
DTSTART;TZID=Australia/Sydney:20290501T123000
DTEND;TZID=Australia/Sydney:20290501T131500
DTSTAMP:20260425T095712
CREATED:20241204T012841Z
LAST-MODIFIED:20251123T220259Z
UID:10097196-1872333000-1872335700@synergyhealthworks.com
SUMMARY:Clinical Reformer
DESCRIPTION:
URL:https://synergyhealthworks.com/event/clinical-reformer-43/2029-05-01/
LOCATION:Wagga Wagga | Reformer Studio\, 221 Kincaid Street\, Wagga Wagga\, NSW\, 2650\, Australia
CATEGORIES:Clinical Reformer
END:VEVENT
BEGIN:VEVENT
DTSTART;TZID=Australia/Sydney:20290508T103000
DTEND;TZID=Australia/Sydney:20290508T111500
DTSTAMP:20260425T095712
CREATED:20241204T010757Z
LAST-MODIFIED:20251123T223539Z
UID:10090655-1872930600-1872933300@synergyhealthworks.com
SUMMARY:Mums and Bubs Core Class
DESCRIPTION:
URL:https://synergyhealthworks.com/event/mums-and-bubs-core-class-5/2029-05-08/
LOCATION:Wagga Wagga | Mat Studio\, 221 Kincaid Street\, Wagga Wagga\, NSW\, 2650\, Australia
CATEGORIES:Mums and Bubs
END:VEVENT
BEGIN:VEVENT
DTSTART;TZID=Australia/Sydney:20290508T113000
DTEND;TZID=Australia/Sydney:20290508T121500
DTSTAMP:20260425T095712
CREATED:20241204T012809Z
LAST-MODIFIED:20251123T220437Z
UID:10096945-1872934200-1872936900@synergyhealthworks.com
SUMMARY:Gentle Reformer
DESCRIPTION:
URL:https://synergyhealthworks.com/event/clinical-reformer-42/2029-05-08/
LOCATION:Wagga Wagga | Reformer Studio\, 221 Kincaid Street\, Wagga Wagga\, NSW\, 2650\, Australia
CATEGORIES:Clinical Reformer
END:VEVENT
BEGIN:VEVENT
DTSTART;TZID=Australia/Sydney:20290508T123000
DTEND;TZID=Australia/Sydney:20290508T131500
DTSTAMP:20260425T095712
CREATED:20241204T012841Z
LAST-MODIFIED:20251123T220259Z
UID:10097197-1872937800-1872940500@synergyhealthworks.com
SUMMARY:Clinical Reformer
DESCRIPTION:
URL:https://synergyhealthworks.com/event/clinical-reformer-43/2029-05-08/
LOCATION:Wagga Wagga | Reformer Studio\, 221 Kincaid Street\, Wagga Wagga\, NSW\, 2650\, Australia
CATEGORIES:Clinical Reformer
END:VEVENT
BEGIN:VEVENT
DTSTART;TZID=Australia/Sydney:20290515T103000
DTEND;TZID=Australia/Sydney:20290515T111500
DTSTAMP:20260425T095712
CREATED:20241204T010757Z
LAST-MODIFIED:20251123T223539Z
UID:10090656-1873535400-1873538100@synergyhealthworks.com
SUMMARY:Mums and Bubs Core Class
DESCRIPTION:
URL:https://synergyhealthworks.com/event/mums-and-bubs-core-class-5/2029-05-15/
LOCATION:Wagga Wagga | Mat Studio\, 221 Kincaid Street\, Wagga Wagga\, NSW\, 2650\, Australia
CATEGORIES:Mums and Bubs
END:VEVENT
BEGIN:VEVENT
DTSTART;TZID=Australia/Sydney:20290515T113000
DTEND;TZID=Australia/Sydney:20290515T121500
DTSTAMP:20260425T095712
CREATED:20241204T012809Z
LAST-MODIFIED:20251123T220437Z
UID:10096946-1873539000-1873541700@synergyhealthworks.com
SUMMARY:Gentle Reformer
DESCRIPTION:
URL:https://synergyhealthworks.com/event/clinical-reformer-42/2029-05-15/
LOCATION:Wagga Wagga | Reformer Studio\, 221 Kincaid Street\, Wagga Wagga\, NSW\, 2650\, Australia
CATEGORIES:Clinical Reformer
END:VEVENT
BEGIN:VEVENT
DTSTART;TZID=Australia/Sydney:20290515T123000
DTEND;TZID=Australia/Sydney:20290515T131500
DTSTAMP:20260425T095712
CREATED:20241204T012841Z
LAST-MODIFIED:20251123T220259Z
UID:10097198-1873542600-1873545300@synergyhealthworks.com
SUMMARY:Clinical Reformer
DESCRIPTION:
URL:https://synergyhealthworks.com/event/clinical-reformer-43/2029-05-15/
LOCATION:Wagga Wagga | Reformer Studio\, 221 Kincaid Street\, Wagga Wagga\, NSW\, 2650\, Australia
CATEGORIES:Clinical Reformer
END:VEVENT
BEGIN:VEVENT
DTSTART;TZID=Australia/Sydney:20290522T103000
DTEND;TZID=Australia/Sydney:20290522T111500
DTSTAMP:20260425T095712
CREATED:20241204T010757Z
LAST-MODIFIED:20251123T223539Z
UID:10090657-1874140200-1874142900@synergyhealthworks.com
SUMMARY:Mums and Bubs Core Class
DESCRIPTION:
URL:https://synergyhealthworks.com/event/mums-and-bubs-core-class-5/2029-05-22/
LOCATION:Wagga Wagga | Mat Studio\, 221 Kincaid Street\, Wagga Wagga\, NSW\, 2650\, Australia
CATEGORIES:Mums and Bubs
END:VEVENT
BEGIN:VEVENT
DTSTART;TZID=Australia/Sydney:20290522T113000
DTEND;TZID=Australia/Sydney:20290522T121500
DTSTAMP:20260425T095712
CREATED:20241204T012809Z
LAST-MODIFIED:20251123T220437Z
UID:10096947-1874143800-1874146500@synergyhealthworks.com
SUMMARY:Gentle Reformer
DESCRIPTION:
URL:https://synergyhealthworks.com/event/clinical-reformer-42/2029-05-22/
LOCATION:Wagga Wagga | Reformer Studio\, 221 Kincaid Street\, Wagga Wagga\, NSW\, 2650\, Australia
CATEGORIES:Clinical Reformer
END:VEVENT
BEGIN:VEVENT
DTSTART;TZID=Australia/Sydney:20290522T123000
DTEND;TZID=Australia/Sydney:20290522T131500
DTSTAMP:20260425T095712
CREATED:20241204T012841Z
LAST-MODIFIED:20251123T220259Z
UID:10097199-1874147400-1874150100@synergyhealthworks.com
SUMMARY:Clinical Reformer
DESCRIPTION:
URL:https://synergyhealthworks.com/event/clinical-reformer-43/2029-05-22/
LOCATION:Wagga Wagga | Reformer Studio\, 221 Kincaid Street\, Wagga Wagga\, NSW\, 2650\, Australia
CATEGORIES:Clinical Reformer
END:VEVENT
BEGIN:VEVENT
DTSTART;TZID=Australia/Sydney:20290529T103000
DTEND;TZID=Australia/Sydney:20290529T111500
DTSTAMP:20260425T095712
CREATED:20241204T010757Z
LAST-MODIFIED:20251123T223539Z
UID:10090658-1874745000-1874747700@synergyhealthworks.com
SUMMARY:Mums and Bubs Core Class
DESCRIPTION:
URL:https://synergyhealthworks.com/event/mums-and-bubs-core-class-5/2029-05-29/
LOCATION:Wagga Wagga | Mat Studio\, 221 Kincaid Street\, Wagga Wagga\, NSW\, 2650\, Australia
CATEGORIES:Mums and Bubs
END:VEVENT
BEGIN:VEVENT
DTSTART;TZID=Australia/Sydney:20290529T113000
DTEND;TZID=Australia/Sydney:20290529T121500
DTSTAMP:20260425T095712
CREATED:20241204T012809Z
LAST-MODIFIED:20251123T220437Z
UID:10096948-1874748600-1874751300@synergyhealthworks.com
SUMMARY:Gentle Reformer
DESCRIPTION:
URL:https://synergyhealthworks.com/event/clinical-reformer-42/2029-05-29/
LOCATION:Wagga Wagga | Reformer Studio\, 221 Kincaid Street\, Wagga Wagga\, NSW\, 2650\, Australia
CATEGORIES:Clinical Reformer
END:VEVENT
BEGIN:VEVENT
DTSTART;TZID=Australia/Sydney:20290529T123000
DTEND;TZID=Australia/Sydney:20290529T131500
DTSTAMP:20260425T095712
CREATED:20241204T012841Z
LAST-MODIFIED:20251123T220259Z
UID:10097200-1874752200-1874754900@synergyhealthworks.com
SUMMARY:Clinical Reformer
DESCRIPTION:
URL:https://synergyhealthworks.com/event/clinical-reformer-43/2029-05-29/
LOCATION:Wagga Wagga | Reformer Studio\, 221 Kincaid Street\, Wagga Wagga\, NSW\, 2650\, Australia
CATEGORIES:Clinical Reformer
END:VEVENT
END:VCALENDAR