BEGIN:VCALENDAR
VERSION:2.0
PRODID:-//Synergy Healthworks - ECPv6.15.20//NONSGML v1.0//EN
CALSCALE:GREGORIAN
METHOD:PUBLISH
X-ORIGINAL-URL:https://synergyhealthworks.com
X-WR-CALDESC:Events for Synergy Healthworks
REFRESH-INTERVAL;VALUE=DURATION:PT1H
X-Robots-Tag:noindex
X-PUBLISHED-TTL:PT1H
BEGIN:VTIMEZONE
TZID:Australia/Sydney
BEGIN:STANDARD
TZOFFSETFROM:+1100
TZOFFSETTO:+1000
TZNAME:AEST
DTSTART:20280401T160000
END:STANDARD
BEGIN:DAYLIGHT
TZOFFSETFROM:+1000
TZOFFSETTO:+1100
TZNAME:AEDT
DTSTART:20280930T160000
END:DAYLIGHT
BEGIN:STANDARD
TZOFFSETFROM:+1100
TZOFFSETTO:+1000
TZNAME:AEST
DTSTART:20290331T160000
END:STANDARD
BEGIN:DAYLIGHT
TZOFFSETFROM:+1000
TZOFFSETTO:+1100
TZNAME:AEDT
DTSTART:20291006T160000
END:DAYLIGHT
BEGIN:STANDARD
TZOFFSETFROM:+1100
TZOFFSETTO:+1000
TZNAME:AEST
DTSTART:20300406T160000
END:STANDARD
BEGIN:DAYLIGHT
TZOFFSETFROM:+1000
TZOFFSETTO:+1100
TZNAME:AEDT
DTSTART:20301005T160000
END:DAYLIGHT
END:VTIMEZONE
BEGIN:VEVENT
DTSTART;TZID=Australia/Sydney:20290508T123000
DTEND;TZID=Australia/Sydney:20290508T131500
DTSTAMP:20260426T135516
CREATED:20241204T010916Z
LAST-MODIFIED:20251123T223831Z
UID:10130198-1872937800-1872940500@synergyhealthworks.com
SUMMARY:Pregnancy Matwork Class
DESCRIPTION:
URL:https://synergyhealthworks.com/event/pregnancy-matwork-class-4/2029-05-08/
LOCATION:Wagga Wagga | Mat Studio\, 221 Kincaid Street\, Wagga Wagga\, NSW\, 2650\, Australia
CATEGORIES:Pregnancy Matwork
END:VEVENT
BEGIN:VEVENT
DTSTART;TZID=Australia/Sydney:20290509T123000
DTEND;TZID=Australia/Sydney:20290509T131500
DTSTAMP:20260426T135516
CREATED:20241204T014608Z
LAST-MODIFIED:20251123T221428Z
UID:10099462-1873024200-1873026900@synergyhealthworks.com
SUMMARY:Barre
DESCRIPTION:
URL:https://synergyhealthworks.com/event/barre-2/2029-05-09/
LOCATION:Wagga Wagga | Reformer Studio\, 221 Kincaid Street\, Wagga Wagga\, NSW\, 2650\, Australia
CATEGORIES:Barre
END:VEVENT
BEGIN:VEVENT
DTSTART;TZID=Australia/Sydney:20290509T140000
DTEND;TZID=Australia/Sydney:20290509T144500
DTSTAMP:20260426T135516
CREATED:20251123T222028Z
LAST-MODIFIED:20251123T222107Z
UID:10128364-1873029600-1873032300@synergyhealthworks.com
SUMMARY:Gentle Reformer
DESCRIPTION:
URL:https://synergyhealthworks.com/event/gentle-reformer-12/2029-05-09/
LOCATION:Wagga Wagga | Reformer Studio\, 221 Kincaid Street\, Wagga Wagga\, NSW\, 2650\, Australia
CATEGORIES:Clinical Reformer
END:VEVENT
BEGIN:VEVENT
DTSTART;TZID=Australia/Sydney:20290514T103000
DTEND;TZID=Australia/Sydney:20290514T111500
DTSTAMP:20260426T135516
CREATED:20241204T010434Z
LAST-MODIFIED:20251123T223251Z
UID:10129209-1873449000-1873451700@synergyhealthworks.com
SUMMARY:Matwork Core Class
DESCRIPTION:
URL:https://synergyhealthworks.com/event/matwork-core-class-12/2029-05-14/
LOCATION:Wagga Wagga | Mat Studio\, 221 Kincaid Street\, Wagga Wagga\, NSW\, 2650\, Australia
CATEGORIES:Matwork
END:VEVENT
BEGIN:VEVENT
DTSTART;TZID=Australia/Sydney:20290514T113000
DTEND;TZID=Australia/Sydney:20290514T121500
DTSTAMP:20260426T135516
CREATED:20251123T223427Z
LAST-MODIFIED:20251123T223427Z
UID:10129813-1873452600-1873455300@synergyhealthworks.com
SUMMARY:Mums and Bubs Core Class
DESCRIPTION:
URL:https://synergyhealthworks.com/event/mums-and-bubs-core-class-8/2029-05-14/
LOCATION:Wagga Wagga | Mat Studio\, 221 Kincaid Street\, Wagga Wagga\, NSW\, 2650\, Australia
CATEGORIES:Mums and Bubs
END:VEVENT
BEGIN:VEVENT
DTSTART;TZID=Australia/Sydney:20290515T123000
DTEND;TZID=Australia/Sydney:20290515T131500
DTSTAMP:20260426T135516
CREATED:20241204T010916Z
LAST-MODIFIED:20251123T223831Z
UID:10130199-1873542600-1873545300@synergyhealthworks.com
SUMMARY:Pregnancy Matwork Class
DESCRIPTION:
URL:https://synergyhealthworks.com/event/pregnancy-matwork-class-4/2029-05-15/
LOCATION:Wagga Wagga | Mat Studio\, 221 Kincaid Street\, Wagga Wagga\, NSW\, 2650\, Australia
CATEGORIES:Pregnancy Matwork
END:VEVENT
BEGIN:VEVENT
DTSTART;TZID=Australia/Sydney:20290516T123000
DTEND;TZID=Australia/Sydney:20290516T131500
DTSTAMP:20260426T135516
CREATED:20241204T014608Z
LAST-MODIFIED:20251123T221428Z
UID:10099463-1873629000-1873631700@synergyhealthworks.com
SUMMARY:Barre
DESCRIPTION:
URL:https://synergyhealthworks.com/event/barre-2/2029-05-16/
LOCATION:Wagga Wagga | Reformer Studio\, 221 Kincaid Street\, Wagga Wagga\, NSW\, 2650\, Australia
CATEGORIES:Barre
END:VEVENT
BEGIN:VEVENT
DTSTART;TZID=Australia/Sydney:20290516T140000
DTEND;TZID=Australia/Sydney:20290516T144500
DTSTAMP:20260426T135516
CREATED:20251123T222028Z
LAST-MODIFIED:20251123T222107Z
UID:10128365-1873634400-1873637100@synergyhealthworks.com
SUMMARY:Gentle Reformer
DESCRIPTION:
URL:https://synergyhealthworks.com/event/gentle-reformer-12/2029-05-16/
LOCATION:Wagga Wagga | Reformer Studio\, 221 Kincaid Street\, Wagga Wagga\, NSW\, 2650\, Australia
CATEGORIES:Clinical Reformer
END:VEVENT
BEGIN:VEVENT
DTSTART;TZID=Australia/Sydney:20290521T103000
DTEND;TZID=Australia/Sydney:20290521T111500
DTSTAMP:20260426T135516
CREATED:20241204T010434Z
LAST-MODIFIED:20251123T223251Z
UID:10129210-1874053800-1874056500@synergyhealthworks.com
SUMMARY:Matwork Core Class
DESCRIPTION:
URL:https://synergyhealthworks.com/event/matwork-core-class-12/2029-05-21/
LOCATION:Wagga Wagga | Mat Studio\, 221 Kincaid Street\, Wagga Wagga\, NSW\, 2650\, Australia
CATEGORIES:Matwork
END:VEVENT
BEGIN:VEVENT
DTSTART;TZID=Australia/Sydney:20290521T113000
DTEND;TZID=Australia/Sydney:20290521T121500
DTSTAMP:20260426T135516
CREATED:20251123T223427Z
LAST-MODIFIED:20251123T223427Z
UID:10129814-1874057400-1874060100@synergyhealthworks.com
SUMMARY:Mums and Bubs Core Class
DESCRIPTION:
URL:https://synergyhealthworks.com/event/mums-and-bubs-core-class-8/2029-05-21/
LOCATION:Wagga Wagga | Mat Studio\, 221 Kincaid Street\, Wagga Wagga\, NSW\, 2650\, Australia
CATEGORIES:Mums and Bubs
END:VEVENT
BEGIN:VEVENT
DTSTART;TZID=Australia/Sydney:20290522T123000
DTEND;TZID=Australia/Sydney:20290522T131500
DTSTAMP:20260426T135516
CREATED:20241204T010916Z
LAST-MODIFIED:20251123T223831Z
UID:10130200-1874147400-1874150100@synergyhealthworks.com
SUMMARY:Pregnancy Matwork Class
DESCRIPTION:
URL:https://synergyhealthworks.com/event/pregnancy-matwork-class-4/2029-05-22/
LOCATION:Wagga Wagga | Mat Studio\, 221 Kincaid Street\, Wagga Wagga\, NSW\, 2650\, Australia
CATEGORIES:Pregnancy Matwork
END:VEVENT
BEGIN:VEVENT
DTSTART;TZID=Australia/Sydney:20290523T123000
DTEND;TZID=Australia/Sydney:20290523T131500
DTSTAMP:20260426T135516
CREATED:20241204T014608Z
LAST-MODIFIED:20251123T221428Z
UID:10099464-1874233800-1874236500@synergyhealthworks.com
SUMMARY:Barre
DESCRIPTION:
URL:https://synergyhealthworks.com/event/barre-2/2029-05-23/
LOCATION:Wagga Wagga | Reformer Studio\, 221 Kincaid Street\, Wagga Wagga\, NSW\, 2650\, Australia
CATEGORIES:Barre
END:VEVENT
BEGIN:VEVENT
DTSTART;TZID=Australia/Sydney:20290523T140000
DTEND;TZID=Australia/Sydney:20290523T144500
DTSTAMP:20260426T135516
CREATED:20251123T222028Z
LAST-MODIFIED:20251123T222107Z
UID:10128366-1874239200-1874241900@synergyhealthworks.com
SUMMARY:Gentle Reformer
DESCRIPTION:
URL:https://synergyhealthworks.com/event/gentle-reformer-12/2029-05-23/
LOCATION:Wagga Wagga | Reformer Studio\, 221 Kincaid Street\, Wagga Wagga\, NSW\, 2650\, Australia
CATEGORIES:Clinical Reformer
END:VEVENT
BEGIN:VEVENT
DTSTART;TZID=Australia/Sydney:20290528T103000
DTEND;TZID=Australia/Sydney:20290528T111500
DTSTAMP:20260426T135516
CREATED:20241204T010434Z
LAST-MODIFIED:20251123T223251Z
UID:10129211-1874658600-1874661300@synergyhealthworks.com
SUMMARY:Matwork Core Class
DESCRIPTION:
URL:https://synergyhealthworks.com/event/matwork-core-class-12/2029-05-28/
LOCATION:Wagga Wagga | Mat Studio\, 221 Kincaid Street\, Wagga Wagga\, NSW\, 2650\, Australia
CATEGORIES:Matwork
END:VEVENT
BEGIN:VEVENT
DTSTART;TZID=Australia/Sydney:20290528T113000
DTEND;TZID=Australia/Sydney:20290528T121500
DTSTAMP:20260426T135516
CREATED:20251123T223427Z
LAST-MODIFIED:20251123T223427Z
UID:10129815-1874662200-1874664900@synergyhealthworks.com
SUMMARY:Mums and Bubs Core Class
DESCRIPTION:
URL:https://synergyhealthworks.com/event/mums-and-bubs-core-class-8/2029-05-28/
LOCATION:Wagga Wagga | Mat Studio\, 221 Kincaid Street\, Wagga Wagga\, NSW\, 2650\, Australia
CATEGORIES:Mums and Bubs
END:VEVENT
BEGIN:VEVENT
DTSTART;TZID=Australia/Sydney:20290529T123000
DTEND;TZID=Australia/Sydney:20290529T131500
DTSTAMP:20260426T135516
CREATED:20241204T010916Z
LAST-MODIFIED:20251123T223831Z
UID:10130201-1874752200-1874754900@synergyhealthworks.com
SUMMARY:Pregnancy Matwork Class
DESCRIPTION:
URL:https://synergyhealthworks.com/event/pregnancy-matwork-class-4/2029-05-29/
LOCATION:Wagga Wagga | Mat Studio\, 221 Kincaid Street\, Wagga Wagga\, NSW\, 2650\, Australia
CATEGORIES:Pregnancy Matwork
END:VEVENT
BEGIN:VEVENT
DTSTART;TZID=Australia/Sydney:20290530T123000
DTEND;TZID=Australia/Sydney:20290530T131500
DTSTAMP:20260426T135516
CREATED:20241204T014608Z
LAST-MODIFIED:20251123T221428Z
UID:10099465-1874838600-1874841300@synergyhealthworks.com
SUMMARY:Barre
DESCRIPTION:
URL:https://synergyhealthworks.com/event/barre-2/2029-05-30/
LOCATION:Wagga Wagga | Reformer Studio\, 221 Kincaid Street\, Wagga Wagga\, NSW\, 2650\, Australia
CATEGORIES:Barre
END:VEVENT
BEGIN:VEVENT
DTSTART;TZID=Australia/Sydney:20290530T140000
DTEND;TZID=Australia/Sydney:20290530T144500
DTSTAMP:20260426T135516
CREATED:20251123T222028Z
LAST-MODIFIED:20251123T222107Z
UID:10128367-1874844000-1874846700@synergyhealthworks.com
SUMMARY:Gentle Reformer
DESCRIPTION:
URL:https://synergyhealthworks.com/event/gentle-reformer-12/2029-05-30/
LOCATION:Wagga Wagga | Reformer Studio\, 221 Kincaid Street\, Wagga Wagga\, NSW\, 2650\, Australia
CATEGORIES:Clinical Reformer
END:VEVENT
BEGIN:VEVENT
DTSTART;TZID=Australia/Sydney:20290604T103000
DTEND;TZID=Australia/Sydney:20290604T111500
DTSTAMP:20260426T135516
CREATED:20241204T010434Z
LAST-MODIFIED:20251123T223251Z
UID:10129212-1875263400-1875266100@synergyhealthworks.com
SUMMARY:Matwork Core Class
DESCRIPTION:
URL:https://synergyhealthworks.com/event/matwork-core-class-12/2029-06-04/
LOCATION:Wagga Wagga | Mat Studio\, 221 Kincaid Street\, Wagga Wagga\, NSW\, 2650\, Australia
CATEGORIES:Matwork
END:VEVENT
BEGIN:VEVENT
DTSTART;TZID=Australia/Sydney:20290604T113000
DTEND;TZID=Australia/Sydney:20290604T121500
DTSTAMP:20260426T135516
CREATED:20251123T223427Z
LAST-MODIFIED:20251123T223427Z
UID:10129816-1875267000-1875269700@synergyhealthworks.com
SUMMARY:Mums and Bubs Core Class
DESCRIPTION:
URL:https://synergyhealthworks.com/event/mums-and-bubs-core-class-8/2029-06-04/
LOCATION:Wagga Wagga | Mat Studio\, 221 Kincaid Street\, Wagga Wagga\, NSW\, 2650\, Australia
CATEGORIES:Mums and Bubs
END:VEVENT
BEGIN:VEVENT
DTSTART;TZID=Australia/Sydney:20290605T123000
DTEND;TZID=Australia/Sydney:20290605T131500
DTSTAMP:20260426T135516
CREATED:20241204T010916Z
LAST-MODIFIED:20251123T223831Z
UID:10130202-1875357000-1875359700@synergyhealthworks.com
SUMMARY:Pregnancy Matwork Class
DESCRIPTION:
URL:https://synergyhealthworks.com/event/pregnancy-matwork-class-4/2029-06-05/
LOCATION:Wagga Wagga | Mat Studio\, 221 Kincaid Street\, Wagga Wagga\, NSW\, 2650\, Australia
CATEGORIES:Pregnancy Matwork
END:VEVENT
BEGIN:VEVENT
DTSTART;TZID=Australia/Sydney:20290606T123000
DTEND;TZID=Australia/Sydney:20290606T131500
DTSTAMP:20260426T135516
CREATED:20241204T014608Z
LAST-MODIFIED:20251123T221428Z
UID:10099466-1875443400-1875446100@synergyhealthworks.com
SUMMARY:Barre
DESCRIPTION:
URL:https://synergyhealthworks.com/event/barre-2/2029-06-06/
LOCATION:Wagga Wagga | Reformer Studio\, 221 Kincaid Street\, Wagga Wagga\, NSW\, 2650\, Australia
CATEGORIES:Barre
END:VEVENT
BEGIN:VEVENT
DTSTART;TZID=Australia/Sydney:20290606T140000
DTEND;TZID=Australia/Sydney:20290606T144500
DTSTAMP:20260426T135516
CREATED:20251123T222028Z
LAST-MODIFIED:20251123T222107Z
UID:10128368-1875448800-1875451500@synergyhealthworks.com
SUMMARY:Gentle Reformer
DESCRIPTION:
URL:https://synergyhealthworks.com/event/gentle-reformer-12/2029-06-06/
LOCATION:Wagga Wagga | Reformer Studio\, 221 Kincaid Street\, Wagga Wagga\, NSW\, 2650\, Australia
CATEGORIES:Clinical Reformer
END:VEVENT
BEGIN:VEVENT
DTSTART;TZID=Australia/Sydney:20290611T103000
DTEND;TZID=Australia/Sydney:20290611T111500
DTSTAMP:20260426T135516
CREATED:20241204T010434Z
LAST-MODIFIED:20251123T223251Z
UID:10129213-1875868200-1875870900@synergyhealthworks.com
SUMMARY:Matwork Core Class
DESCRIPTION:
URL:https://synergyhealthworks.com/event/matwork-core-class-12/2029-06-11/
LOCATION:Wagga Wagga | Mat Studio\, 221 Kincaid Street\, Wagga Wagga\, NSW\, 2650\, Australia
CATEGORIES:Matwork
END:VEVENT
BEGIN:VEVENT
DTSTART;TZID=Australia/Sydney:20290611T113000
DTEND;TZID=Australia/Sydney:20290611T121500
DTSTAMP:20260426T135516
CREATED:20251123T223427Z
LAST-MODIFIED:20251123T223427Z
UID:10129817-1875871800-1875874500@synergyhealthworks.com
SUMMARY:Mums and Bubs Core Class
DESCRIPTION:
URL:https://synergyhealthworks.com/event/mums-and-bubs-core-class-8/2029-06-11/
LOCATION:Wagga Wagga | Mat Studio\, 221 Kincaid Street\, Wagga Wagga\, NSW\, 2650\, Australia
CATEGORIES:Mums and Bubs
END:VEVENT
BEGIN:VEVENT
DTSTART;TZID=Australia/Sydney:20290612T123000
DTEND;TZID=Australia/Sydney:20290612T131500
DTSTAMP:20260426T135516
CREATED:20241204T010916Z
LAST-MODIFIED:20251123T223831Z
UID:10130203-1875961800-1875964500@synergyhealthworks.com
SUMMARY:Pregnancy Matwork Class
DESCRIPTION:
URL:https://synergyhealthworks.com/event/pregnancy-matwork-class-4/2029-06-12/
LOCATION:Wagga Wagga | Mat Studio\, 221 Kincaid Street\, Wagga Wagga\, NSW\, 2650\, Australia
CATEGORIES:Pregnancy Matwork
END:VEVENT
BEGIN:VEVENT
DTSTART;TZID=Australia/Sydney:20290613T123000
DTEND;TZID=Australia/Sydney:20290613T131500
DTSTAMP:20260426T135516
CREATED:20241204T014608Z
LAST-MODIFIED:20251123T221428Z
UID:10099467-1876048200-1876050900@synergyhealthworks.com
SUMMARY:Barre
DESCRIPTION:
URL:https://synergyhealthworks.com/event/barre-2/2029-06-13/
LOCATION:Wagga Wagga | Reformer Studio\, 221 Kincaid Street\, Wagga Wagga\, NSW\, 2650\, Australia
CATEGORIES:Barre
END:VEVENT
BEGIN:VEVENT
DTSTART;TZID=Australia/Sydney:20290613T140000
DTEND;TZID=Australia/Sydney:20290613T144500
DTSTAMP:20260426T135516
CREATED:20251123T222028Z
LAST-MODIFIED:20251123T222107Z
UID:10128369-1876053600-1876056300@synergyhealthworks.com
SUMMARY:Gentle Reformer
DESCRIPTION:
URL:https://synergyhealthworks.com/event/gentle-reformer-12/2029-06-13/
LOCATION:Wagga Wagga | Reformer Studio\, 221 Kincaid Street\, Wagga Wagga\, NSW\, 2650\, Australia
CATEGORIES:Clinical Reformer
END:VEVENT
BEGIN:VEVENT
DTSTART;TZID=Australia/Sydney:20290618T103000
DTEND;TZID=Australia/Sydney:20290618T111500
DTSTAMP:20260426T135516
CREATED:20241204T010434Z
LAST-MODIFIED:20251123T223251Z
UID:10129214-1876473000-1876475700@synergyhealthworks.com
SUMMARY:Matwork Core Class
DESCRIPTION:
URL:https://synergyhealthworks.com/event/matwork-core-class-12/2029-06-18/
LOCATION:Wagga Wagga | Mat Studio\, 221 Kincaid Street\, Wagga Wagga\, NSW\, 2650\, Australia
CATEGORIES:Matwork
END:VEVENT
BEGIN:VEVENT
DTSTART;TZID=Australia/Sydney:20290618T113000
DTEND;TZID=Australia/Sydney:20290618T121500
DTSTAMP:20260426T135516
CREATED:20251123T223427Z
LAST-MODIFIED:20251123T223427Z
UID:10129818-1876476600-1876479300@synergyhealthworks.com
SUMMARY:Mums and Bubs Core Class
DESCRIPTION:
URL:https://synergyhealthworks.com/event/mums-and-bubs-core-class-8/2029-06-18/
LOCATION:Wagga Wagga | Mat Studio\, 221 Kincaid Street\, Wagga Wagga\, NSW\, 2650\, Australia
CATEGORIES:Mums and Bubs
END:VEVENT
END:VCALENDAR