BEGIN:VCALENDAR
VERSION:2.0
PRODID:-//Synergy Healthworks - ECPv6.15.20//NONSGML v1.0//EN
CALSCALE:GREGORIAN
METHOD:PUBLISH
X-ORIGINAL-URL:https://synergyhealthworks.com
X-WR-CALDESC:Events for Synergy Healthworks
REFRESH-INTERVAL;VALUE=DURATION:PT1H
X-Robots-Tag:noindex
X-PUBLISHED-TTL:PT1H
BEGIN:VTIMEZONE
TZID:Australia/Sydney
BEGIN:STANDARD
TZOFFSETFROM:+1100
TZOFFSETTO:+1000
TZNAME:AEST
DTSTART:20280401T160000
END:STANDARD
BEGIN:DAYLIGHT
TZOFFSETFROM:+1000
TZOFFSETTO:+1100
TZNAME:AEDT
DTSTART:20280930T160000
END:DAYLIGHT
BEGIN:STANDARD
TZOFFSETFROM:+1100
TZOFFSETTO:+1000
TZNAME:AEST
DTSTART:20290331T160000
END:STANDARD
BEGIN:DAYLIGHT
TZOFFSETFROM:+1000
TZOFFSETTO:+1100
TZNAME:AEDT
DTSTART:20291006T160000
END:DAYLIGHT
BEGIN:STANDARD
TZOFFSETFROM:+1100
TZOFFSETTO:+1000
TZNAME:AEST
DTSTART:20300406T160000
END:STANDARD
BEGIN:DAYLIGHT
TZOFFSETFROM:+1000
TZOFFSETTO:+1100
TZNAME:AEDT
DTSTART:20301005T160000
END:DAYLIGHT
END:VTIMEZONE
BEGIN:VEVENT
DTSTART;TZID=Australia/Sydney:20290404T123000
DTEND;TZID=Australia/Sydney:20290404T131500
DTSTAMP:20260426T095346
CREATED:20241204T014608Z
LAST-MODIFIED:20251123T221428Z
UID:10099457-1870000200-1870002900@synergyhealthworks.com
SUMMARY:Barre
DESCRIPTION:
URL:https://synergyhealthworks.com/event/barre-2/2029-04-04/
LOCATION:Wagga Wagga | Reformer Studio\, 221 Kincaid Street\, Wagga Wagga\, NSW\, 2650\, Australia
CATEGORIES:Barre
END:VEVENT
BEGIN:VEVENT
DTSTART;TZID=Australia/Sydney:20290404T140000
DTEND;TZID=Australia/Sydney:20290404T144500
DTSTAMP:20260426T095346
CREATED:20251123T222028Z
LAST-MODIFIED:20251123T222107Z
UID:10128359-1870005600-1870008300@synergyhealthworks.com
SUMMARY:Gentle Reformer
DESCRIPTION:
URL:https://synergyhealthworks.com/event/gentle-reformer-12/2029-04-04/
LOCATION:Wagga Wagga | Reformer Studio\, 221 Kincaid Street\, Wagga Wagga\, NSW\, 2650\, Australia
CATEGORIES:Clinical Reformer
END:VEVENT
BEGIN:VEVENT
DTSTART;TZID=Australia/Sydney:20290409T103000
DTEND;TZID=Australia/Sydney:20290409T111500
DTSTAMP:20260426T095346
CREATED:20241204T010434Z
LAST-MODIFIED:20251123T223251Z
UID:10129204-1870425000-1870427700@synergyhealthworks.com
SUMMARY:Matwork Core Class
DESCRIPTION:
URL:https://synergyhealthworks.com/event/matwork-core-class-12/2029-04-09/
LOCATION:Wagga Wagga | Mat Studio\, 221 Kincaid Street\, Wagga Wagga\, NSW\, 2650\, Australia
CATEGORIES:Matwork
END:VEVENT
BEGIN:VEVENT
DTSTART;TZID=Australia/Sydney:20290409T113000
DTEND;TZID=Australia/Sydney:20290409T121500
DTSTAMP:20260426T095346
CREATED:20251123T223427Z
LAST-MODIFIED:20251123T223427Z
UID:10129808-1870428600-1870431300@synergyhealthworks.com
SUMMARY:Mums and Bubs Core Class
DESCRIPTION:
URL:https://synergyhealthworks.com/event/mums-and-bubs-core-class-8/2029-04-09/
LOCATION:Wagga Wagga | Mat Studio\, 221 Kincaid Street\, Wagga Wagga\, NSW\, 2650\, Australia
CATEGORIES:Mums and Bubs
END:VEVENT
BEGIN:VEVENT
DTSTART;TZID=Australia/Sydney:20290410T123000
DTEND;TZID=Australia/Sydney:20290410T131500
DTSTAMP:20260426T095346
CREATED:20241204T010916Z
LAST-MODIFIED:20251123T223831Z
UID:10130194-1870518600-1870521300@synergyhealthworks.com
SUMMARY:Pregnancy Matwork Class
DESCRIPTION:
URL:https://synergyhealthworks.com/event/pregnancy-matwork-class-4/2029-04-10/
LOCATION:Wagga Wagga | Mat Studio\, 221 Kincaid Street\, Wagga Wagga\, NSW\, 2650\, Australia
CATEGORIES:Pregnancy Matwork
END:VEVENT
BEGIN:VEVENT
DTSTART;TZID=Australia/Sydney:20290411T123000
DTEND;TZID=Australia/Sydney:20290411T131500
DTSTAMP:20260426T095346
CREATED:20241204T014608Z
LAST-MODIFIED:20251123T221428Z
UID:10099458-1870605000-1870607700@synergyhealthworks.com
SUMMARY:Barre
DESCRIPTION:
URL:https://synergyhealthworks.com/event/barre-2/2029-04-11/
LOCATION:Wagga Wagga | Reformer Studio\, 221 Kincaid Street\, Wagga Wagga\, NSW\, 2650\, Australia
CATEGORIES:Barre
END:VEVENT
BEGIN:VEVENT
DTSTART;TZID=Australia/Sydney:20290411T140000
DTEND;TZID=Australia/Sydney:20290411T144500
DTSTAMP:20260426T095346
CREATED:20251123T222028Z
LAST-MODIFIED:20251123T222107Z
UID:10128360-1870610400-1870613100@synergyhealthworks.com
SUMMARY:Gentle Reformer
DESCRIPTION:
URL:https://synergyhealthworks.com/event/gentle-reformer-12/2029-04-11/
LOCATION:Wagga Wagga | Reformer Studio\, 221 Kincaid Street\, Wagga Wagga\, NSW\, 2650\, Australia
CATEGORIES:Clinical Reformer
END:VEVENT
BEGIN:VEVENT
DTSTART;TZID=Australia/Sydney:20290416T103000
DTEND;TZID=Australia/Sydney:20290416T111500
DTSTAMP:20260426T095346
CREATED:20241204T010434Z
LAST-MODIFIED:20251123T223251Z
UID:10129205-1871029800-1871032500@synergyhealthworks.com
SUMMARY:Matwork Core Class
DESCRIPTION:
URL:https://synergyhealthworks.com/event/matwork-core-class-12/2029-04-16/
LOCATION:Wagga Wagga | Mat Studio\, 221 Kincaid Street\, Wagga Wagga\, NSW\, 2650\, Australia
CATEGORIES:Matwork
END:VEVENT
BEGIN:VEVENT
DTSTART;TZID=Australia/Sydney:20290416T113000
DTEND;TZID=Australia/Sydney:20290416T121500
DTSTAMP:20260426T095346
CREATED:20251123T223427Z
LAST-MODIFIED:20251123T223427Z
UID:10129809-1871033400-1871036100@synergyhealthworks.com
SUMMARY:Mums and Bubs Core Class
DESCRIPTION:
URL:https://synergyhealthworks.com/event/mums-and-bubs-core-class-8/2029-04-16/
LOCATION:Wagga Wagga | Mat Studio\, 221 Kincaid Street\, Wagga Wagga\, NSW\, 2650\, Australia
CATEGORIES:Mums and Bubs
END:VEVENT
BEGIN:VEVENT
DTSTART;TZID=Australia/Sydney:20290417T123000
DTEND;TZID=Australia/Sydney:20290417T131500
DTSTAMP:20260426T095346
CREATED:20241204T010916Z
LAST-MODIFIED:20251123T223831Z
UID:10130195-1871123400-1871126100@synergyhealthworks.com
SUMMARY:Pregnancy Matwork Class
DESCRIPTION:
URL:https://synergyhealthworks.com/event/pregnancy-matwork-class-4/2029-04-17/
LOCATION:Wagga Wagga | Mat Studio\, 221 Kincaid Street\, Wagga Wagga\, NSW\, 2650\, Australia
CATEGORIES:Pregnancy Matwork
END:VEVENT
BEGIN:VEVENT
DTSTART;TZID=Australia/Sydney:20290418T123000
DTEND;TZID=Australia/Sydney:20290418T131500
DTSTAMP:20260426T095346
CREATED:20241204T014608Z
LAST-MODIFIED:20251123T221428Z
UID:10099459-1871209800-1871212500@synergyhealthworks.com
SUMMARY:Barre
DESCRIPTION:
URL:https://synergyhealthworks.com/event/barre-2/2029-04-18/
LOCATION:Wagga Wagga | Reformer Studio\, 221 Kincaid Street\, Wagga Wagga\, NSW\, 2650\, Australia
CATEGORIES:Barre
END:VEVENT
BEGIN:VEVENT
DTSTART;TZID=Australia/Sydney:20290418T140000
DTEND;TZID=Australia/Sydney:20290418T144500
DTSTAMP:20260426T095346
CREATED:20251123T222028Z
LAST-MODIFIED:20251123T222107Z
UID:10128361-1871215200-1871217900@synergyhealthworks.com
SUMMARY:Gentle Reformer
DESCRIPTION:
URL:https://synergyhealthworks.com/event/gentle-reformer-12/2029-04-18/
LOCATION:Wagga Wagga | Reformer Studio\, 221 Kincaid Street\, Wagga Wagga\, NSW\, 2650\, Australia
CATEGORIES:Clinical Reformer
END:VEVENT
BEGIN:VEVENT
DTSTART;TZID=Australia/Sydney:20290423T103000
DTEND;TZID=Australia/Sydney:20290423T111500
DTSTAMP:20260426T095346
CREATED:20241204T010434Z
LAST-MODIFIED:20251123T223251Z
UID:10129206-1871634600-1871637300@synergyhealthworks.com
SUMMARY:Matwork Core Class
DESCRIPTION:
URL:https://synergyhealthworks.com/event/matwork-core-class-12/2029-04-23/
LOCATION:Wagga Wagga | Mat Studio\, 221 Kincaid Street\, Wagga Wagga\, NSW\, 2650\, Australia
CATEGORIES:Matwork
END:VEVENT
BEGIN:VEVENT
DTSTART;TZID=Australia/Sydney:20290423T113000
DTEND;TZID=Australia/Sydney:20290423T121500
DTSTAMP:20260426T095346
CREATED:20251123T223427Z
LAST-MODIFIED:20251123T223427Z
UID:10129810-1871638200-1871640900@synergyhealthworks.com
SUMMARY:Mums and Bubs Core Class
DESCRIPTION:
URL:https://synergyhealthworks.com/event/mums-and-bubs-core-class-8/2029-04-23/
LOCATION:Wagga Wagga | Mat Studio\, 221 Kincaid Street\, Wagga Wagga\, NSW\, 2650\, Australia
CATEGORIES:Mums and Bubs
END:VEVENT
BEGIN:VEVENT
DTSTART;TZID=Australia/Sydney:20290424T123000
DTEND;TZID=Australia/Sydney:20290424T131500
DTSTAMP:20260426T095346
CREATED:20241204T010916Z
LAST-MODIFIED:20251123T223831Z
UID:10130196-1871728200-1871730900@synergyhealthworks.com
SUMMARY:Pregnancy Matwork Class
DESCRIPTION:
URL:https://synergyhealthworks.com/event/pregnancy-matwork-class-4/2029-04-24/
LOCATION:Wagga Wagga | Mat Studio\, 221 Kincaid Street\, Wagga Wagga\, NSW\, 2650\, Australia
CATEGORIES:Pregnancy Matwork
END:VEVENT
BEGIN:VEVENT
DTSTART;TZID=Australia/Sydney:20290425T123000
DTEND;TZID=Australia/Sydney:20290425T131500
DTSTAMP:20260426T095346
CREATED:20241204T014608Z
LAST-MODIFIED:20251123T221428Z
UID:10099460-1871814600-1871817300@synergyhealthworks.com
SUMMARY:Barre
DESCRIPTION:
URL:https://synergyhealthworks.com/event/barre-2/2029-04-25/
LOCATION:Wagga Wagga | Reformer Studio\, 221 Kincaid Street\, Wagga Wagga\, NSW\, 2650\, Australia
CATEGORIES:Barre
END:VEVENT
BEGIN:VEVENT
DTSTART;TZID=Australia/Sydney:20290425T140000
DTEND;TZID=Australia/Sydney:20290425T144500
DTSTAMP:20260426T095346
CREATED:20251123T222028Z
LAST-MODIFIED:20251123T222107Z
UID:10128362-1871820000-1871822700@synergyhealthworks.com
SUMMARY:Gentle Reformer
DESCRIPTION:
URL:https://synergyhealthworks.com/event/gentle-reformer-12/2029-04-25/
LOCATION:Wagga Wagga | Reformer Studio\, 221 Kincaid Street\, Wagga Wagga\, NSW\, 2650\, Australia
CATEGORIES:Clinical Reformer
END:VEVENT
BEGIN:VEVENT
DTSTART;TZID=Australia/Sydney:20290430T103000
DTEND;TZID=Australia/Sydney:20290430T111500
DTSTAMP:20260426T095346
CREATED:20241204T010434Z
LAST-MODIFIED:20251123T223251Z
UID:10129207-1872239400-1872242100@synergyhealthworks.com
SUMMARY:Matwork Core Class
DESCRIPTION:
URL:https://synergyhealthworks.com/event/matwork-core-class-12/2029-04-30/
LOCATION:Wagga Wagga | Mat Studio\, 221 Kincaid Street\, Wagga Wagga\, NSW\, 2650\, Australia
CATEGORIES:Matwork
END:VEVENT
BEGIN:VEVENT
DTSTART;TZID=Australia/Sydney:20290430T113000
DTEND;TZID=Australia/Sydney:20290430T121500
DTSTAMP:20260426T095346
CREATED:20251123T223427Z
LAST-MODIFIED:20251123T223427Z
UID:10129811-1872243000-1872245700@synergyhealthworks.com
SUMMARY:Mums and Bubs Core Class
DESCRIPTION:
URL:https://synergyhealthworks.com/event/mums-and-bubs-core-class-8/2029-04-30/
LOCATION:Wagga Wagga | Mat Studio\, 221 Kincaid Street\, Wagga Wagga\, NSW\, 2650\, Australia
CATEGORIES:Mums and Bubs
END:VEVENT
BEGIN:VEVENT
DTSTART;TZID=Australia/Sydney:20290501T123000
DTEND;TZID=Australia/Sydney:20290501T131500
DTSTAMP:20260426T095346
CREATED:20241204T010916Z
LAST-MODIFIED:20251123T223831Z
UID:10130197-1872333000-1872335700@synergyhealthworks.com
SUMMARY:Pregnancy Matwork Class
DESCRIPTION:
URL:https://synergyhealthworks.com/event/pregnancy-matwork-class-4/2029-05-01/
LOCATION:Wagga Wagga | Mat Studio\, 221 Kincaid Street\, Wagga Wagga\, NSW\, 2650\, Australia
CATEGORIES:Pregnancy Matwork
END:VEVENT
BEGIN:VEVENT
DTSTART;TZID=Australia/Sydney:20290502T123000
DTEND;TZID=Australia/Sydney:20290502T131500
DTSTAMP:20260426T095346
CREATED:20241204T014608Z
LAST-MODIFIED:20251123T221428Z
UID:10099461-1872419400-1872422100@synergyhealthworks.com
SUMMARY:Barre
DESCRIPTION:
URL:https://synergyhealthworks.com/event/barre-2/2029-05-02/
LOCATION:Wagga Wagga | Reformer Studio\, 221 Kincaid Street\, Wagga Wagga\, NSW\, 2650\, Australia
CATEGORIES:Barre
END:VEVENT
BEGIN:VEVENT
DTSTART;TZID=Australia/Sydney:20290502T140000
DTEND;TZID=Australia/Sydney:20290502T144500
DTSTAMP:20260426T095346
CREATED:20251123T222028Z
LAST-MODIFIED:20251123T222107Z
UID:10128363-1872424800-1872427500@synergyhealthworks.com
SUMMARY:Gentle Reformer
DESCRIPTION:
URL:https://synergyhealthworks.com/event/gentle-reformer-12/2029-05-02/
LOCATION:Wagga Wagga | Reformer Studio\, 221 Kincaid Street\, Wagga Wagga\, NSW\, 2650\, Australia
CATEGORIES:Clinical Reformer
END:VEVENT
BEGIN:VEVENT
DTSTART;TZID=Australia/Sydney:20290507T103000
DTEND;TZID=Australia/Sydney:20290507T111500
DTSTAMP:20260426T095346
CREATED:20241204T010434Z
LAST-MODIFIED:20251123T223251Z
UID:10129208-1872844200-1872846900@synergyhealthworks.com
SUMMARY:Matwork Core Class
DESCRIPTION:
URL:https://synergyhealthworks.com/event/matwork-core-class-12/2029-05-07/
LOCATION:Wagga Wagga | Mat Studio\, 221 Kincaid Street\, Wagga Wagga\, NSW\, 2650\, Australia
CATEGORIES:Matwork
END:VEVENT
BEGIN:VEVENT
DTSTART;TZID=Australia/Sydney:20290507T113000
DTEND;TZID=Australia/Sydney:20290507T121500
DTSTAMP:20260426T095346
CREATED:20251123T223427Z
LAST-MODIFIED:20251123T223427Z
UID:10129812-1872847800-1872850500@synergyhealthworks.com
SUMMARY:Mums and Bubs Core Class
DESCRIPTION:
URL:https://synergyhealthworks.com/event/mums-and-bubs-core-class-8/2029-05-07/
LOCATION:Wagga Wagga | Mat Studio\, 221 Kincaid Street\, Wagga Wagga\, NSW\, 2650\, Australia
CATEGORIES:Mums and Bubs
END:VEVENT
BEGIN:VEVENT
DTSTART;TZID=Australia/Sydney:20290508T123000
DTEND;TZID=Australia/Sydney:20290508T131500
DTSTAMP:20260426T095346
CREATED:20241204T010916Z
LAST-MODIFIED:20251123T223831Z
UID:10130198-1872937800-1872940500@synergyhealthworks.com
SUMMARY:Pregnancy Matwork Class
DESCRIPTION:
URL:https://synergyhealthworks.com/event/pregnancy-matwork-class-4/2029-05-08/
LOCATION:Wagga Wagga | Mat Studio\, 221 Kincaid Street\, Wagga Wagga\, NSW\, 2650\, Australia
CATEGORIES:Pregnancy Matwork
END:VEVENT
BEGIN:VEVENT
DTSTART;TZID=Australia/Sydney:20290509T123000
DTEND;TZID=Australia/Sydney:20290509T131500
DTSTAMP:20260426T095346
CREATED:20241204T014608Z
LAST-MODIFIED:20251123T221428Z
UID:10099462-1873024200-1873026900@synergyhealthworks.com
SUMMARY:Barre
DESCRIPTION:
URL:https://synergyhealthworks.com/event/barre-2/2029-05-09/
LOCATION:Wagga Wagga | Reformer Studio\, 221 Kincaid Street\, Wagga Wagga\, NSW\, 2650\, Australia
CATEGORIES:Barre
END:VEVENT
BEGIN:VEVENT
DTSTART;TZID=Australia/Sydney:20290509T140000
DTEND;TZID=Australia/Sydney:20290509T144500
DTSTAMP:20260426T095346
CREATED:20251123T222028Z
LAST-MODIFIED:20251123T222107Z
UID:10128364-1873029600-1873032300@synergyhealthworks.com
SUMMARY:Gentle Reformer
DESCRIPTION:
URL:https://synergyhealthworks.com/event/gentle-reformer-12/2029-05-09/
LOCATION:Wagga Wagga | Reformer Studio\, 221 Kincaid Street\, Wagga Wagga\, NSW\, 2650\, Australia
CATEGORIES:Clinical Reformer
END:VEVENT
BEGIN:VEVENT
DTSTART;TZID=Australia/Sydney:20290514T103000
DTEND;TZID=Australia/Sydney:20290514T111500
DTSTAMP:20260426T095346
CREATED:20241204T010434Z
LAST-MODIFIED:20251123T223251Z
UID:10129209-1873449000-1873451700@synergyhealthworks.com
SUMMARY:Matwork Core Class
DESCRIPTION:
URL:https://synergyhealthworks.com/event/matwork-core-class-12/2029-05-14/
LOCATION:Wagga Wagga | Mat Studio\, 221 Kincaid Street\, Wagga Wagga\, NSW\, 2650\, Australia
CATEGORIES:Matwork
END:VEVENT
BEGIN:VEVENT
DTSTART;TZID=Australia/Sydney:20290514T113000
DTEND;TZID=Australia/Sydney:20290514T121500
DTSTAMP:20260426T095346
CREATED:20251123T223427Z
LAST-MODIFIED:20251123T223427Z
UID:10129813-1873452600-1873455300@synergyhealthworks.com
SUMMARY:Mums and Bubs Core Class
DESCRIPTION:
URL:https://synergyhealthworks.com/event/mums-and-bubs-core-class-8/2029-05-14/
LOCATION:Wagga Wagga | Mat Studio\, 221 Kincaid Street\, Wagga Wagga\, NSW\, 2650\, Australia
CATEGORIES:Mums and Bubs
END:VEVENT
BEGIN:VEVENT
DTSTART;TZID=Australia/Sydney:20290515T123000
DTEND;TZID=Australia/Sydney:20290515T131500
DTSTAMP:20260426T095346
CREATED:20241204T010916Z
LAST-MODIFIED:20251123T223831Z
UID:10130199-1873542600-1873545300@synergyhealthworks.com
SUMMARY:Pregnancy Matwork Class
DESCRIPTION:
URL:https://synergyhealthworks.com/event/pregnancy-matwork-class-4/2029-05-15/
LOCATION:Wagga Wagga | Mat Studio\, 221 Kincaid Street\, Wagga Wagga\, NSW\, 2650\, Australia
CATEGORIES:Pregnancy Matwork
END:VEVENT
END:VCALENDAR