BEGIN:VCALENDAR
VERSION:2.0
PRODID:-//Synergy Healthworks - ECPv6.15.20//NONSGML v1.0//EN
CALSCALE:GREGORIAN
METHOD:PUBLISH
X-ORIGINAL-URL:https://synergyhealthworks.com
X-WR-CALDESC:Events for Synergy Healthworks
REFRESH-INTERVAL;VALUE=DURATION:PT1H
X-Robots-Tag:noindex
X-PUBLISHED-TTL:PT1H
BEGIN:VTIMEZONE
TZID:Australia/Sydney
BEGIN:STANDARD
TZOFFSETFROM:+1100
TZOFFSETTO:+1000
TZNAME:AEST
DTSTART:20280401T160000
END:STANDARD
BEGIN:DAYLIGHT
TZOFFSETFROM:+1000
TZOFFSETTO:+1100
TZNAME:AEDT
DTSTART:20280930T160000
END:DAYLIGHT
BEGIN:STANDARD
TZOFFSETFROM:+1100
TZOFFSETTO:+1000
TZNAME:AEST
DTSTART:20290331T160000
END:STANDARD
BEGIN:DAYLIGHT
TZOFFSETFROM:+1000
TZOFFSETTO:+1100
TZNAME:AEDT
DTSTART:20291006T160000
END:DAYLIGHT
BEGIN:STANDARD
TZOFFSETFROM:+1100
TZOFFSETTO:+1000
TZNAME:AEST
DTSTART:20300406T160000
END:STANDARD
BEGIN:DAYLIGHT
TZOFFSETFROM:+1000
TZOFFSETTO:+1100
TZNAME:AEDT
DTSTART:20301005T160000
END:DAYLIGHT
END:VTIMEZONE
BEGIN:VEVENT
DTSTART;TZID=Australia/Sydney:20290213T123000
DTEND;TZID=Australia/Sydney:20290213T131500
DTSTAMP:20260426T042743
CREATED:20241204T010916Z
LAST-MODIFIED:20251123T223831Z
UID:10130186-1865680200-1865682900@synergyhealthworks.com
SUMMARY:Pregnancy Matwork Class
DESCRIPTION:
URL:https://synergyhealthworks.com/event/pregnancy-matwork-class-4/2029-02-13/
LOCATION:Wagga Wagga | Mat Studio\, 221 Kincaid Street\, Wagga Wagga\, NSW\, 2650\, Australia
CATEGORIES:Pregnancy Matwork
END:VEVENT
BEGIN:VEVENT
DTSTART;TZID=Australia/Sydney:20290214T123000
DTEND;TZID=Australia/Sydney:20290214T131500
DTSTAMP:20260426T042743
CREATED:20241204T014608Z
LAST-MODIFIED:20251123T221428Z
UID:10099450-1865766600-1865769300@synergyhealthworks.com
SUMMARY:Barre
DESCRIPTION:
URL:https://synergyhealthworks.com/event/barre-2/2029-02-14/
LOCATION:Wagga Wagga | Reformer Studio\, 221 Kincaid Street\, Wagga Wagga\, NSW\, 2650\, Australia
CATEGORIES:Barre
END:VEVENT
BEGIN:VEVENT
DTSTART;TZID=Australia/Sydney:20290214T140000
DTEND;TZID=Australia/Sydney:20290214T144500
DTSTAMP:20260426T042743
CREATED:20251123T222028Z
LAST-MODIFIED:20251123T222107Z
UID:10128352-1865772000-1865774700@synergyhealthworks.com
SUMMARY:Gentle Reformer
DESCRIPTION:
URL:https://synergyhealthworks.com/event/gentle-reformer-12/2029-02-14/
LOCATION:Wagga Wagga | Reformer Studio\, 221 Kincaid Street\, Wagga Wagga\, NSW\, 2650\, Australia
CATEGORIES:Clinical Reformer
END:VEVENT
BEGIN:VEVENT
DTSTART;TZID=Australia/Sydney:20290219T103000
DTEND;TZID=Australia/Sydney:20290219T111500
DTSTAMP:20260426T042743
CREATED:20241204T010434Z
LAST-MODIFIED:20251123T223251Z
UID:10129197-1866191400-1866194100@synergyhealthworks.com
SUMMARY:Matwork Core Class
DESCRIPTION:
URL:https://synergyhealthworks.com/event/matwork-core-class-12/2029-02-19/
LOCATION:Wagga Wagga | Mat Studio\, 221 Kincaid Street\, Wagga Wagga\, NSW\, 2650\, Australia
CATEGORIES:Matwork
END:VEVENT
BEGIN:VEVENT
DTSTART;TZID=Australia/Sydney:20290219T113000
DTEND;TZID=Australia/Sydney:20290219T121500
DTSTAMP:20260426T042743
CREATED:20251123T223427Z
LAST-MODIFIED:20251123T223427Z
UID:10129801-1866195000-1866197700@synergyhealthworks.com
SUMMARY:Mums and Bubs Core Class
DESCRIPTION:
URL:https://synergyhealthworks.com/event/mums-and-bubs-core-class-8/2029-02-19/
LOCATION:Wagga Wagga | Mat Studio\, 221 Kincaid Street\, Wagga Wagga\, NSW\, 2650\, Australia
CATEGORIES:Mums and Bubs
END:VEVENT
BEGIN:VEVENT
DTSTART;TZID=Australia/Sydney:20290220T123000
DTEND;TZID=Australia/Sydney:20290220T131500
DTSTAMP:20260426T042743
CREATED:20241204T010916Z
LAST-MODIFIED:20251123T223831Z
UID:10130187-1866285000-1866287700@synergyhealthworks.com
SUMMARY:Pregnancy Matwork Class
DESCRIPTION:
URL:https://synergyhealthworks.com/event/pregnancy-matwork-class-4/2029-02-20/
LOCATION:Wagga Wagga | Mat Studio\, 221 Kincaid Street\, Wagga Wagga\, NSW\, 2650\, Australia
CATEGORIES:Pregnancy Matwork
END:VEVENT
BEGIN:VEVENT
DTSTART;TZID=Australia/Sydney:20290221T123000
DTEND;TZID=Australia/Sydney:20290221T131500
DTSTAMP:20260426T042743
CREATED:20241204T014608Z
LAST-MODIFIED:20251123T221428Z
UID:10099451-1866371400-1866374100@synergyhealthworks.com
SUMMARY:Barre
DESCRIPTION:
URL:https://synergyhealthworks.com/event/barre-2/2029-02-21/
LOCATION:Wagga Wagga | Reformer Studio\, 221 Kincaid Street\, Wagga Wagga\, NSW\, 2650\, Australia
CATEGORIES:Barre
END:VEVENT
BEGIN:VEVENT
DTSTART;TZID=Australia/Sydney:20290221T140000
DTEND;TZID=Australia/Sydney:20290221T144500
DTSTAMP:20260426T042743
CREATED:20251123T222028Z
LAST-MODIFIED:20251123T222107Z
UID:10128353-1866376800-1866379500@synergyhealthworks.com
SUMMARY:Gentle Reformer
DESCRIPTION:
URL:https://synergyhealthworks.com/event/gentle-reformer-12/2029-02-21/
LOCATION:Wagga Wagga | Reformer Studio\, 221 Kincaid Street\, Wagga Wagga\, NSW\, 2650\, Australia
CATEGORIES:Clinical Reformer
END:VEVENT
BEGIN:VEVENT
DTSTART;TZID=Australia/Sydney:20290226T103000
DTEND;TZID=Australia/Sydney:20290226T111500
DTSTAMP:20260426T042743
CREATED:20241204T010434Z
LAST-MODIFIED:20251123T223251Z
UID:10129198-1866796200-1866798900@synergyhealthworks.com
SUMMARY:Matwork Core Class
DESCRIPTION:
URL:https://synergyhealthworks.com/event/matwork-core-class-12/2029-02-26/
LOCATION:Wagga Wagga | Mat Studio\, 221 Kincaid Street\, Wagga Wagga\, NSW\, 2650\, Australia
CATEGORIES:Matwork
END:VEVENT
BEGIN:VEVENT
DTSTART;TZID=Australia/Sydney:20290226T113000
DTEND;TZID=Australia/Sydney:20290226T121500
DTSTAMP:20260426T042743
CREATED:20251123T223427Z
LAST-MODIFIED:20251123T223427Z
UID:10129802-1866799800-1866802500@synergyhealthworks.com
SUMMARY:Mums and Bubs Core Class
DESCRIPTION:
URL:https://synergyhealthworks.com/event/mums-and-bubs-core-class-8/2029-02-26/
LOCATION:Wagga Wagga | Mat Studio\, 221 Kincaid Street\, Wagga Wagga\, NSW\, 2650\, Australia
CATEGORIES:Mums and Bubs
END:VEVENT
BEGIN:VEVENT
DTSTART;TZID=Australia/Sydney:20290227T123000
DTEND;TZID=Australia/Sydney:20290227T131500
DTSTAMP:20260426T042743
CREATED:20241204T010916Z
LAST-MODIFIED:20251123T223831Z
UID:10130188-1866889800-1866892500@synergyhealthworks.com
SUMMARY:Pregnancy Matwork Class
DESCRIPTION:
URL:https://synergyhealthworks.com/event/pregnancy-matwork-class-4/2029-02-27/
LOCATION:Wagga Wagga | Mat Studio\, 221 Kincaid Street\, Wagga Wagga\, NSW\, 2650\, Australia
CATEGORIES:Pregnancy Matwork
END:VEVENT
BEGIN:VEVENT
DTSTART;TZID=Australia/Sydney:20290228T123000
DTEND;TZID=Australia/Sydney:20290228T131500
DTSTAMP:20260426T042743
CREATED:20241204T014608Z
LAST-MODIFIED:20251123T221428Z
UID:10099452-1866976200-1866978900@synergyhealthworks.com
SUMMARY:Barre
DESCRIPTION:
URL:https://synergyhealthworks.com/event/barre-2/2029-02-28/
LOCATION:Wagga Wagga | Reformer Studio\, 221 Kincaid Street\, Wagga Wagga\, NSW\, 2650\, Australia
CATEGORIES:Barre
END:VEVENT
BEGIN:VEVENT
DTSTART;TZID=Australia/Sydney:20290228T140000
DTEND;TZID=Australia/Sydney:20290228T144500
DTSTAMP:20260426T042743
CREATED:20251123T222028Z
LAST-MODIFIED:20251123T222107Z
UID:10128354-1866981600-1866984300@synergyhealthworks.com
SUMMARY:Gentle Reformer
DESCRIPTION:
URL:https://synergyhealthworks.com/event/gentle-reformer-12/2029-02-28/
LOCATION:Wagga Wagga | Reformer Studio\, 221 Kincaid Street\, Wagga Wagga\, NSW\, 2650\, Australia
CATEGORIES:Clinical Reformer
END:VEVENT
BEGIN:VEVENT
DTSTART;TZID=Australia/Sydney:20290305T103000
DTEND;TZID=Australia/Sydney:20290305T111500
DTSTAMP:20260426T042743
CREATED:20241204T010434Z
LAST-MODIFIED:20251123T223251Z
UID:10129199-1867401000-1867403700@synergyhealthworks.com
SUMMARY:Matwork Core Class
DESCRIPTION:
URL:https://synergyhealthworks.com/event/matwork-core-class-12/2029-03-05/
LOCATION:Wagga Wagga | Mat Studio\, 221 Kincaid Street\, Wagga Wagga\, NSW\, 2650\, Australia
CATEGORIES:Matwork
END:VEVENT
BEGIN:VEVENT
DTSTART;TZID=Australia/Sydney:20290305T113000
DTEND;TZID=Australia/Sydney:20290305T121500
DTSTAMP:20260426T042743
CREATED:20251123T223427Z
LAST-MODIFIED:20251123T223427Z
UID:10129803-1867404600-1867407300@synergyhealthworks.com
SUMMARY:Mums and Bubs Core Class
DESCRIPTION:
URL:https://synergyhealthworks.com/event/mums-and-bubs-core-class-8/2029-03-05/
LOCATION:Wagga Wagga | Mat Studio\, 221 Kincaid Street\, Wagga Wagga\, NSW\, 2650\, Australia
CATEGORIES:Mums and Bubs
END:VEVENT
BEGIN:VEVENT
DTSTART;TZID=Australia/Sydney:20290306T123000
DTEND;TZID=Australia/Sydney:20290306T131500
DTSTAMP:20260426T042743
CREATED:20241204T010916Z
LAST-MODIFIED:20251123T223831Z
UID:10130189-1867494600-1867497300@synergyhealthworks.com
SUMMARY:Pregnancy Matwork Class
DESCRIPTION:
URL:https://synergyhealthworks.com/event/pregnancy-matwork-class-4/2029-03-06/
LOCATION:Wagga Wagga | Mat Studio\, 221 Kincaid Street\, Wagga Wagga\, NSW\, 2650\, Australia
CATEGORIES:Pregnancy Matwork
END:VEVENT
BEGIN:VEVENT
DTSTART;TZID=Australia/Sydney:20290307T123000
DTEND;TZID=Australia/Sydney:20290307T131500
DTSTAMP:20260426T042743
CREATED:20241204T014608Z
LAST-MODIFIED:20251123T221428Z
UID:10099453-1867581000-1867583700@synergyhealthworks.com
SUMMARY:Barre
DESCRIPTION:
URL:https://synergyhealthworks.com/event/barre-2/2029-03-07/
LOCATION:Wagga Wagga | Reformer Studio\, 221 Kincaid Street\, Wagga Wagga\, NSW\, 2650\, Australia
CATEGORIES:Barre
END:VEVENT
BEGIN:VEVENT
DTSTART;TZID=Australia/Sydney:20290307T140000
DTEND;TZID=Australia/Sydney:20290307T144500
DTSTAMP:20260426T042743
CREATED:20251123T222028Z
LAST-MODIFIED:20251123T222107Z
UID:10128355-1867586400-1867589100@synergyhealthworks.com
SUMMARY:Gentle Reformer
DESCRIPTION:
URL:https://synergyhealthworks.com/event/gentle-reformer-12/2029-03-07/
LOCATION:Wagga Wagga | Reformer Studio\, 221 Kincaid Street\, Wagga Wagga\, NSW\, 2650\, Australia
CATEGORIES:Clinical Reformer
END:VEVENT
BEGIN:VEVENT
DTSTART;TZID=Australia/Sydney:20290312T103000
DTEND;TZID=Australia/Sydney:20290312T111500
DTSTAMP:20260426T042743
CREATED:20241204T010434Z
LAST-MODIFIED:20251123T223251Z
UID:10129200-1868005800-1868008500@synergyhealthworks.com
SUMMARY:Matwork Core Class
DESCRIPTION:
URL:https://synergyhealthworks.com/event/matwork-core-class-12/2029-03-12/
LOCATION:Wagga Wagga | Mat Studio\, 221 Kincaid Street\, Wagga Wagga\, NSW\, 2650\, Australia
CATEGORIES:Matwork
END:VEVENT
BEGIN:VEVENT
DTSTART;TZID=Australia/Sydney:20290312T113000
DTEND;TZID=Australia/Sydney:20290312T121500
DTSTAMP:20260426T042743
CREATED:20251123T223427Z
LAST-MODIFIED:20251123T223427Z
UID:10129804-1868009400-1868012100@synergyhealthworks.com
SUMMARY:Mums and Bubs Core Class
DESCRIPTION:
URL:https://synergyhealthworks.com/event/mums-and-bubs-core-class-8/2029-03-12/
LOCATION:Wagga Wagga | Mat Studio\, 221 Kincaid Street\, Wagga Wagga\, NSW\, 2650\, Australia
CATEGORIES:Mums and Bubs
END:VEVENT
BEGIN:VEVENT
DTSTART;TZID=Australia/Sydney:20290313T123000
DTEND;TZID=Australia/Sydney:20290313T131500
DTSTAMP:20260426T042743
CREATED:20241204T010916Z
LAST-MODIFIED:20251123T223831Z
UID:10130190-1868099400-1868102100@synergyhealthworks.com
SUMMARY:Pregnancy Matwork Class
DESCRIPTION:
URL:https://synergyhealthworks.com/event/pregnancy-matwork-class-4/2029-03-13/
LOCATION:Wagga Wagga | Mat Studio\, 221 Kincaid Street\, Wagga Wagga\, NSW\, 2650\, Australia
CATEGORIES:Pregnancy Matwork
END:VEVENT
BEGIN:VEVENT
DTSTART;TZID=Australia/Sydney:20290314T123000
DTEND;TZID=Australia/Sydney:20290314T131500
DTSTAMP:20260426T042743
CREATED:20241204T014608Z
LAST-MODIFIED:20251123T221428Z
UID:10099454-1868185800-1868188500@synergyhealthworks.com
SUMMARY:Barre
DESCRIPTION:
URL:https://synergyhealthworks.com/event/barre-2/2029-03-14/
LOCATION:Wagga Wagga | Reformer Studio\, 221 Kincaid Street\, Wagga Wagga\, NSW\, 2650\, Australia
CATEGORIES:Barre
END:VEVENT
BEGIN:VEVENT
DTSTART;TZID=Australia/Sydney:20290314T140000
DTEND;TZID=Australia/Sydney:20290314T144500
DTSTAMP:20260426T042743
CREATED:20251123T222028Z
LAST-MODIFIED:20251123T222107Z
UID:10128356-1868191200-1868193900@synergyhealthworks.com
SUMMARY:Gentle Reformer
DESCRIPTION:
URL:https://synergyhealthworks.com/event/gentle-reformer-12/2029-03-14/
LOCATION:Wagga Wagga | Reformer Studio\, 221 Kincaid Street\, Wagga Wagga\, NSW\, 2650\, Australia
CATEGORIES:Clinical Reformer
END:VEVENT
BEGIN:VEVENT
DTSTART;TZID=Australia/Sydney:20290319T103000
DTEND;TZID=Australia/Sydney:20290319T111500
DTSTAMP:20260426T042743
CREATED:20241204T010434Z
LAST-MODIFIED:20251123T223251Z
UID:10129201-1868610600-1868613300@synergyhealthworks.com
SUMMARY:Matwork Core Class
DESCRIPTION:
URL:https://synergyhealthworks.com/event/matwork-core-class-12/2029-03-19/
LOCATION:Wagga Wagga | Mat Studio\, 221 Kincaid Street\, Wagga Wagga\, NSW\, 2650\, Australia
CATEGORIES:Matwork
END:VEVENT
BEGIN:VEVENT
DTSTART;TZID=Australia/Sydney:20290319T113000
DTEND;TZID=Australia/Sydney:20290319T121500
DTSTAMP:20260426T042743
CREATED:20251123T223427Z
LAST-MODIFIED:20251123T223427Z
UID:10129805-1868614200-1868616900@synergyhealthworks.com
SUMMARY:Mums and Bubs Core Class
DESCRIPTION:
URL:https://synergyhealthworks.com/event/mums-and-bubs-core-class-8/2029-03-19/
LOCATION:Wagga Wagga | Mat Studio\, 221 Kincaid Street\, Wagga Wagga\, NSW\, 2650\, Australia
CATEGORIES:Mums and Bubs
END:VEVENT
BEGIN:VEVENT
DTSTART;TZID=Australia/Sydney:20290320T123000
DTEND;TZID=Australia/Sydney:20290320T131500
DTSTAMP:20260426T042743
CREATED:20241204T010916Z
LAST-MODIFIED:20251123T223831Z
UID:10130191-1868704200-1868706900@synergyhealthworks.com
SUMMARY:Pregnancy Matwork Class
DESCRIPTION:
URL:https://synergyhealthworks.com/event/pregnancy-matwork-class-4/2029-03-20/
LOCATION:Wagga Wagga | Mat Studio\, 221 Kincaid Street\, Wagga Wagga\, NSW\, 2650\, Australia
CATEGORIES:Pregnancy Matwork
END:VEVENT
BEGIN:VEVENT
DTSTART;TZID=Australia/Sydney:20290321T123000
DTEND;TZID=Australia/Sydney:20290321T131500
DTSTAMP:20260426T042743
CREATED:20241204T014608Z
LAST-MODIFIED:20251123T221428Z
UID:10099455-1868790600-1868793300@synergyhealthworks.com
SUMMARY:Barre
DESCRIPTION:
URL:https://synergyhealthworks.com/event/barre-2/2029-03-21/
LOCATION:Wagga Wagga | Reformer Studio\, 221 Kincaid Street\, Wagga Wagga\, NSW\, 2650\, Australia
CATEGORIES:Barre
END:VEVENT
BEGIN:VEVENT
DTSTART;TZID=Australia/Sydney:20290321T140000
DTEND;TZID=Australia/Sydney:20290321T144500
DTSTAMP:20260426T042743
CREATED:20251123T222028Z
LAST-MODIFIED:20251123T222107Z
UID:10128357-1868796000-1868798700@synergyhealthworks.com
SUMMARY:Gentle Reformer
DESCRIPTION:
URL:https://synergyhealthworks.com/event/gentle-reformer-12/2029-03-21/
LOCATION:Wagga Wagga | Reformer Studio\, 221 Kincaid Street\, Wagga Wagga\, NSW\, 2650\, Australia
CATEGORIES:Clinical Reformer
END:VEVENT
BEGIN:VEVENT
DTSTART;TZID=Australia/Sydney:20290326T103000
DTEND;TZID=Australia/Sydney:20290326T111500
DTSTAMP:20260426T042743
CREATED:20241204T010434Z
LAST-MODIFIED:20251123T223251Z
UID:10129202-1869215400-1869218100@synergyhealthworks.com
SUMMARY:Matwork Core Class
DESCRIPTION:
URL:https://synergyhealthworks.com/event/matwork-core-class-12/2029-03-26/
LOCATION:Wagga Wagga | Mat Studio\, 221 Kincaid Street\, Wagga Wagga\, NSW\, 2650\, Australia
CATEGORIES:Matwork
END:VEVENT
BEGIN:VEVENT
DTSTART;TZID=Australia/Sydney:20290326T113000
DTEND;TZID=Australia/Sydney:20290326T121500
DTSTAMP:20260426T042743
CREATED:20251123T223427Z
LAST-MODIFIED:20251123T223427Z
UID:10129806-1869219000-1869221700@synergyhealthworks.com
SUMMARY:Mums and Bubs Core Class
DESCRIPTION:
URL:https://synergyhealthworks.com/event/mums-and-bubs-core-class-8/2029-03-26/
LOCATION:Wagga Wagga | Mat Studio\, 221 Kincaid Street\, Wagga Wagga\, NSW\, 2650\, Australia
CATEGORIES:Mums and Bubs
END:VEVENT
END:VCALENDAR