BEGIN:VCALENDAR
VERSION:2.0
PRODID:-//Synergy Healthworks - ECPv6.15.20//NONSGML v1.0//EN
CALSCALE:GREGORIAN
METHOD:PUBLISH
X-WR-CALNAME:Synergy Healthworks
X-ORIGINAL-URL:https://synergyhealthworks.com
X-WR-CALDESC:Events for Synergy Healthworks
REFRESH-INTERVAL;VALUE=DURATION:PT1H
X-Robots-Tag:noindex
X-PUBLISHED-TTL:PT1H
BEGIN:VTIMEZONE
TZID:Australia/Sydney
BEGIN:STANDARD
TZOFFSETFROM:+1100
TZOFFSETTO:+1000
TZNAME:AEST
DTSTART:20250405T160000
END:STANDARD
BEGIN:DAYLIGHT
TZOFFSETFROM:+1000
TZOFFSETTO:+1100
TZNAME:AEDT
DTSTART:20251004T160000
END:DAYLIGHT
BEGIN:STANDARD
TZOFFSETFROM:+1100
TZOFFSETTO:+1000
TZNAME:AEST
DTSTART:20260404T160000
END:STANDARD
BEGIN:DAYLIGHT
TZOFFSETFROM:+1000
TZOFFSETTO:+1100
TZNAME:AEDT
DTSTART:20261003T160000
END:DAYLIGHT
BEGIN:STANDARD
TZOFFSETFROM:+1100
TZOFFSETTO:+1000
TZNAME:AEST
DTSTART:20270403T160000
END:STANDARD
BEGIN:DAYLIGHT
TZOFFSETFROM:+1000
TZOFFSETTO:+1100
TZNAME:AEDT
DTSTART:20271002T160000
END:DAYLIGHT
END:VTIMEZONE
BEGIN:VEVENT
DTSTART;TZID=Australia/Sydney:20260715T123000
DTEND;TZID=Australia/Sydney:20260715T131500
DTSTAMP:20260422T020911
CREATED:20241204T014608Z
LAST-MODIFIED:20251123T221428Z
UID:10099315-1784118600-1784121300@synergyhealthworks.com
SUMMARY:Barre
DESCRIPTION:
URL:https://synergyhealthworks.com/event/barre-2/2026-07-15/
LOCATION:Wagga Wagga | Reformer Studio\, 221 Kincaid Street\, Wagga Wagga\, NSW\, 2650\, Australia
CATEGORIES:Barre
END:VEVENT
BEGIN:VEVENT
DTSTART;TZID=Australia/Sydney:20260715T140000
DTEND;TZID=Australia/Sydney:20260715T144500
DTSTAMP:20260422T020911
CREATED:20251123T222028Z
LAST-MODIFIED:20251123T222107Z
UID:10128217-1784124000-1784126700@synergyhealthworks.com
SUMMARY:Gentle Reformer
DESCRIPTION:
URL:https://synergyhealthworks.com/event/gentle-reformer-12/2026-07-15/
LOCATION:Wagga Wagga | Reformer Studio\, 221 Kincaid Street\, Wagga Wagga\, NSW\, 2650\, Australia
CATEGORIES:Clinical Reformer
END:VEVENT
BEGIN:VEVENT
DTSTART;TZID=Australia/Sydney:20260720T103000
DTEND;TZID=Australia/Sydney:20260720T111500
DTSTAMP:20260422T020911
CREATED:20241204T010434Z
LAST-MODIFIED:20251123T223251Z
UID:10129062-1784543400-1784546100@synergyhealthworks.com
SUMMARY:Matwork Core Class
DESCRIPTION:
URL:https://synergyhealthworks.com/event/matwork-core-class-12/2026-07-20/
LOCATION:Wagga Wagga | Mat Studio\, 221 Kincaid Street\, Wagga Wagga\, NSW\, 2650\, Australia
CATEGORIES:Matwork
END:VEVENT
BEGIN:VEVENT
DTSTART;TZID=Australia/Sydney:20260720T113000
DTEND;TZID=Australia/Sydney:20260720T121500
DTSTAMP:20260422T020911
CREATED:20251123T223427Z
LAST-MODIFIED:20251123T223427Z
UID:10129666-1784547000-1784549700@synergyhealthworks.com
SUMMARY:Mums and Bubs Core Class
DESCRIPTION:
URL:https://synergyhealthworks.com/event/mums-and-bubs-core-class-8/2026-07-20/
LOCATION:Wagga Wagga | Mat Studio\, 221 Kincaid Street\, Wagga Wagga\, NSW\, 2650\, Australia
CATEGORIES:Mums and Bubs
END:VEVENT
BEGIN:VEVENT
DTSTART;TZID=Australia/Sydney:20260721T123000
DTEND;TZID=Australia/Sydney:20260721T131500
DTSTAMP:20260422T020911
CREATED:20241204T010916Z
LAST-MODIFIED:20251123T223831Z
UID:10130052-1784637000-1784639700@synergyhealthworks.com
SUMMARY:Pregnancy Matwork Class
DESCRIPTION:
URL:https://synergyhealthworks.com/event/pregnancy-matwork-class-4/2026-07-21/
LOCATION:Wagga Wagga | Mat Studio\, 221 Kincaid Street\, Wagga Wagga\, NSW\, 2650\, Australia
CATEGORIES:Pregnancy Matwork
END:VEVENT
BEGIN:VEVENT
DTSTART;TZID=Australia/Sydney:20260722T123000
DTEND;TZID=Australia/Sydney:20260722T131500
DTSTAMP:20260422T020911
CREATED:20241204T014608Z
LAST-MODIFIED:20251123T221428Z
UID:10099316-1784723400-1784726100@synergyhealthworks.com
SUMMARY:Barre
DESCRIPTION:
URL:https://synergyhealthworks.com/event/barre-2/2026-07-22/
LOCATION:Wagga Wagga | Reformer Studio\, 221 Kincaid Street\, Wagga Wagga\, NSW\, 2650\, Australia
CATEGORIES:Barre
END:VEVENT
BEGIN:VEVENT
DTSTART;TZID=Australia/Sydney:20260722T140000
DTEND;TZID=Australia/Sydney:20260722T144500
DTSTAMP:20260422T020911
CREATED:20251123T222028Z
LAST-MODIFIED:20251123T222107Z
UID:10128218-1784728800-1784731500@synergyhealthworks.com
SUMMARY:Gentle Reformer
DESCRIPTION:
URL:https://synergyhealthworks.com/event/gentle-reformer-12/2026-07-22/
LOCATION:Wagga Wagga | Reformer Studio\, 221 Kincaid Street\, Wagga Wagga\, NSW\, 2650\, Australia
CATEGORIES:Clinical Reformer
END:VEVENT
BEGIN:VEVENT
DTSTART;TZID=Australia/Sydney:20260727T103000
DTEND;TZID=Australia/Sydney:20260727T111500
DTSTAMP:20260422T020911
CREATED:20241204T010434Z
LAST-MODIFIED:20251123T223251Z
UID:10129063-1785148200-1785150900@synergyhealthworks.com
SUMMARY:Matwork Core Class
DESCRIPTION:
URL:https://synergyhealthworks.com/event/matwork-core-class-12/2026-07-27/
LOCATION:Wagga Wagga | Mat Studio\, 221 Kincaid Street\, Wagga Wagga\, NSW\, 2650\, Australia
CATEGORIES:Matwork
END:VEVENT
BEGIN:VEVENT
DTSTART;TZID=Australia/Sydney:20260727T113000
DTEND;TZID=Australia/Sydney:20260727T121500
DTSTAMP:20260422T020911
CREATED:20251123T223427Z
LAST-MODIFIED:20251123T223427Z
UID:10129667-1785151800-1785154500@synergyhealthworks.com
SUMMARY:Mums and Bubs Core Class
DESCRIPTION:
URL:https://synergyhealthworks.com/event/mums-and-bubs-core-class-8/2026-07-27/
LOCATION:Wagga Wagga | Mat Studio\, 221 Kincaid Street\, Wagga Wagga\, NSW\, 2650\, Australia
CATEGORIES:Mums and Bubs
END:VEVENT
BEGIN:VEVENT
DTSTART;TZID=Australia/Sydney:20260728T123000
DTEND;TZID=Australia/Sydney:20260728T131500
DTSTAMP:20260422T020911
CREATED:20241204T010916Z
LAST-MODIFIED:20251123T223831Z
UID:10130053-1785241800-1785244500@synergyhealthworks.com
SUMMARY:Pregnancy Matwork Class
DESCRIPTION:
URL:https://synergyhealthworks.com/event/pregnancy-matwork-class-4/2026-07-28/
LOCATION:Wagga Wagga | Mat Studio\, 221 Kincaid Street\, Wagga Wagga\, NSW\, 2650\, Australia
CATEGORIES:Pregnancy Matwork
END:VEVENT
BEGIN:VEVENT
DTSTART;TZID=Australia/Sydney:20260729T123000
DTEND;TZID=Australia/Sydney:20260729T131500
DTSTAMP:20260422T020911
CREATED:20241204T014608Z
LAST-MODIFIED:20251123T221428Z
UID:10099317-1785328200-1785330900@synergyhealthworks.com
SUMMARY:Barre
DESCRIPTION:
URL:https://synergyhealthworks.com/event/barre-2/2026-07-29/
LOCATION:Wagga Wagga | Reformer Studio\, 221 Kincaid Street\, Wagga Wagga\, NSW\, 2650\, Australia
CATEGORIES:Barre
END:VEVENT
BEGIN:VEVENT
DTSTART;TZID=Australia/Sydney:20260729T140000
DTEND;TZID=Australia/Sydney:20260729T144500
DTSTAMP:20260422T020911
CREATED:20251123T222028Z
LAST-MODIFIED:20251123T222107Z
UID:10128219-1785333600-1785336300@synergyhealthworks.com
SUMMARY:Gentle Reformer
DESCRIPTION:
URL:https://synergyhealthworks.com/event/gentle-reformer-12/2026-07-29/
LOCATION:Wagga Wagga | Reformer Studio\, 221 Kincaid Street\, Wagga Wagga\, NSW\, 2650\, Australia
CATEGORIES:Clinical Reformer
END:VEVENT
BEGIN:VEVENT
DTSTART;TZID=Australia/Sydney:20260803T103000
DTEND;TZID=Australia/Sydney:20260803T111500
DTSTAMP:20260422T020911
CREATED:20241204T010434Z
LAST-MODIFIED:20251123T223251Z
UID:10129064-1785753000-1785755700@synergyhealthworks.com
SUMMARY:Matwork Core Class
DESCRIPTION:
URL:https://synergyhealthworks.com/event/matwork-core-class-12/2026-08-03/
LOCATION:Wagga Wagga | Mat Studio\, 221 Kincaid Street\, Wagga Wagga\, NSW\, 2650\, Australia
CATEGORIES:Matwork
END:VEVENT
BEGIN:VEVENT
DTSTART;TZID=Australia/Sydney:20260803T113000
DTEND;TZID=Australia/Sydney:20260803T121500
DTSTAMP:20260422T020911
CREATED:20251123T223427Z
LAST-MODIFIED:20251123T223427Z
UID:10129668-1785756600-1785759300@synergyhealthworks.com
SUMMARY:Mums and Bubs Core Class
DESCRIPTION:
URL:https://synergyhealthworks.com/event/mums-and-bubs-core-class-8/2026-08-03/
LOCATION:Wagga Wagga | Mat Studio\, 221 Kincaid Street\, Wagga Wagga\, NSW\, 2650\, Australia
CATEGORIES:Mums and Bubs
END:VEVENT
BEGIN:VEVENT
DTSTART;TZID=Australia/Sydney:20260804T123000
DTEND;TZID=Australia/Sydney:20260804T131500
DTSTAMP:20260422T020911
CREATED:20241204T010916Z
LAST-MODIFIED:20251123T223831Z
UID:10130054-1785846600-1785849300@synergyhealthworks.com
SUMMARY:Pregnancy Matwork Class
DESCRIPTION:
URL:https://synergyhealthworks.com/event/pregnancy-matwork-class-4/2026-08-04/
LOCATION:Wagga Wagga | Mat Studio\, 221 Kincaid Street\, Wagga Wagga\, NSW\, 2650\, Australia
CATEGORIES:Pregnancy Matwork
END:VEVENT
BEGIN:VEVENT
DTSTART;TZID=Australia/Sydney:20260805T123000
DTEND;TZID=Australia/Sydney:20260805T131500
DTSTAMP:20260422T020911
CREATED:20241204T014608Z
LAST-MODIFIED:20251123T221428Z
UID:10099318-1785933000-1785935700@synergyhealthworks.com
SUMMARY:Barre
DESCRIPTION:
URL:https://synergyhealthworks.com/event/barre-2/2026-08-05/
LOCATION:Wagga Wagga | Reformer Studio\, 221 Kincaid Street\, Wagga Wagga\, NSW\, 2650\, Australia
CATEGORIES:Barre
END:VEVENT
BEGIN:VEVENT
DTSTART;TZID=Australia/Sydney:20260805T140000
DTEND;TZID=Australia/Sydney:20260805T144500
DTSTAMP:20260422T020911
CREATED:20251123T222028Z
LAST-MODIFIED:20251123T222107Z
UID:10128220-1785938400-1785941100@synergyhealthworks.com
SUMMARY:Gentle Reformer
DESCRIPTION:
URL:https://synergyhealthworks.com/event/gentle-reformer-12/2026-08-05/
LOCATION:Wagga Wagga | Reformer Studio\, 221 Kincaid Street\, Wagga Wagga\, NSW\, 2650\, Australia
CATEGORIES:Clinical Reformer
END:VEVENT
BEGIN:VEVENT
DTSTART;TZID=Australia/Sydney:20260810T103000
DTEND;TZID=Australia/Sydney:20260810T111500
DTSTAMP:20260422T020911
CREATED:20241204T010434Z
LAST-MODIFIED:20251123T223251Z
UID:10129065-1786357800-1786360500@synergyhealthworks.com
SUMMARY:Matwork Core Class
DESCRIPTION:
URL:https://synergyhealthworks.com/event/matwork-core-class-12/2026-08-10/
LOCATION:Wagga Wagga | Mat Studio\, 221 Kincaid Street\, Wagga Wagga\, NSW\, 2650\, Australia
CATEGORIES:Matwork
END:VEVENT
BEGIN:VEVENT
DTSTART;TZID=Australia/Sydney:20260810T113000
DTEND;TZID=Australia/Sydney:20260810T121500
DTSTAMP:20260422T020911
CREATED:20251123T223427Z
LAST-MODIFIED:20251123T223427Z
UID:10129669-1786361400-1786364100@synergyhealthworks.com
SUMMARY:Mums and Bubs Core Class
DESCRIPTION:
URL:https://synergyhealthworks.com/event/mums-and-bubs-core-class-8/2026-08-10/
LOCATION:Wagga Wagga | Mat Studio\, 221 Kincaid Street\, Wagga Wagga\, NSW\, 2650\, Australia
CATEGORIES:Mums and Bubs
END:VEVENT
BEGIN:VEVENT
DTSTART;TZID=Australia/Sydney:20260811T123000
DTEND;TZID=Australia/Sydney:20260811T131500
DTSTAMP:20260422T020911
CREATED:20241204T010916Z
LAST-MODIFIED:20251123T223831Z
UID:10130055-1786451400-1786454100@synergyhealthworks.com
SUMMARY:Pregnancy Matwork Class
DESCRIPTION:
URL:https://synergyhealthworks.com/event/pregnancy-matwork-class-4/2026-08-11/
LOCATION:Wagga Wagga | Mat Studio\, 221 Kincaid Street\, Wagga Wagga\, NSW\, 2650\, Australia
CATEGORIES:Pregnancy Matwork
END:VEVENT
BEGIN:VEVENT
DTSTART;TZID=Australia/Sydney:20260812T123000
DTEND;TZID=Australia/Sydney:20260812T131500
DTSTAMP:20260422T020911
CREATED:20241204T014608Z
LAST-MODIFIED:20251123T221428Z
UID:10099319-1786537800-1786540500@synergyhealthworks.com
SUMMARY:Barre
DESCRIPTION:
URL:https://synergyhealthworks.com/event/barre-2/2026-08-12/
LOCATION:Wagga Wagga | Reformer Studio\, 221 Kincaid Street\, Wagga Wagga\, NSW\, 2650\, Australia
CATEGORIES:Barre
END:VEVENT
BEGIN:VEVENT
DTSTART;TZID=Australia/Sydney:20260812T140000
DTEND;TZID=Australia/Sydney:20260812T144500
DTSTAMP:20260422T020911
CREATED:20251123T222028Z
LAST-MODIFIED:20251123T222107Z
UID:10128221-1786543200-1786545900@synergyhealthworks.com
SUMMARY:Gentle Reformer
DESCRIPTION:
URL:https://synergyhealthworks.com/event/gentle-reformer-12/2026-08-12/
LOCATION:Wagga Wagga | Reformer Studio\, 221 Kincaid Street\, Wagga Wagga\, NSW\, 2650\, Australia
CATEGORIES:Clinical Reformer
END:VEVENT
BEGIN:VEVENT
DTSTART;TZID=Australia/Sydney:20260817T103000
DTEND;TZID=Australia/Sydney:20260817T111500
DTSTAMP:20260422T020911
CREATED:20241204T010434Z
LAST-MODIFIED:20251123T223251Z
UID:10129066-1786962600-1786965300@synergyhealthworks.com
SUMMARY:Matwork Core Class
DESCRIPTION:
URL:https://synergyhealthworks.com/event/matwork-core-class-12/2026-08-17/
LOCATION:Wagga Wagga | Mat Studio\, 221 Kincaid Street\, Wagga Wagga\, NSW\, 2650\, Australia
CATEGORIES:Matwork
END:VEVENT
BEGIN:VEVENT
DTSTART;TZID=Australia/Sydney:20260817T113000
DTEND;TZID=Australia/Sydney:20260817T121500
DTSTAMP:20260422T020911
CREATED:20251123T223427Z
LAST-MODIFIED:20251123T223427Z
UID:10129670-1786966200-1786968900@synergyhealthworks.com
SUMMARY:Mums and Bubs Core Class
DESCRIPTION:
URL:https://synergyhealthworks.com/event/mums-and-bubs-core-class-8/2026-08-17/
LOCATION:Wagga Wagga | Mat Studio\, 221 Kincaid Street\, Wagga Wagga\, NSW\, 2650\, Australia
CATEGORIES:Mums and Bubs
END:VEVENT
BEGIN:VEVENT
DTSTART;TZID=Australia/Sydney:20260818T123000
DTEND;TZID=Australia/Sydney:20260818T131500
DTSTAMP:20260422T020911
CREATED:20241204T010916Z
LAST-MODIFIED:20251123T223831Z
UID:10130056-1787056200-1787058900@synergyhealthworks.com
SUMMARY:Pregnancy Matwork Class
DESCRIPTION:
URL:https://synergyhealthworks.com/event/pregnancy-matwork-class-4/2026-08-18/
LOCATION:Wagga Wagga | Mat Studio\, 221 Kincaid Street\, Wagga Wagga\, NSW\, 2650\, Australia
CATEGORIES:Pregnancy Matwork
END:VEVENT
BEGIN:VEVENT
DTSTART;TZID=Australia/Sydney:20260819T123000
DTEND;TZID=Australia/Sydney:20260819T131500
DTSTAMP:20260422T020911
CREATED:20241204T014608Z
LAST-MODIFIED:20251123T221428Z
UID:10099320-1787142600-1787145300@synergyhealthworks.com
SUMMARY:Barre
DESCRIPTION:
URL:https://synergyhealthworks.com/event/barre-2/2026-08-19/
LOCATION:Wagga Wagga | Reformer Studio\, 221 Kincaid Street\, Wagga Wagga\, NSW\, 2650\, Australia
CATEGORIES:Barre
END:VEVENT
BEGIN:VEVENT
DTSTART;TZID=Australia/Sydney:20260819T140000
DTEND;TZID=Australia/Sydney:20260819T144500
DTSTAMP:20260422T020911
CREATED:20251123T222028Z
LAST-MODIFIED:20251123T222107Z
UID:10128222-1787148000-1787150700@synergyhealthworks.com
SUMMARY:Gentle Reformer
DESCRIPTION:
URL:https://synergyhealthworks.com/event/gentle-reformer-12/2026-08-19/
LOCATION:Wagga Wagga | Reformer Studio\, 221 Kincaid Street\, Wagga Wagga\, NSW\, 2650\, Australia
CATEGORIES:Clinical Reformer
END:VEVENT
BEGIN:VEVENT
DTSTART;TZID=Australia/Sydney:20260824T103000
DTEND;TZID=Australia/Sydney:20260824T111500
DTSTAMP:20260422T020911
CREATED:20241204T010434Z
LAST-MODIFIED:20251123T223251Z
UID:10129067-1787567400-1787570100@synergyhealthworks.com
SUMMARY:Matwork Core Class
DESCRIPTION:
URL:https://synergyhealthworks.com/event/matwork-core-class-12/2026-08-24/
LOCATION:Wagga Wagga | Mat Studio\, 221 Kincaid Street\, Wagga Wagga\, NSW\, 2650\, Australia
CATEGORIES:Matwork
END:VEVENT
BEGIN:VEVENT
DTSTART;TZID=Australia/Sydney:20260824T113000
DTEND;TZID=Australia/Sydney:20260824T121500
DTSTAMP:20260422T020911
CREATED:20251123T223427Z
LAST-MODIFIED:20251123T223427Z
UID:10129671-1787571000-1787573700@synergyhealthworks.com
SUMMARY:Mums and Bubs Core Class
DESCRIPTION:
URL:https://synergyhealthworks.com/event/mums-and-bubs-core-class-8/2026-08-24/
LOCATION:Wagga Wagga | Mat Studio\, 221 Kincaid Street\, Wagga Wagga\, NSW\, 2650\, Australia
CATEGORIES:Mums and Bubs
END:VEVENT
BEGIN:VEVENT
DTSTART;TZID=Australia/Sydney:20260825T123000
DTEND;TZID=Australia/Sydney:20260825T131500
DTSTAMP:20260422T020911
CREATED:20241204T010916Z
LAST-MODIFIED:20251123T223831Z
UID:10130057-1787661000-1787663700@synergyhealthworks.com
SUMMARY:Pregnancy Matwork Class
DESCRIPTION:
URL:https://synergyhealthworks.com/event/pregnancy-matwork-class-4/2026-08-25/
LOCATION:Wagga Wagga | Mat Studio\, 221 Kincaid Street\, Wagga Wagga\, NSW\, 2650\, Australia
CATEGORIES:Pregnancy Matwork
END:VEVENT
END:VCALENDAR