BEGIN:VCALENDAR
VERSION:2.0
PRODID:-//Synergy Healthworks - ECPv6.15.20//NONSGML v1.0//EN
CALSCALE:GREGORIAN
METHOD:PUBLISH
X-ORIGINAL-URL:https://synergyhealthworks.com
X-WR-CALDESC:Events for Synergy Healthworks
REFRESH-INTERVAL;VALUE=DURATION:PT1H
X-Robots-Tag:noindex
X-PUBLISHED-TTL:PT1H
BEGIN:VTIMEZONE
TZID:Australia/Sydney
BEGIN:STANDARD
TZOFFSETFROM:+1100
TZOFFSETTO:+1000
TZNAME:AEST
DTSTART:20270403T160000
END:STANDARD
BEGIN:DAYLIGHT
TZOFFSETFROM:+1000
TZOFFSETTO:+1100
TZNAME:AEDT
DTSTART:20271002T160000
END:DAYLIGHT
BEGIN:STANDARD
TZOFFSETFROM:+1100
TZOFFSETTO:+1000
TZNAME:AEST
DTSTART:20280401T160000
END:STANDARD
BEGIN:DAYLIGHT
TZOFFSETFROM:+1000
TZOFFSETTO:+1100
TZNAME:AEDT
DTSTART:20280930T160000
END:DAYLIGHT
BEGIN:STANDARD
TZOFFSETFROM:+1100
TZOFFSETTO:+1000
TZNAME:AEST
DTSTART:20290331T160000
END:STANDARD
BEGIN:DAYLIGHT
TZOFFSETFROM:+1000
TZOFFSETTO:+1100
TZNAME:AEDT
DTSTART:20291006T160000
END:DAYLIGHT
BEGIN:STANDARD
TZOFFSETFROM:+1100
TZOFFSETTO:+1000
TZNAME:AEST
DTSTART:20300406T160000
END:STANDARD
BEGIN:DAYLIGHT
TZOFFSETFROM:+1000
TZOFFSETTO:+1100
TZNAME:AEDT
DTSTART:20301005T160000
END:DAYLIGHT
END:VTIMEZONE
BEGIN:VEVENT
DTSTART;TZID=Australia/Sydney:20281225T113000
DTEND;TZID=Australia/Sydney:20281225T121500
DTSTAMP:20260425T231207
CREATED:20251123T223427Z
LAST-MODIFIED:20251123T223427Z
UID:10129793-1861356600-1861359300@synergyhealthworks.com
SUMMARY:Mums and Bubs Core Class
DESCRIPTION:
URL:https://synergyhealthworks.com/event/mums-and-bubs-core-class-8/2028-12-25/
LOCATION:Wagga Wagga | Mat Studio\, 221 Kincaid Street\, Wagga Wagga\, NSW\, 2650\, Australia
CATEGORIES:Mums and Bubs
END:VEVENT
BEGIN:VEVENT
DTSTART;TZID=Australia/Sydney:20281226T123000
DTEND;TZID=Australia/Sydney:20281226T131500
DTSTAMP:20260425T231207
CREATED:20241204T010916Z
LAST-MODIFIED:20251123T223831Z
UID:10130179-1861446600-1861449300@synergyhealthworks.com
SUMMARY:Pregnancy Matwork Class
DESCRIPTION:
URL:https://synergyhealthworks.com/event/pregnancy-matwork-class-4/2028-12-26/
LOCATION:Wagga Wagga | Mat Studio\, 221 Kincaid Street\, Wagga Wagga\, NSW\, 2650\, Australia
CATEGORIES:Pregnancy Matwork
END:VEVENT
BEGIN:VEVENT
DTSTART;TZID=Australia/Sydney:20281227T123000
DTEND;TZID=Australia/Sydney:20281227T131500
DTSTAMP:20260425T231207
CREATED:20241204T014608Z
LAST-MODIFIED:20251123T221428Z
UID:10099443-1861533000-1861535700@synergyhealthworks.com
SUMMARY:Barre
DESCRIPTION:
URL:https://synergyhealthworks.com/event/barre-2/2028-12-27/
LOCATION:Wagga Wagga | Reformer Studio\, 221 Kincaid Street\, Wagga Wagga\, NSW\, 2650\, Australia
CATEGORIES:Barre
END:VEVENT
BEGIN:VEVENT
DTSTART;TZID=Australia/Sydney:20281227T140000
DTEND;TZID=Australia/Sydney:20281227T144500
DTSTAMP:20260425T231207
CREATED:20251123T222028Z
LAST-MODIFIED:20251123T222107Z
UID:10128345-1861538400-1861541100@synergyhealthworks.com
SUMMARY:Gentle Reformer
DESCRIPTION:
URL:https://synergyhealthworks.com/event/gentle-reformer-12/2028-12-27/
LOCATION:Wagga Wagga | Reformer Studio\, 221 Kincaid Street\, Wagga Wagga\, NSW\, 2650\, Australia
CATEGORIES:Clinical Reformer
END:VEVENT
BEGIN:VEVENT
DTSTART;TZID=Australia/Sydney:20290101T103000
DTEND;TZID=Australia/Sydney:20290101T111500
DTSTAMP:20260425T231207
CREATED:20241204T010434Z
LAST-MODIFIED:20251123T223251Z
UID:10129190-1861957800-1861960500@synergyhealthworks.com
SUMMARY:Matwork Core Class
DESCRIPTION:
URL:https://synergyhealthworks.com/event/matwork-core-class-12/2029-01-01/
LOCATION:Wagga Wagga | Mat Studio\, 221 Kincaid Street\, Wagga Wagga\, NSW\, 2650\, Australia
CATEGORIES:Matwork
END:VEVENT
BEGIN:VEVENT
DTSTART;TZID=Australia/Sydney:20290101T113000
DTEND;TZID=Australia/Sydney:20290101T121500
DTSTAMP:20260425T231207
CREATED:20251123T223427Z
LAST-MODIFIED:20251123T223427Z
UID:10129794-1861961400-1861964100@synergyhealthworks.com
SUMMARY:Mums and Bubs Core Class
DESCRIPTION:
URL:https://synergyhealthworks.com/event/mums-and-bubs-core-class-8/2029-01-01/
LOCATION:Wagga Wagga | Mat Studio\, 221 Kincaid Street\, Wagga Wagga\, NSW\, 2650\, Australia
CATEGORIES:Mums and Bubs
END:VEVENT
BEGIN:VEVENT
DTSTART;TZID=Australia/Sydney:20290102T123000
DTEND;TZID=Australia/Sydney:20290102T131500
DTSTAMP:20260425T231207
CREATED:20241204T010916Z
LAST-MODIFIED:20251123T223831Z
UID:10130180-1862051400-1862054100@synergyhealthworks.com
SUMMARY:Pregnancy Matwork Class
DESCRIPTION:
URL:https://synergyhealthworks.com/event/pregnancy-matwork-class-4/2029-01-02/
LOCATION:Wagga Wagga | Mat Studio\, 221 Kincaid Street\, Wagga Wagga\, NSW\, 2650\, Australia
CATEGORIES:Pregnancy Matwork
END:VEVENT
BEGIN:VEVENT
DTSTART;TZID=Australia/Sydney:20290103T123000
DTEND;TZID=Australia/Sydney:20290103T131500
DTSTAMP:20260425T231207
CREATED:20241204T014608Z
LAST-MODIFIED:20251123T221428Z
UID:10099444-1862137800-1862140500@synergyhealthworks.com
SUMMARY:Barre
DESCRIPTION:
URL:https://synergyhealthworks.com/event/barre-2/2029-01-03/
LOCATION:Wagga Wagga | Reformer Studio\, 221 Kincaid Street\, Wagga Wagga\, NSW\, 2650\, Australia
CATEGORIES:Barre
END:VEVENT
BEGIN:VEVENT
DTSTART;TZID=Australia/Sydney:20290103T140000
DTEND;TZID=Australia/Sydney:20290103T144500
DTSTAMP:20260425T231207
CREATED:20251123T222028Z
LAST-MODIFIED:20251123T222107Z
UID:10128346-1862143200-1862145900@synergyhealthworks.com
SUMMARY:Gentle Reformer
DESCRIPTION:
URL:https://synergyhealthworks.com/event/gentle-reformer-12/2029-01-03/
LOCATION:Wagga Wagga | Reformer Studio\, 221 Kincaid Street\, Wagga Wagga\, NSW\, 2650\, Australia
CATEGORIES:Clinical Reformer
END:VEVENT
BEGIN:VEVENT
DTSTART;TZID=Australia/Sydney:20290108T103000
DTEND;TZID=Australia/Sydney:20290108T111500
DTSTAMP:20260425T231207
CREATED:20241204T010434Z
LAST-MODIFIED:20251123T223251Z
UID:10129191-1862562600-1862565300@synergyhealthworks.com
SUMMARY:Matwork Core Class
DESCRIPTION:
URL:https://synergyhealthworks.com/event/matwork-core-class-12/2029-01-08/
LOCATION:Wagga Wagga | Mat Studio\, 221 Kincaid Street\, Wagga Wagga\, NSW\, 2650\, Australia
CATEGORIES:Matwork
END:VEVENT
BEGIN:VEVENT
DTSTART;TZID=Australia/Sydney:20290108T113000
DTEND;TZID=Australia/Sydney:20290108T121500
DTSTAMP:20260425T231207
CREATED:20251123T223427Z
LAST-MODIFIED:20251123T223427Z
UID:10129795-1862566200-1862568900@synergyhealthworks.com
SUMMARY:Mums and Bubs Core Class
DESCRIPTION:
URL:https://synergyhealthworks.com/event/mums-and-bubs-core-class-8/2029-01-08/
LOCATION:Wagga Wagga | Mat Studio\, 221 Kincaid Street\, Wagga Wagga\, NSW\, 2650\, Australia
CATEGORIES:Mums and Bubs
END:VEVENT
BEGIN:VEVENT
DTSTART;TZID=Australia/Sydney:20290109T123000
DTEND;TZID=Australia/Sydney:20290109T131500
DTSTAMP:20260425T231207
CREATED:20241204T010916Z
LAST-MODIFIED:20251123T223831Z
UID:10130181-1862656200-1862658900@synergyhealthworks.com
SUMMARY:Pregnancy Matwork Class
DESCRIPTION:
URL:https://synergyhealthworks.com/event/pregnancy-matwork-class-4/2029-01-09/
LOCATION:Wagga Wagga | Mat Studio\, 221 Kincaid Street\, Wagga Wagga\, NSW\, 2650\, Australia
CATEGORIES:Pregnancy Matwork
END:VEVENT
BEGIN:VEVENT
DTSTART;TZID=Australia/Sydney:20290110T123000
DTEND;TZID=Australia/Sydney:20290110T131500
DTSTAMP:20260425T231207
CREATED:20241204T014608Z
LAST-MODIFIED:20251123T221428Z
UID:10099445-1862742600-1862745300@synergyhealthworks.com
SUMMARY:Barre
DESCRIPTION:
URL:https://synergyhealthworks.com/event/barre-2/2029-01-10/
LOCATION:Wagga Wagga | Reformer Studio\, 221 Kincaid Street\, Wagga Wagga\, NSW\, 2650\, Australia
CATEGORIES:Barre
END:VEVENT
BEGIN:VEVENT
DTSTART;TZID=Australia/Sydney:20290110T140000
DTEND;TZID=Australia/Sydney:20290110T144500
DTSTAMP:20260425T231207
CREATED:20251123T222028Z
LAST-MODIFIED:20251123T222107Z
UID:10128347-1862748000-1862750700@synergyhealthworks.com
SUMMARY:Gentle Reformer
DESCRIPTION:
URL:https://synergyhealthworks.com/event/gentle-reformer-12/2029-01-10/
LOCATION:Wagga Wagga | Reformer Studio\, 221 Kincaid Street\, Wagga Wagga\, NSW\, 2650\, Australia
CATEGORIES:Clinical Reformer
END:VEVENT
BEGIN:VEVENT
DTSTART;TZID=Australia/Sydney:20290115T103000
DTEND;TZID=Australia/Sydney:20290115T111500
DTSTAMP:20260425T231207
CREATED:20241204T010434Z
LAST-MODIFIED:20251123T223251Z
UID:10129192-1863167400-1863170100@synergyhealthworks.com
SUMMARY:Matwork Core Class
DESCRIPTION:
URL:https://synergyhealthworks.com/event/matwork-core-class-12/2029-01-15/
LOCATION:Wagga Wagga | Mat Studio\, 221 Kincaid Street\, Wagga Wagga\, NSW\, 2650\, Australia
CATEGORIES:Matwork
END:VEVENT
BEGIN:VEVENT
DTSTART;TZID=Australia/Sydney:20290115T113000
DTEND;TZID=Australia/Sydney:20290115T121500
DTSTAMP:20260425T231207
CREATED:20251123T223427Z
LAST-MODIFIED:20251123T223427Z
UID:10129796-1863171000-1863173700@synergyhealthworks.com
SUMMARY:Mums and Bubs Core Class
DESCRIPTION:
URL:https://synergyhealthworks.com/event/mums-and-bubs-core-class-8/2029-01-15/
LOCATION:Wagga Wagga | Mat Studio\, 221 Kincaid Street\, Wagga Wagga\, NSW\, 2650\, Australia
CATEGORIES:Mums and Bubs
END:VEVENT
BEGIN:VEVENT
DTSTART;TZID=Australia/Sydney:20290116T123000
DTEND;TZID=Australia/Sydney:20290116T131500
DTSTAMP:20260425T231207
CREATED:20241204T010916Z
LAST-MODIFIED:20251123T223831Z
UID:10130182-1863261000-1863263700@synergyhealthworks.com
SUMMARY:Pregnancy Matwork Class
DESCRIPTION:
URL:https://synergyhealthworks.com/event/pregnancy-matwork-class-4/2029-01-16/
LOCATION:Wagga Wagga | Mat Studio\, 221 Kincaid Street\, Wagga Wagga\, NSW\, 2650\, Australia
CATEGORIES:Pregnancy Matwork
END:VEVENT
BEGIN:VEVENT
DTSTART;TZID=Australia/Sydney:20290117T123000
DTEND;TZID=Australia/Sydney:20290117T131500
DTSTAMP:20260425T231207
CREATED:20241204T014608Z
LAST-MODIFIED:20251123T221428Z
UID:10099446-1863347400-1863350100@synergyhealthworks.com
SUMMARY:Barre
DESCRIPTION:
URL:https://synergyhealthworks.com/event/barre-2/2029-01-17/
LOCATION:Wagga Wagga | Reformer Studio\, 221 Kincaid Street\, Wagga Wagga\, NSW\, 2650\, Australia
CATEGORIES:Barre
END:VEVENT
BEGIN:VEVENT
DTSTART;TZID=Australia/Sydney:20290117T140000
DTEND;TZID=Australia/Sydney:20290117T144500
DTSTAMP:20260425T231207
CREATED:20251123T222028Z
LAST-MODIFIED:20251123T222107Z
UID:10128348-1863352800-1863355500@synergyhealthworks.com
SUMMARY:Gentle Reformer
DESCRIPTION:
URL:https://synergyhealthworks.com/event/gentle-reformer-12/2029-01-17/
LOCATION:Wagga Wagga | Reformer Studio\, 221 Kincaid Street\, Wagga Wagga\, NSW\, 2650\, Australia
CATEGORIES:Clinical Reformer
END:VEVENT
BEGIN:VEVENT
DTSTART;TZID=Australia/Sydney:20290122T103000
DTEND;TZID=Australia/Sydney:20290122T111500
DTSTAMP:20260425T231207
CREATED:20241204T010434Z
LAST-MODIFIED:20251123T223251Z
UID:10129193-1863772200-1863774900@synergyhealthworks.com
SUMMARY:Matwork Core Class
DESCRIPTION:
URL:https://synergyhealthworks.com/event/matwork-core-class-12/2029-01-22/
LOCATION:Wagga Wagga | Mat Studio\, 221 Kincaid Street\, Wagga Wagga\, NSW\, 2650\, Australia
CATEGORIES:Matwork
END:VEVENT
BEGIN:VEVENT
DTSTART;TZID=Australia/Sydney:20290122T113000
DTEND;TZID=Australia/Sydney:20290122T121500
DTSTAMP:20260425T231207
CREATED:20251123T223427Z
LAST-MODIFIED:20251123T223427Z
UID:10129797-1863775800-1863778500@synergyhealthworks.com
SUMMARY:Mums and Bubs Core Class
DESCRIPTION:
URL:https://synergyhealthworks.com/event/mums-and-bubs-core-class-8/2029-01-22/
LOCATION:Wagga Wagga | Mat Studio\, 221 Kincaid Street\, Wagga Wagga\, NSW\, 2650\, Australia
CATEGORIES:Mums and Bubs
END:VEVENT
BEGIN:VEVENT
DTSTART;TZID=Australia/Sydney:20290123T123000
DTEND;TZID=Australia/Sydney:20290123T131500
DTSTAMP:20260425T231207
CREATED:20241204T010916Z
LAST-MODIFIED:20251123T223831Z
UID:10130183-1863865800-1863868500@synergyhealthworks.com
SUMMARY:Pregnancy Matwork Class
DESCRIPTION:
URL:https://synergyhealthworks.com/event/pregnancy-matwork-class-4/2029-01-23/
LOCATION:Wagga Wagga | Mat Studio\, 221 Kincaid Street\, Wagga Wagga\, NSW\, 2650\, Australia
CATEGORIES:Pregnancy Matwork
END:VEVENT
BEGIN:VEVENT
DTSTART;TZID=Australia/Sydney:20290124T123000
DTEND;TZID=Australia/Sydney:20290124T131500
DTSTAMP:20260425T231207
CREATED:20241204T014608Z
LAST-MODIFIED:20251123T221428Z
UID:10099447-1863952200-1863954900@synergyhealthworks.com
SUMMARY:Barre
DESCRIPTION:
URL:https://synergyhealthworks.com/event/barre-2/2029-01-24/
LOCATION:Wagga Wagga | Reformer Studio\, 221 Kincaid Street\, Wagga Wagga\, NSW\, 2650\, Australia
CATEGORIES:Barre
END:VEVENT
BEGIN:VEVENT
DTSTART;TZID=Australia/Sydney:20290124T140000
DTEND;TZID=Australia/Sydney:20290124T144500
DTSTAMP:20260425T231207
CREATED:20251123T222028Z
LAST-MODIFIED:20251123T222107Z
UID:10128349-1863957600-1863960300@synergyhealthworks.com
SUMMARY:Gentle Reformer
DESCRIPTION:
URL:https://synergyhealthworks.com/event/gentle-reformer-12/2029-01-24/
LOCATION:Wagga Wagga | Reformer Studio\, 221 Kincaid Street\, Wagga Wagga\, NSW\, 2650\, Australia
CATEGORIES:Clinical Reformer
END:VEVENT
BEGIN:VEVENT
DTSTART;TZID=Australia/Sydney:20290129T103000
DTEND;TZID=Australia/Sydney:20290129T111500
DTSTAMP:20260425T231207
CREATED:20241204T010434Z
LAST-MODIFIED:20251123T223251Z
UID:10129194-1864377000-1864379700@synergyhealthworks.com
SUMMARY:Matwork Core Class
DESCRIPTION:
URL:https://synergyhealthworks.com/event/matwork-core-class-12/2029-01-29/
LOCATION:Wagga Wagga | Mat Studio\, 221 Kincaid Street\, Wagga Wagga\, NSW\, 2650\, Australia
CATEGORIES:Matwork
END:VEVENT
BEGIN:VEVENT
DTSTART;TZID=Australia/Sydney:20290129T113000
DTEND;TZID=Australia/Sydney:20290129T121500
DTSTAMP:20260425T231207
CREATED:20251123T223427Z
LAST-MODIFIED:20251123T223427Z
UID:10129798-1864380600-1864383300@synergyhealthworks.com
SUMMARY:Mums and Bubs Core Class
DESCRIPTION:
URL:https://synergyhealthworks.com/event/mums-and-bubs-core-class-8/2029-01-29/
LOCATION:Wagga Wagga | Mat Studio\, 221 Kincaid Street\, Wagga Wagga\, NSW\, 2650\, Australia
CATEGORIES:Mums and Bubs
END:VEVENT
BEGIN:VEVENT
DTSTART;TZID=Australia/Sydney:20290130T123000
DTEND;TZID=Australia/Sydney:20290130T131500
DTSTAMP:20260425T231207
CREATED:20241204T010916Z
LAST-MODIFIED:20251123T223831Z
UID:10130184-1864470600-1864473300@synergyhealthworks.com
SUMMARY:Pregnancy Matwork Class
DESCRIPTION:
URL:https://synergyhealthworks.com/event/pregnancy-matwork-class-4/2029-01-30/
LOCATION:Wagga Wagga | Mat Studio\, 221 Kincaid Street\, Wagga Wagga\, NSW\, 2650\, Australia
CATEGORIES:Pregnancy Matwork
END:VEVENT
BEGIN:VEVENT
DTSTART;TZID=Australia/Sydney:20290131T123000
DTEND;TZID=Australia/Sydney:20290131T131500
DTSTAMP:20260425T231207
CREATED:20241204T014608Z
LAST-MODIFIED:20251123T221428Z
UID:10099448-1864557000-1864559700@synergyhealthworks.com
SUMMARY:Barre
DESCRIPTION:
URL:https://synergyhealthworks.com/event/barre-2/2029-01-31/
LOCATION:Wagga Wagga | Reformer Studio\, 221 Kincaid Street\, Wagga Wagga\, NSW\, 2650\, Australia
CATEGORIES:Barre
END:VEVENT
BEGIN:VEVENT
DTSTART;TZID=Australia/Sydney:20290131T140000
DTEND;TZID=Australia/Sydney:20290131T144500
DTSTAMP:20260425T231207
CREATED:20251123T222028Z
LAST-MODIFIED:20251123T222107Z
UID:10128350-1864562400-1864565100@synergyhealthworks.com
SUMMARY:Gentle Reformer
DESCRIPTION:
URL:https://synergyhealthworks.com/event/gentle-reformer-12/2029-01-31/
LOCATION:Wagga Wagga | Reformer Studio\, 221 Kincaid Street\, Wagga Wagga\, NSW\, 2650\, Australia
CATEGORIES:Clinical Reformer
END:VEVENT
BEGIN:VEVENT
DTSTART;TZID=Australia/Sydney:20290205T103000
DTEND;TZID=Australia/Sydney:20290205T111500
DTSTAMP:20260425T231207
CREATED:20241204T010434Z
LAST-MODIFIED:20251123T223251Z
UID:10129195-1864981800-1864984500@synergyhealthworks.com
SUMMARY:Matwork Core Class
DESCRIPTION:
URL:https://synergyhealthworks.com/event/matwork-core-class-12/2029-02-05/
LOCATION:Wagga Wagga | Mat Studio\, 221 Kincaid Street\, Wagga Wagga\, NSW\, 2650\, Australia
CATEGORIES:Matwork
END:VEVENT
END:VCALENDAR