BEGIN:VCALENDAR
VERSION:2.0
PRODID:-//Synergy Healthworks - ECPv6.15.20//NONSGML v1.0//EN
CALSCALE:GREGORIAN
METHOD:PUBLISH
X-WR-CALNAME:Synergy Healthworks
X-ORIGINAL-URL:https://synergyhealthworks.com
X-WR-CALDESC:Events for Synergy Healthworks
REFRESH-INTERVAL;VALUE=DURATION:PT1H
X-Robots-Tag:noindex
X-PUBLISHED-TTL:PT1H
BEGIN:VTIMEZONE
TZID:Australia/Sydney
BEGIN:STANDARD
TZOFFSETFROM:+1100
TZOFFSETTO:+1000
TZNAME:AEST
DTSTART:20270403T160000
END:STANDARD
BEGIN:DAYLIGHT
TZOFFSETFROM:+1000
TZOFFSETTO:+1100
TZNAME:AEDT
DTSTART:20271002T160000
END:DAYLIGHT
BEGIN:STANDARD
TZOFFSETFROM:+1100
TZOFFSETTO:+1000
TZNAME:AEST
DTSTART:20280401T160000
END:STANDARD
BEGIN:DAYLIGHT
TZOFFSETFROM:+1000
TZOFFSETTO:+1100
TZNAME:AEDT
DTSTART:20280930T160000
END:DAYLIGHT
BEGIN:STANDARD
TZOFFSETFROM:+1100
TZOFFSETTO:+1000
TZNAME:AEST
DTSTART:20290331T160000
END:STANDARD
BEGIN:DAYLIGHT
TZOFFSETFROM:+1000
TZOFFSETTO:+1100
TZNAME:AEDT
DTSTART:20291006T160000
END:DAYLIGHT
END:VTIMEZONE
BEGIN:VEVENT
DTSTART;TZID=Australia/Sydney:20280814T103000
DTEND;TZID=Australia/Sydney:20280814T111500
DTSTAMP:20260425T095531
CREATED:20241204T010434Z
LAST-MODIFIED:20251123T223251Z
UID:10129170-1849861800-1849864500@synergyhealthworks.com
SUMMARY:Matwork Core Class
DESCRIPTION:
URL:https://synergyhealthworks.com/event/matwork-core-class-12/2028-08-14/
LOCATION:Wagga Wagga | Mat Studio\, 221 Kincaid Street\, Wagga Wagga\, NSW\, 2650\, Australia
CATEGORIES:Matwork
END:VEVENT
BEGIN:VEVENT
DTSTART;TZID=Australia/Sydney:20280814T113000
DTEND;TZID=Australia/Sydney:20280814T121500
DTSTAMP:20260425T095531
CREATED:20251123T223427Z
LAST-MODIFIED:20251123T223427Z
UID:10129774-1849865400-1849868100@synergyhealthworks.com
SUMMARY:Mums and Bubs Core Class
DESCRIPTION:
URL:https://synergyhealthworks.com/event/mums-and-bubs-core-class-8/2028-08-14/
LOCATION:Wagga Wagga | Mat Studio\, 221 Kincaid Street\, Wagga Wagga\, NSW\, 2650\, Australia
CATEGORIES:Mums and Bubs
END:VEVENT
BEGIN:VEVENT
DTSTART;TZID=Australia/Sydney:20280815T123000
DTEND;TZID=Australia/Sydney:20280815T131500
DTSTAMP:20260425T095531
CREATED:20241204T010916Z
LAST-MODIFIED:20251123T223831Z
UID:10130160-1849955400-1849958100@synergyhealthworks.com
SUMMARY:Pregnancy Matwork Class
DESCRIPTION:
URL:https://synergyhealthworks.com/event/pregnancy-matwork-class-4/2028-08-15/
LOCATION:Wagga Wagga | Mat Studio\, 221 Kincaid Street\, Wagga Wagga\, NSW\, 2650\, Australia
CATEGORIES:Pregnancy Matwork
END:VEVENT
BEGIN:VEVENT
DTSTART;TZID=Australia/Sydney:20280816T123000
DTEND;TZID=Australia/Sydney:20280816T131500
DTSTAMP:20260425T095531
CREATED:20241204T014608Z
LAST-MODIFIED:20251123T221428Z
UID:10099424-1850041800-1850044500@synergyhealthworks.com
SUMMARY:Barre
DESCRIPTION:
URL:https://synergyhealthworks.com/event/barre-2/2028-08-16/
LOCATION:Wagga Wagga | Reformer Studio\, 221 Kincaid Street\, Wagga Wagga\, NSW\, 2650\, Australia
CATEGORIES:Barre
END:VEVENT
BEGIN:VEVENT
DTSTART;TZID=Australia/Sydney:20280816T140000
DTEND;TZID=Australia/Sydney:20280816T144500
DTSTAMP:20260425T095531
CREATED:20251123T222028Z
LAST-MODIFIED:20251123T222107Z
UID:10128326-1850047200-1850049900@synergyhealthworks.com
SUMMARY:Gentle Reformer
DESCRIPTION:
URL:https://synergyhealthworks.com/event/gentle-reformer-12/2028-08-16/
LOCATION:Wagga Wagga | Reformer Studio\, 221 Kincaid Street\, Wagga Wagga\, NSW\, 2650\, Australia
CATEGORIES:Clinical Reformer
END:VEVENT
BEGIN:VEVENT
DTSTART;TZID=Australia/Sydney:20280821T103000
DTEND;TZID=Australia/Sydney:20280821T111500
DTSTAMP:20260425T095531
CREATED:20241204T010434Z
LAST-MODIFIED:20251123T223251Z
UID:10129171-1850466600-1850469300@synergyhealthworks.com
SUMMARY:Matwork Core Class
DESCRIPTION:
URL:https://synergyhealthworks.com/event/matwork-core-class-12/2028-08-21/
LOCATION:Wagga Wagga | Mat Studio\, 221 Kincaid Street\, Wagga Wagga\, NSW\, 2650\, Australia
CATEGORIES:Matwork
END:VEVENT
BEGIN:VEVENT
DTSTART;TZID=Australia/Sydney:20280821T113000
DTEND;TZID=Australia/Sydney:20280821T121500
DTSTAMP:20260425T095531
CREATED:20251123T223427Z
LAST-MODIFIED:20251123T223427Z
UID:10129775-1850470200-1850472900@synergyhealthworks.com
SUMMARY:Mums and Bubs Core Class
DESCRIPTION:
URL:https://synergyhealthworks.com/event/mums-and-bubs-core-class-8/2028-08-21/
LOCATION:Wagga Wagga | Mat Studio\, 221 Kincaid Street\, Wagga Wagga\, NSW\, 2650\, Australia
CATEGORIES:Mums and Bubs
END:VEVENT
BEGIN:VEVENT
DTSTART;TZID=Australia/Sydney:20280822T123000
DTEND;TZID=Australia/Sydney:20280822T131500
DTSTAMP:20260425T095531
CREATED:20241204T010916Z
LAST-MODIFIED:20251123T223831Z
UID:10130161-1850560200-1850562900@synergyhealthworks.com
SUMMARY:Pregnancy Matwork Class
DESCRIPTION:
URL:https://synergyhealthworks.com/event/pregnancy-matwork-class-4/2028-08-22/
LOCATION:Wagga Wagga | Mat Studio\, 221 Kincaid Street\, Wagga Wagga\, NSW\, 2650\, Australia
CATEGORIES:Pregnancy Matwork
END:VEVENT
BEGIN:VEVENT
DTSTART;TZID=Australia/Sydney:20280823T123000
DTEND;TZID=Australia/Sydney:20280823T131500
DTSTAMP:20260425T095531
CREATED:20241204T014608Z
LAST-MODIFIED:20251123T221428Z
UID:10099425-1850646600-1850649300@synergyhealthworks.com
SUMMARY:Barre
DESCRIPTION:
URL:https://synergyhealthworks.com/event/barre-2/2028-08-23/
LOCATION:Wagga Wagga | Reformer Studio\, 221 Kincaid Street\, Wagga Wagga\, NSW\, 2650\, Australia
CATEGORIES:Barre
END:VEVENT
BEGIN:VEVENT
DTSTART;TZID=Australia/Sydney:20280823T140000
DTEND;TZID=Australia/Sydney:20280823T144500
DTSTAMP:20260425T095531
CREATED:20251123T222028Z
LAST-MODIFIED:20251123T222107Z
UID:10128327-1850652000-1850654700@synergyhealthworks.com
SUMMARY:Gentle Reformer
DESCRIPTION:
URL:https://synergyhealthworks.com/event/gentle-reformer-12/2028-08-23/
LOCATION:Wagga Wagga | Reformer Studio\, 221 Kincaid Street\, Wagga Wagga\, NSW\, 2650\, Australia
CATEGORIES:Clinical Reformer
END:VEVENT
BEGIN:VEVENT
DTSTART;TZID=Australia/Sydney:20280828T103000
DTEND;TZID=Australia/Sydney:20280828T111500
DTSTAMP:20260425T095531
CREATED:20241204T010434Z
LAST-MODIFIED:20251123T223251Z
UID:10129172-1851071400-1851074100@synergyhealthworks.com
SUMMARY:Matwork Core Class
DESCRIPTION:
URL:https://synergyhealthworks.com/event/matwork-core-class-12/2028-08-28/
LOCATION:Wagga Wagga | Mat Studio\, 221 Kincaid Street\, Wagga Wagga\, NSW\, 2650\, Australia
CATEGORIES:Matwork
END:VEVENT
BEGIN:VEVENT
DTSTART;TZID=Australia/Sydney:20280828T113000
DTEND;TZID=Australia/Sydney:20280828T121500
DTSTAMP:20260425T095531
CREATED:20251123T223427Z
LAST-MODIFIED:20251123T223427Z
UID:10129776-1851075000-1851077700@synergyhealthworks.com
SUMMARY:Mums and Bubs Core Class
DESCRIPTION:
URL:https://synergyhealthworks.com/event/mums-and-bubs-core-class-8/2028-08-28/
LOCATION:Wagga Wagga | Mat Studio\, 221 Kincaid Street\, Wagga Wagga\, NSW\, 2650\, Australia
CATEGORIES:Mums and Bubs
END:VEVENT
BEGIN:VEVENT
DTSTART;TZID=Australia/Sydney:20280829T123000
DTEND;TZID=Australia/Sydney:20280829T131500
DTSTAMP:20260425T095531
CREATED:20241204T010916Z
LAST-MODIFIED:20251123T223831Z
UID:10130162-1851165000-1851167700@synergyhealthworks.com
SUMMARY:Pregnancy Matwork Class
DESCRIPTION:
URL:https://synergyhealthworks.com/event/pregnancy-matwork-class-4/2028-08-29/
LOCATION:Wagga Wagga | Mat Studio\, 221 Kincaid Street\, Wagga Wagga\, NSW\, 2650\, Australia
CATEGORIES:Pregnancy Matwork
END:VEVENT
BEGIN:VEVENT
DTSTART;TZID=Australia/Sydney:20280830T123000
DTEND;TZID=Australia/Sydney:20280830T131500
DTSTAMP:20260425T095531
CREATED:20241204T014608Z
LAST-MODIFIED:20251123T221428Z
UID:10099426-1851251400-1851254100@synergyhealthworks.com
SUMMARY:Barre
DESCRIPTION:
URL:https://synergyhealthworks.com/event/barre-2/2028-08-30/
LOCATION:Wagga Wagga | Reformer Studio\, 221 Kincaid Street\, Wagga Wagga\, NSW\, 2650\, Australia
CATEGORIES:Barre
END:VEVENT
BEGIN:VEVENT
DTSTART;TZID=Australia/Sydney:20280830T140000
DTEND;TZID=Australia/Sydney:20280830T144500
DTSTAMP:20260425T095531
CREATED:20251123T222028Z
LAST-MODIFIED:20251123T222107Z
UID:10128328-1851256800-1851259500@synergyhealthworks.com
SUMMARY:Gentle Reformer
DESCRIPTION:
URL:https://synergyhealthworks.com/event/gentle-reformer-12/2028-08-30/
LOCATION:Wagga Wagga | Reformer Studio\, 221 Kincaid Street\, Wagga Wagga\, NSW\, 2650\, Australia
CATEGORIES:Clinical Reformer
END:VEVENT
BEGIN:VEVENT
DTSTART;TZID=Australia/Sydney:20280904T103000
DTEND;TZID=Australia/Sydney:20280904T111500
DTSTAMP:20260425T095531
CREATED:20241204T010434Z
LAST-MODIFIED:20251123T223251Z
UID:10129173-1851676200-1851678900@synergyhealthworks.com
SUMMARY:Matwork Core Class
DESCRIPTION:
URL:https://synergyhealthworks.com/event/matwork-core-class-12/2028-09-04/
LOCATION:Wagga Wagga | Mat Studio\, 221 Kincaid Street\, Wagga Wagga\, NSW\, 2650\, Australia
CATEGORIES:Matwork
END:VEVENT
BEGIN:VEVENT
DTSTART;TZID=Australia/Sydney:20280904T113000
DTEND;TZID=Australia/Sydney:20280904T121500
DTSTAMP:20260425T095531
CREATED:20251123T223427Z
LAST-MODIFIED:20251123T223427Z
UID:10129777-1851679800-1851682500@synergyhealthworks.com
SUMMARY:Mums and Bubs Core Class
DESCRIPTION:
URL:https://synergyhealthworks.com/event/mums-and-bubs-core-class-8/2028-09-04/
LOCATION:Wagga Wagga | Mat Studio\, 221 Kincaid Street\, Wagga Wagga\, NSW\, 2650\, Australia
CATEGORIES:Mums and Bubs
END:VEVENT
BEGIN:VEVENT
DTSTART;TZID=Australia/Sydney:20280905T123000
DTEND;TZID=Australia/Sydney:20280905T131500
DTSTAMP:20260425T095531
CREATED:20241204T010916Z
LAST-MODIFIED:20251123T223831Z
UID:10130163-1851769800-1851772500@synergyhealthworks.com
SUMMARY:Pregnancy Matwork Class
DESCRIPTION:
URL:https://synergyhealthworks.com/event/pregnancy-matwork-class-4/2028-09-05/
LOCATION:Wagga Wagga | Mat Studio\, 221 Kincaid Street\, Wagga Wagga\, NSW\, 2650\, Australia
CATEGORIES:Pregnancy Matwork
END:VEVENT
BEGIN:VEVENT
DTSTART;TZID=Australia/Sydney:20280906T123000
DTEND;TZID=Australia/Sydney:20280906T131500
DTSTAMP:20260425T095531
CREATED:20241204T014608Z
LAST-MODIFIED:20251123T221428Z
UID:10099427-1851856200-1851858900@synergyhealthworks.com
SUMMARY:Barre
DESCRIPTION:
URL:https://synergyhealthworks.com/event/barre-2/2028-09-06/
LOCATION:Wagga Wagga | Reformer Studio\, 221 Kincaid Street\, Wagga Wagga\, NSW\, 2650\, Australia
CATEGORIES:Barre
END:VEVENT
BEGIN:VEVENT
DTSTART;TZID=Australia/Sydney:20280906T140000
DTEND;TZID=Australia/Sydney:20280906T144500
DTSTAMP:20260425T095531
CREATED:20251123T222028Z
LAST-MODIFIED:20251123T222107Z
UID:10128329-1851861600-1851864300@synergyhealthworks.com
SUMMARY:Gentle Reformer
DESCRIPTION:
URL:https://synergyhealthworks.com/event/gentle-reformer-12/2028-09-06/
LOCATION:Wagga Wagga | Reformer Studio\, 221 Kincaid Street\, Wagga Wagga\, NSW\, 2650\, Australia
CATEGORIES:Clinical Reformer
END:VEVENT
BEGIN:VEVENT
DTSTART;TZID=Australia/Sydney:20280911T103000
DTEND;TZID=Australia/Sydney:20280911T111500
DTSTAMP:20260425T095531
CREATED:20241204T010434Z
LAST-MODIFIED:20251123T223251Z
UID:10129174-1852281000-1852283700@synergyhealthworks.com
SUMMARY:Matwork Core Class
DESCRIPTION:
URL:https://synergyhealthworks.com/event/matwork-core-class-12/2028-09-11/
LOCATION:Wagga Wagga | Mat Studio\, 221 Kincaid Street\, Wagga Wagga\, NSW\, 2650\, Australia
CATEGORIES:Matwork
END:VEVENT
BEGIN:VEVENT
DTSTART;TZID=Australia/Sydney:20280911T113000
DTEND;TZID=Australia/Sydney:20280911T121500
DTSTAMP:20260425T095531
CREATED:20251123T223427Z
LAST-MODIFIED:20251123T223427Z
UID:10129778-1852284600-1852287300@synergyhealthworks.com
SUMMARY:Mums and Bubs Core Class
DESCRIPTION:
URL:https://synergyhealthworks.com/event/mums-and-bubs-core-class-8/2028-09-11/
LOCATION:Wagga Wagga | Mat Studio\, 221 Kincaid Street\, Wagga Wagga\, NSW\, 2650\, Australia
CATEGORIES:Mums and Bubs
END:VEVENT
BEGIN:VEVENT
DTSTART;TZID=Australia/Sydney:20280912T123000
DTEND;TZID=Australia/Sydney:20280912T131500
DTSTAMP:20260425T095531
CREATED:20241204T010916Z
LAST-MODIFIED:20251123T223831Z
UID:10130164-1852374600-1852377300@synergyhealthworks.com
SUMMARY:Pregnancy Matwork Class
DESCRIPTION:
URL:https://synergyhealthworks.com/event/pregnancy-matwork-class-4/2028-09-12/
LOCATION:Wagga Wagga | Mat Studio\, 221 Kincaid Street\, Wagga Wagga\, NSW\, 2650\, Australia
CATEGORIES:Pregnancy Matwork
END:VEVENT
BEGIN:VEVENT
DTSTART;TZID=Australia/Sydney:20280913T123000
DTEND;TZID=Australia/Sydney:20280913T131500
DTSTAMP:20260425T095531
CREATED:20241204T014608Z
LAST-MODIFIED:20251123T221428Z
UID:10099428-1852461000-1852463700@synergyhealthworks.com
SUMMARY:Barre
DESCRIPTION:
URL:https://synergyhealthworks.com/event/barre-2/2028-09-13/
LOCATION:Wagga Wagga | Reformer Studio\, 221 Kincaid Street\, Wagga Wagga\, NSW\, 2650\, Australia
CATEGORIES:Barre
END:VEVENT
BEGIN:VEVENT
DTSTART;TZID=Australia/Sydney:20280913T140000
DTEND;TZID=Australia/Sydney:20280913T144500
DTSTAMP:20260425T095531
CREATED:20251123T222028Z
LAST-MODIFIED:20251123T222107Z
UID:10128330-1852466400-1852469100@synergyhealthworks.com
SUMMARY:Gentle Reformer
DESCRIPTION:
URL:https://synergyhealthworks.com/event/gentle-reformer-12/2028-09-13/
LOCATION:Wagga Wagga | Reformer Studio\, 221 Kincaid Street\, Wagga Wagga\, NSW\, 2650\, Australia
CATEGORIES:Clinical Reformer
END:VEVENT
BEGIN:VEVENT
DTSTART;TZID=Australia/Sydney:20280918T103000
DTEND;TZID=Australia/Sydney:20280918T111500
DTSTAMP:20260425T095531
CREATED:20241204T010434Z
LAST-MODIFIED:20251123T223251Z
UID:10129175-1852885800-1852888500@synergyhealthworks.com
SUMMARY:Matwork Core Class
DESCRIPTION:
URL:https://synergyhealthworks.com/event/matwork-core-class-12/2028-09-18/
LOCATION:Wagga Wagga | Mat Studio\, 221 Kincaid Street\, Wagga Wagga\, NSW\, 2650\, Australia
CATEGORIES:Matwork
END:VEVENT
BEGIN:VEVENT
DTSTART;TZID=Australia/Sydney:20280918T113000
DTEND;TZID=Australia/Sydney:20280918T121500
DTSTAMP:20260425T095531
CREATED:20251123T223427Z
LAST-MODIFIED:20251123T223427Z
UID:10129779-1852889400-1852892100@synergyhealthworks.com
SUMMARY:Mums and Bubs Core Class
DESCRIPTION:
URL:https://synergyhealthworks.com/event/mums-and-bubs-core-class-8/2028-09-18/
LOCATION:Wagga Wagga | Mat Studio\, 221 Kincaid Street\, Wagga Wagga\, NSW\, 2650\, Australia
CATEGORIES:Mums and Bubs
END:VEVENT
BEGIN:VEVENT
DTSTART;TZID=Australia/Sydney:20280919T123000
DTEND;TZID=Australia/Sydney:20280919T131500
DTSTAMP:20260425T095531
CREATED:20241204T010916Z
LAST-MODIFIED:20251123T223831Z
UID:10130165-1852979400-1852982100@synergyhealthworks.com
SUMMARY:Pregnancy Matwork Class
DESCRIPTION:
URL:https://synergyhealthworks.com/event/pregnancy-matwork-class-4/2028-09-19/
LOCATION:Wagga Wagga | Mat Studio\, 221 Kincaid Street\, Wagga Wagga\, NSW\, 2650\, Australia
CATEGORIES:Pregnancy Matwork
END:VEVENT
BEGIN:VEVENT
DTSTART;TZID=Australia/Sydney:20280920T123000
DTEND;TZID=Australia/Sydney:20280920T131500
DTSTAMP:20260425T095531
CREATED:20241204T014608Z
LAST-MODIFIED:20251123T221428Z
UID:10099429-1853065800-1853068500@synergyhealthworks.com
SUMMARY:Barre
DESCRIPTION:
URL:https://synergyhealthworks.com/event/barre-2/2028-09-20/
LOCATION:Wagga Wagga | Reformer Studio\, 221 Kincaid Street\, Wagga Wagga\, NSW\, 2650\, Australia
CATEGORIES:Barre
END:VEVENT
BEGIN:VEVENT
DTSTART;TZID=Australia/Sydney:20280920T140000
DTEND;TZID=Australia/Sydney:20280920T144500
DTSTAMP:20260425T095531
CREATED:20251123T222028Z
LAST-MODIFIED:20251123T222107Z
UID:10128331-1853071200-1853073900@synergyhealthworks.com
SUMMARY:Gentle Reformer
DESCRIPTION:
URL:https://synergyhealthworks.com/event/gentle-reformer-12/2028-09-20/
LOCATION:Wagga Wagga | Reformer Studio\, 221 Kincaid Street\, Wagga Wagga\, NSW\, 2650\, Australia
CATEGORIES:Clinical Reformer
END:VEVENT
END:VCALENDAR