BEGIN:VCALENDAR
VERSION:2.0
PRODID:-//Synergy Healthworks - ECPv6.15.20//NONSGML v1.0//EN
CALSCALE:GREGORIAN
METHOD:PUBLISH
X-ORIGINAL-URL:https://synergyhealthworks.com
X-WR-CALDESC:Events for Synergy Healthworks
REFRESH-INTERVAL;VALUE=DURATION:PT1H
X-Robots-Tag:noindex
X-PUBLISHED-TTL:PT1H
BEGIN:VTIMEZONE
TZID:Australia/Sydney
BEGIN:STANDARD
TZOFFSETFROM:+1100
TZOFFSETTO:+1000
TZNAME:AEST
DTSTART:20270403T160000
END:STANDARD
BEGIN:DAYLIGHT
TZOFFSETFROM:+1000
TZOFFSETTO:+1100
TZNAME:AEDT
DTSTART:20271002T160000
END:DAYLIGHT
BEGIN:STANDARD
TZOFFSETFROM:+1100
TZOFFSETTO:+1000
TZNAME:AEST
DTSTART:20280401T160000
END:STANDARD
BEGIN:DAYLIGHT
TZOFFSETFROM:+1000
TZOFFSETTO:+1100
TZNAME:AEDT
DTSTART:20280930T160000
END:DAYLIGHT
BEGIN:STANDARD
TZOFFSETFROM:+1100
TZOFFSETTO:+1000
TZNAME:AEST
DTSTART:20290331T160000
END:STANDARD
BEGIN:DAYLIGHT
TZOFFSETFROM:+1000
TZOFFSETTO:+1100
TZNAME:AEDT
DTSTART:20291006T160000
END:DAYLIGHT
END:VTIMEZONE
BEGIN:VEVENT
DTSTART;TZID=Australia/Sydney:20280621T140000
DTEND;TZID=Australia/Sydney:20280621T144500
DTSTAMP:20260425T051136
CREATED:20251123T222028Z
LAST-MODIFIED:20251123T222107Z
UID:10128318-1845208800-1845211500@synergyhealthworks.com
SUMMARY:Gentle Reformer
DESCRIPTION:
URL:https://synergyhealthworks.com/event/gentle-reformer-12/2028-06-21/
LOCATION:Wagga Wagga | Reformer Studio\, 221 Kincaid Street\, Wagga Wagga\, NSW\, 2650\, Australia
CATEGORIES:Clinical Reformer
END:VEVENT
BEGIN:VEVENT
DTSTART;TZID=Australia/Sydney:20280626T103000
DTEND;TZID=Australia/Sydney:20280626T111500
DTSTAMP:20260425T051136
CREATED:20241204T010434Z
LAST-MODIFIED:20251123T223251Z
UID:10129163-1845628200-1845630900@synergyhealthworks.com
SUMMARY:Matwork Core Class
DESCRIPTION:
URL:https://synergyhealthworks.com/event/matwork-core-class-12/2028-06-26/
LOCATION:Wagga Wagga | Mat Studio\, 221 Kincaid Street\, Wagga Wagga\, NSW\, 2650\, Australia
CATEGORIES:Matwork
END:VEVENT
BEGIN:VEVENT
DTSTART;TZID=Australia/Sydney:20280626T113000
DTEND;TZID=Australia/Sydney:20280626T121500
DTSTAMP:20260425T051136
CREATED:20251123T223427Z
LAST-MODIFIED:20251123T223427Z
UID:10129767-1845631800-1845634500@synergyhealthworks.com
SUMMARY:Mums and Bubs Core Class
DESCRIPTION:
URL:https://synergyhealthworks.com/event/mums-and-bubs-core-class-8/2028-06-26/
LOCATION:Wagga Wagga | Mat Studio\, 221 Kincaid Street\, Wagga Wagga\, NSW\, 2650\, Australia
CATEGORIES:Mums and Bubs
END:VEVENT
BEGIN:VEVENT
DTSTART;TZID=Australia/Sydney:20280627T123000
DTEND;TZID=Australia/Sydney:20280627T131500
DTSTAMP:20260425T051136
CREATED:20241204T010916Z
LAST-MODIFIED:20251123T223831Z
UID:10130153-1845721800-1845724500@synergyhealthworks.com
SUMMARY:Pregnancy Matwork Class
DESCRIPTION:
URL:https://synergyhealthworks.com/event/pregnancy-matwork-class-4/2028-06-27/
LOCATION:Wagga Wagga | Mat Studio\, 221 Kincaid Street\, Wagga Wagga\, NSW\, 2650\, Australia
CATEGORIES:Pregnancy Matwork
END:VEVENT
BEGIN:VEVENT
DTSTART;TZID=Australia/Sydney:20280628T123000
DTEND;TZID=Australia/Sydney:20280628T131500
DTSTAMP:20260425T051136
CREATED:20241204T014608Z
LAST-MODIFIED:20251123T221428Z
UID:10099417-1845808200-1845810900@synergyhealthworks.com
SUMMARY:Barre
DESCRIPTION:
URL:https://synergyhealthworks.com/event/barre-2/2028-06-28/
LOCATION:Wagga Wagga | Reformer Studio\, 221 Kincaid Street\, Wagga Wagga\, NSW\, 2650\, Australia
CATEGORIES:Barre
END:VEVENT
BEGIN:VEVENT
DTSTART;TZID=Australia/Sydney:20280628T140000
DTEND;TZID=Australia/Sydney:20280628T144500
DTSTAMP:20260425T051136
CREATED:20251123T222028Z
LAST-MODIFIED:20251123T222107Z
UID:10128319-1845813600-1845816300@synergyhealthworks.com
SUMMARY:Gentle Reformer
DESCRIPTION:
URL:https://synergyhealthworks.com/event/gentle-reformer-12/2028-06-28/
LOCATION:Wagga Wagga | Reformer Studio\, 221 Kincaid Street\, Wagga Wagga\, NSW\, 2650\, Australia
CATEGORIES:Clinical Reformer
END:VEVENT
BEGIN:VEVENT
DTSTART;TZID=Australia/Sydney:20280703T103000
DTEND;TZID=Australia/Sydney:20280703T111500
DTSTAMP:20260425T051136
CREATED:20241204T010434Z
LAST-MODIFIED:20251123T223251Z
UID:10129164-1846233000-1846235700@synergyhealthworks.com
SUMMARY:Matwork Core Class
DESCRIPTION:
URL:https://synergyhealthworks.com/event/matwork-core-class-12/2028-07-03/
LOCATION:Wagga Wagga | Mat Studio\, 221 Kincaid Street\, Wagga Wagga\, NSW\, 2650\, Australia
CATEGORIES:Matwork
END:VEVENT
BEGIN:VEVENT
DTSTART;TZID=Australia/Sydney:20280703T113000
DTEND;TZID=Australia/Sydney:20280703T121500
DTSTAMP:20260425T051136
CREATED:20251123T223427Z
LAST-MODIFIED:20251123T223427Z
UID:10129768-1846236600-1846239300@synergyhealthworks.com
SUMMARY:Mums and Bubs Core Class
DESCRIPTION:
URL:https://synergyhealthworks.com/event/mums-and-bubs-core-class-8/2028-07-03/
LOCATION:Wagga Wagga | Mat Studio\, 221 Kincaid Street\, Wagga Wagga\, NSW\, 2650\, Australia
CATEGORIES:Mums and Bubs
END:VEVENT
BEGIN:VEVENT
DTSTART;TZID=Australia/Sydney:20280704T123000
DTEND;TZID=Australia/Sydney:20280704T131500
DTSTAMP:20260425T051136
CREATED:20241204T010916Z
LAST-MODIFIED:20251123T223831Z
UID:10130154-1846326600-1846329300@synergyhealthworks.com
SUMMARY:Pregnancy Matwork Class
DESCRIPTION:
URL:https://synergyhealthworks.com/event/pregnancy-matwork-class-4/2028-07-04/
LOCATION:Wagga Wagga | Mat Studio\, 221 Kincaid Street\, Wagga Wagga\, NSW\, 2650\, Australia
CATEGORIES:Pregnancy Matwork
END:VEVENT
BEGIN:VEVENT
DTSTART;TZID=Australia/Sydney:20280705T123000
DTEND;TZID=Australia/Sydney:20280705T131500
DTSTAMP:20260425T051136
CREATED:20241204T014608Z
LAST-MODIFIED:20251123T221428Z
UID:10099418-1846413000-1846415700@synergyhealthworks.com
SUMMARY:Barre
DESCRIPTION:
URL:https://synergyhealthworks.com/event/barre-2/2028-07-05/
LOCATION:Wagga Wagga | Reformer Studio\, 221 Kincaid Street\, Wagga Wagga\, NSW\, 2650\, Australia
CATEGORIES:Barre
END:VEVENT
BEGIN:VEVENT
DTSTART;TZID=Australia/Sydney:20280705T140000
DTEND;TZID=Australia/Sydney:20280705T144500
DTSTAMP:20260425T051136
CREATED:20251123T222028Z
LAST-MODIFIED:20251123T222107Z
UID:10128320-1846418400-1846421100@synergyhealthworks.com
SUMMARY:Gentle Reformer
DESCRIPTION:
URL:https://synergyhealthworks.com/event/gentle-reformer-12/2028-07-05/
LOCATION:Wagga Wagga | Reformer Studio\, 221 Kincaid Street\, Wagga Wagga\, NSW\, 2650\, Australia
CATEGORIES:Clinical Reformer
END:VEVENT
BEGIN:VEVENT
DTSTART;TZID=Australia/Sydney:20280710T103000
DTEND;TZID=Australia/Sydney:20280710T111500
DTSTAMP:20260425T051136
CREATED:20241204T010434Z
LAST-MODIFIED:20251123T223251Z
UID:10129165-1846837800-1846840500@synergyhealthworks.com
SUMMARY:Matwork Core Class
DESCRIPTION:
URL:https://synergyhealthworks.com/event/matwork-core-class-12/2028-07-10/
LOCATION:Wagga Wagga | Mat Studio\, 221 Kincaid Street\, Wagga Wagga\, NSW\, 2650\, Australia
CATEGORIES:Matwork
END:VEVENT
BEGIN:VEVENT
DTSTART;TZID=Australia/Sydney:20280710T113000
DTEND;TZID=Australia/Sydney:20280710T121500
DTSTAMP:20260425T051136
CREATED:20251123T223427Z
LAST-MODIFIED:20251123T223427Z
UID:10129769-1846841400-1846844100@synergyhealthworks.com
SUMMARY:Mums and Bubs Core Class
DESCRIPTION:
URL:https://synergyhealthworks.com/event/mums-and-bubs-core-class-8/2028-07-10/
LOCATION:Wagga Wagga | Mat Studio\, 221 Kincaid Street\, Wagga Wagga\, NSW\, 2650\, Australia
CATEGORIES:Mums and Bubs
END:VEVENT
BEGIN:VEVENT
DTSTART;TZID=Australia/Sydney:20280711T123000
DTEND;TZID=Australia/Sydney:20280711T131500
DTSTAMP:20260425T051136
CREATED:20241204T010916Z
LAST-MODIFIED:20251123T223831Z
UID:10130155-1846931400-1846934100@synergyhealthworks.com
SUMMARY:Pregnancy Matwork Class
DESCRIPTION:
URL:https://synergyhealthworks.com/event/pregnancy-matwork-class-4/2028-07-11/
LOCATION:Wagga Wagga | Mat Studio\, 221 Kincaid Street\, Wagga Wagga\, NSW\, 2650\, Australia
CATEGORIES:Pregnancy Matwork
END:VEVENT
BEGIN:VEVENT
DTSTART;TZID=Australia/Sydney:20280712T123000
DTEND;TZID=Australia/Sydney:20280712T131500
DTSTAMP:20260425T051136
CREATED:20241204T014608Z
LAST-MODIFIED:20251123T221428Z
UID:10099419-1847017800-1847020500@synergyhealthworks.com
SUMMARY:Barre
DESCRIPTION:
URL:https://synergyhealthworks.com/event/barre-2/2028-07-12/
LOCATION:Wagga Wagga | Reformer Studio\, 221 Kincaid Street\, Wagga Wagga\, NSW\, 2650\, Australia
CATEGORIES:Barre
END:VEVENT
BEGIN:VEVENT
DTSTART;TZID=Australia/Sydney:20280712T140000
DTEND;TZID=Australia/Sydney:20280712T144500
DTSTAMP:20260425T051136
CREATED:20251123T222028Z
LAST-MODIFIED:20251123T222107Z
UID:10128321-1847023200-1847025900@synergyhealthworks.com
SUMMARY:Gentle Reformer
DESCRIPTION:
URL:https://synergyhealthworks.com/event/gentle-reformer-12/2028-07-12/
LOCATION:Wagga Wagga | Reformer Studio\, 221 Kincaid Street\, Wagga Wagga\, NSW\, 2650\, Australia
CATEGORIES:Clinical Reformer
END:VEVENT
BEGIN:VEVENT
DTSTART;TZID=Australia/Sydney:20280717T103000
DTEND;TZID=Australia/Sydney:20280717T111500
DTSTAMP:20260425T051136
CREATED:20241204T010434Z
LAST-MODIFIED:20251123T223251Z
UID:10129166-1847442600-1847445300@synergyhealthworks.com
SUMMARY:Matwork Core Class
DESCRIPTION:
URL:https://synergyhealthworks.com/event/matwork-core-class-12/2028-07-17/
LOCATION:Wagga Wagga | Mat Studio\, 221 Kincaid Street\, Wagga Wagga\, NSW\, 2650\, Australia
CATEGORIES:Matwork
END:VEVENT
BEGIN:VEVENT
DTSTART;TZID=Australia/Sydney:20280717T113000
DTEND;TZID=Australia/Sydney:20280717T121500
DTSTAMP:20260425T051136
CREATED:20251123T223427Z
LAST-MODIFIED:20251123T223427Z
UID:10129770-1847446200-1847448900@synergyhealthworks.com
SUMMARY:Mums and Bubs Core Class
DESCRIPTION:
URL:https://synergyhealthworks.com/event/mums-and-bubs-core-class-8/2028-07-17/
LOCATION:Wagga Wagga | Mat Studio\, 221 Kincaid Street\, Wagga Wagga\, NSW\, 2650\, Australia
CATEGORIES:Mums and Bubs
END:VEVENT
BEGIN:VEVENT
DTSTART;TZID=Australia/Sydney:20280718T123000
DTEND;TZID=Australia/Sydney:20280718T131500
DTSTAMP:20260425T051136
CREATED:20241204T010916Z
LAST-MODIFIED:20251123T223831Z
UID:10130156-1847536200-1847538900@synergyhealthworks.com
SUMMARY:Pregnancy Matwork Class
DESCRIPTION:
URL:https://synergyhealthworks.com/event/pregnancy-matwork-class-4/2028-07-18/
LOCATION:Wagga Wagga | Mat Studio\, 221 Kincaid Street\, Wagga Wagga\, NSW\, 2650\, Australia
CATEGORIES:Pregnancy Matwork
END:VEVENT
BEGIN:VEVENT
DTSTART;TZID=Australia/Sydney:20280719T123000
DTEND;TZID=Australia/Sydney:20280719T131500
DTSTAMP:20260425T051136
CREATED:20241204T014608Z
LAST-MODIFIED:20251123T221428Z
UID:10099420-1847622600-1847625300@synergyhealthworks.com
SUMMARY:Barre
DESCRIPTION:
URL:https://synergyhealthworks.com/event/barre-2/2028-07-19/
LOCATION:Wagga Wagga | Reformer Studio\, 221 Kincaid Street\, Wagga Wagga\, NSW\, 2650\, Australia
CATEGORIES:Barre
END:VEVENT
BEGIN:VEVENT
DTSTART;TZID=Australia/Sydney:20280719T140000
DTEND;TZID=Australia/Sydney:20280719T144500
DTSTAMP:20260425T051136
CREATED:20251123T222028Z
LAST-MODIFIED:20251123T222107Z
UID:10128322-1847628000-1847630700@synergyhealthworks.com
SUMMARY:Gentle Reformer
DESCRIPTION:
URL:https://synergyhealthworks.com/event/gentle-reformer-12/2028-07-19/
LOCATION:Wagga Wagga | Reformer Studio\, 221 Kincaid Street\, Wagga Wagga\, NSW\, 2650\, Australia
CATEGORIES:Clinical Reformer
END:VEVENT
BEGIN:VEVENT
DTSTART;TZID=Australia/Sydney:20280724T103000
DTEND;TZID=Australia/Sydney:20280724T111500
DTSTAMP:20260425T051136
CREATED:20241204T010434Z
LAST-MODIFIED:20251123T223251Z
UID:10129167-1848047400-1848050100@synergyhealthworks.com
SUMMARY:Matwork Core Class
DESCRIPTION:
URL:https://synergyhealthworks.com/event/matwork-core-class-12/2028-07-24/
LOCATION:Wagga Wagga | Mat Studio\, 221 Kincaid Street\, Wagga Wagga\, NSW\, 2650\, Australia
CATEGORIES:Matwork
END:VEVENT
BEGIN:VEVENT
DTSTART;TZID=Australia/Sydney:20280724T113000
DTEND;TZID=Australia/Sydney:20280724T121500
DTSTAMP:20260425T051136
CREATED:20251123T223427Z
LAST-MODIFIED:20251123T223427Z
UID:10129771-1848051000-1848053700@synergyhealthworks.com
SUMMARY:Mums and Bubs Core Class
DESCRIPTION:
URL:https://synergyhealthworks.com/event/mums-and-bubs-core-class-8/2028-07-24/
LOCATION:Wagga Wagga | Mat Studio\, 221 Kincaid Street\, Wagga Wagga\, NSW\, 2650\, Australia
CATEGORIES:Mums and Bubs
END:VEVENT
BEGIN:VEVENT
DTSTART;TZID=Australia/Sydney:20280725T123000
DTEND;TZID=Australia/Sydney:20280725T131500
DTSTAMP:20260425T051136
CREATED:20241204T010916Z
LAST-MODIFIED:20251123T223831Z
UID:10130157-1848141000-1848143700@synergyhealthworks.com
SUMMARY:Pregnancy Matwork Class
DESCRIPTION:
URL:https://synergyhealthworks.com/event/pregnancy-matwork-class-4/2028-07-25/
LOCATION:Wagga Wagga | Mat Studio\, 221 Kincaid Street\, Wagga Wagga\, NSW\, 2650\, Australia
CATEGORIES:Pregnancy Matwork
END:VEVENT
BEGIN:VEVENT
DTSTART;TZID=Australia/Sydney:20280726T123000
DTEND;TZID=Australia/Sydney:20280726T131500
DTSTAMP:20260425T051136
CREATED:20241204T014608Z
LAST-MODIFIED:20251123T221428Z
UID:10099421-1848227400-1848230100@synergyhealthworks.com
SUMMARY:Barre
DESCRIPTION:
URL:https://synergyhealthworks.com/event/barre-2/2028-07-26/
LOCATION:Wagga Wagga | Reformer Studio\, 221 Kincaid Street\, Wagga Wagga\, NSW\, 2650\, Australia
CATEGORIES:Barre
END:VEVENT
BEGIN:VEVENT
DTSTART;TZID=Australia/Sydney:20280726T140000
DTEND;TZID=Australia/Sydney:20280726T144500
DTSTAMP:20260425T051136
CREATED:20251123T222028Z
LAST-MODIFIED:20251123T222107Z
UID:10128323-1848232800-1848235500@synergyhealthworks.com
SUMMARY:Gentle Reformer
DESCRIPTION:
URL:https://synergyhealthworks.com/event/gentle-reformer-12/2028-07-26/
LOCATION:Wagga Wagga | Reformer Studio\, 221 Kincaid Street\, Wagga Wagga\, NSW\, 2650\, Australia
CATEGORIES:Clinical Reformer
END:VEVENT
BEGIN:VEVENT
DTSTART;TZID=Australia/Sydney:20280731T103000
DTEND;TZID=Australia/Sydney:20280731T111500
DTSTAMP:20260425T051136
CREATED:20241204T010434Z
LAST-MODIFIED:20251123T223251Z
UID:10129168-1848652200-1848654900@synergyhealthworks.com
SUMMARY:Matwork Core Class
DESCRIPTION:
URL:https://synergyhealthworks.com/event/matwork-core-class-12/2028-07-31/
LOCATION:Wagga Wagga | Mat Studio\, 221 Kincaid Street\, Wagga Wagga\, NSW\, 2650\, Australia
CATEGORIES:Matwork
END:VEVENT
BEGIN:VEVENT
DTSTART;TZID=Australia/Sydney:20280731T113000
DTEND;TZID=Australia/Sydney:20280731T121500
DTSTAMP:20260425T051136
CREATED:20251123T223427Z
LAST-MODIFIED:20251123T223427Z
UID:10129772-1848655800-1848658500@synergyhealthworks.com
SUMMARY:Mums and Bubs Core Class
DESCRIPTION:
URL:https://synergyhealthworks.com/event/mums-and-bubs-core-class-8/2028-07-31/
LOCATION:Wagga Wagga | Mat Studio\, 221 Kincaid Street\, Wagga Wagga\, NSW\, 2650\, Australia
CATEGORIES:Mums and Bubs
END:VEVENT
BEGIN:VEVENT
DTSTART;TZID=Australia/Sydney:20280801T123000
DTEND;TZID=Australia/Sydney:20280801T131500
DTSTAMP:20260425T051136
CREATED:20241204T010916Z
LAST-MODIFIED:20251123T223831Z
UID:10130158-1848745800-1848748500@synergyhealthworks.com
SUMMARY:Pregnancy Matwork Class
DESCRIPTION:
URL:https://synergyhealthworks.com/event/pregnancy-matwork-class-4/2028-08-01/
LOCATION:Wagga Wagga | Mat Studio\, 221 Kincaid Street\, Wagga Wagga\, NSW\, 2650\, Australia
CATEGORIES:Pregnancy Matwork
END:VEVENT
BEGIN:VEVENT
DTSTART;TZID=Australia/Sydney:20280802T123000
DTEND;TZID=Australia/Sydney:20280802T131500
DTSTAMP:20260425T051136
CREATED:20241204T014608Z
LAST-MODIFIED:20251123T221428Z
UID:10099422-1848832200-1848834900@synergyhealthworks.com
SUMMARY:Barre
DESCRIPTION:
URL:https://synergyhealthworks.com/event/barre-2/2028-08-02/
LOCATION:Wagga Wagga | Reformer Studio\, 221 Kincaid Street\, Wagga Wagga\, NSW\, 2650\, Australia
CATEGORIES:Barre
END:VEVENT
END:VCALENDAR