BEGIN:VCALENDAR
VERSION:2.0
PRODID:-//Synergy Healthworks - ECPv6.15.20//NONSGML v1.0//EN
CALSCALE:GREGORIAN
METHOD:PUBLISH
X-WR-CALNAME:Synergy Healthworks
X-ORIGINAL-URL:https://synergyhealthworks.com
X-WR-CALDESC:Events for Synergy Healthworks
REFRESH-INTERVAL;VALUE=DURATION:PT1H
X-Robots-Tag:noindex
X-PUBLISHED-TTL:PT1H
BEGIN:VTIMEZONE
TZID:Australia/Sydney
BEGIN:STANDARD
TZOFFSETFROM:+1100
TZOFFSETTO:+1000
TZNAME:AEST
DTSTART:20270403T160000
END:STANDARD
BEGIN:DAYLIGHT
TZOFFSETFROM:+1000
TZOFFSETTO:+1100
TZNAME:AEDT
DTSTART:20271002T160000
END:DAYLIGHT
BEGIN:STANDARD
TZOFFSETFROM:+1100
TZOFFSETTO:+1000
TZNAME:AEST
DTSTART:20280401T160000
END:STANDARD
BEGIN:DAYLIGHT
TZOFFSETFROM:+1000
TZOFFSETTO:+1100
TZNAME:AEDT
DTSTART:20280930T160000
END:DAYLIGHT
BEGIN:STANDARD
TZOFFSETFROM:+1100
TZOFFSETTO:+1000
TZNAME:AEST
DTSTART:20290331T160000
END:STANDARD
BEGIN:DAYLIGHT
TZOFFSETFROM:+1000
TZOFFSETTO:+1100
TZNAME:AEDT
DTSTART:20291006T160000
END:DAYLIGHT
END:VTIMEZONE
BEGIN:VEVENT
DTSTART;TZID=Australia/Sydney:20280522T103000
DTEND;TZID=Australia/Sydney:20280522T111500
DTSTAMP:20260425T014349
CREATED:20241204T010434Z
LAST-MODIFIED:20251123T223251Z
UID:10129158-1842604200-1842606900@synergyhealthworks.com
SUMMARY:Matwork Core Class
DESCRIPTION:
URL:https://synergyhealthworks.com/event/matwork-core-class-12/2028-05-22/
LOCATION:Wagga Wagga | Mat Studio\, 221 Kincaid Street\, Wagga Wagga\, NSW\, 2650\, Australia
CATEGORIES:Matwork
END:VEVENT
BEGIN:VEVENT
DTSTART;TZID=Australia/Sydney:20280522T113000
DTEND;TZID=Australia/Sydney:20280522T121500
DTSTAMP:20260425T014349
CREATED:20251123T223427Z
LAST-MODIFIED:20251123T223427Z
UID:10129762-1842607800-1842610500@synergyhealthworks.com
SUMMARY:Mums and Bubs Core Class
DESCRIPTION:
URL:https://synergyhealthworks.com/event/mums-and-bubs-core-class-8/2028-05-22/
LOCATION:Wagga Wagga | Mat Studio\, 221 Kincaid Street\, Wagga Wagga\, NSW\, 2650\, Australia
CATEGORIES:Mums and Bubs
END:VEVENT
BEGIN:VEVENT
DTSTART;TZID=Australia/Sydney:20280523T123000
DTEND;TZID=Australia/Sydney:20280523T131500
DTSTAMP:20260425T014349
CREATED:20241204T010916Z
LAST-MODIFIED:20251123T223831Z
UID:10130148-1842697800-1842700500@synergyhealthworks.com
SUMMARY:Pregnancy Matwork Class
DESCRIPTION:
URL:https://synergyhealthworks.com/event/pregnancy-matwork-class-4/2028-05-23/
LOCATION:Wagga Wagga | Mat Studio\, 221 Kincaid Street\, Wagga Wagga\, NSW\, 2650\, Australia
CATEGORIES:Pregnancy Matwork
END:VEVENT
BEGIN:VEVENT
DTSTART;TZID=Australia/Sydney:20280524T123000
DTEND;TZID=Australia/Sydney:20280524T131500
DTSTAMP:20260425T014349
CREATED:20241204T014608Z
LAST-MODIFIED:20251123T221428Z
UID:10099412-1842784200-1842786900@synergyhealthworks.com
SUMMARY:Barre
DESCRIPTION:
URL:https://synergyhealthworks.com/event/barre-2/2028-05-24/
LOCATION:Wagga Wagga | Reformer Studio\, 221 Kincaid Street\, Wagga Wagga\, NSW\, 2650\, Australia
CATEGORIES:Barre
END:VEVENT
BEGIN:VEVENT
DTSTART;TZID=Australia/Sydney:20280524T140000
DTEND;TZID=Australia/Sydney:20280524T144500
DTSTAMP:20260425T014349
CREATED:20251123T222028Z
LAST-MODIFIED:20251123T222107Z
UID:10128314-1842789600-1842792300@synergyhealthworks.com
SUMMARY:Gentle Reformer
DESCRIPTION:
URL:https://synergyhealthworks.com/event/gentle-reformer-12/2028-05-24/
LOCATION:Wagga Wagga | Reformer Studio\, 221 Kincaid Street\, Wagga Wagga\, NSW\, 2650\, Australia
CATEGORIES:Clinical Reformer
END:VEVENT
BEGIN:VEVENT
DTSTART;TZID=Australia/Sydney:20280529T103000
DTEND;TZID=Australia/Sydney:20280529T111500
DTSTAMP:20260425T014349
CREATED:20241204T010434Z
LAST-MODIFIED:20251123T223251Z
UID:10129159-1843209000-1843211700@synergyhealthworks.com
SUMMARY:Matwork Core Class
DESCRIPTION:
URL:https://synergyhealthworks.com/event/matwork-core-class-12/2028-05-29/
LOCATION:Wagga Wagga | Mat Studio\, 221 Kincaid Street\, Wagga Wagga\, NSW\, 2650\, Australia
CATEGORIES:Matwork
END:VEVENT
BEGIN:VEVENT
DTSTART;TZID=Australia/Sydney:20280529T113000
DTEND;TZID=Australia/Sydney:20280529T121500
DTSTAMP:20260425T014349
CREATED:20251123T223427Z
LAST-MODIFIED:20251123T223427Z
UID:10129763-1843212600-1843215300@synergyhealthworks.com
SUMMARY:Mums and Bubs Core Class
DESCRIPTION:
URL:https://synergyhealthworks.com/event/mums-and-bubs-core-class-8/2028-05-29/
LOCATION:Wagga Wagga | Mat Studio\, 221 Kincaid Street\, Wagga Wagga\, NSW\, 2650\, Australia
CATEGORIES:Mums and Bubs
END:VEVENT
BEGIN:VEVENT
DTSTART;TZID=Australia/Sydney:20280530T123000
DTEND;TZID=Australia/Sydney:20280530T131500
DTSTAMP:20260425T014349
CREATED:20241204T010916Z
LAST-MODIFIED:20251123T223831Z
UID:10130149-1843302600-1843305300@synergyhealthworks.com
SUMMARY:Pregnancy Matwork Class
DESCRIPTION:
URL:https://synergyhealthworks.com/event/pregnancy-matwork-class-4/2028-05-30/
LOCATION:Wagga Wagga | Mat Studio\, 221 Kincaid Street\, Wagga Wagga\, NSW\, 2650\, Australia
CATEGORIES:Pregnancy Matwork
END:VEVENT
BEGIN:VEVENT
DTSTART;TZID=Australia/Sydney:20280531T123000
DTEND;TZID=Australia/Sydney:20280531T131500
DTSTAMP:20260425T014349
CREATED:20241204T014608Z
LAST-MODIFIED:20251123T221428Z
UID:10099413-1843389000-1843391700@synergyhealthworks.com
SUMMARY:Barre
DESCRIPTION:
URL:https://synergyhealthworks.com/event/barre-2/2028-05-31/
LOCATION:Wagga Wagga | Reformer Studio\, 221 Kincaid Street\, Wagga Wagga\, NSW\, 2650\, Australia
CATEGORIES:Barre
END:VEVENT
BEGIN:VEVENT
DTSTART;TZID=Australia/Sydney:20280531T140000
DTEND;TZID=Australia/Sydney:20280531T144500
DTSTAMP:20260425T014349
CREATED:20251123T222028Z
LAST-MODIFIED:20251123T222107Z
UID:10128315-1843394400-1843397100@synergyhealthworks.com
SUMMARY:Gentle Reformer
DESCRIPTION:
URL:https://synergyhealthworks.com/event/gentle-reformer-12/2028-05-31/
LOCATION:Wagga Wagga | Reformer Studio\, 221 Kincaid Street\, Wagga Wagga\, NSW\, 2650\, Australia
CATEGORIES:Clinical Reformer
END:VEVENT
BEGIN:VEVENT
DTSTART;TZID=Australia/Sydney:20280605T103000
DTEND;TZID=Australia/Sydney:20280605T111500
DTSTAMP:20260425T014349
CREATED:20241204T010434Z
LAST-MODIFIED:20251123T223251Z
UID:10129160-1843813800-1843816500@synergyhealthworks.com
SUMMARY:Matwork Core Class
DESCRIPTION:
URL:https://synergyhealthworks.com/event/matwork-core-class-12/2028-06-05/
LOCATION:Wagga Wagga | Mat Studio\, 221 Kincaid Street\, Wagga Wagga\, NSW\, 2650\, Australia
CATEGORIES:Matwork
END:VEVENT
BEGIN:VEVENT
DTSTART;TZID=Australia/Sydney:20280605T113000
DTEND;TZID=Australia/Sydney:20280605T121500
DTSTAMP:20260425T014349
CREATED:20251123T223427Z
LAST-MODIFIED:20251123T223427Z
UID:10129764-1843817400-1843820100@synergyhealthworks.com
SUMMARY:Mums and Bubs Core Class
DESCRIPTION:
URL:https://synergyhealthworks.com/event/mums-and-bubs-core-class-8/2028-06-05/
LOCATION:Wagga Wagga | Mat Studio\, 221 Kincaid Street\, Wagga Wagga\, NSW\, 2650\, Australia
CATEGORIES:Mums and Bubs
END:VEVENT
BEGIN:VEVENT
DTSTART;TZID=Australia/Sydney:20280606T123000
DTEND;TZID=Australia/Sydney:20280606T131500
DTSTAMP:20260425T014349
CREATED:20241204T010916Z
LAST-MODIFIED:20251123T223831Z
UID:10130150-1843907400-1843910100@synergyhealthworks.com
SUMMARY:Pregnancy Matwork Class
DESCRIPTION:
URL:https://synergyhealthworks.com/event/pregnancy-matwork-class-4/2028-06-06/
LOCATION:Wagga Wagga | Mat Studio\, 221 Kincaid Street\, Wagga Wagga\, NSW\, 2650\, Australia
CATEGORIES:Pregnancy Matwork
END:VEVENT
BEGIN:VEVENT
DTSTART;TZID=Australia/Sydney:20280607T123000
DTEND;TZID=Australia/Sydney:20280607T131500
DTSTAMP:20260425T014349
CREATED:20241204T014608Z
LAST-MODIFIED:20251123T221428Z
UID:10099414-1843993800-1843996500@synergyhealthworks.com
SUMMARY:Barre
DESCRIPTION:
URL:https://synergyhealthworks.com/event/barre-2/2028-06-07/
LOCATION:Wagga Wagga | Reformer Studio\, 221 Kincaid Street\, Wagga Wagga\, NSW\, 2650\, Australia
CATEGORIES:Barre
END:VEVENT
BEGIN:VEVENT
DTSTART;TZID=Australia/Sydney:20280607T140000
DTEND;TZID=Australia/Sydney:20280607T144500
DTSTAMP:20260425T014349
CREATED:20251123T222028Z
LAST-MODIFIED:20251123T222107Z
UID:10128316-1843999200-1844001900@synergyhealthworks.com
SUMMARY:Gentle Reformer
DESCRIPTION:
URL:https://synergyhealthworks.com/event/gentle-reformer-12/2028-06-07/
LOCATION:Wagga Wagga | Reformer Studio\, 221 Kincaid Street\, Wagga Wagga\, NSW\, 2650\, Australia
CATEGORIES:Clinical Reformer
END:VEVENT
BEGIN:VEVENT
DTSTART;TZID=Australia/Sydney:20280612T103000
DTEND;TZID=Australia/Sydney:20280612T111500
DTSTAMP:20260425T014349
CREATED:20241204T010434Z
LAST-MODIFIED:20251123T223251Z
UID:10129161-1844418600-1844421300@synergyhealthworks.com
SUMMARY:Matwork Core Class
DESCRIPTION:
URL:https://synergyhealthworks.com/event/matwork-core-class-12/2028-06-12/
LOCATION:Wagga Wagga | Mat Studio\, 221 Kincaid Street\, Wagga Wagga\, NSW\, 2650\, Australia
CATEGORIES:Matwork
END:VEVENT
BEGIN:VEVENT
DTSTART;TZID=Australia/Sydney:20280612T113000
DTEND;TZID=Australia/Sydney:20280612T121500
DTSTAMP:20260425T014349
CREATED:20251123T223427Z
LAST-MODIFIED:20251123T223427Z
UID:10129765-1844422200-1844424900@synergyhealthworks.com
SUMMARY:Mums and Bubs Core Class
DESCRIPTION:
URL:https://synergyhealthworks.com/event/mums-and-bubs-core-class-8/2028-06-12/
LOCATION:Wagga Wagga | Mat Studio\, 221 Kincaid Street\, Wagga Wagga\, NSW\, 2650\, Australia
CATEGORIES:Mums and Bubs
END:VEVENT
BEGIN:VEVENT
DTSTART;TZID=Australia/Sydney:20280613T123000
DTEND;TZID=Australia/Sydney:20280613T131500
DTSTAMP:20260425T014349
CREATED:20241204T010916Z
LAST-MODIFIED:20251123T223831Z
UID:10130151-1844512200-1844514900@synergyhealthworks.com
SUMMARY:Pregnancy Matwork Class
DESCRIPTION:
URL:https://synergyhealthworks.com/event/pregnancy-matwork-class-4/2028-06-13/
LOCATION:Wagga Wagga | Mat Studio\, 221 Kincaid Street\, Wagga Wagga\, NSW\, 2650\, Australia
CATEGORIES:Pregnancy Matwork
END:VEVENT
BEGIN:VEVENT
DTSTART;TZID=Australia/Sydney:20280614T123000
DTEND;TZID=Australia/Sydney:20280614T131500
DTSTAMP:20260425T014349
CREATED:20241204T014608Z
LAST-MODIFIED:20251123T221428Z
UID:10099415-1844598600-1844601300@synergyhealthworks.com
SUMMARY:Barre
DESCRIPTION:
URL:https://synergyhealthworks.com/event/barre-2/2028-06-14/
LOCATION:Wagga Wagga | Reformer Studio\, 221 Kincaid Street\, Wagga Wagga\, NSW\, 2650\, Australia
CATEGORIES:Barre
END:VEVENT
BEGIN:VEVENT
DTSTART;TZID=Australia/Sydney:20280614T140000
DTEND;TZID=Australia/Sydney:20280614T144500
DTSTAMP:20260425T014349
CREATED:20251123T222028Z
LAST-MODIFIED:20251123T222107Z
UID:10128317-1844604000-1844606700@synergyhealthworks.com
SUMMARY:Gentle Reformer
DESCRIPTION:
URL:https://synergyhealthworks.com/event/gentle-reformer-12/2028-06-14/
LOCATION:Wagga Wagga | Reformer Studio\, 221 Kincaid Street\, Wagga Wagga\, NSW\, 2650\, Australia
CATEGORIES:Clinical Reformer
END:VEVENT
BEGIN:VEVENT
DTSTART;TZID=Australia/Sydney:20280619T103000
DTEND;TZID=Australia/Sydney:20280619T111500
DTSTAMP:20260425T014349
CREATED:20241204T010434Z
LAST-MODIFIED:20251123T223251Z
UID:10129162-1845023400-1845026100@synergyhealthworks.com
SUMMARY:Matwork Core Class
DESCRIPTION:
URL:https://synergyhealthworks.com/event/matwork-core-class-12/2028-06-19/
LOCATION:Wagga Wagga | Mat Studio\, 221 Kincaid Street\, Wagga Wagga\, NSW\, 2650\, Australia
CATEGORIES:Matwork
END:VEVENT
BEGIN:VEVENT
DTSTART;TZID=Australia/Sydney:20280619T113000
DTEND;TZID=Australia/Sydney:20280619T121500
DTSTAMP:20260425T014349
CREATED:20251123T223427Z
LAST-MODIFIED:20251123T223427Z
UID:10129766-1845027000-1845029700@synergyhealthworks.com
SUMMARY:Mums and Bubs Core Class
DESCRIPTION:
URL:https://synergyhealthworks.com/event/mums-and-bubs-core-class-8/2028-06-19/
LOCATION:Wagga Wagga | Mat Studio\, 221 Kincaid Street\, Wagga Wagga\, NSW\, 2650\, Australia
CATEGORIES:Mums and Bubs
END:VEVENT
BEGIN:VEVENT
DTSTART;TZID=Australia/Sydney:20280620T123000
DTEND;TZID=Australia/Sydney:20280620T131500
DTSTAMP:20260425T014349
CREATED:20241204T010916Z
LAST-MODIFIED:20251123T223831Z
UID:10130152-1845117000-1845119700@synergyhealthworks.com
SUMMARY:Pregnancy Matwork Class
DESCRIPTION:
URL:https://synergyhealthworks.com/event/pregnancy-matwork-class-4/2028-06-20/
LOCATION:Wagga Wagga | Mat Studio\, 221 Kincaid Street\, Wagga Wagga\, NSW\, 2650\, Australia
CATEGORIES:Pregnancy Matwork
END:VEVENT
BEGIN:VEVENT
DTSTART;TZID=Australia/Sydney:20280621T123000
DTEND;TZID=Australia/Sydney:20280621T131500
DTSTAMP:20260425T014349
CREATED:20241204T014608Z
LAST-MODIFIED:20251123T221428Z
UID:10099416-1845203400-1845206100@synergyhealthworks.com
SUMMARY:Barre
DESCRIPTION:
URL:https://synergyhealthworks.com/event/barre-2/2028-06-21/
LOCATION:Wagga Wagga | Reformer Studio\, 221 Kincaid Street\, Wagga Wagga\, NSW\, 2650\, Australia
CATEGORIES:Barre
END:VEVENT
BEGIN:VEVENT
DTSTART;TZID=Australia/Sydney:20280621T140000
DTEND;TZID=Australia/Sydney:20280621T144500
DTSTAMP:20260425T014349
CREATED:20251123T222028Z
LAST-MODIFIED:20251123T222107Z
UID:10128318-1845208800-1845211500@synergyhealthworks.com
SUMMARY:Gentle Reformer
DESCRIPTION:
URL:https://synergyhealthworks.com/event/gentle-reformer-12/2028-06-21/
LOCATION:Wagga Wagga | Reformer Studio\, 221 Kincaid Street\, Wagga Wagga\, NSW\, 2650\, Australia
CATEGORIES:Clinical Reformer
END:VEVENT
BEGIN:VEVENT
DTSTART;TZID=Australia/Sydney:20280626T103000
DTEND;TZID=Australia/Sydney:20280626T111500
DTSTAMP:20260425T014349
CREATED:20241204T010434Z
LAST-MODIFIED:20251123T223251Z
UID:10129163-1845628200-1845630900@synergyhealthworks.com
SUMMARY:Matwork Core Class
DESCRIPTION:
URL:https://synergyhealthworks.com/event/matwork-core-class-12/2028-06-26/
LOCATION:Wagga Wagga | Mat Studio\, 221 Kincaid Street\, Wagga Wagga\, NSW\, 2650\, Australia
CATEGORIES:Matwork
END:VEVENT
BEGIN:VEVENT
DTSTART;TZID=Australia/Sydney:20280626T113000
DTEND;TZID=Australia/Sydney:20280626T121500
DTSTAMP:20260425T014349
CREATED:20251123T223427Z
LAST-MODIFIED:20251123T223427Z
UID:10129767-1845631800-1845634500@synergyhealthworks.com
SUMMARY:Mums and Bubs Core Class
DESCRIPTION:
URL:https://synergyhealthworks.com/event/mums-and-bubs-core-class-8/2028-06-26/
LOCATION:Wagga Wagga | Mat Studio\, 221 Kincaid Street\, Wagga Wagga\, NSW\, 2650\, Australia
CATEGORIES:Mums and Bubs
END:VEVENT
BEGIN:VEVENT
DTSTART;TZID=Australia/Sydney:20280627T123000
DTEND;TZID=Australia/Sydney:20280627T131500
DTSTAMP:20260425T014349
CREATED:20241204T010916Z
LAST-MODIFIED:20251123T223831Z
UID:10130153-1845721800-1845724500@synergyhealthworks.com
SUMMARY:Pregnancy Matwork Class
DESCRIPTION:
URL:https://synergyhealthworks.com/event/pregnancy-matwork-class-4/2028-06-27/
LOCATION:Wagga Wagga | Mat Studio\, 221 Kincaid Street\, Wagga Wagga\, NSW\, 2650\, Australia
CATEGORIES:Pregnancy Matwork
END:VEVENT
BEGIN:VEVENT
DTSTART;TZID=Australia/Sydney:20280628T123000
DTEND;TZID=Australia/Sydney:20280628T131500
DTSTAMP:20260425T014349
CREATED:20241204T014608Z
LAST-MODIFIED:20251123T221428Z
UID:10099417-1845808200-1845810900@synergyhealthworks.com
SUMMARY:Barre
DESCRIPTION:
URL:https://synergyhealthworks.com/event/barre-2/2028-06-28/
LOCATION:Wagga Wagga | Reformer Studio\, 221 Kincaid Street\, Wagga Wagga\, NSW\, 2650\, Australia
CATEGORIES:Barre
END:VEVENT
BEGIN:VEVENT
DTSTART;TZID=Australia/Sydney:20280628T140000
DTEND;TZID=Australia/Sydney:20280628T144500
DTSTAMP:20260425T014349
CREATED:20251123T222028Z
LAST-MODIFIED:20251123T222107Z
UID:10128319-1845813600-1845816300@synergyhealthworks.com
SUMMARY:Gentle Reformer
DESCRIPTION:
URL:https://synergyhealthworks.com/event/gentle-reformer-12/2028-06-28/
LOCATION:Wagga Wagga | Reformer Studio\, 221 Kincaid Street\, Wagga Wagga\, NSW\, 2650\, Australia
CATEGORIES:Clinical Reformer
END:VEVENT
END:VCALENDAR