BEGIN:VCALENDAR
VERSION:2.0
PRODID:-//Synergy Healthworks - ECPv6.15.20//NONSGML v1.0//EN
CALSCALE:GREGORIAN
METHOD:PUBLISH
X-WR-CALNAME:Synergy Healthworks
X-ORIGINAL-URL:https://synergyhealthworks.com
X-WR-CALDESC:Events for Synergy Healthworks
REFRESH-INTERVAL;VALUE=DURATION:PT1H
X-Robots-Tag:noindex
X-PUBLISHED-TTL:PT1H
BEGIN:VTIMEZONE
TZID:Australia/Sydney
BEGIN:STANDARD
TZOFFSETFROM:+1100
TZOFFSETTO:+1000
TZNAME:AEST
DTSTART:20270403T160000
END:STANDARD
BEGIN:DAYLIGHT
TZOFFSETFROM:+1000
TZOFFSETTO:+1100
TZNAME:AEDT
DTSTART:20271002T160000
END:DAYLIGHT
BEGIN:STANDARD
TZOFFSETFROM:+1100
TZOFFSETTO:+1000
TZNAME:AEST
DTSTART:20280401T160000
END:STANDARD
BEGIN:DAYLIGHT
TZOFFSETFROM:+1000
TZOFFSETTO:+1100
TZNAME:AEDT
DTSTART:20280930T160000
END:DAYLIGHT
BEGIN:STANDARD
TZOFFSETFROM:+1100
TZOFFSETTO:+1000
TZNAME:AEST
DTSTART:20290331T160000
END:STANDARD
BEGIN:DAYLIGHT
TZOFFSETFROM:+1000
TZOFFSETTO:+1100
TZNAME:AEDT
DTSTART:20291006T160000
END:DAYLIGHT
END:VTIMEZONE
BEGIN:VEVENT
DTSTART;TZID=Australia/Sydney:20280417T113000
DTEND;TZID=Australia/Sydney:20280417T121500
DTSTAMP:20260424T220655
CREATED:20251123T223427Z
LAST-MODIFIED:20251123T223427Z
UID:10129757-1839583800-1839586500@synergyhealthworks.com
SUMMARY:Mums and Bubs Core Class
DESCRIPTION:
URL:https://synergyhealthworks.com/event/mums-and-bubs-core-class-8/2028-04-17/
LOCATION:Wagga Wagga | Mat Studio\, 221 Kincaid Street\, Wagga Wagga\, NSW\, 2650\, Australia
CATEGORIES:Mums and Bubs
END:VEVENT
BEGIN:VEVENT
DTSTART;TZID=Australia/Sydney:20280418T123000
DTEND;TZID=Australia/Sydney:20280418T131500
DTSTAMP:20260424T220655
CREATED:20241204T010916Z
LAST-MODIFIED:20251123T223831Z
UID:10130143-1839673800-1839676500@synergyhealthworks.com
SUMMARY:Pregnancy Matwork Class
DESCRIPTION:
URL:https://synergyhealthworks.com/event/pregnancy-matwork-class-4/2028-04-18/
LOCATION:Wagga Wagga | Mat Studio\, 221 Kincaid Street\, Wagga Wagga\, NSW\, 2650\, Australia
CATEGORIES:Pregnancy Matwork
END:VEVENT
BEGIN:VEVENT
DTSTART;TZID=Australia/Sydney:20280419T123000
DTEND;TZID=Australia/Sydney:20280419T131500
DTSTAMP:20260424T220655
CREATED:20241204T014608Z
LAST-MODIFIED:20251123T221428Z
UID:10099407-1839760200-1839762900@synergyhealthworks.com
SUMMARY:Barre
DESCRIPTION:
URL:https://synergyhealthworks.com/event/barre-2/2028-04-19/
LOCATION:Wagga Wagga | Reformer Studio\, 221 Kincaid Street\, Wagga Wagga\, NSW\, 2650\, Australia
CATEGORIES:Barre
END:VEVENT
BEGIN:VEVENT
DTSTART;TZID=Australia/Sydney:20280419T140000
DTEND;TZID=Australia/Sydney:20280419T144500
DTSTAMP:20260424T220655
CREATED:20251123T222028Z
LAST-MODIFIED:20251123T222107Z
UID:10128309-1839765600-1839768300@synergyhealthworks.com
SUMMARY:Gentle Reformer
DESCRIPTION:
URL:https://synergyhealthworks.com/event/gentle-reformer-12/2028-04-19/
LOCATION:Wagga Wagga | Reformer Studio\, 221 Kincaid Street\, Wagga Wagga\, NSW\, 2650\, Australia
CATEGORIES:Clinical Reformer
END:VEVENT
BEGIN:VEVENT
DTSTART;TZID=Australia/Sydney:20280424T103000
DTEND;TZID=Australia/Sydney:20280424T111500
DTSTAMP:20260424T220655
CREATED:20241204T010434Z
LAST-MODIFIED:20251123T223251Z
UID:10129154-1840185000-1840187700@synergyhealthworks.com
SUMMARY:Matwork Core Class
DESCRIPTION:
URL:https://synergyhealthworks.com/event/matwork-core-class-12/2028-04-24/
LOCATION:Wagga Wagga | Mat Studio\, 221 Kincaid Street\, Wagga Wagga\, NSW\, 2650\, Australia
CATEGORIES:Matwork
END:VEVENT
BEGIN:VEVENT
DTSTART;TZID=Australia/Sydney:20280424T113000
DTEND;TZID=Australia/Sydney:20280424T121500
DTSTAMP:20260424T220655
CREATED:20251123T223427Z
LAST-MODIFIED:20251123T223427Z
UID:10129758-1840188600-1840191300@synergyhealthworks.com
SUMMARY:Mums and Bubs Core Class
DESCRIPTION:
URL:https://synergyhealthworks.com/event/mums-and-bubs-core-class-8/2028-04-24/
LOCATION:Wagga Wagga | Mat Studio\, 221 Kincaid Street\, Wagga Wagga\, NSW\, 2650\, Australia
CATEGORIES:Mums and Bubs
END:VEVENT
BEGIN:VEVENT
DTSTART;TZID=Australia/Sydney:20280425T123000
DTEND;TZID=Australia/Sydney:20280425T131500
DTSTAMP:20260424T220655
CREATED:20241204T010916Z
LAST-MODIFIED:20251123T223831Z
UID:10130144-1840278600-1840281300@synergyhealthworks.com
SUMMARY:Pregnancy Matwork Class
DESCRIPTION:
URL:https://synergyhealthworks.com/event/pregnancy-matwork-class-4/2028-04-25/
LOCATION:Wagga Wagga | Mat Studio\, 221 Kincaid Street\, Wagga Wagga\, NSW\, 2650\, Australia
CATEGORIES:Pregnancy Matwork
END:VEVENT
BEGIN:VEVENT
DTSTART;TZID=Australia/Sydney:20280426T123000
DTEND;TZID=Australia/Sydney:20280426T131500
DTSTAMP:20260424T220655
CREATED:20241204T014608Z
LAST-MODIFIED:20251123T221428Z
UID:10099408-1840365000-1840367700@synergyhealthworks.com
SUMMARY:Barre
DESCRIPTION:
URL:https://synergyhealthworks.com/event/barre-2/2028-04-26/
LOCATION:Wagga Wagga | Reformer Studio\, 221 Kincaid Street\, Wagga Wagga\, NSW\, 2650\, Australia
CATEGORIES:Barre
END:VEVENT
BEGIN:VEVENT
DTSTART;TZID=Australia/Sydney:20280426T140000
DTEND;TZID=Australia/Sydney:20280426T144500
DTSTAMP:20260424T220655
CREATED:20251123T222028Z
LAST-MODIFIED:20251123T222107Z
UID:10128310-1840370400-1840373100@synergyhealthworks.com
SUMMARY:Gentle Reformer
DESCRIPTION:
URL:https://synergyhealthworks.com/event/gentle-reformer-12/2028-04-26/
LOCATION:Wagga Wagga | Reformer Studio\, 221 Kincaid Street\, Wagga Wagga\, NSW\, 2650\, Australia
CATEGORIES:Clinical Reformer
END:VEVENT
BEGIN:VEVENT
DTSTART;TZID=Australia/Sydney:20280501T103000
DTEND;TZID=Australia/Sydney:20280501T111500
DTSTAMP:20260424T220655
CREATED:20241204T010434Z
LAST-MODIFIED:20251123T223251Z
UID:10129155-1840789800-1840792500@synergyhealthworks.com
SUMMARY:Matwork Core Class
DESCRIPTION:
URL:https://synergyhealthworks.com/event/matwork-core-class-12/2028-05-01/
LOCATION:Wagga Wagga | Mat Studio\, 221 Kincaid Street\, Wagga Wagga\, NSW\, 2650\, Australia
CATEGORIES:Matwork
END:VEVENT
BEGIN:VEVENT
DTSTART;TZID=Australia/Sydney:20280501T113000
DTEND;TZID=Australia/Sydney:20280501T121500
DTSTAMP:20260424T220655
CREATED:20251123T223427Z
LAST-MODIFIED:20251123T223427Z
UID:10129759-1840793400-1840796100@synergyhealthworks.com
SUMMARY:Mums and Bubs Core Class
DESCRIPTION:
URL:https://synergyhealthworks.com/event/mums-and-bubs-core-class-8/2028-05-01/
LOCATION:Wagga Wagga | Mat Studio\, 221 Kincaid Street\, Wagga Wagga\, NSW\, 2650\, Australia
CATEGORIES:Mums and Bubs
END:VEVENT
BEGIN:VEVENT
DTSTART;TZID=Australia/Sydney:20280502T123000
DTEND;TZID=Australia/Sydney:20280502T131500
DTSTAMP:20260424T220655
CREATED:20241204T010916Z
LAST-MODIFIED:20251123T223831Z
UID:10130145-1840883400-1840886100@synergyhealthworks.com
SUMMARY:Pregnancy Matwork Class
DESCRIPTION:
URL:https://synergyhealthworks.com/event/pregnancy-matwork-class-4/2028-05-02/
LOCATION:Wagga Wagga | Mat Studio\, 221 Kincaid Street\, Wagga Wagga\, NSW\, 2650\, Australia
CATEGORIES:Pregnancy Matwork
END:VEVENT
BEGIN:VEVENT
DTSTART;TZID=Australia/Sydney:20280503T123000
DTEND;TZID=Australia/Sydney:20280503T131500
DTSTAMP:20260424T220655
CREATED:20241204T014608Z
LAST-MODIFIED:20251123T221428Z
UID:10099409-1840969800-1840972500@synergyhealthworks.com
SUMMARY:Barre
DESCRIPTION:
URL:https://synergyhealthworks.com/event/barre-2/2028-05-03/
LOCATION:Wagga Wagga | Reformer Studio\, 221 Kincaid Street\, Wagga Wagga\, NSW\, 2650\, Australia
CATEGORIES:Barre
END:VEVENT
BEGIN:VEVENT
DTSTART;TZID=Australia/Sydney:20280503T140000
DTEND;TZID=Australia/Sydney:20280503T144500
DTSTAMP:20260424T220655
CREATED:20251123T222028Z
LAST-MODIFIED:20251123T222107Z
UID:10128311-1840975200-1840977900@synergyhealthworks.com
SUMMARY:Gentle Reformer
DESCRIPTION:
URL:https://synergyhealthworks.com/event/gentle-reformer-12/2028-05-03/
LOCATION:Wagga Wagga | Reformer Studio\, 221 Kincaid Street\, Wagga Wagga\, NSW\, 2650\, Australia
CATEGORIES:Clinical Reformer
END:VEVENT
BEGIN:VEVENT
DTSTART;TZID=Australia/Sydney:20280508T103000
DTEND;TZID=Australia/Sydney:20280508T111500
DTSTAMP:20260424T220655
CREATED:20241204T010434Z
LAST-MODIFIED:20251123T223251Z
UID:10129156-1841394600-1841397300@synergyhealthworks.com
SUMMARY:Matwork Core Class
DESCRIPTION:
URL:https://synergyhealthworks.com/event/matwork-core-class-12/2028-05-08/
LOCATION:Wagga Wagga | Mat Studio\, 221 Kincaid Street\, Wagga Wagga\, NSW\, 2650\, Australia
CATEGORIES:Matwork
END:VEVENT
BEGIN:VEVENT
DTSTART;TZID=Australia/Sydney:20280508T113000
DTEND;TZID=Australia/Sydney:20280508T121500
DTSTAMP:20260424T220655
CREATED:20251123T223427Z
LAST-MODIFIED:20251123T223427Z
UID:10129760-1841398200-1841400900@synergyhealthworks.com
SUMMARY:Mums and Bubs Core Class
DESCRIPTION:
URL:https://synergyhealthworks.com/event/mums-and-bubs-core-class-8/2028-05-08/
LOCATION:Wagga Wagga | Mat Studio\, 221 Kincaid Street\, Wagga Wagga\, NSW\, 2650\, Australia
CATEGORIES:Mums and Bubs
END:VEVENT
BEGIN:VEVENT
DTSTART;TZID=Australia/Sydney:20280509T123000
DTEND;TZID=Australia/Sydney:20280509T131500
DTSTAMP:20260424T220655
CREATED:20241204T010916Z
LAST-MODIFIED:20251123T223831Z
UID:10130146-1841488200-1841490900@synergyhealthworks.com
SUMMARY:Pregnancy Matwork Class
DESCRIPTION:
URL:https://synergyhealthworks.com/event/pregnancy-matwork-class-4/2028-05-09/
LOCATION:Wagga Wagga | Mat Studio\, 221 Kincaid Street\, Wagga Wagga\, NSW\, 2650\, Australia
CATEGORIES:Pregnancy Matwork
END:VEVENT
BEGIN:VEVENT
DTSTART;TZID=Australia/Sydney:20280510T123000
DTEND;TZID=Australia/Sydney:20280510T131500
DTSTAMP:20260424T220655
CREATED:20241204T014608Z
LAST-MODIFIED:20251123T221428Z
UID:10099410-1841574600-1841577300@synergyhealthworks.com
SUMMARY:Barre
DESCRIPTION:
URL:https://synergyhealthworks.com/event/barre-2/2028-05-10/
LOCATION:Wagga Wagga | Reformer Studio\, 221 Kincaid Street\, Wagga Wagga\, NSW\, 2650\, Australia
CATEGORIES:Barre
END:VEVENT
BEGIN:VEVENT
DTSTART;TZID=Australia/Sydney:20280510T140000
DTEND;TZID=Australia/Sydney:20280510T144500
DTSTAMP:20260424T220655
CREATED:20251123T222028Z
LAST-MODIFIED:20251123T222107Z
UID:10128312-1841580000-1841582700@synergyhealthworks.com
SUMMARY:Gentle Reformer
DESCRIPTION:
URL:https://synergyhealthworks.com/event/gentle-reformer-12/2028-05-10/
LOCATION:Wagga Wagga | Reformer Studio\, 221 Kincaid Street\, Wagga Wagga\, NSW\, 2650\, Australia
CATEGORIES:Clinical Reformer
END:VEVENT
BEGIN:VEVENT
DTSTART;TZID=Australia/Sydney:20280515T103000
DTEND;TZID=Australia/Sydney:20280515T111500
DTSTAMP:20260424T220655
CREATED:20241204T010434Z
LAST-MODIFIED:20251123T223251Z
UID:10129157-1841999400-1842002100@synergyhealthworks.com
SUMMARY:Matwork Core Class
DESCRIPTION:
URL:https://synergyhealthworks.com/event/matwork-core-class-12/2028-05-15/
LOCATION:Wagga Wagga | Mat Studio\, 221 Kincaid Street\, Wagga Wagga\, NSW\, 2650\, Australia
CATEGORIES:Matwork
END:VEVENT
BEGIN:VEVENT
DTSTART;TZID=Australia/Sydney:20280515T113000
DTEND;TZID=Australia/Sydney:20280515T121500
DTSTAMP:20260424T220655
CREATED:20251123T223427Z
LAST-MODIFIED:20251123T223427Z
UID:10129761-1842003000-1842005700@synergyhealthworks.com
SUMMARY:Mums and Bubs Core Class
DESCRIPTION:
URL:https://synergyhealthworks.com/event/mums-and-bubs-core-class-8/2028-05-15/
LOCATION:Wagga Wagga | Mat Studio\, 221 Kincaid Street\, Wagga Wagga\, NSW\, 2650\, Australia
CATEGORIES:Mums and Bubs
END:VEVENT
BEGIN:VEVENT
DTSTART;TZID=Australia/Sydney:20280516T123000
DTEND;TZID=Australia/Sydney:20280516T131500
DTSTAMP:20260424T220655
CREATED:20241204T010916Z
LAST-MODIFIED:20251123T223831Z
UID:10130147-1842093000-1842095700@synergyhealthworks.com
SUMMARY:Pregnancy Matwork Class
DESCRIPTION:
URL:https://synergyhealthworks.com/event/pregnancy-matwork-class-4/2028-05-16/
LOCATION:Wagga Wagga | Mat Studio\, 221 Kincaid Street\, Wagga Wagga\, NSW\, 2650\, Australia
CATEGORIES:Pregnancy Matwork
END:VEVENT
BEGIN:VEVENT
DTSTART;TZID=Australia/Sydney:20280517T123000
DTEND;TZID=Australia/Sydney:20280517T131500
DTSTAMP:20260424T220655
CREATED:20241204T014608Z
LAST-MODIFIED:20251123T221428Z
UID:10099411-1842179400-1842182100@synergyhealthworks.com
SUMMARY:Barre
DESCRIPTION:
URL:https://synergyhealthworks.com/event/barre-2/2028-05-17/
LOCATION:Wagga Wagga | Reformer Studio\, 221 Kincaid Street\, Wagga Wagga\, NSW\, 2650\, Australia
CATEGORIES:Barre
END:VEVENT
BEGIN:VEVENT
DTSTART;TZID=Australia/Sydney:20280517T140000
DTEND;TZID=Australia/Sydney:20280517T144500
DTSTAMP:20260424T220655
CREATED:20251123T222028Z
LAST-MODIFIED:20251123T222107Z
UID:10128313-1842184800-1842187500@synergyhealthworks.com
SUMMARY:Gentle Reformer
DESCRIPTION:
URL:https://synergyhealthworks.com/event/gentle-reformer-12/2028-05-17/
LOCATION:Wagga Wagga | Reformer Studio\, 221 Kincaid Street\, Wagga Wagga\, NSW\, 2650\, Australia
CATEGORIES:Clinical Reformer
END:VEVENT
BEGIN:VEVENT
DTSTART;TZID=Australia/Sydney:20280522T103000
DTEND;TZID=Australia/Sydney:20280522T111500
DTSTAMP:20260424T220655
CREATED:20241204T010434Z
LAST-MODIFIED:20251123T223251Z
UID:10129158-1842604200-1842606900@synergyhealthworks.com
SUMMARY:Matwork Core Class
DESCRIPTION:
URL:https://synergyhealthworks.com/event/matwork-core-class-12/2028-05-22/
LOCATION:Wagga Wagga | Mat Studio\, 221 Kincaid Street\, Wagga Wagga\, NSW\, 2650\, Australia
CATEGORIES:Matwork
END:VEVENT
BEGIN:VEVENT
DTSTART;TZID=Australia/Sydney:20280522T113000
DTEND;TZID=Australia/Sydney:20280522T121500
DTSTAMP:20260424T220655
CREATED:20251123T223427Z
LAST-MODIFIED:20251123T223427Z
UID:10129762-1842607800-1842610500@synergyhealthworks.com
SUMMARY:Mums and Bubs Core Class
DESCRIPTION:
URL:https://synergyhealthworks.com/event/mums-and-bubs-core-class-8/2028-05-22/
LOCATION:Wagga Wagga | Mat Studio\, 221 Kincaid Street\, Wagga Wagga\, NSW\, 2650\, Australia
CATEGORIES:Mums and Bubs
END:VEVENT
BEGIN:VEVENT
DTSTART;TZID=Australia/Sydney:20280523T123000
DTEND;TZID=Australia/Sydney:20280523T131500
DTSTAMP:20260424T220655
CREATED:20241204T010916Z
LAST-MODIFIED:20251123T223831Z
UID:10130148-1842697800-1842700500@synergyhealthworks.com
SUMMARY:Pregnancy Matwork Class
DESCRIPTION:
URL:https://synergyhealthworks.com/event/pregnancy-matwork-class-4/2028-05-23/
LOCATION:Wagga Wagga | Mat Studio\, 221 Kincaid Street\, Wagga Wagga\, NSW\, 2650\, Australia
CATEGORIES:Pregnancy Matwork
END:VEVENT
BEGIN:VEVENT
DTSTART;TZID=Australia/Sydney:20280524T123000
DTEND;TZID=Australia/Sydney:20280524T131500
DTSTAMP:20260424T220655
CREATED:20241204T014608Z
LAST-MODIFIED:20251123T221428Z
UID:10099412-1842784200-1842786900@synergyhealthworks.com
SUMMARY:Barre
DESCRIPTION:
URL:https://synergyhealthworks.com/event/barre-2/2028-05-24/
LOCATION:Wagga Wagga | Reformer Studio\, 221 Kincaid Street\, Wagga Wagga\, NSW\, 2650\, Australia
CATEGORIES:Barre
END:VEVENT
BEGIN:VEVENT
DTSTART;TZID=Australia/Sydney:20280524T140000
DTEND;TZID=Australia/Sydney:20280524T144500
DTSTAMP:20260424T220655
CREATED:20251123T222028Z
LAST-MODIFIED:20251123T222107Z
UID:10128314-1842789600-1842792300@synergyhealthworks.com
SUMMARY:Gentle Reformer
DESCRIPTION:
URL:https://synergyhealthworks.com/event/gentle-reformer-12/2028-05-24/
LOCATION:Wagga Wagga | Reformer Studio\, 221 Kincaid Street\, Wagga Wagga\, NSW\, 2650\, Australia
CATEGORIES:Clinical Reformer
END:VEVENT
BEGIN:VEVENT
DTSTART;TZID=Australia/Sydney:20280529T103000
DTEND;TZID=Australia/Sydney:20280529T111500
DTSTAMP:20260424T220655
CREATED:20241204T010434Z
LAST-MODIFIED:20251123T223251Z
UID:10129159-1843209000-1843211700@synergyhealthworks.com
SUMMARY:Matwork Core Class
DESCRIPTION:
URL:https://synergyhealthworks.com/event/matwork-core-class-12/2028-05-29/
LOCATION:Wagga Wagga | Mat Studio\, 221 Kincaid Street\, Wagga Wagga\, NSW\, 2650\, Australia
CATEGORIES:Matwork
END:VEVENT
END:VCALENDAR