BEGIN:VCALENDAR
VERSION:2.0
PRODID:-//Synergy Healthworks - ECPv6.15.20//NONSGML v1.0//EN
CALSCALE:GREGORIAN
METHOD:PUBLISH
X-WR-CALNAME:Synergy Healthworks
X-ORIGINAL-URL:https://synergyhealthworks.com
X-WR-CALDESC:Events for Synergy Healthworks
REFRESH-INTERVAL;VALUE=DURATION:PT1H
X-Robots-Tag:noindex
X-PUBLISHED-TTL:PT1H
BEGIN:VTIMEZONE
TZID:Australia/Sydney
BEGIN:STANDARD
TZOFFSETFROM:+1100
TZOFFSETTO:+1000
TZNAME:AEST
DTSTART:20270403T160000
END:STANDARD
BEGIN:DAYLIGHT
TZOFFSETFROM:+1000
TZOFFSETTO:+1100
TZNAME:AEDT
DTSTART:20271002T160000
END:DAYLIGHT
BEGIN:STANDARD
TZOFFSETFROM:+1100
TZOFFSETTO:+1000
TZNAME:AEST
DTSTART:20280401T160000
END:STANDARD
BEGIN:DAYLIGHT
TZOFFSETFROM:+1000
TZOFFSETTO:+1100
TZNAME:AEDT
DTSTART:20280930T160000
END:DAYLIGHT
BEGIN:STANDARD
TZOFFSETFROM:+1100
TZOFFSETTO:+1000
TZNAME:AEST
DTSTART:20290331T160000
END:STANDARD
BEGIN:DAYLIGHT
TZOFFSETFROM:+1000
TZOFFSETTO:+1100
TZNAME:AEDT
DTSTART:20291006T160000
END:DAYLIGHT
END:VTIMEZONE
BEGIN:VEVENT
DTSTART;TZID=Australia/Sydney:20280209T123000
DTEND;TZID=Australia/Sydney:20280209T131500
DTSTAMP:20260424T154622
CREATED:20241204T014608Z
LAST-MODIFIED:20251123T221428Z
UID:10099397-1833712200-1833714900@synergyhealthworks.com
SUMMARY:Barre
DESCRIPTION:
URL:https://synergyhealthworks.com/event/barre-2/2028-02-09/
LOCATION:Wagga Wagga | Reformer Studio\, 221 Kincaid Street\, Wagga Wagga\, NSW\, 2650\, Australia
CATEGORIES:Barre
END:VEVENT
BEGIN:VEVENT
DTSTART;TZID=Australia/Sydney:20280209T140000
DTEND;TZID=Australia/Sydney:20280209T144500
DTSTAMP:20260424T154622
CREATED:20251123T222028Z
LAST-MODIFIED:20251123T222107Z
UID:10128299-1833717600-1833720300@synergyhealthworks.com
SUMMARY:Gentle Reformer
DESCRIPTION:
URL:https://synergyhealthworks.com/event/gentle-reformer-12/2028-02-09/
LOCATION:Wagga Wagga | Reformer Studio\, 221 Kincaid Street\, Wagga Wagga\, NSW\, 2650\, Australia
CATEGORIES:Clinical Reformer
END:VEVENT
BEGIN:VEVENT
DTSTART;TZID=Australia/Sydney:20280214T103000
DTEND;TZID=Australia/Sydney:20280214T111500
DTSTAMP:20260424T154622
CREATED:20241204T010434Z
LAST-MODIFIED:20251123T223251Z
UID:10129144-1834137000-1834139700@synergyhealthworks.com
SUMMARY:Matwork Core Class
DESCRIPTION:
URL:https://synergyhealthworks.com/event/matwork-core-class-12/2028-02-14/
LOCATION:Wagga Wagga | Mat Studio\, 221 Kincaid Street\, Wagga Wagga\, NSW\, 2650\, Australia
CATEGORIES:Matwork
END:VEVENT
BEGIN:VEVENT
DTSTART;TZID=Australia/Sydney:20280214T113000
DTEND;TZID=Australia/Sydney:20280214T121500
DTSTAMP:20260424T154622
CREATED:20251123T223427Z
LAST-MODIFIED:20251123T223427Z
UID:10129748-1834140600-1834143300@synergyhealthworks.com
SUMMARY:Mums and Bubs Core Class
DESCRIPTION:
URL:https://synergyhealthworks.com/event/mums-and-bubs-core-class-8/2028-02-14/
LOCATION:Wagga Wagga | Mat Studio\, 221 Kincaid Street\, Wagga Wagga\, NSW\, 2650\, Australia
CATEGORIES:Mums and Bubs
END:VEVENT
BEGIN:VEVENT
DTSTART;TZID=Australia/Sydney:20280215T123000
DTEND;TZID=Australia/Sydney:20280215T131500
DTSTAMP:20260424T154622
CREATED:20241204T010916Z
LAST-MODIFIED:20251123T223831Z
UID:10130134-1834230600-1834233300@synergyhealthworks.com
SUMMARY:Pregnancy Matwork Class
DESCRIPTION:
URL:https://synergyhealthworks.com/event/pregnancy-matwork-class-4/2028-02-15/
LOCATION:Wagga Wagga | Mat Studio\, 221 Kincaid Street\, Wagga Wagga\, NSW\, 2650\, Australia
CATEGORIES:Pregnancy Matwork
END:VEVENT
BEGIN:VEVENT
DTSTART;TZID=Australia/Sydney:20280216T123000
DTEND;TZID=Australia/Sydney:20280216T131500
DTSTAMP:20260424T154622
CREATED:20241204T014608Z
LAST-MODIFIED:20251123T221428Z
UID:10099398-1834317000-1834319700@synergyhealthworks.com
SUMMARY:Barre
DESCRIPTION:
URL:https://synergyhealthworks.com/event/barre-2/2028-02-16/
LOCATION:Wagga Wagga | Reformer Studio\, 221 Kincaid Street\, Wagga Wagga\, NSW\, 2650\, Australia
CATEGORIES:Barre
END:VEVENT
BEGIN:VEVENT
DTSTART;TZID=Australia/Sydney:20280216T140000
DTEND;TZID=Australia/Sydney:20280216T144500
DTSTAMP:20260424T154622
CREATED:20251123T222028Z
LAST-MODIFIED:20251123T222107Z
UID:10128300-1834322400-1834325100@synergyhealthworks.com
SUMMARY:Gentle Reformer
DESCRIPTION:
URL:https://synergyhealthworks.com/event/gentle-reformer-12/2028-02-16/
LOCATION:Wagga Wagga | Reformer Studio\, 221 Kincaid Street\, Wagga Wagga\, NSW\, 2650\, Australia
CATEGORIES:Clinical Reformer
END:VEVENT
BEGIN:VEVENT
DTSTART;TZID=Australia/Sydney:20280221T103000
DTEND;TZID=Australia/Sydney:20280221T111500
DTSTAMP:20260424T154622
CREATED:20241204T010434Z
LAST-MODIFIED:20251123T223251Z
UID:10129145-1834741800-1834744500@synergyhealthworks.com
SUMMARY:Matwork Core Class
DESCRIPTION:
URL:https://synergyhealthworks.com/event/matwork-core-class-12/2028-02-21/
LOCATION:Wagga Wagga | Mat Studio\, 221 Kincaid Street\, Wagga Wagga\, NSW\, 2650\, Australia
CATEGORIES:Matwork
END:VEVENT
BEGIN:VEVENT
DTSTART;TZID=Australia/Sydney:20280221T113000
DTEND;TZID=Australia/Sydney:20280221T121500
DTSTAMP:20260424T154622
CREATED:20251123T223427Z
LAST-MODIFIED:20251123T223427Z
UID:10129749-1834745400-1834748100@synergyhealthworks.com
SUMMARY:Mums and Bubs Core Class
DESCRIPTION:
URL:https://synergyhealthworks.com/event/mums-and-bubs-core-class-8/2028-02-21/
LOCATION:Wagga Wagga | Mat Studio\, 221 Kincaid Street\, Wagga Wagga\, NSW\, 2650\, Australia
CATEGORIES:Mums and Bubs
END:VEVENT
BEGIN:VEVENT
DTSTART;TZID=Australia/Sydney:20280222T123000
DTEND;TZID=Australia/Sydney:20280222T131500
DTSTAMP:20260424T154622
CREATED:20241204T010916Z
LAST-MODIFIED:20251123T223831Z
UID:10130135-1834835400-1834838100@synergyhealthworks.com
SUMMARY:Pregnancy Matwork Class
DESCRIPTION:
URL:https://synergyhealthworks.com/event/pregnancy-matwork-class-4/2028-02-22/
LOCATION:Wagga Wagga | Mat Studio\, 221 Kincaid Street\, Wagga Wagga\, NSW\, 2650\, Australia
CATEGORIES:Pregnancy Matwork
END:VEVENT
BEGIN:VEVENT
DTSTART;TZID=Australia/Sydney:20280223T123000
DTEND;TZID=Australia/Sydney:20280223T131500
DTSTAMP:20260424T154622
CREATED:20241204T014608Z
LAST-MODIFIED:20251123T221428Z
UID:10099399-1834921800-1834924500@synergyhealthworks.com
SUMMARY:Barre
DESCRIPTION:
URL:https://synergyhealthworks.com/event/barre-2/2028-02-23/
LOCATION:Wagga Wagga | Reformer Studio\, 221 Kincaid Street\, Wagga Wagga\, NSW\, 2650\, Australia
CATEGORIES:Barre
END:VEVENT
BEGIN:VEVENT
DTSTART;TZID=Australia/Sydney:20280223T140000
DTEND;TZID=Australia/Sydney:20280223T144500
DTSTAMP:20260424T154622
CREATED:20251123T222028Z
LAST-MODIFIED:20251123T222107Z
UID:10128301-1834927200-1834929900@synergyhealthworks.com
SUMMARY:Gentle Reformer
DESCRIPTION:
URL:https://synergyhealthworks.com/event/gentle-reformer-12/2028-02-23/
LOCATION:Wagga Wagga | Reformer Studio\, 221 Kincaid Street\, Wagga Wagga\, NSW\, 2650\, Australia
CATEGORIES:Clinical Reformer
END:VEVENT
BEGIN:VEVENT
DTSTART;TZID=Australia/Sydney:20280228T103000
DTEND;TZID=Australia/Sydney:20280228T111500
DTSTAMP:20260424T154622
CREATED:20241204T010434Z
LAST-MODIFIED:20251123T223251Z
UID:10129146-1835346600-1835349300@synergyhealthworks.com
SUMMARY:Matwork Core Class
DESCRIPTION:
URL:https://synergyhealthworks.com/event/matwork-core-class-12/2028-02-28/
LOCATION:Wagga Wagga | Mat Studio\, 221 Kincaid Street\, Wagga Wagga\, NSW\, 2650\, Australia
CATEGORIES:Matwork
END:VEVENT
BEGIN:VEVENT
DTSTART;TZID=Australia/Sydney:20280228T113000
DTEND;TZID=Australia/Sydney:20280228T121500
DTSTAMP:20260424T154622
CREATED:20251123T223427Z
LAST-MODIFIED:20251123T223427Z
UID:10129750-1835350200-1835352900@synergyhealthworks.com
SUMMARY:Mums and Bubs Core Class
DESCRIPTION:
URL:https://synergyhealthworks.com/event/mums-and-bubs-core-class-8/2028-02-28/
LOCATION:Wagga Wagga | Mat Studio\, 221 Kincaid Street\, Wagga Wagga\, NSW\, 2650\, Australia
CATEGORIES:Mums and Bubs
END:VEVENT
BEGIN:VEVENT
DTSTART;TZID=Australia/Sydney:20280229T123000
DTEND;TZID=Australia/Sydney:20280229T131500
DTSTAMP:20260424T154622
CREATED:20241204T010916Z
LAST-MODIFIED:20251123T223831Z
UID:10130136-1835440200-1835442900@synergyhealthworks.com
SUMMARY:Pregnancy Matwork Class
DESCRIPTION:
URL:https://synergyhealthworks.com/event/pregnancy-matwork-class-4/2028-02-29/
LOCATION:Wagga Wagga | Mat Studio\, 221 Kincaid Street\, Wagga Wagga\, NSW\, 2650\, Australia
CATEGORIES:Pregnancy Matwork
END:VEVENT
BEGIN:VEVENT
DTSTART;TZID=Australia/Sydney:20280301T123000
DTEND;TZID=Australia/Sydney:20280301T131500
DTSTAMP:20260424T154622
CREATED:20241204T014608Z
LAST-MODIFIED:20251123T221428Z
UID:10099400-1835526600-1835529300@synergyhealthworks.com
SUMMARY:Barre
DESCRIPTION:
URL:https://synergyhealthworks.com/event/barre-2/2028-03-01/
LOCATION:Wagga Wagga | Reformer Studio\, 221 Kincaid Street\, Wagga Wagga\, NSW\, 2650\, Australia
CATEGORIES:Barre
END:VEVENT
BEGIN:VEVENT
DTSTART;TZID=Australia/Sydney:20280301T140000
DTEND;TZID=Australia/Sydney:20280301T144500
DTSTAMP:20260424T154622
CREATED:20251123T222028Z
LAST-MODIFIED:20251123T222107Z
UID:10128302-1835532000-1835534700@synergyhealthworks.com
SUMMARY:Gentle Reformer
DESCRIPTION:
URL:https://synergyhealthworks.com/event/gentle-reformer-12/2028-03-01/
LOCATION:Wagga Wagga | Reformer Studio\, 221 Kincaid Street\, Wagga Wagga\, NSW\, 2650\, Australia
CATEGORIES:Clinical Reformer
END:VEVENT
BEGIN:VEVENT
DTSTART;TZID=Australia/Sydney:20280306T103000
DTEND;TZID=Australia/Sydney:20280306T111500
DTSTAMP:20260424T154622
CREATED:20241204T010434Z
LAST-MODIFIED:20251123T223251Z
UID:10129147-1835951400-1835954100@synergyhealthworks.com
SUMMARY:Matwork Core Class
DESCRIPTION:
URL:https://synergyhealthworks.com/event/matwork-core-class-12/2028-03-06/
LOCATION:Wagga Wagga | Mat Studio\, 221 Kincaid Street\, Wagga Wagga\, NSW\, 2650\, Australia
CATEGORIES:Matwork
END:VEVENT
BEGIN:VEVENT
DTSTART;TZID=Australia/Sydney:20280306T113000
DTEND;TZID=Australia/Sydney:20280306T121500
DTSTAMP:20260424T154622
CREATED:20251123T223427Z
LAST-MODIFIED:20251123T223427Z
UID:10129751-1835955000-1835957700@synergyhealthworks.com
SUMMARY:Mums and Bubs Core Class
DESCRIPTION:
URL:https://synergyhealthworks.com/event/mums-and-bubs-core-class-8/2028-03-06/
LOCATION:Wagga Wagga | Mat Studio\, 221 Kincaid Street\, Wagga Wagga\, NSW\, 2650\, Australia
CATEGORIES:Mums and Bubs
END:VEVENT
BEGIN:VEVENT
DTSTART;TZID=Australia/Sydney:20280307T123000
DTEND;TZID=Australia/Sydney:20280307T131500
DTSTAMP:20260424T154622
CREATED:20241204T010916Z
LAST-MODIFIED:20251123T223831Z
UID:10130137-1836045000-1836047700@synergyhealthworks.com
SUMMARY:Pregnancy Matwork Class
DESCRIPTION:
URL:https://synergyhealthworks.com/event/pregnancy-matwork-class-4/2028-03-07/
LOCATION:Wagga Wagga | Mat Studio\, 221 Kincaid Street\, Wagga Wagga\, NSW\, 2650\, Australia
CATEGORIES:Pregnancy Matwork
END:VEVENT
BEGIN:VEVENT
DTSTART;TZID=Australia/Sydney:20280308T123000
DTEND;TZID=Australia/Sydney:20280308T131500
DTSTAMP:20260424T154622
CREATED:20241204T014608Z
LAST-MODIFIED:20251123T221428Z
UID:10099401-1836131400-1836134100@synergyhealthworks.com
SUMMARY:Barre
DESCRIPTION:
URL:https://synergyhealthworks.com/event/barre-2/2028-03-08/
LOCATION:Wagga Wagga | Reformer Studio\, 221 Kincaid Street\, Wagga Wagga\, NSW\, 2650\, Australia
CATEGORIES:Barre
END:VEVENT
BEGIN:VEVENT
DTSTART;TZID=Australia/Sydney:20280308T140000
DTEND;TZID=Australia/Sydney:20280308T144500
DTSTAMP:20260424T154622
CREATED:20251123T222028Z
LAST-MODIFIED:20251123T222107Z
UID:10128303-1836136800-1836139500@synergyhealthworks.com
SUMMARY:Gentle Reformer
DESCRIPTION:
URL:https://synergyhealthworks.com/event/gentle-reformer-12/2028-03-08/
LOCATION:Wagga Wagga | Reformer Studio\, 221 Kincaid Street\, Wagga Wagga\, NSW\, 2650\, Australia
CATEGORIES:Clinical Reformer
END:VEVENT
BEGIN:VEVENT
DTSTART;TZID=Australia/Sydney:20280313T103000
DTEND;TZID=Australia/Sydney:20280313T111500
DTSTAMP:20260424T154622
CREATED:20241204T010434Z
LAST-MODIFIED:20251123T223251Z
UID:10129148-1836556200-1836558900@synergyhealthworks.com
SUMMARY:Matwork Core Class
DESCRIPTION:
URL:https://synergyhealthworks.com/event/matwork-core-class-12/2028-03-13/
LOCATION:Wagga Wagga | Mat Studio\, 221 Kincaid Street\, Wagga Wagga\, NSW\, 2650\, Australia
CATEGORIES:Matwork
END:VEVENT
BEGIN:VEVENT
DTSTART;TZID=Australia/Sydney:20280313T113000
DTEND;TZID=Australia/Sydney:20280313T121500
DTSTAMP:20260424T154622
CREATED:20251123T223427Z
LAST-MODIFIED:20251123T223427Z
UID:10129752-1836559800-1836562500@synergyhealthworks.com
SUMMARY:Mums and Bubs Core Class
DESCRIPTION:
URL:https://synergyhealthworks.com/event/mums-and-bubs-core-class-8/2028-03-13/
LOCATION:Wagga Wagga | Mat Studio\, 221 Kincaid Street\, Wagga Wagga\, NSW\, 2650\, Australia
CATEGORIES:Mums and Bubs
END:VEVENT
BEGIN:VEVENT
DTSTART;TZID=Australia/Sydney:20280314T123000
DTEND;TZID=Australia/Sydney:20280314T131500
DTSTAMP:20260424T154622
CREATED:20241204T010916Z
LAST-MODIFIED:20251123T223831Z
UID:10130138-1836649800-1836652500@synergyhealthworks.com
SUMMARY:Pregnancy Matwork Class
DESCRIPTION:
URL:https://synergyhealthworks.com/event/pregnancy-matwork-class-4/2028-03-14/
LOCATION:Wagga Wagga | Mat Studio\, 221 Kincaid Street\, Wagga Wagga\, NSW\, 2650\, Australia
CATEGORIES:Pregnancy Matwork
END:VEVENT
BEGIN:VEVENT
DTSTART;TZID=Australia/Sydney:20280315T123000
DTEND;TZID=Australia/Sydney:20280315T131500
DTSTAMP:20260424T154622
CREATED:20241204T014608Z
LAST-MODIFIED:20251123T221428Z
UID:10099402-1836736200-1836738900@synergyhealthworks.com
SUMMARY:Barre
DESCRIPTION:
URL:https://synergyhealthworks.com/event/barre-2/2028-03-15/
LOCATION:Wagga Wagga | Reformer Studio\, 221 Kincaid Street\, Wagga Wagga\, NSW\, 2650\, Australia
CATEGORIES:Barre
END:VEVENT
BEGIN:VEVENT
DTSTART;TZID=Australia/Sydney:20280315T140000
DTEND;TZID=Australia/Sydney:20280315T144500
DTSTAMP:20260424T154622
CREATED:20251123T222028Z
LAST-MODIFIED:20251123T222107Z
UID:10128304-1836741600-1836744300@synergyhealthworks.com
SUMMARY:Gentle Reformer
DESCRIPTION:
URL:https://synergyhealthworks.com/event/gentle-reformer-12/2028-03-15/
LOCATION:Wagga Wagga | Reformer Studio\, 221 Kincaid Street\, Wagga Wagga\, NSW\, 2650\, Australia
CATEGORIES:Clinical Reformer
END:VEVENT
BEGIN:VEVENT
DTSTART;TZID=Australia/Sydney:20280320T103000
DTEND;TZID=Australia/Sydney:20280320T111500
DTSTAMP:20260424T154622
CREATED:20241204T010434Z
LAST-MODIFIED:20251123T223251Z
UID:10129149-1837161000-1837163700@synergyhealthworks.com
SUMMARY:Matwork Core Class
DESCRIPTION:
URL:https://synergyhealthworks.com/event/matwork-core-class-12/2028-03-20/
LOCATION:Wagga Wagga | Mat Studio\, 221 Kincaid Street\, Wagga Wagga\, NSW\, 2650\, Australia
CATEGORIES:Matwork
END:VEVENT
BEGIN:VEVENT
DTSTART;TZID=Australia/Sydney:20280320T113000
DTEND;TZID=Australia/Sydney:20280320T121500
DTSTAMP:20260424T154622
CREATED:20251123T223427Z
LAST-MODIFIED:20251123T223427Z
UID:10129753-1837164600-1837167300@synergyhealthworks.com
SUMMARY:Mums and Bubs Core Class
DESCRIPTION:
URL:https://synergyhealthworks.com/event/mums-and-bubs-core-class-8/2028-03-20/
LOCATION:Wagga Wagga | Mat Studio\, 221 Kincaid Street\, Wagga Wagga\, NSW\, 2650\, Australia
CATEGORIES:Mums and Bubs
END:VEVENT
BEGIN:VEVENT
DTSTART;TZID=Australia/Sydney:20280321T123000
DTEND;TZID=Australia/Sydney:20280321T131500
DTSTAMP:20260424T154622
CREATED:20241204T010916Z
LAST-MODIFIED:20251123T223831Z
UID:10130139-1837254600-1837257300@synergyhealthworks.com
SUMMARY:Pregnancy Matwork Class
DESCRIPTION:
URL:https://synergyhealthworks.com/event/pregnancy-matwork-class-4/2028-03-21/
LOCATION:Wagga Wagga | Mat Studio\, 221 Kincaid Street\, Wagga Wagga\, NSW\, 2650\, Australia
CATEGORIES:Pregnancy Matwork
END:VEVENT
END:VCALENDAR