BEGIN:VCALENDAR
VERSION:2.0
PRODID:-//Synergy Healthworks - ECPv6.15.20//NONSGML v1.0//EN
CALSCALE:GREGORIAN
METHOD:PUBLISH
X-WR-CALNAME:Synergy Healthworks
X-ORIGINAL-URL:https://synergyhealthworks.com
X-WR-CALDESC:Events for Synergy Healthworks
REFRESH-INTERVAL;VALUE=DURATION:PT1H
X-Robots-Tag:noindex
X-PUBLISHED-TTL:PT1H
BEGIN:VTIMEZONE
TZID:Australia/Sydney
BEGIN:STANDARD
TZOFFSETFROM:+1100
TZOFFSETTO:+1000
TZNAME:AEST
DTSTART:20270403T160000
END:STANDARD
BEGIN:DAYLIGHT
TZOFFSETFROM:+1000
TZOFFSETTO:+1100
TZNAME:AEDT
DTSTART:20271002T160000
END:DAYLIGHT
BEGIN:STANDARD
TZOFFSETFROM:+1100
TZOFFSETTO:+1000
TZNAME:AEST
DTSTART:20280401T160000
END:STANDARD
BEGIN:DAYLIGHT
TZOFFSETFROM:+1000
TZOFFSETTO:+1100
TZNAME:AEDT
DTSTART:20280930T160000
END:DAYLIGHT
BEGIN:STANDARD
TZOFFSETFROM:+1100
TZOFFSETTO:+1000
TZNAME:AEST
DTSTART:20290331T160000
END:STANDARD
BEGIN:DAYLIGHT
TZOFFSETFROM:+1000
TZOFFSETTO:+1100
TZNAME:AEDT
DTSTART:20291006T160000
END:DAYLIGHT
END:VTIMEZONE
BEGIN:VEVENT
DTSTART;TZID=Australia/Sydney:20280105T140000
DTEND;TZID=Australia/Sydney:20280105T144500
DTSTAMP:20260424T121837
CREATED:20251123T222028Z
LAST-MODIFIED:20251123T222107Z
UID:10128294-1830693600-1830696300@synergyhealthworks.com
SUMMARY:Gentle Reformer
DESCRIPTION:
URL:https://synergyhealthworks.com/event/gentle-reformer-12/2028-01-05/
LOCATION:Wagga Wagga | Reformer Studio\, 221 Kincaid Street\, Wagga Wagga\, NSW\, 2650\, Australia
CATEGORIES:Clinical Reformer
END:VEVENT
BEGIN:VEVENT
DTSTART;TZID=Australia/Sydney:20280110T103000
DTEND;TZID=Australia/Sydney:20280110T111500
DTSTAMP:20260424T121837
CREATED:20241204T010434Z
LAST-MODIFIED:20251123T223251Z
UID:10129139-1831113000-1831115700@synergyhealthworks.com
SUMMARY:Matwork Core Class
DESCRIPTION:
URL:https://synergyhealthworks.com/event/matwork-core-class-12/2028-01-10/
LOCATION:Wagga Wagga | Mat Studio\, 221 Kincaid Street\, Wagga Wagga\, NSW\, 2650\, Australia
CATEGORIES:Matwork
END:VEVENT
BEGIN:VEVENT
DTSTART;TZID=Australia/Sydney:20280110T113000
DTEND;TZID=Australia/Sydney:20280110T121500
DTSTAMP:20260424T121837
CREATED:20251123T223427Z
LAST-MODIFIED:20251123T223427Z
UID:10129743-1831116600-1831119300@synergyhealthworks.com
SUMMARY:Mums and Bubs Core Class
DESCRIPTION:
URL:https://synergyhealthworks.com/event/mums-and-bubs-core-class-8/2028-01-10/
LOCATION:Wagga Wagga | Mat Studio\, 221 Kincaid Street\, Wagga Wagga\, NSW\, 2650\, Australia
CATEGORIES:Mums and Bubs
END:VEVENT
BEGIN:VEVENT
DTSTART;TZID=Australia/Sydney:20280111T123000
DTEND;TZID=Australia/Sydney:20280111T131500
DTSTAMP:20260424T121837
CREATED:20241204T010916Z
LAST-MODIFIED:20251123T223831Z
UID:10130129-1831206600-1831209300@synergyhealthworks.com
SUMMARY:Pregnancy Matwork Class
DESCRIPTION:
URL:https://synergyhealthworks.com/event/pregnancy-matwork-class-4/2028-01-11/
LOCATION:Wagga Wagga | Mat Studio\, 221 Kincaid Street\, Wagga Wagga\, NSW\, 2650\, Australia
CATEGORIES:Pregnancy Matwork
END:VEVENT
BEGIN:VEVENT
DTSTART;TZID=Australia/Sydney:20280112T123000
DTEND;TZID=Australia/Sydney:20280112T131500
DTSTAMP:20260424T121837
CREATED:20241204T014608Z
LAST-MODIFIED:20251123T221428Z
UID:10099393-1831293000-1831295700@synergyhealthworks.com
SUMMARY:Barre
DESCRIPTION:
URL:https://synergyhealthworks.com/event/barre-2/2028-01-12/
LOCATION:Wagga Wagga | Reformer Studio\, 221 Kincaid Street\, Wagga Wagga\, NSW\, 2650\, Australia
CATEGORIES:Barre
END:VEVENT
BEGIN:VEVENT
DTSTART;TZID=Australia/Sydney:20280112T140000
DTEND;TZID=Australia/Sydney:20280112T144500
DTSTAMP:20260424T121837
CREATED:20251123T222028Z
LAST-MODIFIED:20251123T222107Z
UID:10128295-1831298400-1831301100@synergyhealthworks.com
SUMMARY:Gentle Reformer
DESCRIPTION:
URL:https://synergyhealthworks.com/event/gentle-reformer-12/2028-01-12/
LOCATION:Wagga Wagga | Reformer Studio\, 221 Kincaid Street\, Wagga Wagga\, NSW\, 2650\, Australia
CATEGORIES:Clinical Reformer
END:VEVENT
BEGIN:VEVENT
DTSTART;TZID=Australia/Sydney:20280117T103000
DTEND;TZID=Australia/Sydney:20280117T111500
DTSTAMP:20260424T121837
CREATED:20241204T010434Z
LAST-MODIFIED:20251123T223251Z
UID:10129140-1831717800-1831720500@synergyhealthworks.com
SUMMARY:Matwork Core Class
DESCRIPTION:
URL:https://synergyhealthworks.com/event/matwork-core-class-12/2028-01-17/
LOCATION:Wagga Wagga | Mat Studio\, 221 Kincaid Street\, Wagga Wagga\, NSW\, 2650\, Australia
CATEGORIES:Matwork
END:VEVENT
BEGIN:VEVENT
DTSTART;TZID=Australia/Sydney:20280117T113000
DTEND;TZID=Australia/Sydney:20280117T121500
DTSTAMP:20260424T121837
CREATED:20251123T223427Z
LAST-MODIFIED:20251123T223427Z
UID:10129744-1831721400-1831724100@synergyhealthworks.com
SUMMARY:Mums and Bubs Core Class
DESCRIPTION:
URL:https://synergyhealthworks.com/event/mums-and-bubs-core-class-8/2028-01-17/
LOCATION:Wagga Wagga | Mat Studio\, 221 Kincaid Street\, Wagga Wagga\, NSW\, 2650\, Australia
CATEGORIES:Mums and Bubs
END:VEVENT
BEGIN:VEVENT
DTSTART;TZID=Australia/Sydney:20280118T123000
DTEND;TZID=Australia/Sydney:20280118T131500
DTSTAMP:20260424T121837
CREATED:20241204T010916Z
LAST-MODIFIED:20251123T223831Z
UID:10130130-1831811400-1831814100@synergyhealthworks.com
SUMMARY:Pregnancy Matwork Class
DESCRIPTION:
URL:https://synergyhealthworks.com/event/pregnancy-matwork-class-4/2028-01-18/
LOCATION:Wagga Wagga | Mat Studio\, 221 Kincaid Street\, Wagga Wagga\, NSW\, 2650\, Australia
CATEGORIES:Pregnancy Matwork
END:VEVENT
BEGIN:VEVENT
DTSTART;TZID=Australia/Sydney:20280119T123000
DTEND;TZID=Australia/Sydney:20280119T131500
DTSTAMP:20260424T121837
CREATED:20241204T014608Z
LAST-MODIFIED:20251123T221428Z
UID:10099394-1831897800-1831900500@synergyhealthworks.com
SUMMARY:Barre
DESCRIPTION:
URL:https://synergyhealthworks.com/event/barre-2/2028-01-19/
LOCATION:Wagga Wagga | Reformer Studio\, 221 Kincaid Street\, Wagga Wagga\, NSW\, 2650\, Australia
CATEGORIES:Barre
END:VEVENT
BEGIN:VEVENT
DTSTART;TZID=Australia/Sydney:20280119T140000
DTEND;TZID=Australia/Sydney:20280119T144500
DTSTAMP:20260424T121837
CREATED:20251123T222028Z
LAST-MODIFIED:20251123T222107Z
UID:10128296-1831903200-1831905900@synergyhealthworks.com
SUMMARY:Gentle Reformer
DESCRIPTION:
URL:https://synergyhealthworks.com/event/gentle-reformer-12/2028-01-19/
LOCATION:Wagga Wagga | Reformer Studio\, 221 Kincaid Street\, Wagga Wagga\, NSW\, 2650\, Australia
CATEGORIES:Clinical Reformer
END:VEVENT
BEGIN:VEVENT
DTSTART;TZID=Australia/Sydney:20280124T103000
DTEND;TZID=Australia/Sydney:20280124T111500
DTSTAMP:20260424T121837
CREATED:20241204T010434Z
LAST-MODIFIED:20251123T223251Z
UID:10129141-1832322600-1832325300@synergyhealthworks.com
SUMMARY:Matwork Core Class
DESCRIPTION:
URL:https://synergyhealthworks.com/event/matwork-core-class-12/2028-01-24/
LOCATION:Wagga Wagga | Mat Studio\, 221 Kincaid Street\, Wagga Wagga\, NSW\, 2650\, Australia
CATEGORIES:Matwork
END:VEVENT
BEGIN:VEVENT
DTSTART;TZID=Australia/Sydney:20280124T113000
DTEND;TZID=Australia/Sydney:20280124T121500
DTSTAMP:20260424T121837
CREATED:20251123T223427Z
LAST-MODIFIED:20251123T223427Z
UID:10129745-1832326200-1832328900@synergyhealthworks.com
SUMMARY:Mums and Bubs Core Class
DESCRIPTION:
URL:https://synergyhealthworks.com/event/mums-and-bubs-core-class-8/2028-01-24/
LOCATION:Wagga Wagga | Mat Studio\, 221 Kincaid Street\, Wagga Wagga\, NSW\, 2650\, Australia
CATEGORIES:Mums and Bubs
END:VEVENT
BEGIN:VEVENT
DTSTART;TZID=Australia/Sydney:20280125T123000
DTEND;TZID=Australia/Sydney:20280125T131500
DTSTAMP:20260424T121837
CREATED:20241204T010916Z
LAST-MODIFIED:20251123T223831Z
UID:10130131-1832416200-1832418900@synergyhealthworks.com
SUMMARY:Pregnancy Matwork Class
DESCRIPTION:
URL:https://synergyhealthworks.com/event/pregnancy-matwork-class-4/2028-01-25/
LOCATION:Wagga Wagga | Mat Studio\, 221 Kincaid Street\, Wagga Wagga\, NSW\, 2650\, Australia
CATEGORIES:Pregnancy Matwork
END:VEVENT
BEGIN:VEVENT
DTSTART;TZID=Australia/Sydney:20280126T123000
DTEND;TZID=Australia/Sydney:20280126T131500
DTSTAMP:20260424T121837
CREATED:20241204T014608Z
LAST-MODIFIED:20251123T221428Z
UID:10099395-1832502600-1832505300@synergyhealthworks.com
SUMMARY:Barre
DESCRIPTION:
URL:https://synergyhealthworks.com/event/barre-2/2028-01-26/
LOCATION:Wagga Wagga | Reformer Studio\, 221 Kincaid Street\, Wagga Wagga\, NSW\, 2650\, Australia
CATEGORIES:Barre
END:VEVENT
BEGIN:VEVENT
DTSTART;TZID=Australia/Sydney:20280126T140000
DTEND;TZID=Australia/Sydney:20280126T144500
DTSTAMP:20260424T121837
CREATED:20251123T222028Z
LAST-MODIFIED:20251123T222107Z
UID:10128297-1832508000-1832510700@synergyhealthworks.com
SUMMARY:Gentle Reformer
DESCRIPTION:
URL:https://synergyhealthworks.com/event/gentle-reformer-12/2028-01-26/
LOCATION:Wagga Wagga | Reformer Studio\, 221 Kincaid Street\, Wagga Wagga\, NSW\, 2650\, Australia
CATEGORIES:Clinical Reformer
END:VEVENT
BEGIN:VEVENT
DTSTART;TZID=Australia/Sydney:20280131T103000
DTEND;TZID=Australia/Sydney:20280131T111500
DTSTAMP:20260424T121837
CREATED:20241204T010434Z
LAST-MODIFIED:20251123T223251Z
UID:10129142-1832927400-1832930100@synergyhealthworks.com
SUMMARY:Matwork Core Class
DESCRIPTION:
URL:https://synergyhealthworks.com/event/matwork-core-class-12/2028-01-31/
LOCATION:Wagga Wagga | Mat Studio\, 221 Kincaid Street\, Wagga Wagga\, NSW\, 2650\, Australia
CATEGORIES:Matwork
END:VEVENT
BEGIN:VEVENT
DTSTART;TZID=Australia/Sydney:20280131T113000
DTEND;TZID=Australia/Sydney:20280131T121500
DTSTAMP:20260424T121837
CREATED:20251123T223427Z
LAST-MODIFIED:20251123T223427Z
UID:10129746-1832931000-1832933700@synergyhealthworks.com
SUMMARY:Mums and Bubs Core Class
DESCRIPTION:
URL:https://synergyhealthworks.com/event/mums-and-bubs-core-class-8/2028-01-31/
LOCATION:Wagga Wagga | Mat Studio\, 221 Kincaid Street\, Wagga Wagga\, NSW\, 2650\, Australia
CATEGORIES:Mums and Bubs
END:VEVENT
BEGIN:VEVENT
DTSTART;TZID=Australia/Sydney:20280201T123000
DTEND;TZID=Australia/Sydney:20280201T131500
DTSTAMP:20260424T121837
CREATED:20241204T010916Z
LAST-MODIFIED:20251123T223831Z
UID:10130132-1833021000-1833023700@synergyhealthworks.com
SUMMARY:Pregnancy Matwork Class
DESCRIPTION:
URL:https://synergyhealthworks.com/event/pregnancy-matwork-class-4/2028-02-01/
LOCATION:Wagga Wagga | Mat Studio\, 221 Kincaid Street\, Wagga Wagga\, NSW\, 2650\, Australia
CATEGORIES:Pregnancy Matwork
END:VEVENT
BEGIN:VEVENT
DTSTART;TZID=Australia/Sydney:20280202T123000
DTEND;TZID=Australia/Sydney:20280202T131500
DTSTAMP:20260424T121837
CREATED:20241204T014608Z
LAST-MODIFIED:20251123T221428Z
UID:10099396-1833107400-1833110100@synergyhealthworks.com
SUMMARY:Barre
DESCRIPTION:
URL:https://synergyhealthworks.com/event/barre-2/2028-02-02/
LOCATION:Wagga Wagga | Reformer Studio\, 221 Kincaid Street\, Wagga Wagga\, NSW\, 2650\, Australia
CATEGORIES:Barre
END:VEVENT
BEGIN:VEVENT
DTSTART;TZID=Australia/Sydney:20280202T140000
DTEND;TZID=Australia/Sydney:20280202T144500
DTSTAMP:20260424T121837
CREATED:20251123T222028Z
LAST-MODIFIED:20251123T222107Z
UID:10128298-1833112800-1833115500@synergyhealthworks.com
SUMMARY:Gentle Reformer
DESCRIPTION:
URL:https://synergyhealthworks.com/event/gentle-reformer-12/2028-02-02/
LOCATION:Wagga Wagga | Reformer Studio\, 221 Kincaid Street\, Wagga Wagga\, NSW\, 2650\, Australia
CATEGORIES:Clinical Reformer
END:VEVENT
BEGIN:VEVENT
DTSTART;TZID=Australia/Sydney:20280207T103000
DTEND;TZID=Australia/Sydney:20280207T111500
DTSTAMP:20260424T121837
CREATED:20241204T010434Z
LAST-MODIFIED:20251123T223251Z
UID:10129143-1833532200-1833534900@synergyhealthworks.com
SUMMARY:Matwork Core Class
DESCRIPTION:
URL:https://synergyhealthworks.com/event/matwork-core-class-12/2028-02-07/
LOCATION:Wagga Wagga | Mat Studio\, 221 Kincaid Street\, Wagga Wagga\, NSW\, 2650\, Australia
CATEGORIES:Matwork
END:VEVENT
BEGIN:VEVENT
DTSTART;TZID=Australia/Sydney:20280207T113000
DTEND;TZID=Australia/Sydney:20280207T121500
DTSTAMP:20260424T121837
CREATED:20251123T223427Z
LAST-MODIFIED:20251123T223427Z
UID:10129747-1833535800-1833538500@synergyhealthworks.com
SUMMARY:Mums and Bubs Core Class
DESCRIPTION:
URL:https://synergyhealthworks.com/event/mums-and-bubs-core-class-8/2028-02-07/
LOCATION:Wagga Wagga | Mat Studio\, 221 Kincaid Street\, Wagga Wagga\, NSW\, 2650\, Australia
CATEGORIES:Mums and Bubs
END:VEVENT
BEGIN:VEVENT
DTSTART;TZID=Australia/Sydney:20280208T123000
DTEND;TZID=Australia/Sydney:20280208T131500
DTSTAMP:20260424T121837
CREATED:20241204T010916Z
LAST-MODIFIED:20251123T223831Z
UID:10130133-1833625800-1833628500@synergyhealthworks.com
SUMMARY:Pregnancy Matwork Class
DESCRIPTION:
URL:https://synergyhealthworks.com/event/pregnancy-matwork-class-4/2028-02-08/
LOCATION:Wagga Wagga | Mat Studio\, 221 Kincaid Street\, Wagga Wagga\, NSW\, 2650\, Australia
CATEGORIES:Pregnancy Matwork
END:VEVENT
BEGIN:VEVENT
DTSTART;TZID=Australia/Sydney:20280209T123000
DTEND;TZID=Australia/Sydney:20280209T131500
DTSTAMP:20260424T121837
CREATED:20241204T014608Z
LAST-MODIFIED:20251123T221428Z
UID:10099397-1833712200-1833714900@synergyhealthworks.com
SUMMARY:Barre
DESCRIPTION:
URL:https://synergyhealthworks.com/event/barre-2/2028-02-09/
LOCATION:Wagga Wagga | Reformer Studio\, 221 Kincaid Street\, Wagga Wagga\, NSW\, 2650\, Australia
CATEGORIES:Barre
END:VEVENT
BEGIN:VEVENT
DTSTART;TZID=Australia/Sydney:20280209T140000
DTEND;TZID=Australia/Sydney:20280209T144500
DTSTAMP:20260424T121837
CREATED:20251123T222028Z
LAST-MODIFIED:20251123T222107Z
UID:10128299-1833717600-1833720300@synergyhealthworks.com
SUMMARY:Gentle Reformer
DESCRIPTION:
URL:https://synergyhealthworks.com/event/gentle-reformer-12/2028-02-09/
LOCATION:Wagga Wagga | Reformer Studio\, 221 Kincaid Street\, Wagga Wagga\, NSW\, 2650\, Australia
CATEGORIES:Clinical Reformer
END:VEVENT
BEGIN:VEVENT
DTSTART;TZID=Australia/Sydney:20280214T103000
DTEND;TZID=Australia/Sydney:20280214T111500
DTSTAMP:20260424T121837
CREATED:20241204T010434Z
LAST-MODIFIED:20251123T223251Z
UID:10129144-1834137000-1834139700@synergyhealthworks.com
SUMMARY:Matwork Core Class
DESCRIPTION:
URL:https://synergyhealthworks.com/event/matwork-core-class-12/2028-02-14/
LOCATION:Wagga Wagga | Mat Studio\, 221 Kincaid Street\, Wagga Wagga\, NSW\, 2650\, Australia
CATEGORIES:Matwork
END:VEVENT
BEGIN:VEVENT
DTSTART;TZID=Australia/Sydney:20280214T113000
DTEND;TZID=Australia/Sydney:20280214T121500
DTSTAMP:20260424T121837
CREATED:20251123T223427Z
LAST-MODIFIED:20251123T223427Z
UID:10129748-1834140600-1834143300@synergyhealthworks.com
SUMMARY:Mums and Bubs Core Class
DESCRIPTION:
URL:https://synergyhealthworks.com/event/mums-and-bubs-core-class-8/2028-02-14/
LOCATION:Wagga Wagga | Mat Studio\, 221 Kincaid Street\, Wagga Wagga\, NSW\, 2650\, Australia
CATEGORIES:Mums and Bubs
END:VEVENT
BEGIN:VEVENT
DTSTART;TZID=Australia/Sydney:20280215T123000
DTEND;TZID=Australia/Sydney:20280215T131500
DTSTAMP:20260424T121837
CREATED:20241204T010916Z
LAST-MODIFIED:20251123T223831Z
UID:10130134-1834230600-1834233300@synergyhealthworks.com
SUMMARY:Pregnancy Matwork Class
DESCRIPTION:
URL:https://synergyhealthworks.com/event/pregnancy-matwork-class-4/2028-02-15/
LOCATION:Wagga Wagga | Mat Studio\, 221 Kincaid Street\, Wagga Wagga\, NSW\, 2650\, Australia
CATEGORIES:Pregnancy Matwork
END:VEVENT
BEGIN:VEVENT
DTSTART;TZID=Australia/Sydney:20280216T123000
DTEND;TZID=Australia/Sydney:20280216T131500
DTSTAMP:20260424T121837
CREATED:20241204T014608Z
LAST-MODIFIED:20251123T221428Z
UID:10099398-1834317000-1834319700@synergyhealthworks.com
SUMMARY:Barre
DESCRIPTION:
URL:https://synergyhealthworks.com/event/barre-2/2028-02-16/
LOCATION:Wagga Wagga | Reformer Studio\, 221 Kincaid Street\, Wagga Wagga\, NSW\, 2650\, Australia
CATEGORIES:Barre
END:VEVENT
END:VCALENDAR