BEGIN:VCALENDAR
VERSION:2.0
PRODID:-//Synergy Healthworks - ECPv6.15.20//NONSGML v1.0//EN
CALSCALE:GREGORIAN
METHOD:PUBLISH
X-ORIGINAL-URL:https://synergyhealthworks.com
X-WR-CALDESC:Events for Synergy Healthworks
REFRESH-INTERVAL;VALUE=DURATION:PT1H
X-Robots-Tag:noindex
X-PUBLISHED-TTL:PT1H
BEGIN:VTIMEZONE
TZID:Australia/Sydney
BEGIN:STANDARD
TZOFFSETFROM:+1100
TZOFFSETTO:+1000
TZNAME:AEST
DTSTART:20260404T160000
END:STANDARD
BEGIN:DAYLIGHT
TZOFFSETFROM:+1000
TZOFFSETTO:+1100
TZNAME:AEDT
DTSTART:20261003T160000
END:DAYLIGHT
BEGIN:STANDARD
TZOFFSETFROM:+1100
TZOFFSETTO:+1000
TZNAME:AEST
DTSTART:20270403T160000
END:STANDARD
BEGIN:DAYLIGHT
TZOFFSETFROM:+1000
TZOFFSETTO:+1100
TZNAME:AEDT
DTSTART:20271002T160000
END:DAYLIGHT
BEGIN:STANDARD
TZOFFSETFROM:+1100
TZOFFSETTO:+1000
TZNAME:AEST
DTSTART:20280401T160000
END:STANDARD
BEGIN:DAYLIGHT
TZOFFSETFROM:+1000
TZOFFSETTO:+1100
TZNAME:AEDT
DTSTART:20280930T160000
END:DAYLIGHT
END:VTIMEZONE
BEGIN:VEVENT
DTSTART;TZID=Australia/Sydney:20271101T113000
DTEND;TZID=Australia/Sydney:20271101T121500
DTSTAMP:20260424T045857
CREATED:20251123T223427Z
LAST-MODIFIED:20251123T223427Z
UID:10129733-1825068600-1825071300@synergyhealthworks.com
SUMMARY:Mums and Bubs Core Class
DESCRIPTION:
URL:https://synergyhealthworks.com/event/mums-and-bubs-core-class-8/2027-11-01/
LOCATION:Wagga Wagga | Mat Studio\, 221 Kincaid Street\, Wagga Wagga\, NSW\, 2650\, Australia
CATEGORIES:Mums and Bubs
END:VEVENT
BEGIN:VEVENT
DTSTART;TZID=Australia/Sydney:20271102T123000
DTEND;TZID=Australia/Sydney:20271102T131500
DTSTAMP:20260424T045857
CREATED:20241204T010916Z
LAST-MODIFIED:20251123T223831Z
UID:10130119-1825158600-1825161300@synergyhealthworks.com
SUMMARY:Pregnancy Matwork Class
DESCRIPTION:
URL:https://synergyhealthworks.com/event/pregnancy-matwork-class-4/2027-11-02/
LOCATION:Wagga Wagga | Mat Studio\, 221 Kincaid Street\, Wagga Wagga\, NSW\, 2650\, Australia
CATEGORIES:Pregnancy Matwork
END:VEVENT
BEGIN:VEVENT
DTSTART;TZID=Australia/Sydney:20271103T123000
DTEND;TZID=Australia/Sydney:20271103T131500
DTSTAMP:20260424T045857
CREATED:20241204T014608Z
LAST-MODIFIED:20251123T221428Z
UID:10099383-1825245000-1825247700@synergyhealthworks.com
SUMMARY:Barre
DESCRIPTION:
URL:https://synergyhealthworks.com/event/barre-2/2027-11-03/
LOCATION:Wagga Wagga | Reformer Studio\, 221 Kincaid Street\, Wagga Wagga\, NSW\, 2650\, Australia
CATEGORIES:Barre
END:VEVENT
BEGIN:VEVENT
DTSTART;TZID=Australia/Sydney:20271103T140000
DTEND;TZID=Australia/Sydney:20271103T144500
DTSTAMP:20260424T045857
CREATED:20251123T222028Z
LAST-MODIFIED:20251123T222107Z
UID:10128285-1825250400-1825253100@synergyhealthworks.com
SUMMARY:Gentle Reformer
DESCRIPTION:
URL:https://synergyhealthworks.com/event/gentle-reformer-12/2027-11-03/
LOCATION:Wagga Wagga | Reformer Studio\, 221 Kincaid Street\, Wagga Wagga\, NSW\, 2650\, Australia
CATEGORIES:Clinical Reformer
END:VEVENT
BEGIN:VEVENT
DTSTART;TZID=Australia/Sydney:20271108T103000
DTEND;TZID=Australia/Sydney:20271108T111500
DTSTAMP:20260424T045857
CREATED:20241204T010434Z
LAST-MODIFIED:20251123T223251Z
UID:10129130-1825669800-1825672500@synergyhealthworks.com
SUMMARY:Matwork Core Class
DESCRIPTION:
URL:https://synergyhealthworks.com/event/matwork-core-class-12/2027-11-08/
LOCATION:Wagga Wagga | Mat Studio\, 221 Kincaid Street\, Wagga Wagga\, NSW\, 2650\, Australia
CATEGORIES:Matwork
END:VEVENT
BEGIN:VEVENT
DTSTART;TZID=Australia/Sydney:20271108T113000
DTEND;TZID=Australia/Sydney:20271108T121500
DTSTAMP:20260424T045857
CREATED:20251123T223427Z
LAST-MODIFIED:20251123T223427Z
UID:10129734-1825673400-1825676100@synergyhealthworks.com
SUMMARY:Mums and Bubs Core Class
DESCRIPTION:
URL:https://synergyhealthworks.com/event/mums-and-bubs-core-class-8/2027-11-08/
LOCATION:Wagga Wagga | Mat Studio\, 221 Kincaid Street\, Wagga Wagga\, NSW\, 2650\, Australia
CATEGORIES:Mums and Bubs
END:VEVENT
BEGIN:VEVENT
DTSTART;TZID=Australia/Sydney:20271109T123000
DTEND;TZID=Australia/Sydney:20271109T131500
DTSTAMP:20260424T045857
CREATED:20241204T010916Z
LAST-MODIFIED:20251123T223831Z
UID:10130120-1825763400-1825766100@synergyhealthworks.com
SUMMARY:Pregnancy Matwork Class
DESCRIPTION:
URL:https://synergyhealthworks.com/event/pregnancy-matwork-class-4/2027-11-09/
LOCATION:Wagga Wagga | Mat Studio\, 221 Kincaid Street\, Wagga Wagga\, NSW\, 2650\, Australia
CATEGORIES:Pregnancy Matwork
END:VEVENT
BEGIN:VEVENT
DTSTART;TZID=Australia/Sydney:20271110T123000
DTEND;TZID=Australia/Sydney:20271110T131500
DTSTAMP:20260424T045857
CREATED:20241204T014608Z
LAST-MODIFIED:20251123T221428Z
UID:10099384-1825849800-1825852500@synergyhealthworks.com
SUMMARY:Barre
DESCRIPTION:
URL:https://synergyhealthworks.com/event/barre-2/2027-11-10/
LOCATION:Wagga Wagga | Reformer Studio\, 221 Kincaid Street\, Wagga Wagga\, NSW\, 2650\, Australia
CATEGORIES:Barre
END:VEVENT
BEGIN:VEVENT
DTSTART;TZID=Australia/Sydney:20271110T140000
DTEND;TZID=Australia/Sydney:20271110T144500
DTSTAMP:20260424T045857
CREATED:20251123T222028Z
LAST-MODIFIED:20251123T222107Z
UID:10128286-1825855200-1825857900@synergyhealthworks.com
SUMMARY:Gentle Reformer
DESCRIPTION:
URL:https://synergyhealthworks.com/event/gentle-reformer-12/2027-11-10/
LOCATION:Wagga Wagga | Reformer Studio\, 221 Kincaid Street\, Wagga Wagga\, NSW\, 2650\, Australia
CATEGORIES:Clinical Reformer
END:VEVENT
BEGIN:VEVENT
DTSTART;TZID=Australia/Sydney:20271115T103000
DTEND;TZID=Australia/Sydney:20271115T111500
DTSTAMP:20260424T045857
CREATED:20241204T010434Z
LAST-MODIFIED:20251123T223251Z
UID:10129131-1826274600-1826277300@synergyhealthworks.com
SUMMARY:Matwork Core Class
DESCRIPTION:
URL:https://synergyhealthworks.com/event/matwork-core-class-12/2027-11-15/
LOCATION:Wagga Wagga | Mat Studio\, 221 Kincaid Street\, Wagga Wagga\, NSW\, 2650\, Australia
CATEGORIES:Matwork
END:VEVENT
BEGIN:VEVENT
DTSTART;TZID=Australia/Sydney:20271115T113000
DTEND;TZID=Australia/Sydney:20271115T121500
DTSTAMP:20260424T045857
CREATED:20251123T223427Z
LAST-MODIFIED:20251123T223427Z
UID:10129735-1826278200-1826280900@synergyhealthworks.com
SUMMARY:Mums and Bubs Core Class
DESCRIPTION:
URL:https://synergyhealthworks.com/event/mums-and-bubs-core-class-8/2027-11-15/
LOCATION:Wagga Wagga | Mat Studio\, 221 Kincaid Street\, Wagga Wagga\, NSW\, 2650\, Australia
CATEGORIES:Mums and Bubs
END:VEVENT
BEGIN:VEVENT
DTSTART;TZID=Australia/Sydney:20271116T123000
DTEND;TZID=Australia/Sydney:20271116T131500
DTSTAMP:20260424T045857
CREATED:20241204T010916Z
LAST-MODIFIED:20251123T223831Z
UID:10130121-1826368200-1826370900@synergyhealthworks.com
SUMMARY:Pregnancy Matwork Class
DESCRIPTION:
URL:https://synergyhealthworks.com/event/pregnancy-matwork-class-4/2027-11-16/
LOCATION:Wagga Wagga | Mat Studio\, 221 Kincaid Street\, Wagga Wagga\, NSW\, 2650\, Australia
CATEGORIES:Pregnancy Matwork
END:VEVENT
BEGIN:VEVENT
DTSTART;TZID=Australia/Sydney:20271117T123000
DTEND;TZID=Australia/Sydney:20271117T131500
DTSTAMP:20260424T045857
CREATED:20241204T014608Z
LAST-MODIFIED:20251123T221428Z
UID:10099385-1826454600-1826457300@synergyhealthworks.com
SUMMARY:Barre
DESCRIPTION:
URL:https://synergyhealthworks.com/event/barre-2/2027-11-17/
LOCATION:Wagga Wagga | Reformer Studio\, 221 Kincaid Street\, Wagga Wagga\, NSW\, 2650\, Australia
CATEGORIES:Barre
END:VEVENT
BEGIN:VEVENT
DTSTART;TZID=Australia/Sydney:20271117T140000
DTEND;TZID=Australia/Sydney:20271117T144500
DTSTAMP:20260424T045857
CREATED:20251123T222028Z
LAST-MODIFIED:20251123T222107Z
UID:10128287-1826460000-1826462700@synergyhealthworks.com
SUMMARY:Gentle Reformer
DESCRIPTION:
URL:https://synergyhealthworks.com/event/gentle-reformer-12/2027-11-17/
LOCATION:Wagga Wagga | Reformer Studio\, 221 Kincaid Street\, Wagga Wagga\, NSW\, 2650\, Australia
CATEGORIES:Clinical Reformer
END:VEVENT
BEGIN:VEVENT
DTSTART;TZID=Australia/Sydney:20271122T103000
DTEND;TZID=Australia/Sydney:20271122T111500
DTSTAMP:20260424T045857
CREATED:20241204T010434Z
LAST-MODIFIED:20251123T223251Z
UID:10129132-1826879400-1826882100@synergyhealthworks.com
SUMMARY:Matwork Core Class
DESCRIPTION:
URL:https://synergyhealthworks.com/event/matwork-core-class-12/2027-11-22/
LOCATION:Wagga Wagga | Mat Studio\, 221 Kincaid Street\, Wagga Wagga\, NSW\, 2650\, Australia
CATEGORIES:Matwork
END:VEVENT
BEGIN:VEVENT
DTSTART;TZID=Australia/Sydney:20271122T113000
DTEND;TZID=Australia/Sydney:20271122T121500
DTSTAMP:20260424T045857
CREATED:20251123T223427Z
LAST-MODIFIED:20251123T223427Z
UID:10129736-1826883000-1826885700@synergyhealthworks.com
SUMMARY:Mums and Bubs Core Class
DESCRIPTION:
URL:https://synergyhealthworks.com/event/mums-and-bubs-core-class-8/2027-11-22/
LOCATION:Wagga Wagga | Mat Studio\, 221 Kincaid Street\, Wagga Wagga\, NSW\, 2650\, Australia
CATEGORIES:Mums and Bubs
END:VEVENT
BEGIN:VEVENT
DTSTART;TZID=Australia/Sydney:20271123T123000
DTEND;TZID=Australia/Sydney:20271123T131500
DTSTAMP:20260424T045857
CREATED:20241204T010916Z
LAST-MODIFIED:20251123T223831Z
UID:10130122-1826973000-1826975700@synergyhealthworks.com
SUMMARY:Pregnancy Matwork Class
DESCRIPTION:
URL:https://synergyhealthworks.com/event/pregnancy-matwork-class-4/2027-11-23/
LOCATION:Wagga Wagga | Mat Studio\, 221 Kincaid Street\, Wagga Wagga\, NSW\, 2650\, Australia
CATEGORIES:Pregnancy Matwork
END:VEVENT
BEGIN:VEVENT
DTSTART;TZID=Australia/Sydney:20271124T123000
DTEND;TZID=Australia/Sydney:20271124T131500
DTSTAMP:20260424T045857
CREATED:20241204T014608Z
LAST-MODIFIED:20251123T221428Z
UID:10099386-1827059400-1827062100@synergyhealthworks.com
SUMMARY:Barre
DESCRIPTION:
URL:https://synergyhealthworks.com/event/barre-2/2027-11-24/
LOCATION:Wagga Wagga | Reformer Studio\, 221 Kincaid Street\, Wagga Wagga\, NSW\, 2650\, Australia
CATEGORIES:Barre
END:VEVENT
BEGIN:VEVENT
DTSTART;TZID=Australia/Sydney:20271124T140000
DTEND;TZID=Australia/Sydney:20271124T144500
DTSTAMP:20260424T045857
CREATED:20251123T222028Z
LAST-MODIFIED:20251123T222107Z
UID:10128288-1827064800-1827067500@synergyhealthworks.com
SUMMARY:Gentle Reformer
DESCRIPTION:
URL:https://synergyhealthworks.com/event/gentle-reformer-12/2027-11-24/
LOCATION:Wagga Wagga | Reformer Studio\, 221 Kincaid Street\, Wagga Wagga\, NSW\, 2650\, Australia
CATEGORIES:Clinical Reformer
END:VEVENT
BEGIN:VEVENT
DTSTART;TZID=Australia/Sydney:20271129T103000
DTEND;TZID=Australia/Sydney:20271129T111500
DTSTAMP:20260424T045857
CREATED:20241204T010434Z
LAST-MODIFIED:20251123T223251Z
UID:10129133-1827484200-1827486900@synergyhealthworks.com
SUMMARY:Matwork Core Class
DESCRIPTION:
URL:https://synergyhealthworks.com/event/matwork-core-class-12/2027-11-29/
LOCATION:Wagga Wagga | Mat Studio\, 221 Kincaid Street\, Wagga Wagga\, NSW\, 2650\, Australia
CATEGORIES:Matwork
END:VEVENT
BEGIN:VEVENT
DTSTART;TZID=Australia/Sydney:20271129T113000
DTEND;TZID=Australia/Sydney:20271129T121500
DTSTAMP:20260424T045857
CREATED:20251123T223427Z
LAST-MODIFIED:20251123T223427Z
UID:10129737-1827487800-1827490500@synergyhealthworks.com
SUMMARY:Mums and Bubs Core Class
DESCRIPTION:
URL:https://synergyhealthworks.com/event/mums-and-bubs-core-class-8/2027-11-29/
LOCATION:Wagga Wagga | Mat Studio\, 221 Kincaid Street\, Wagga Wagga\, NSW\, 2650\, Australia
CATEGORIES:Mums and Bubs
END:VEVENT
BEGIN:VEVENT
DTSTART;TZID=Australia/Sydney:20271130T123000
DTEND;TZID=Australia/Sydney:20271130T131500
DTSTAMP:20260424T045857
CREATED:20241204T010916Z
LAST-MODIFIED:20251123T223831Z
UID:10130123-1827577800-1827580500@synergyhealthworks.com
SUMMARY:Pregnancy Matwork Class
DESCRIPTION:
URL:https://synergyhealthworks.com/event/pregnancy-matwork-class-4/2027-11-30/
LOCATION:Wagga Wagga | Mat Studio\, 221 Kincaid Street\, Wagga Wagga\, NSW\, 2650\, Australia
CATEGORIES:Pregnancy Matwork
END:VEVENT
BEGIN:VEVENT
DTSTART;TZID=Australia/Sydney:20271201T123000
DTEND;TZID=Australia/Sydney:20271201T131500
DTSTAMP:20260424T045857
CREATED:20241204T014608Z
LAST-MODIFIED:20251123T221428Z
UID:10099387-1827664200-1827666900@synergyhealthworks.com
SUMMARY:Barre
DESCRIPTION:
URL:https://synergyhealthworks.com/event/barre-2/2027-12-01/
LOCATION:Wagga Wagga | Reformer Studio\, 221 Kincaid Street\, Wagga Wagga\, NSW\, 2650\, Australia
CATEGORIES:Barre
END:VEVENT
BEGIN:VEVENT
DTSTART;TZID=Australia/Sydney:20271201T140000
DTEND;TZID=Australia/Sydney:20271201T144500
DTSTAMP:20260424T045857
CREATED:20251123T222028Z
LAST-MODIFIED:20251123T222107Z
UID:10128289-1827669600-1827672300@synergyhealthworks.com
SUMMARY:Gentle Reformer
DESCRIPTION:
URL:https://synergyhealthworks.com/event/gentle-reformer-12/2027-12-01/
LOCATION:Wagga Wagga | Reformer Studio\, 221 Kincaid Street\, Wagga Wagga\, NSW\, 2650\, Australia
CATEGORIES:Clinical Reformer
END:VEVENT
BEGIN:VEVENT
DTSTART;TZID=Australia/Sydney:20271206T103000
DTEND;TZID=Australia/Sydney:20271206T111500
DTSTAMP:20260424T045857
CREATED:20241204T010434Z
LAST-MODIFIED:20251123T223251Z
UID:10129134-1828089000-1828091700@synergyhealthworks.com
SUMMARY:Matwork Core Class
DESCRIPTION:
URL:https://synergyhealthworks.com/event/matwork-core-class-12/2027-12-06/
LOCATION:Wagga Wagga | Mat Studio\, 221 Kincaid Street\, Wagga Wagga\, NSW\, 2650\, Australia
CATEGORIES:Matwork
END:VEVENT
BEGIN:VEVENT
DTSTART;TZID=Australia/Sydney:20271206T113000
DTEND;TZID=Australia/Sydney:20271206T121500
DTSTAMP:20260424T045857
CREATED:20251123T223427Z
LAST-MODIFIED:20251123T223427Z
UID:10129738-1828092600-1828095300@synergyhealthworks.com
SUMMARY:Mums and Bubs Core Class
DESCRIPTION:
URL:https://synergyhealthworks.com/event/mums-and-bubs-core-class-8/2027-12-06/
LOCATION:Wagga Wagga | Mat Studio\, 221 Kincaid Street\, Wagga Wagga\, NSW\, 2650\, Australia
CATEGORIES:Mums and Bubs
END:VEVENT
BEGIN:VEVENT
DTSTART;TZID=Australia/Sydney:20271207T123000
DTEND;TZID=Australia/Sydney:20271207T131500
DTSTAMP:20260424T045857
CREATED:20241204T010916Z
LAST-MODIFIED:20251123T223831Z
UID:10130124-1828182600-1828185300@synergyhealthworks.com
SUMMARY:Pregnancy Matwork Class
DESCRIPTION:
URL:https://synergyhealthworks.com/event/pregnancy-matwork-class-4/2027-12-07/
LOCATION:Wagga Wagga | Mat Studio\, 221 Kincaid Street\, Wagga Wagga\, NSW\, 2650\, Australia
CATEGORIES:Pregnancy Matwork
END:VEVENT
BEGIN:VEVENT
DTSTART;TZID=Australia/Sydney:20271208T123000
DTEND;TZID=Australia/Sydney:20271208T131500
DTSTAMP:20260424T045857
CREATED:20241204T014608Z
LAST-MODIFIED:20251123T221428Z
UID:10099388-1828269000-1828271700@synergyhealthworks.com
SUMMARY:Barre
DESCRIPTION:
URL:https://synergyhealthworks.com/event/barre-2/2027-12-08/
LOCATION:Wagga Wagga | Reformer Studio\, 221 Kincaid Street\, Wagga Wagga\, NSW\, 2650\, Australia
CATEGORIES:Barre
END:VEVENT
BEGIN:VEVENT
DTSTART;TZID=Australia/Sydney:20271208T140000
DTEND;TZID=Australia/Sydney:20271208T144500
DTSTAMP:20260424T045857
CREATED:20251123T222028Z
LAST-MODIFIED:20251123T222107Z
UID:10128290-1828274400-1828277100@synergyhealthworks.com
SUMMARY:Gentle Reformer
DESCRIPTION:
URL:https://synergyhealthworks.com/event/gentle-reformer-12/2027-12-08/
LOCATION:Wagga Wagga | Reformer Studio\, 221 Kincaid Street\, Wagga Wagga\, NSW\, 2650\, Australia
CATEGORIES:Clinical Reformer
END:VEVENT
BEGIN:VEVENT
DTSTART;TZID=Australia/Sydney:20271213T103000
DTEND;TZID=Australia/Sydney:20271213T111500
DTSTAMP:20260424T045857
CREATED:20241204T010434Z
LAST-MODIFIED:20251123T223251Z
UID:10129135-1828693800-1828696500@synergyhealthworks.com
SUMMARY:Matwork Core Class
DESCRIPTION:
URL:https://synergyhealthworks.com/event/matwork-core-class-12/2027-12-13/
LOCATION:Wagga Wagga | Mat Studio\, 221 Kincaid Street\, Wagga Wagga\, NSW\, 2650\, Australia
CATEGORIES:Matwork
END:VEVENT
END:VCALENDAR